{"text_format":"1","workbook":"xlsx","n_sheets":74,"sheets":["Инструкция","Лог обновления","Титульный","modSheetTitle","Список территорий","Список объектов","КС","TECHSHEET","TECH_HORISONTAL","TECH_VERTICAL","REESTR_ORG","REESTR_SOURCE","БПр","БТр","РО","Т","ХВС.БПр","ХВС.БТр","ХВС.РО","ХВС.Р","ВО.БПр","ВО.БТр","ВО.РО","ВО.Р","Комментарии","Проверка","REESTR_MO","REESTR_LOCATION","REESTR_CNCSN_IP","AUTHORISATION","DICTIONARIES","FILE_STORE_DATA","PLAN1X_LIST_ORG","PLAN1X_LIST_MO","PLAN1X_LIST_SUBSIDIARY","PLAN1X_LIST_DPR","PLAN1X_LIST_SRC","PLAN1X_LIST_TMX","PLAN1X_LIST_CNCSN","modGetGeoBase","modInfo","modUIButtons","modVLDCommon","modVLDIntegrity","modVLDData","modGeneralAPI","modBalPr","modBalTr","modCalc","modFuel","modReagent","modListMO","modListObjects","modListCncsn","modRequestSpecificData","modRequestGenericData","modfrmRegion","modServiceAPI","modVLDGeneral","modPLAN1XUpdate","modVLDUniqueness","modfrmReestr","modfrmOrg","modUpdTemplMain","modfrmCheckUpdates","modfrmDateChoose","modIHLCommandBar","modfrmHEATAdditionalOrgData","modfrmHEATFUELSelector","modfrmPLAN1XCheckIn","modfrmPLAN1XUpdate","modfrmReportMode","modPOSTData","modfrmDPRConstructor"],"not_rendered":{"charts":0,"images":34,"macros":1,"external_links":0,"defined_names":607,"comments":13,"pivot_tables":0},"unopened":[],"bounds":{"document_bytes":16777216,"sheet_cells":100000,"rows_first":2000,"rows_last":500,"rows_between":2000,"halvings":0,"cell_chars":16384,"cell_head_chars":4096},"cells_cut":0,"cells_raw":0,"read":"whole","date_system":"1900"}

{"sheet":"Инструкция","index":0,"n_rows":105,"n_cols":27,"rows_kept":105,"cut":false,"hidden":false,"merged":[[59,4,59,9],[59,10,59,23],[20,5,20,12],[20,15,20,23],[21,15,21,23],[40,4,40,16],[40,17,40,24],[45,4,56,23],[58,4,58,9],[58,10,58,23],[34,4,38,23],[1,1,1,6],[2,1,2,2],[4,1,4,24],[6,4,18,23],[21,5,21,12],[72,4,72,9],[72,10,72,23],[102,4,102,16],[102,17,102,24],[103,4,103,16],[103,17,103,24],[78,4,78,9],[104,4,104,16],[104,17,104,24],[96,5,96,23],[75,4,75,6],[75,7,75,23],[76,4,76,9],[76,10,76,23],[78,10,78,23],[77,4,77,9],[77,10,77,23],[92,4,92,23],[94,5,94,18]]}
[null,null,null,null,null,null,null,null,null,null,null,null,null,null,null,null,null,null,null,null,null,null,null,null,null,null," (требуется обновление)"]
[null,{"$f":"\"Код отчёта: \" & GetCode()","v":"Код отчёта: BALANCE.CALC.TARIFF.WARM.2020.FACT"}]
[null,{"$f":"\"Версия \" & GetVersion()","v":"Версия 1.0"}]
[]
[null,"Показатели организаций коммунального комплекса за 2020 год (факт)"]
[]
[null,null,null,null,"• На рабочем месте должен быть установлен MS Office 2003 SP3, 2007 SP3, 2010, 2013, 2016 с полной версией MS Excel\n\n• Макросы во время работы должны быть включены (!)\n\n• Для корректной работы отчёта требуется выбрать низкий уровень безопасности\n(В меню MS Excel 2003: Сервис | Макрос | Безопасность | выбрать пункт «Низкая безопасность» | OK)\n(В меню MS Excel 2007/2010/2013/2016: Параметры Excel | Центр управления безопасностью | Параметры центра управления безопасностью | Параметры макросов | Включить все макросы | ОК)\n\n• Если Вы работаете в табличном процессоре MS Excel 2007 и выше, то можете использовать для работы формат XLSB (Двоичная книга Excel). При работе в формате XLSB заметно быстрее происходит сохранение файла, а также уменьшается размер по сравнению с форматами XLS и XLSM\n\n• Не рекомендуется снимать защиту с листов и каким-либо образом модифицировать защищаемые формулы и расчётные поля, в противном случае, отчёт будет отклонён системой\n\n• При сохранении не следует выбирать формат XLSX (Книга Excel), так как в указанном формате макросы, необходимые для работы отчёта, безвозвратно удаляются"]
[]
[]
[]
[]
[]
[]
[]
[]
[]
[]
[]
[]
[]
[null,null,null,null,"A"," - предназначенные для заполнения",null,null,null,null,null,null,null,null,"A"," - ссылки и автозаполняемые поля"]
[null,null,null,null,"A"," - с формулами и константами",null,null,null,null,null,null,null,null,"A"," - обязательные для заполнения"]
[]
[]
[]
[]
[]
[]
[]
[]
[]
[]
[]
[]
[null,null,null,null,"Если в предложенном Вам списке необходимая организация, МР/МО отсутствуют, обновите реестры с помощью кнопок на листе \"Список организаций\"\n\nВ результате синхронизации с базой данных список организаций (МР/МО) будет заменён актуальным (механизм синхронизации требует подключения к сети Интернет и основан на использовании протокола HTTPS (TCP порт 443))\n\nЕсли после обновления Вам не удалось найти необходимую организацию в списке, обратитесь к ответственному за поддержание реестра Вашего региона."]
[]
[]
[]
[]
[]
[null,null,null,null,"Адрес сервера ЕИАС для запроса данных:",null,null,null,null,null,null,null,null,null,null,null,null,"https://eias.ru"]
[]
[]
[]
[]
[null,null,null,null,"• При сохранении шаблона осуществляется проверка корректности данных, в том числе на наличие значений в ячейках, обязательных для заполнения\n\n• Если какая-то ячейка не удовлетворяет условию проверки, на лист «Проверка» добавляется гиперссылка на данную ячейку и указывается причина ошибки\n\n• В колонке «Статус» для каждого сообщения возможны 2 значения: ошибка и предупреждение\n\n• При наличии сообщений со статусом «Ошибка» шаблон будет отклонён системой и не будет загружен в хранилище данных, сообщения со статусом «Предупреждение» носят информационный характер, и такой шаблон будет принят системой"]
[]
[]
[]
[]
[]
[]
[]
[]
[]
[]
[]
[]
[null,null,null,null,"Консультации:",null,null,null,null,null,"Обратиться за помощью"]
[null,null,null,null,"Дистрибутивы:",null,null,null,null,null,"Перейти"]
[]
[]
[]
[]
[]
[]
[]
[]
[]
[]
[]
[]
[null,null,null,null,"Руководство по заполнению:",null,null,null,null,null,"Перейти к руководству по заполнению"]
[]
[]
[]
[null,null,null,null,"Сопровождение:",null,null,null,null,null,"Обратиться за помощью"]
[null,null,null,null,"Отчётные формы:",null,null,null,null,null,"Перейти к разделу"]
[null,null,null,null,"Хранилище документов:",null,null,null,null,null,"Руководство по загрузке документов"]
[]
[]
[]
[]
[]
[]
[]
[]
[]
[]
[]
[]
[]
[null,null,null,null,"При наличии подключения к Интернет, можно автоматически проверять наличие доступных обновлений. Выберите способ оповещения о наличии обновлений для отчёта:"]
[]
[null,null,null,null,null,"проверять доступные обновления (рекомендуется)",null,null,null,null,null,null,null,null,null,null,null,null,null,null,null,null,null,null,null,null,"y"]
[]
[null,null,null,null,null,"никогда не проверять наличие обновлений (не рекомендуется)"]
[]
[]
[]
[]
[]
[null,null,null,null,"Использовать прокси-сервер для запроса обновлений",null,null,null,null,null,null,null,null,null,null,null,null,"нет"]
[null,null,null,null,"Адрес прокси-сервера"]
[null,null,null,null,"Порт"]

{"sheet":"Лог обновления","index":1,"n_rows":24,"n_cols":4,"rows_kept":24,"cut":false,"hidden":true,"merged":[]}
[]
["3/17/2012  12:12:41 AM","Дата/Время","Сообщение","Статус"]
[null,"4/1/2021  12:25:36 PM","Проверка доступных обновлений...","Информация"]
[null,"4/1/2021  12:25:37 PM","Нет доступных обновлений для отчёта с кодом BALANCE.CALC.TARIFF.WARM.2020.FACT!","Информация"]
[null,"4/5/2021  10:45:00 AM","Проверка доступных обновлений...","Информация"]
[null,"4/5/2021  10:45:01 AM","Нет доступных обновлений для отчёта с кодом BALANCE.CALC.TARIFF.WARM.2020.FACT!","Информация"]
[null,"4/5/2021  2:07:15 PM","Проверка доступных обновлений...","Информация"]
[null,"4/5/2021  2:07:17 PM","Нет доступных обновлений для отчёта с кодом BALANCE.CALC.TARIFF.WARM.2020.FACT!","Информация"]
[null,"4/7/2021  9:46:10 AM","Проверка доступных обновлений...","Информация"]
[null,"4/7/2021  9:46:12 AM","Нет доступных обновлений для отчёта с кодом BALANCE.CALC.TARIFF.WARM.2020.FACT!","Информация"]
[null,"4/9/2021  4:55:57 PM","Проверка доступных обновлений...","Информация"]
[null,"4/9/2021  4:55:59 PM","Нет доступных обновлений для отчёта с кодом BALANCE.CALC.TARIFF.WARM.2020.FACT!","Информация"]
[null,"4/9/2021  5:00:49 PM","Проверка доступных обновлений...","Информация"]
[null,"4/9/2021  5:00:51 PM","Нет доступных обновлений для отчёта с кодом BALANCE.CALC.TARIFF.WARM.2020.FACT!","Информация"]
[null,"4/12/2021  5:07:03 PM","Проверка доступных обновлений...","Информация"]
[null,"4/12/2021  5:07:05 PM","Нет доступных обновлений для отчёта с кодом BALANCE.CALC.TARIFF.WARM.2020.FACT!","Информация"]
[null,"4/13/2021  10:42:49 AM","Проверка доступных обновлений...","Информация"]
[null,"4/13/2021  10:42:51 AM","Нет доступных обновлений для отчёта с кодом BALANCE.CALC.TARIFF.WARM.2020.FACT!","Информация"]
[null,"4/14/2021  9:44:43 AM","Проверка доступных обновлений...","Информация"]
[null,"4/14/2021  9:44:45 AM","Нет доступных обновлений для отчёта с кодом BALANCE.CALC.TARIFF.WARM.2020.FACT!","Информация"]
[null,"4/14/2021  9:53:19 AM","Проверка доступных обновлений...","Информация"]
[null,"4/14/2021  9:53:21 AM","Нет доступных обновлений для отчёта с кодом BALANCE.CALC.TARIFF.WARM.2020.FACT!","Информация"]
[null,"4/14/2021  11:57:11 AM","Проверка доступных обновлений...","Информация"]
[null,"4/14/2021  11:57:13 AM","Нет доступных обновлений для отчёта с кодом BALANCE.CALC.TARIFF.WARM.2020.FACT!","Информация"]

{"sheet":"Титульный","index":2,"n_rows":49,"n_cols":17,"rows_kept":49,"cut":false,"hidden":false,"merged":[[24,4,24,5],[25,4,25,5],[29,4,29,5],[30,4,30,5],[48,4,48,5],[37,4,37,7],[39,4,42,4],[44,4,44,7],[45,4,45,7],[46,4,46,7],[23,4,23,5],[26,4,26,5],[32,4,34,4],[4,4,4,7],[6,4,6,5],[8,4,9,5],[11,4,11,5],[13,4,13,5],[14,4,14,5],[15,4,15,5],[16,4,16,5],[17,4,17,5],[18,4,18,5],[19,4,19,5],[20,4,20,5],[22,4,22,5]]}
[]
[]
[]
[null,null,null,null,"- обновление индикаторов проверки отчёта"]
[null,null,null,null,"Технико-экономические показатели регулируемой организации (факт)"]
[]
[null,null,null,null,"Субъект РФ",null,null,"Ямало-Ненецкий автономный округ",null,null,null,null,null,null,null,null,"MANDATORY"]
[]
[null,null,null,null,"Отчётный период",null,null,"2020",null,null,null,null,null,null,null,null,"MANDATORY"]
[null,null,null,null,null,null,null,"Год",null,null,null,null,null,null,null,null,"MANDATORY"]
[]
[null,null,null,null,"RST_ORG_ID",null,null,"26361309",null,null,null,null,null,null,null,null,"MANDATORY"]
[]
[null,null,null,null,"Наименование юридического лица",null,null,"АО \"Салехардэнерго\"",null,null,null,null,null,null,null,null,"MANDATORY"]
[null,null,null,null,"Наименование (описание) обособленного подразделения",null,null,"",null,null,null,null,null,null,"5412526",null,"OPTIONAL"]
[null,null,null,null,"ИНН",null,null,"8901030855",null,null,null,null,null,null,"2304839647",null,"MANDATORY"]
[null,null,null,null,"КПП",null,null,"890101001",null,null,null,null,null,null,"5416290",null,"MANDATORY"]
[null,null,null,null,"Организационно-правовая форма",null,null,"1 22 67 | Непубличные акционерные общества",null,"Где найти?",null,null,null,null,null,null,"MANDATORY"]
[null,null,null,null,"Вид(-ы) деятельности организации",null,null,"Некомбинированное производство :: Передача :: Сбыт",null,null,null,null,null,null,"2386758237",null,"MANDATORY"]
[null,null,null,null,{"$f":"\"Наличие статуса \" & SPHERE_SPECIFIC_STATUS & \" *\"","v":"Наличие статуса ЕТО *"},null,null,"да",null,{"$f":"IF(SPHERE_SPECIFIC_STATUS_DESCRIPTION=\"\",\"\",SPHERE_SPECIFIC_STATUS_DESCRIPTION)","v":"* ЕТО - единая теплоснабжающая организация"},null,null,null,null,null,null,"OPTIONAL"]
[null,null,null,null,{"$f":"\"URL-ссылка на документ, подтверждающий статус \" & SPHERE_SPECIFIC_STATUS","v":"URL-ссылка на документ, подтверждающий статус ЕТО"},null,null,"https://portal.eias.ru/Portal/DownloadPage.aspx?type=12&guid=6b68dfe3-c009-43f5-9d83-971b39fb7813",null,null,null,null,null,null,null,null,"OPTIONAL"]
[]
[null,null,null,null,{"$f":"\"Наличие нерегулируемых (других регулируемых, кроме \" & TEMPLATE_SPHERE & \") видов деятельности\"","v":"Наличие нерегулируемых (других регулируемых, кроме теплоснабжения) видов деятельности"},null,null,"да",null,null,null,null,null,null,null,null,"MANDATORY"]
[null,null,null,null,{"$f":"\"Наличие раздельного учёта затрат по регулируемым видам деятельности в сфере \" & TEMPLATE_SPHERE","v":"Наличие раздельного учёта затрат по регулируемым видам деятельности в сфере теплоснабжения"},null,null,"да",null,null,null,null,null,null,null,null,"MANDATORY"]
[null,null,null,null,"Плательщик НДС",null,null,"да",null,null,null,null,null,null,null,null,"MANDATORY"]
[null,null,null,null,"Является ли организация подведомственной Министерства Обороны РФ",null,null,"нет",null,null,null,null,null,null,null,null,"MANDATORY"]
[null,null,null,null,{"$f":"\"Является ли деятельность в сфере \" & TEMPLATE_SPHERE & \" профильным видом деятельности\"","v":"Является ли деятельность в сфере теплоснабжения профильным видом деятельности"},null,null,"нет",null,null,null,null,null,null,null,null,"MANDATORY"]
[]
[]
[null,null,null,null,"ОГРН",null,null,"1158901001434",null,"Где найти?",null,null,null,null,null,null,"MANDATORY"]
[null,null,null,null,"Код по ОКПО",null,null,"47196594",null,"Где найти?",null,null,null,null,null,null,"MANDATORY"]
[]
[null,null,null,null,{"$f":"\"Государственное и (или) муниципальное участие \" & IF(H17=\"отсутствует\",\"в индивидуальном предпринимателе\",\"в юридическом лице\")","v":"Государственное и (или) муниципальное участие в юридическом лице"},"Наличие",null,"да",null,null,null,null,null,null,null,null,"MANDATORY"]
[null,null,null,null,null,"Сведения о доле",null,"100 %",null,null,null,null,null,null,null,null,"MANDATORY"]
[null,null,null,null,null,{"$f":"\"Преобладающий тип собственности \" & IF(H17=\"отсутствует\",\"в индивидуальном предпринимателе\",\"в юридическом лице\")","v":"Преобладающий тип собственности в юридическом лице"},null,"муниципальная",null,null,null,null,null,null,null,null,"MANDATORY"]
[]
[]
[null,null,null,null,"Контактные данные"]
[]
[null,null,null,null,"Ответственный за предоставление информации","ФИО",null,"Меркулова Татьяна Викторовна",null,null,null,null,null,null,null,null,"MANDATORY"]
[null,null,null,null,null,"Должность",null,"Начальник ПЭО",null,null,null,null,null,null,null,null,"MANDATORY"]
[null,null,null,null,null,"Контактный телефон",null,"(34922)54460",null,null,null,null,null,null,null,null,"MANDATORY"]
[null,null,null,null,null,"e-mail",null,"merkulova@slenergo.ru",null,null,null,null,null,null,null,null,"MANDATORY"]
[]
[null,null,null,null,"Дата последнего обновления реестра организаций: 30.03.2021 9:10:31"]
[null,null,null,null,"Дата последнего обновления данных мониторинга принятых тарифных решений на 2020 год: 05.04.2021 11:00:56"]
[null,null,null,null,"Дата последнего обновления обновления параметров проверки отчёта: 30.03.2021 9:14:33"]
[]
[null,null,null,null,"Показывать настройки проверки при сохранении",null,null,"a"]

{"sheet":"modSheetTitle","index":3,"n_rows":0,"n_cols":0,"rows_kept":0,"cut":false,"hidden":true,"merged":[]}

{"sheet":"Список территорий","index":4,"n_rows":20,"n_cols":99,"rows_kept":20,"cut":false,"hidden":false,"merged":[[11,42,13,42],[12,94,13,94],[12,88,13,88],[12,89,13,89],[11,73,13,73],[11,9,13,9],[11,7,13,7],[11,6,13,6],[3,6,3,13],[11,35,13,35],[11,28,13,28],[4,8,4,9],[11,11,13,11],[11,10,13,10],[11,15,13,15],[11,16,13,16],[19,5,19,10],[12,86,13,86],[11,86,11,98],[12,87,13,87],[12,90,13,90],[12,91,13,91],[12,92,13,92],[12,93,13,93],[12,95,13,95],[12,96,13,96],[12,97,13,97],[12,98,13,98],[11,8,13,8],[11,12,13,12],[11,13,13,13],[11,5,13,5]]}
[]
[]
[]
[null,null,null,null,null,null,{"$f":"\"Перечень муниципальных образований, на территории которых организация оказывает услуги \" & TEMPLATE_SPHERE","v":"Перечень муниципальных образований, на территории которых организация оказывает услуги теплоснабжения"}]
[]
[]
[]
[]
[]
[]
[]
[null,null,null,null,null,"№ п/п","Муниципальный район","Муниципальное образование","ОКТМО","Тип муниципального образования",null,null,"Плательщик НДС","Дополнительные признаки дифференциации тарифов",null,"Проверить наличие наименования в справочнике","SRC",null,null,null,null,null,null,null,null,null,null,null,"Вид(-ы) теплоносителя(-ей)",null,null,null,null,null,null,"Вид воды",null,null,null,null,null,null,"Вид сточных вод",null,null,null,null,null,null,null,null,null,null,null,null,null,null,null,null,null,null,null,null,null,null,null,null,null,null,null,null,null,null,{"$f":"IF(TEMPLATE_SPHERE_CODE=\"HEAT\",\"Размерность тарифа на транспортировку \" & RESOURCE_IDENTIFIER,\"\")","v":"Размерность тарифа на транспортировку ТЭ"},null,null,null,null,null,null,null,null,null,null,null,null,{"$f":"\"Оказание услуг в течение \" & god & \" года (все потребители, включая собственные нужды)\"","v":"Оказание услуг в течение 2020 года (все потребители, включая собственные нужды)"}]
[null,null,null,null,null,null,null,null,null,null,null,null,null,null,null,null,null,null,null,null,null,null,null,null,null,null,null,null,null,null,null,null,null,null,null,null,null,null,null,null,null,null,null,null,null,null,null,null,null,null,null,null,null,null,null,null,null,null,null,null,null,null,null,null,null,null,null,null,null,null,null,null,null,null,null,null,null,null,null,null,null,null,null,null,null,null,null,"Январь","Февраль","Март","Апрель","Май","Июнь","Июль","Август","Сентябрь","Октябрь","Ноябрь","Декабрь"]
[]
[null,null,null,null,null,0]
[null,null,null,null,"О","1","город Салехард","город Салехард","71951000",{"$f":"IF(LEN(I16)=0,\"\",VLOOKUP(I16,OKTMO_VS_TYPE_LIST,2,FALSE))","v":"городской округ"},null,null,{"$f":"IF(TAX=\"\",\"\",TAX)","v":"да"},null,null,null,{"$f":"IF('Список объектов'!$Q$16=\"\",\"Не определено\",'Список объектов'!$Q$16)","v":21},null,{"$f":"IF(КС!$Q$16=\"\",\"Не определено\",КС!$Q$16)","v":0},null,null,"5.1",null,null,null,null,null,null,"Тариф: Носитель - горячая вода (Т)",null,null,null,null,null,null,null,null,null,null,null,null,null,null,null,null,null,null,null,null,null,null,null,null,null,null,null,null,null,null,null,null,null,null,null,null,null,null,null,null,null,null,null,null,null,null,null,null,null,null,null,null,null,null,null,null,null,null,"a","a","a","a","a","a","a","a","a","a","a","a"]
[null,null,null,null,"О","2","город Салехард","город Салехард","71951000",{"$f":"IF(LEN(I17)=0,\"\",VLOOKUP(I17,OKTMO_VS_TYPE_LIST,2,FALSE))","v":"городской округ"},null,null,{"$f":"IF(TAX=\"\",\"\",TAX)","v":"да"},null,null,null,{"$f":"IF('Список объектов'!$Q$39=\"\",\"Не определено\",'Список объектов'!$Q$39)","v":14},null,{"$f":"IF(КС!$Q$18=\"\",\"Не определено\",КС!$Q$18)","v":0},null,null,null,null,null,null,null,null,null,"Тариф: Носитель - горячая вода (К)",null,null,null,null,null,null,null,null,null,null,null,null,null,null,null,null,null,null,null,null,null,null,null,null,null,null,null,null,null,null,null,null,null,null,null,null,null,null,null,null,null,null,null,null,null,null,null,null,null,null,null,null,null,null,null,null,null,null,"a","a","a","a","a","a","a","a","a","a","a","a"]
[null,null," ",null,null,null,"Добавить территорию"]
[null,null,null,null,"   "]
[null,null,null,null,null,"Дата последнего обновления реестра МР/МО/ОКТМО: 05.04.2021 11:00:15"]

{"sheet":"Список объектов","index":5,"n_rows":61,"n_cols":82,"rows_kept":61,"cut":false,"hidden":false,"merged":[[38,5,53,5],[38,6,53,6],[38,7,53,7],[38,8,53,8],[38,9,53,9],[15,9,37,9],[15,10,37,10],[15,11,37,11],[15,12,37,12],[15,13,37,13],[15,14,37,14],[15,15,37,15],[38,15,53,15],[38,16,53,16],[38,10,53,10],[38,11,53,11],[38,12,53,12],[38,13,53,13],[38,14,53,14],[11,41,13,41],[12,36,13,36],[12,48,13,48],[12,50,13,50],[11,46,11,53],[12,53,13,53],[12,37,13,37],[11,42,13,42],[11,56,13,56],[11,44,13,44],[11,54,13,54],[11,55,13,55],[11,45,13,45],[12,49,13,49],[4,8,4,9],[12,33,13,33],[12,34,13,34],[11,9,13,9],[11,10,13,10],[11,11,13,11],[11,12,13,12],[11,16,13,16],[11,28,13,28],[11,17,13,17],[11,29,13,29],[11,13,13,13],[11,14,13,14],[11,15,13,15],[11,26,13,26],[11,27,13,27],[11,33,11,39],[11,30,11,32],[12,30,13,30],[12,31,13,31],[12,32,13,32],[11,57,13,57],[11,58,13,58],[12,52,13,52],[12,46,13,46],[12,47,13,47],[11,59,11,60],[12,61,13,61],[12,62,13,62],[12,63,13,63],[11,61,11,62],[12,59,13,59],[12,60,13,60],[12,64,13,64],[11,63,11,64],[11,81,13,81],[11,77,13,77],[11,80,13,80],[11,71,13,71],[11,72,13,72],[11,75,13,75],[11,78,13,78],[11,74,13,74],[11,79,13,79],[11,76,13,76],[11,73,13,73],[11,69,13,69],[11,70,13,70],[11,67,13,67],[11,68,13,68],[11,66,13,66],[11,65,13,65],[3,6,3,13],[60,5,60,10],[12,51,13,51],[11,24,13,24],[11,25,13,25],[11,18,12,19],[11,20,12,21],[11,5,13,5],[11,6,13,6],[11,7,13,7],[11,8,13,8],[11,22,12,23],[11,40,13,40],[12,35,13,35],[12,38,13,38],[12,39,13,39],[11,43,13,43],[57,6,57,16],[58,6,58,16],[15,16,37,16],[15,5,37,5],[15,6,37,6],[15,7,37,7],[15,8,37,8]]}
[]
[]
[]
[null,null,null,null,null,null,{"$f":"\"Перечень объектов организаций, оказывающих услуги \" & TEMPLATE_SPHERE","v":"Перечень объектов организаций, оказывающих услуги теплоснабжения"}]
[]
[]
[]
[]
[]
[]
[]
[null,null,null,null,null,"№ п/п","Муниципальный район","Муниципальное образование","ОКТМО",null,null,null,null,null,null,null,"Количество объектов","NUMBER",{"$f":"IF(TEMPLATE_SPHERE_CODE=\"HEAT\",\"Производство\",IF(TEMPLATE_SPHERE_CODE=\"COLDVSNA\",\"Производство (подъём / добыча)\",IF(TEMPLATE_SPHERE_CODE=\"VOTV\",\"Приём сточных вод\",\"\")))","v":"Производство"},null,{"$f":"IF(TEMPLATE_SPHERE_CODE=\"HEAT\",\"Передача\",IF(TEMPLATE_SPHERE_CODE=\"COLDVSNA\",\"Очистка воды\",IF(TEMPLATE_SPHERE_CODE=\"VOTV\",\"Очистка сточных вод\",\"\")))","v":"Передача"},null,{"$f":"IF(TEMPLATE_SPHERE_CODE=\"HEAT\",\"Сбыт\",IF(TEMPLATE_SPHERE_CODE=\"COLDVSNA\",\"Транспортировка воды\",IF(TEMPLATE_SPHERE_CODE=\"VOTV\",\"Транспортировка сточных вод\",\"\")))","v":"Сбыт"},null,null,null,null,"№ п/п","Наименование объекта","Тип объекта","Виды деятельности",null,null,"Адрес объекта",null,null,null,null,null,null,null,null,null,null,null,null,"Территория оказания услуг",null,null,null,null,null,null,null,null,null,null,null,null,{"$f":"IF(TEMPLATE_SPHERE_CODE=\"HEAT\",\"Производство\",IF(TEMPLATE_SPHERE_CODE=\"COLDVSNA\",\"Производство (подъём / добыча)\",IF(TEMPLATE_SPHERE_CODE=\"VOTV\",\"Приём сточных вод\",\"\")))","v":"Производство"},null,{"$f":"IF(TEMPLATE_SPHERE_CODE=\"HEAT\",\"Передача\",IF(TEMPLATE_SPHERE_CODE=\"COLDVSNA\",\"Очистка воды\",IF(TEMPLATE_SPHERE_CODE=\"VOTV\",\"Очистка сточных вод\",\"\")))","v":"Передача"},null,{"$f":"IF(TEMPLATE_SPHERE_CODE=\"HEAT\",\"Сбыт\",IF(TEMPLATE_SPHERE_CODE=\"COLDVSNA\",\"Транспортировка воды\",IF(TEMPLATE_SPHERE_CODE=\"VOTV\",\"Транспортировка сточных вод\",\"\")))","v":"Сбыт"},null,null,null,null,null,null,null,null,null,null,null,null,null,null,null,null,null,"Комментарии"]
[null,null,null,null,null,null,null,null,null,null,null,null,null,null,null,null,null,null,null,null,null,null,null,null,null,null,null,null,null,null,{"$f":"IF(TEMPLATE_SPHERE_CODE=\"HEAT\",\"Производство\",IF(TEMPLATE_SPHERE_CODE=\"COLDVSNA\",\"Производство (подъём / добыча)\",IF(TEMPLATE_SPHERE_CODE=\"VOTV\",\"Приём сточных вод\",\"\")))","v":"Производство"},{"$f":"IF(TEMPLATE_SPHERE_CODE=\"HEAT\",\"Передача\",IF(TEMPLATE_SPHERE_CODE=\"COLDVSNA\",\"Очистка воды\",IF(TEMPLATE_SPHERE_CODE=\"VOTV\",\"Очистка сточных вод\",\"\")))","v":"Передача"},{"$f":"IF(TEMPLATE_SPHERE_CODE=\"HEAT\",\"Сбыт\",IF(TEMPLATE_SPHERE_CODE=\"COLDVSNA\",\"Транспортировка воды\",IF(TEMPLATE_SPHERE_CODE=\"VOTV\",\"Транспортировка сточных вод\",\"\")))","v":"Сбыт"},"Муниципальный район","Муниципальное образование","ОКТМО","Населённый пункт","ОКТМО","улица, проезд, проспект, переулок и т.п.","дом, корпус, строение",null,null,null,null,null,null,"Муниципальный район","Муниципальное образование","ОКТМО","Населённый пункт","ОКТМО",null,null,null,null,null,null,null,null,{"$f":"\"Установленная мощность, \" & IF(TEMPLATE_SPHERE_CODE=\"HEAT\",\"Гкал/час\",IF(TEMPLATE_SPHERE_CODE=\"COLDVSNA\",\"куб.м/час\",IF(TEMPLATE_SPHERE_CODE=\"VOTV\",\"куб.м/час\",\"\")))","v":"Установленная мощность, Гкал/час"},{"$f":"\"Подключенная нагрузка, \" & IF(TEMPLATE_SPHERE_CODE=\"HEAT\",\"Гкал/час\",IF(TEMPLATE_SPHERE_CODE=\"COLDVSNA\",\"куб.м/час\",IF(TEMPLATE_SPHERE_CODE=\"VOTV\",\"куб.м/час\",\"\")))","v":"Подключенная нагрузка, Гкал/час"},{"$f":"\"Установленная мощность, \" & IF(TEMPLATE_SPHERE_CODE=\"HEAT\",\"Гкал/час\",IF(TEMPLATE_SPHERE_CODE=\"COLDVSNA\",\"куб.м/час\",IF(TEMPLATE_SPHERE_CODE=\"VOTV\",\"куб.м/час\",\"\")))","v":"Установленная мощность, Гкал/час"},{"$f":"\"Подключенная нагрузка, \" & IF(TEMPLATE_SPHERE_CODE=\"HEAT\",\"Гкал/час\",IF(TEMPLATE_SPHERE_CODE=\"COLDVSNA\",\"куб.м/час\",IF(TEMPLATE_SPHERE_CODE=\"VOTV\",\"куб.м/час\",\"\")))","v":"Подключенная нагрузка, Гкал/час"},{"$f":"\"Установленная мощность, \" & IF(TEMPLATE_SPHERE_CODE=\"HEAT\",\"Гкал/час\",IF(TEMPLATE_SPHERE_CODE=\"COLDVSNA\",\"куб.м/час\",IF(TEMPLATE_SPHERE_CODE=\"VOTV\",\"куб.м/час\",\"\")))","v":"Установленная мощность, Гкал/час"},{"$f":"\"Подключенная нагрузка, \" & IF(TEMPLATE_SPHERE_CODE=\"HEAT\",\"Гкал/час\",IF(TEMPLATE_SPHERE_CODE=\"COLDVSNA\",\"куб.м/час\",IF(TEMPLATE_SPHERE_CODE=\"VOTV\",\"куб.м/час\",\"\")))","v":"Подключенная нагрузка, Гкал/час"}]
[null,null,null,null,null,null,null,null,null,null,null,null,null,null,null,null,null,null,"IC","CL","IC","CL","IC","CL"]
[null,null,null,null,null,0]
[null,null,null,null,"Удалить",{"$f":"IF('Список территорий'!$F$16=\"\",\"\",'Список территорий'!$F$16)","v":"1"},{"$f":"IF('Список территорий'!$G$16=\"\",\"\",'Список территорий'!$G$16)","v":"город Салехард"},{"$f":"IF('Список территорий'!$H$16=\"\",\"\",'Список территорий'!$H$16)","v":"город Салехард"},{"$f":"IF('Список территорий'!$I$16=\"\",\"\",'Список территорий'!$I$16)","v":"71951000"},null,null,null,null,null,null,null,{"$f":"ROW(P38)-ROW(P16)-1","v":21},{"$f":"F16 & \".0\"","v":"1.0"},{"$f":"SUM(BH16:BH38)","v":341.47},149.929,277.86999999999995,123.91169999999998,277.86999999999995,123.91169999999998,null,null,null,"0"]
[null,null,null,null,null,null,null,null,null,null,null,null,null,null,null,null,null,null,null,null,null,null,null,null,null,"Изменить","О","1","Котельная № 5","ТИ с сетями","да","да","да","город Салехард","город Салехард","71951000","г Салехард","71951000001","ул. Комсомольская","36а",null,null,null,null,null,null,"Город Салехард","город Салехард","71951000","г Салехард","71951000001",null,null,null,null,null,null,null,null,10.32,9.3260000000000005,10.32,9.3260000000000005,10.32,9.3260000000000005]
[null,null,null,null,null,null,null,null,null,null,null,null,null,null,null,null,null,null,null,null,null,null,null,null,null,"Изменить","О","2","Котельная № 6","ТИ с сетями","да","да","да","город Салехард","город Салехард","71951000","г Салехард","71951000001","ул. Республики","102б",null,null,null,null,null,null,"Город Салехард","город Салехард","71951000","г Салехард","71951000001",null,null,null,null,null,null,null,null,6.88,3.5459999999999998,6.88,3.6110000000000002,6.88,3.6110000000000002]
[null,null,null,null,null,null,null,null,null,null,null,null,null,null,null,null,null,null,null,null,null,null,null,null,null,"Изменить","О","3","Котельная № 8","ТИ с сетями","да","да","да","город Салехард","город Салехард","71951000","г Салехард","71951000001","ул. Зои Космодемьянской","23а",null,null,null,null,null,null,"Город Салехард","город Салехард","71951000","г Салехард","71951000001",null,null,null,null,null,null,null,null,18.920000000000002,11.234,18.920000000000002,10.881,18.920000000000002,10.881]
[null,null,null,null,null,null,null,null,null,null,null,null,null,null,null,null,null,null,null,null,null,null,null,null,null,"Изменить","О","4","Котельная №10","ТИ с сетями","да","да","да","город Салехард","город Салехард","71951000","г Салехард","71951000001","ул. Трудовая","23а",null,null,null,null,null,null,"Город Салехард","город Салехард","71951000","г Салехард","71951000001",null,null,null,null,null,null,null,null,6.88,3.2719999999999998,6.88,3.2719999999999998,6.88,3.2719999999999998]
[null,null,null,null,null,null,null,null,null,null,null,null,null,null,null,null,null,null,null,null,null,null,null,null,null,"Изменить","О","5","Котельная №14","ТИ с сетями","да","да","да","город Салехард","город Салехард","71951000","г Салехард","71951000001","ул. Полярная","1б",null,null,null,null,null,null,"Город Салехард","город Салехард","71951000","г Салехард","71951000001",null,null,null,null,null,null,null,null,6.88,3.7170000000000001,6.88,3.5369999999999999,6.88,3.5369999999999999]
[null,null,null,null,null,null,null,null,null,null,null,null,null,null,null,null,null,null,null,null,null,null,null,null,null,"Изменить","О","6","Котельная №11","ТИ с сетями","да","да","да","город Салехард","город Салехард","71951000","г Салехард","71951000001","ул. Подшибякина","57",null,null,null,null,null,null,"Город Салехард","город Салехард","71951000","г Салехард","71951000001",null,null,null,null,null,null,null,null,3.44,0.501,3.44,0.501,3.44,0.501]
[null,null,null,null,null,null,null,null,null,null,null,null,null,null,null,null,null,null,null,null,null,null,null,null,null,"Изменить","О","7","Котельная №22","ТИ с сетями","да","да","да","город Салехард","город Салехард","71951000","г Салехард","71951000001","ул. Чапаева","22а",null,null,null,null,null,null,"Город Салехард","город Салехард","71951000","г Салехард","71951000001",null,null,null,null,null,null,null,null,12.47,5.95,12.47,5.91,12.47,5.91]
[null,null,null,null,null,null,null,null,null,null,null,null,null,null,null,null,null,null,null,null,null,null,null,null,null,"Изменить","О","8","Котельная №28","ТИ с сетями","да","да","да","город Салехард","город Салехард","71951000","г Салехард","71951000001","ул. Обская","41",null,null,null,null,null,null,"Город Салехард","город Салехард","71951000","г Салехард","71951000001",null,null,null,null,null,null,null,null,8.6,4.6040000000000001,8.6,4.47,8.6,4.47]
[null,null,null,null,null,null,null,null,null,null,null,null,null,null,null,null,null,null,null,null,null,null,null,null,null,"Изменить","О","9","Котельная №30","ТИ с сетями","да","да","да","город Салехард","город Салехард","71951000","г Салехард","71951000001","ул. Ленина","2",null,null,null,null,null,null,"Город Салехард","город Салехард","71951000","г Салехард","71951000001",null,null,null,null,null,null,null,null,40,21.308,40,20.864999999999998,40,20.864999999999998]
[null,null,null,null,null,null,null,null,null,null,null,null,null,null,null,null,null,null,null,null,null,null,null,null,null,"Изменить","О","10","Котельная №29","ТИ с сетями","да","да","да","город Салехард","город Салехард","71951000","г Салехард","71951000001","ул. Авиационная","23",null,null,null,null,null,null,"Город Салехард","город Салехард","71951000","г Салехард","71951000001",null,null,null,null,null,null,null,null,16,2.8660000000000001,16,2.8660000000000001,16,2.8660000000000001]
[null,null,null,null,null,null,null,null,null,null,null,null,null,null,null,null,null,null,null,null,null,null,null,null,null,"Изменить","О","11","Котельная №34","ТИ с сетями","да","да","да","город Салехард","город Салехард","71951000","г Салехард","71951000001","ул. Республики","54а",null,null,null,null,null,null,"Город Салехард","город Салехард","71951000","г Салехард","71951000001",null,null,null,null,null,null,null,null,0.86,0.72199999999999998,0.86,0.72199999999999998,0.86,0.72199999999999998]
[null,null,null,null,null,null,null,null,null,null,null,null,null,null,null,null,null,null,null,null,null,null,null,null,null,"Изменить","О","12","Котельная №35","ТИ с сетями","да","да","да","город Салехард","город Салехард","71951000","г Салехард","71951000001","ул. Маяковского","19а",null,null,null,null,null,null,"Город Салехард","город Салехард","71951000","г Салехард","71951000001",null,null,null,null,null,null,null,null,30,11.932,30,11.914,30,11.914]
[null,null,null,null,null,null,null,null,null,null,null,null,null,null,null,null,null,null,null,null,null,null,null,null,null,"Изменить","О","13","Котельная №36","ТИ с сетями","да","да","да","город Салехард","город Салехард","71951000","г Салехард","71951000001","ул. Чубынина","37б",null,null,null,null,null,null,"Город Салехард","город Салехард","71951000","г Салехард","71951000001",null,null,null,null,null,null,null,null,33,22.184999999999999,33,22.186,33,22.186]
[null,null,null,null,null,null,null,null,null,null,null,null,null,null,null,null,null,null,null,null,null,null,null,null,null,"Изменить","О","14","Котельная Администрации","ТИ с сетями","да","да","да","город Салехард","город Салехард","71951000","г Салехард","71951000001","пр-кт. Молодежи","территория администрации ЯНАО",null,null,null,null,null,null,"Город Салехард","город Салехард","71951000","г Салехард","71951000001",null,null,null,null,null,null,null,null,8.42,2.93,8.42,2.93,8.42,2.93]
[null,null,null,null,null,null,null,null,null,null,null,null,null,null,null,null,null,null,null,null,null,null,null,null,null,"Изменить","О","15","Котельная МБК","ТИ с сетями","да","да","да","город Салехард","город Салехард","71951000","г Салехард","71951000001","г. Салехард","больничный комплекс",null,null,null,null,null,null,"Город Салехард","город Салехард","71951000","г Салехард","71951000001",null,null,null,null,null,null,null,null,5.16,3.2290000000000001,5.16,3.2290000000000001,5.16,3.2290000000000001]
[null,null,null,null,null,null,null,null,null,null,null,null,null,null,null,null,null,null,null,null,null,null,null,null,null,"Изменить","О","16","Пиковая котельная","ТИ с сетями","да","нет","нет","город Салехард","город Салехард","71951000","г Салехард","71951000001","ул. Щорса","19а",null,null,null,null,null,null,"Город Салехард","город Салехард","71951000","г Салехард","71951000001",null,null,null,null,null,null,null,null,5.16,2.2810000000000001,5.16,2.2810000000000001,5.16,2.2810000000000001]
[null,null,null,null,null,null,null,null,null,null,null,null,null,null,null,null,null,null,null,null,null,null,null,null,null,"Изменить","О","17","ТЭС \"Салехард\"","ТИ","да","нет","нет","город Салехард","город Салехард","71951000","г Салехард","71951000001","ул. Щорса","-",null,null,null,null,null,null,"Город Салехард","город Салехард","71951000","г Салехард","71951000001",null,null,null,null,null,null,null,null,12,5.08,0,0,0,0]
[null,null,null,null,null,null,null,null,null,null,null,null,null,null,null,null,null,null,null,null,null,null,null,null,null,"Изменить","О","18","ГТЭС \"Обдорск\"","ТИ","да","нет","нет","город Салехард","город Салехард","71951000","г Салехард","71951000001","ул. Деповская","21",null,null,null,null,null,null,"Город Салехард","город Салехард","71951000","г Салехард","71951000001",null,null,null,null,null,null,null,null,51.6,19.8,0,0,0,0]
[null,null,null,null,null,null,null,null,null,null,null,null,null,null,null,null,null,null,null,null,null,null,null,null,null,"Изменить","О","19","котельная №13","ТИ с сетями","да","да","да","город Салехард","город Салехард","71951000","г Салехард","71951000001","ул. Патрикеева","15а",null,null,null,null,null,null,"Город Салехард","город Салехард","71951000","г Салехард","71951000001",null,null,null,null,null,null,null,null,8.6,2.7610000000000001,8.6,2.7610000000000001,8.6,2.7610000000000001]
[null,null,null,null,null,null,null,null,null,null,null,null,null,null,null,null,null,null,null,null,null,null,null,null,null,"Изменить","О","20","котельная №16","ТИ с сетями","да","да","да","город Салехард","город Салехард","71951000","г Салехард","71951000001","ул. Игарская","27а",null,null,null,null,null,null,"Город Салехард","город Салехард","71951000","г Салехард","71951000001",null,null,null,null,null,null,null,null,8.6,4.1660000000000004,8.6,4.1660000000000004,8.6,4.1660000000000004]
[null,null,null,null,null,null,null,null,null,null,null,null,null,null,null,null,null,null,null,null,null,null,null,null,null,"Изменить","О","21","котельная №21","ТИ с сетями","да","да","да","город Салехард","город Салехард","71951000","г Салехард","71951000001","ул. Броднева","40б",null,null,null,null,null,null,"Город Салехард","город Салехард","71951000","г Салехард","71951000001",null,null,null,null,null,null,null,null,47.68,8.5190000000000001,47.68,8.4837000000000007,47.68,8.4837000000000007]
[null,null,null,null,null,null,null,null,null,null,null,null,null,null,null,null,null,null,null,null,null,null,null,null,null,null,null,null,"Добавить объект"]
[null,null,null,null,"Удалить",{"$f":"IF('Список территорий'!$F$17=\"\",\"\",'Список территорий'!$F$17)","v":"2"},{"$f":"IF('Список территорий'!$G$17=\"\",\"\",'Список территорий'!$G$17)","v":"город Салехард"},{"$f":"IF('Список территорий'!$H$17=\"\",\"\",'Список территорий'!$H$17)","v":"город Салехард"},{"$f":"IF('Список территорий'!$I$17=\"\",\"\",'Список территорий'!$I$17)","v":"71951000"},null,null,null,null,null,null,null,{"$f":"ROW(P54)-ROW(P39)-1","v":14},{"$f":"F39 & \".0\"","v":"2.0"},{"$f":"SUM(BH39:BH54)","v":25.349999999999998},8.15,0,0,0,0,null,null,null,"0"]
[null,null,null,null,null,null,null,null,null,null,null,null,null,null,null,null,null,null,null,null,null,null,null,null,null,"Изменить","О","1","крышная котельная 3-9В","ТИ","да","нет","нет","город Салехард","город Салехард","71951000","г Салехард","71951000001","ул. Зои Космодемьянской","69",null,null,null,null,null,null,"Город Салехард","город Салехард","71951000","г Салехард","71951000001",null,null,null,null,null,null,null,null,2.2599999999999998,1.2,0,0,0,0]
[null,null,null,null,null,null,null,null,null,null,null,null,null,null,null,null,null,null,null,null,null,null,null,null,null,"Изменить","О","2","крышная котельная 4-1","ТИ","да","нет","нет","город Салехард","город Салехард","71951000","г Салехард","71951000001","ул. Броднева","28а",null,null,null,null,null,null,"Город Салехард","город Салехард","71951000","г Салехард","71951000001",null,null,null,null,null,null,null,null,2.58,0.65,0,0,0,0]
[null,null,null,null,null,null,null,null,null,null,null,null,null,null,null,null,null,null,null,null,null,null,null,null,null,"Изменить","О","3","крышная котельная 4-2","ТИ","да","нет","нет","город Салехард","город Салехард","71951000","г Салехард","71951000001","ул. Броднева","28",null,null,null,null,null,null,"Город Салехард","город Салехард","71951000","г Салехард","71951000001",null,null,null,null,null,null,null,null,2.15,0.68,0,0,0,0]
[null,null,null,null,null,null,null,null,null,null,null,null,null,null,null,null,null,null,null,null,null,null,null,null,null,"Изменить","О","4","крышная котельная 4-3","ТИ","да","нет","нет","город Салехард","город Салехард","71951000","г Салехард","71951000001","ул. Подшибякина","46",null,null,null,null,null,null,"Город Салехард","город Салехард","71951000","г Салехард","71951000001",null,null,null,null,null,null,null,null,1.38,0.47,0,0,0,0]
[null,null,null,null,null,null,null,null,null,null,null,null,null,null,null,null,null,null,null,null,null,null,null,null,null,"Изменить","О","5","крышная котельная 4-4","ТИ","да","нет","нет","город Салехард","город Салехард","71951000","г Салехард","71951000001","ул. Подшибякина","46 а",null,null,null,null,null,null,"Город Салехард","город Салехард","71951000","г Салехард","71951000001",null,null,null,null,null,null,null,null,1.72,0.43,0,0,0,0]
[null,null,null,null,null,null,null,null,null,null,null,null,null,null,null,null,null,null,null,null,null,null,null,null,null,"Изменить","О","6","крышная котельная 5-10С","ТИ","да","нет","нет","город Салехард","город Салехард","71951000","г Салехард","71951000001","ул. Зои Космодемьянской","69",null,null,null,null,null,null,"Город Салехард","город Салехард","71951000","г Салехард","71951000001",null,null,null,null,null,null,null,null,1.67,1,0,0,0,0]
[null,null,null,null,null,null,null,null,null,null,null,null,null,null,null,null,null,null,null,null,null,null,null,null,null,"Изменить","О","7","крышная котельная 5-1а","ТИ","да","нет","нет","город Салехард","город Салехард","71951000","г Салехард","71951000001","ул. Свердлова","41",null,null,null,null,null,null,"Город Салехард","город Салехард","71951000","г Салехард","71951000001",null,null,null,null,null,null,null,null,1.72,0.43,0,0,0,0]
[null,null,null,null,null,null,null,null,null,null,null,null,null,null,null,null,null,null,null,null,null,null,null,null,null,"Изменить","О","8","крышная котельная 5-1б","ТИ","да","нет","нет","город Салехард","город Салехард","71951000","г Салехард","71951000001","ул. Свердлова","43",null,null,null,null,null,null,"Город Салехард","город Салехард","71951000","г Салехард","71951000001",null,null,null,null,null,null,null,null,1.03,0.24,0,0,0,0]
[null,null,null,null,null,null,null,null,null,null,null,null,null,null,null,null,null,null,null,null,null,null,null,null,null,"Изменить","О","9","крышная котельная 5-3.2","ТИ","да","нет","нет","город Салехард","город Салехард","71951000","г Салехард","71951000001","ул. Свердлова","42",null,null,null,null,null,null,"Город Салехард","город Салехард","71951000","г Салехард","71951000001",null,null,null,null,null,null,null,null,1.38,0.45,0,0,0,0]
[null,null,null,null,null,null,null,null,null,null,null,null,null,null,null,null,null,null,null,null,null,null,null,null,null,"Изменить","О","10","крышная котельная 7-1","ТИ","да","нет","нет","город Салехард","город Салехард","71951000","г Салехард","71951000001","ул. Губкина","1",null,null,null,null,null,null,"Город Салехард","город Салехард","71951000","г Салехард","71951000001",null,null,null,null,null,null,null,null,2.58,0.09,0,0,0,0]
[null,null,null,null,null,null,null,null,null,null,null,null,null,null,null,null,null,null,null,null,null,null,null,null,null,"Изменить","О","11","крышная котельная 7-2","ТИ","да","нет","нет","город Салехард","город Салехард","71951000","г Салехард","71951000001","ул. Губкина","3",null,null,null,null,null,null,"Город Салехард","город Салехард","71951000","г Салехард","71951000001",null,null,null,null,null,null,null,null,2.16,0.44,0,0,0,0]
[null,null,null,null,null,null,null,null,null,null,null,null,null,null,null,null,null,null,null,null,null,null,null,null,null,"Изменить","О","12","крышная котельная 7-3","ТИ","да","нет","нет","город Салехард","город Салехард","71951000","г Салехард","71951000001","ул. Губкина","1а",null,null,null,null,null,null,"Город Салехард","город Салехард","71951000","г Салехард","71951000001",null,null,null,null,null,null,null,null,1.38,0.4,0,0,0,0]
[null,null,null,null,null,null,null,null,null,null,null,null,null,null,null,null,null,null,null,null,null,null,null,null,null,"Изменить","О","13","крышная котельная 7-4","ТИ","да","нет","нет","город Салехард","город Салехард","71951000","г Салехард","71951000001","ул. Губкина","3а",null,null,null,null,null,null,"Город Салехард","город Салехард","71951000","г Салехард","71951000001",null,null,null,null,null,null,null,null,1.38,0.47,0,0,0,0]
[null,null,null,null,null,null,null,null,null,null,null,null,null,null,null,null,null,null,null,null,null,null,null,null,null,"Изменить","О","14","котельная Ямальский 2","ТИ","да","нет","нет","город Салехард","город Салехард","71951000","г Салехард","71951000001","ул. Зои Космодемьянской","63",null,null,null,null,null,null,"Город Салехард","город Салехард","71951000","г Салехард","71951000001",null,null,null,null,null,null,null,null,1.96,1.2,0,0,0,0]
[null,null,null,null,null,null,null,null,null,null,null,null,null,null,null,null,null,null,null,null,null,null,null,null,null,null,null,null,"Добавить объект"]
[null,null," ",null," ",null,"Добавить территорию"]
[null,null,null,null,"   "]
[null,null,null,null,null,null,"Примечания:"]
[null,null,null,null,null,null,"1. Необходимо перечислить все объекты регулируемой инфраструктуры, для которых предоставляются технико-экономические показатели на расчётных листах блока по территории"]
[null,null,null,null,null,null,"2. Выбор объектов доступен только в рамках территорий (ОКТМО), для которых информация по соответствующим видам деятельности представлена в мониторингах реестра объектов инфраструктуры"]
[]
[null,null,null,null,null,"Дата последнего обновления данных мониторинга \"Реестр объектов инфраструктуры\": 05.04.2021 11:00:56"]

{"sheet":"КС","index":6,"n_rows":26,"n_cols":127,"rows_kept":26,"cut":false,"hidden":false,"merged":[[25,5,25,10],[22,6,22,16],[15,5,16,5],[15,6,16,6],[15,7,16,7],[17,5,18,5],[17,6,18,6],[17,7,18,7],[17,8,18,8],[17,9,18,9],[17,10,18,10],[17,11,18,11],[17,12,18,12],[17,13,18,13],[17,14,18,14],[17,16,18,16],[15,14,16,14],[15,16,16,16],[15,8,16,8],[15,9,16,9],[15,10,16,10],[15,11,16,11],[15,12,16,12],[15,13,16,13],[12,98,12,100],[12,85,12,89],[11,102,13,102],[11,84,11,101],[12,94,12,97],[11,103,11,126],[12,90,12,93],[12,112,13,112],[12,104,13,104],[12,84,13,84],[12,106,13,106],[12,108,13,108],[12,107,13,107],[12,105,13,105],[12,103,13,103],[12,119,13,119],[12,125,13,125],[12,124,13,124],[12,126,13,126],[12,109,13,109],[12,110,13,110],[12,111,13,111],[12,113,13,113],[12,123,13,123],[12,116,13,116],[12,114,13,114],[12,122,13,122],[12,121,13,121],[12,118,13,118],[12,120,13,120],[12,117,13,117],[12,115,13,115],[11,32,13,32],[12,34,13,34],[12,35,13,35],[11,50,13,50],[11,34,11,35],[12,74,12,77],[12,78,12,80],[12,41,13,41],[12,43,13,43],[11,36,13,36],[11,39,11,43],[12,40,13,40],[12,39,13,39],[11,83,13,83],[11,56,13,56],[11,57,13,57],[4,8,4,9],[11,14,13,14],[11,15,13,15],[11,19,13,19],[11,17,13,17],[11,8,13,8],[11,58,12,61],[11,37,13,37],[11,38,13,38],[11,31,13,31],[11,20,13,20],[11,27,13,27],[11,21,13,21],[11,28,13,28],[11,22,13,22],[11,23,13,23],[11,29,13,29],[11,24,13,24],[11,25,13,25],[11,26,13,26],[11,45,13,45],[12,42,13,42],[11,51,13,51],[11,33,13,33],[11,5,13,5],[11,7,13,7],[11,12,13,12],[11,13,13,13],[11,10,13,10],[11,11,13,11],[11,6,13,6],[11,18,13,18],[11,16,13,16],[11,9,13,9],[11,82,13,82],[11,62,13,62],[11,63,13,63],[11,46,12,49],[11,52,12,55],[11,44,13,44],[11,30,13,30],[11,64,11,81],[12,64,13,64],[12,65,12,69],[12,70,12,73]]}
[null,null,null,null,null,null,null,null,null,null,null,null,null,null,null,null,null,null,null,null,null,null,null,null,null,null,null,null,null,null,null,null,null,null,null,""]
[]
[]
[null,null,null,null,null,null,{"$f":"\"Перечень заключённых концессионных соглашений, действующих в течение \" & god & \" года, для организаций, оказывающих услуги \" & TEMPLATE_SPHERE","v":"Перечень заключённых концессионных соглашений, действующих в течение 2020 года, для организаций, оказывающих услуги теплоснабжения"}]
[]
[]
[]
[]
[]
[]
[]
[null,null,null,null,null,"№ п/п","Муниципальный район","Муниципальное образование","ОКТМО",null,null,null,null,"Дополнительные признаки дифференциации тарифов",null,null,"Количество позиций","NUMBER",null,null,null,null,null,null,null,null,null,"№ п/п","Тип","Наименование","Является смешанной концессией","Сферы смешанной концессии",null,{"$f":"\"Выбор КС по данным мониторинга принятых тарифных решений на \" & god & \" год\"","v":"Выбор КС по данным мониторинга принятых тарифных решений на 2020 год"},"Сроки реализации / действия концессионного соглашения",null,null,"URL-ссылка на концессионное соглашение",null,"Реквизиты решения",null,null,null,null,null,null,{"$f":"\"Запланировано инвестиций на весь период действия (с момента заключения до окончания действия КС, план на весь период действия), в том числе по КС, срок действия по которым истек в \" & god-1 & \" году, тыс.руб.\"","v":"Запланировано инвестиций на весь период действия (с момента заключения до окончания действия КС, план на весь период действия), в том числе по КС, срок действия по которым истек в 2019 году, тыс.руб."},null,null,null,null,null,{"$f":"\"Запланировано инвестиций с момента заключения КС по 31.12.\" & god-1 & \", тыс.руб.\"","v":"Запланировано инвестиций с момента заключения КС по 31.12.2019, тыс.руб."},null,null,null,null,null,{"$f":"\"Фактически исполнено инвестиций с момента заключения КС по 31.12.\" & god-1 & \", тыс.руб.\"","v":"Фактически исполнено инвестиций с момента заключения КС по 31.12.2019, тыс.руб."},null,null,null,null,null,{"$f":"\"Запланировано инвестиций на \" & god & \" год, тыс.руб.\"","v":"Запланировано инвестиций на 2020 год, тыс.руб."},null,null,null,null,null,null,null,null,null,null,null,null,null,null,null,null,null,null,null,{"$f":"\"Фактически исполнено инвестиций за \" & god & \" год, тыс.руб.\"","v":"Фактически исполнено инвестиций за 2020 год, тыс.руб."},null,null,null,null,null,null,null,null,null,null,null,null,null,null,null,null,null,null,"Перечень ИП, которые выполняются в рамках КС"]
[null,null,null,null,null,null,null,null,null,null,null,null,null,null,null,null,null,null,null,null,null,null,null,null,null,null,null,null,null,null,null,null,null,null,"Дата начала","Дата окончания",null,null,null,"Наименование","Вид","Номер","Дата принятия","URL-ссылка на решение",null,null,null,null,null,null,null,null,null,null,null,null,null,null,null,null,null,null,null,null,"Всего","Собственные средства",null,null,null,null,"Привлеченные средства",null,null,null,"Бюджетное финансирование",null,null,null,"Прочие источники",null,null,"Надбавки к тарифам",null,null,"Всего","Собственные средства",null,null,null,null,"Привлеченные средства",null,null,null,"Бюджетное финансирование",null,null,null,"Прочие источники",null,null,"Надбавки к тарифам",null,null,"№ п/п","Наименование ИП",null,null,{"$f":"\"Запланировано инвестиций на \" & god & \" год, тыс.руб.\"","v":"Запланировано инвестиций на 2020 год, тыс.руб."},{"$f":"\"Фактически исполнено инвестиций за \" & god & \" год, тыс.руб.\"","v":"Фактически исполнено инвестиций за 2020 год, тыс.руб."},null,"URL-ссылка на ИП",null,null,"PLN IP SUM","FCT IP SUM","PLN IP SUM CONSISTENCY","FCT IP SUM CONSISTENCY","CNCSN SUM FACT","PLN CNCSN SUM","FCT CNCSN SUM","CNCSN SUM PLAN TOTAL","CNCSN SUM CONSISTENCY FCT + PLN","CNCSN SUM CONSISTENCY PLN + PLN",null,null,"Комментарии"]
[null,null,null,null,null,null,null,null,null,null,null,null,null,null,null,null,null,null,null,null,null,null,null,null,null,null,null,null,null,null,null,null,null,null,null,null,null,null,null,null,null,null,null,null,null,null,"Всего","Частные инвестиции","Расходы / плата концедента","Объём возмещения частных инвестиций из тарифа",null,null,"Всего","Частные инвестиции","Расходы / плата концедента","Объём возмещения частных инвестиций из тарифа",null,null,"Всего","Частные инвестиции","Расходы / плата концедента","Объём возмещения частных инвестиций из тарифа",null,null,null,"Всего","Прибыль, направляемая на инвестиции","Амортизационные отчисления","Плата за подключение (технологическое присоединение)","Прочие собственные средства","Всего","Кредиты","Займы","Прочие привлечённые средства","Всего","Федеральный бюджет","Бюджет субъекта РФ","Бюджет муниципального образования","Всего","Лизинг","Прочие","Всего",null,null,null,"Всего","Прибыль, направляемая на инвестиции","Амортизационные отчисления","Плата за подключение (технологическое присоединение)","Прочие собственные средства","Всего","Кредиты","Займы","Прочие привлечённые средства","Всего","Федеральный бюджет","Бюджет субъекта РФ","Бюджет муниципального образования","Всего","Лизинг","Прочие","Всего"]
[null,null,null,null,null,0]
[null,null,null,null,"Удалить",{"$f":"IF('Список территорий'!$F$16=\"\",\"\",'Список территорий'!$F$16)","v":"1"},{"$f":"IF('Список территорий'!$G$16=\"\",\"\",'Список территорий'!$G$16)","v":"город Салехард"},{"$f":"IF('Список территорий'!$H$16=\"\",\"\",'Список территорий'!$H$16)","v":"город Салехард"},{"$f":"IF('Список территорий'!$I$16=\"\",\"\",'Список территорий'!$I$16)","v":"71951000"},null,null,null,null,{"$f":"IF('Список территорий'!$N$16=\"\",\"\",'Список территорий'!$N$16)","v":""},null,null,{"$f":"COUNTIF(AA16:AA17,\"О\")","v":0},{"$f":"F16 & \".0\"","v":"1.0"},null,null,null,null,null,null,null,null,null,"0"]
[null,null,null,null,null,null,null,null,null,null,null,null,null,null,null,null,null,null,null,null,null,null,null,null,null,null,null,null,"Добавить"]
[null,null,null,null,"Удалить",{"$f":"IF('Список территорий'!$F$17=\"\",\"\",'Список территорий'!$F$17)","v":"2"},{"$f":"IF('Список территорий'!$G$17=\"\",\"\",'Список территорий'!$G$17)","v":"город Салехард"},{"$f":"IF('Список территорий'!$H$17=\"\",\"\",'Список территорий'!$H$17)","v":"город Салехард"},{"$f":"IF('Список территорий'!$I$17=\"\",\"\",'Список территорий'!$I$17)","v":"71951000"},null,null,null,null,{"$f":"IF('Список территорий'!$N$17=\"\",\"\",'Список территорий'!$N$17)","v":""},null,null,{"$f":"COUNTIF(AA18:AA19,\"О\")","v":0},{"$f":"F18 & \".0\"","v":"2.0"},null,null,null,null,null,null,null,null,null,"0"]
[null,null,null,null,null,null,null,null,null,null,null,null,null,null,null,null,null,null,null,null,null,null,null,null,null,null,null,null,"Добавить"]
[null,null," ",null," ",null,"Добавить организацию"]
[null,null,null,null," "]
[null,null,null,null,null,null,"Примечание:"]
[null,null,null,null,null,null,"Необходимо перечислить все заключённые концессионные соглашения, действующие в отчётном периоде на территориях муниципальных образований по организации"]
[]
[]
[null,null,null,null,null,"Дата последнего обновления данных мониторинга принятых тарифных решений: (обновление не выполнялось)"]

{"sheet":"TECHSHEET","index":7,"n_rows":247,"n_cols":33,"rows_kept":247,"cut":false,"hidden":true,"merged":[]}
["Алтайский край","RU22","Алтайский край",null,"HEAT_PRODUCTION_TYPE_LIST",null,"TEMPLATE_SPHERE",null,"HEAT_TRANSMISSION_TARIFF_UNIT",null,"YES_NO",null,"SAX_PARSER_FEATURE",null,"VALIDATION_SETTINGS",null,"DNS",null,null,null,null,null,null,"shd-energo","LOGIN",null,"YEAR_LIST","MONTH_LIST"]
["Амурская область","RU28","Амурская область",null,"некомбинированное",null,"теплоснабжения",null,"руб/Гкал",null,"да",null,"YES",null,"NO",null,{"$f":"USE_DNS_SERVICE","v":"https://eias.ru"},null,null,null,null,null,null,null,"PASSWORD",null,2012,"Январь"]
["Архангельская область","RU29","Архангельская область",null,"комбинированное, более 25 МВт",null,"теплоснабжения",null,"руб/Гкал/час в мес",null,"нет",null,null,null,"NO",null,null,null,null,null,null,null,null,"MD5","ATH_SCHEME",null,2013,"Февраль"]
["Астраханская область","RU30","Астраханская область",null,"комбинированное, менее 25 МВт",null,"холодного водоснабжения",null,null,null,null,null,null,null,"YES",null,"NDS",null,null,null,null,null,null,"NO","RETAIN_PASSWORD",null,2014,"Март"]
["Белгородская область","RU31","Белгородская область",null,null,null,"водоотведения",null,"COLDVSNA_TRANSMISSION_TARIFF_UNIT",null,null,null,"PROTECT_MARKER",null,"NO",null,1.2,null,null,null,null,null,null,null,"SESSION_ID",null,2015,"Апрель"]
["Брянская область","RU32","Брянская область",null,"HEAT_VD_COMPONENTS",null,null,null,"руб/куб.м",null,null,null,"FEDERAL.2020",null,null,null,null,null,null,null,null,null,null,"70:75:68:40:38:56:55:58:57:43","OBFUSCATED_PASSWORD",null,2016,"Май"]
["Владимирская область","RU33","Владимирская область",null,"Производство",null,"TEMPLATE_SPHERE_OKK_SOURCE",null,null,null,null,null,null,null,null,null,"PERIOD",null,null,null,null,null,null,null,null,null,2017,"Июнь"]
["Волгоградская область","RU34","Волгоградская область",null,"Передача",null,"ТИ",null,"VOTV_TRANSMISSION_TARIFF_UNIT",null,null,null,null,null,null,null,{"$f":"god","v":"2020"},null,null,null,null,null,null,null,null,null,2018,"Июль"]
["Вологодская область","RU35","Вологодская область",null,"Сбыт",null,"Теплоисточник",null,"руб/куб.м",null,null,null,"AUTHORIZATION_MODE",null,null,null,null,null,null,null,null,null,null,"XML_ORG_LIST_TAG_NAMES",null,null,2019,"Август"]
["Воронежская область","RU36","Воронежская область",null,null,null,"Насосная станция",null,null,null,null,null,"EIAS",null,null,null,"Организация",null,null,null,null,null,null,"REGION_NAME",null,null,2020,"Сентябрь"]
["г. Москва","RU77","Москва",null,"COLDVSNA_VD_COMPONENTS",null,"Канализационно-насосная станция",null,"COLDVSNA_VTOV",null,null,null,null,null,null,null,{"$f":"\"01.01.\" & PERIOD","v":"01.01.2020"},null,null,null,null,null,null,"MR_NAME",null,null,2021,"Октябрь"]
["г. Байконур","RU00",null,null,"Производство (подъём / добыча) воды",null,null,null,"питьевая вода",null,null,null,null,null,null,null,{"$f":"\"31.12.\" & PERIOD","v":"31.12.2020"},null,null,null,null,null,null,"OKTMR_NAME",null,null,2022,"Ноябрь"]
["г. Санкт-Петербург","RU78","Cанкт-Петербург",null,"Очистка воды",null,"CALC_IDENTIFIER",null,"техническая вода",null,null,null,null,null,null,null,null,null,null,null,null,null,null,"MO_NAME",null,null,2023,"Декабрь"]
["г. Севастополь","RU92","Севастополь",null,"Транспортировка воды",null,null,null,null,null,null,null,null,null,null,null,"Виды деятельности",null,null,null,null,null,null,"OKTMO_NAME"]
["Еврейская автономная область","RU79","Еврейская автономная область",null,"Сбыт (распределение) воды",null,null,null,"VOTV_VTOV",null,null,null,null,null,null,null,{"$f":"\"01.01.\" & PERIOD","v":"01.01.2020"},null,null,null,null,null,null,"RST_ORG_ID"]
["Забайкальский край","RU75","Забайкальский край",null,"Подвоз воды",null,"Вид воды",null,"Без дифференциации",null,null,null,null,null,null,null,{"$f":"\"31.12.\" & PERIOD","v":"31.12.2020"},null,null,null,null,null,null,"ORG_NAME"]
["Ивановская область","RU37","Ивановская область",null,null,null,"Вид стоков",null,"ЖБО","жидкие бытовые отходы",null,null,null,null,null,null,null,null,null,null,null,null,null,"INN_NAME"]
["Иркутская область","RU38","Иркутская область",null,"VOTV_VD_COMPONENTS",null,null,null,"ПСВ","поверхностные сточные воды",null,null,null,null,null,null,"Территории",null,null,null,null,null,null,"KPP_NAME"]
["Кабардино-Балкарская республика","RU07","Республика Кабардино-Балкария",null,"Приём сточных вод",null,"RESOURCE_IDENTIFIER",null,"ХБСВ","хозяйственно-бытовые сточные воды, отводимые товариществами собственников жилья, жилищно-строительными, жилищными и иными специализированными потребительскими кооперативами, управляющими организациями и другими лицами, осуществляющими деятельность по управлению многоквартирными домами, жителями индивидуальных жилых домов и другими абонентами, отводящими преимущественно сточные воды, связанные с хозяйственно-бытовой деятельностью, в отношении которых не устанавливаются нормативы водоотведения (сброса) по составу сточных вод, нормативы допустимых сбросов абонентов",null,null,null,null,"VOTV_FACILITY_3_INDEX_GROUP",null,{"$f":"\"01.01.\" & PERIOD","v":"01.01.2020"},null,null,null,null,null,null,"VDET_NAME"]
["Калининградская область","RU39","Калининградская область",null,"Очистка сточных вод",null,"ТЭ",null,"СВ (нормативы)","сточные воды, отводимые абонентами, для объектов которых устанавливаются нормативы водоотведения (сброса) по составу сточных вод, нормативы допустимых сбросов абонентов",null,null,"COLDVSNA_FACILITY_INDEX_GROUP",null,"VOTV_FACILITY_INDEX_GROUP",null,{"$f":"\"31.12.\" & PERIOD","v":"31.12.2020"},null,null,null,null,null,null,"VDET_NAME_LIST"]
["Калужская область","RU40","Калужская область",null,"Транспортировка сточных вод",null,"ТЭ",null,"СВ (иные)","сточные воды, отводимые иными абонентами",null,null,"0",null,"0",null,null,null,null,null,null,null,null,"VDET_FULL_NAME_LIST",null,null,null,null,null,null,null,null,"DPR_AREA_TYPE_LIST"]
["Камчатский край","RU41","Камчатский край",null,null,null,"холодной воды",null,null,null,null,null,"1",null,"1",null,null,null,null,null,null,null,null,"ORG_START_DATE",null,null,null,null,null,null,null,null,"городское поселение"]
["Карачаево-Черкесская республика","RU09","Республика Карачаево-Черкессия",null,"STATE_SHARE",null,"стоков",null,null,null,null,null,"2",null,"2",null,null,null,null,null,null,null,null,"ORG_END_DATE",null,null,null,null,null,null,null,null,"сельское поселение"]
["Кемеровская область","RU42","Кемеровская область",null,"VALUABLE_STATE_SHARE",null,null,null,null,null,null,null,"3",null,"3",null,null,null,null,null,null,null,null,"VDET_START_DATE",null,null,null,null,null,null,null,null,"населённый пункт"]
["Кировская область","RU43","Кировская область",null,"0 %",null,"TEMPLATE_CLAIM",null,null,null,null,null,null,null,null,null,null,null,null,null,null,null,null,"VDET_END_DATE"]
["Костромская область","RU44","Костромская область",null,"менее 50 %",null,"F"]
["Краснодарский край","RU23","Краснодарский край",null,"50 % и более"]
["Красноярский край","RU24","Красноярский край",null,"100 %",null,null,null,null,null,null,null,null,null,null,null,null,null,null,null,null,null,null,"XML_MR_MO_OKTMO_LIST_TAG_NAMES"]
["Курганская область","RU45","Курганская область",null,null,null,"TEMPLATE_PERIOD_COUNT",null,null,null,null,null,null,null,null,null,null,null,null,null,null,null,null,"NSRF"]
["Курская область","RU46","Курская область",null,"OWNERSHIP_TYPE",null,"2",null,null,null,null,null,null,null,null,null,null,null,null,null,null,null,null,"MR_NAME"]
["Ленинградская область","RU47","Ленинградская область",null,"NONPRIVATE_OWNERSHIP_TYPE",null,null,null,null,null,null,null,null,null,null,null,null,null,null,null,null,null,null,"OKTMO_MR_NAME"]
["Липецкая область","RU48","Липецкая область",null,"федеральная",null,"TEMPLATE_SPHERE_CODE",null,null,null,null,null,null,null,null,null,null,null,null,null,null,null,null,"MO_NAME"]
["Магаданская область","RU49","Магаданская область",null,"субъект РФ",null,"HEAT",null,null,null,null,null,null,null,null,null,null,null,null,null,null,null,null,"OKTMO_NAME"]
["Московская область","RU50","Московская область",null,"муниципальная",null,"HEAT",null,null,null,null,null,null,null,null,null,null,null,null,null,null,null,null,"TYPE"]
["Мурманская область","RU51","Мурманская область",null,"частная",null,"COLDVSNA",null,null,null,null,null,null,null,null,null,null,null,null,null,null,null,null,"TOTAL_PPL_COUNT"]
["Ненецкий автономный округ","RU83","Ненецкий автономный округ",null,null,null,"VOTV"]
["Нижегородская область","RU52","Нижегородская область"]
["Новгородская область","RU53","Новгородская область",null,null,null,"SPHERE_SPECIFIC_STATUS",null,null,null,null,null,null,null,null,null,null,null,null,null,null,null,null,"XML_AUTHORISATION_TAG_NAMES"]
["Новосибирская область","RU54","Новосибирская область",null,null,null,"ЕТО",null,null,null,null,null,null,null,null,null,null,null,null,null,null,null,null,"L1"]
["Омская область","RU55","Омская область",null,null,null,"ЕТО",null,null,null,null,null,null,null,null,null,null,null,null,null,null,null,null,"L2"]
["Оренбургская область","RU56","Оренбургская область",null,null,null,"ГО"]
["Орловская область","RU57","Орловская область",null,null,null,"ГО"]
["Пензенская область","RU58","Пензенская область",null,null,null,null,null,null,null,null,null,null,null,null,null,null,null,null,null,null,null,null,"XML_LOCATION_LIST_TAG_NAMES"]
["Пермский край","RU59","Пермский край",null,null,null,"SPHERE_SPECIFIC_STATUS_DESCRIPTION",null,null,null,null,null,null,null,null,null,null,null,null,null,null,null,null,"OKTMO_LOCATION_NAME"]
["Приморский край","RU25","Приморский край",null,null,null,"* ЕТО - единая теплоснабжающая организация",null,null,null,null,null,null,null,null,null,null,null,null,null,null,null,null,"LOCATION_NAME"]
["Псковская область","RU60","Псковская область",null,null,null,"* ЕТО - единая теплоснабжающая организация"]
["Республика Адыгея","RU01","Республика Адыгея",null,null,null,"* ГО - гарантирующая организация"]
["Республика Алтай","RU04","Республика Алтай",null,null,null,"* ГО - гарантирующая организация",null,null,null,null,null,null,null,null,null,null,null,null,null,null,null,null,"XML_DICTIONARIES_TAG_NAMES"]
["Республика Башкортостан","RU02","Республика Башкортостан",null,null,null,null,null,null,null,null,null,null,null,null,null,null,null,null,null,null,null,null,"DIC_NAME"]
["Республика Бурятия","RU03","Республика Бурятия",null,null,null,null,null,null,null,null,null,null,null,null,null,null,null,null,null,null,null,null,"DIC_VALUE"]
["Республика Дагестан","RU05","Республика Дагестан"]
["Республика Ингушетия","RU06","Республика Ингушетия"]
["Республика Калмыкия","RU08","Республика Калмыкия",null,null,null,null,null,null,null,null,null,null,null,null,null,null,null,null,null,null,null,null,"XML_SUBSIDIARY_LIST_TAG_NAMES"]
["Республика Карелия","RU10","Республика Карелия",null,null,null,null,null,null,null,null,null,null,null,null,null,null,null,null,null,null,null,null,"DIC_NAME"]
["Республика Коми","RU11","Республика Коми",null,null,null,null,null,null,null,null,null,null,null,null,null,null,null,null,null,null,null,null,"DIC_VALUE"]
["Республика Крым","RU82","Крым"]
["Республика Марий Эл","RU12","Республика Марий Эл"]
["Республика Мордовия","RU13","Республика Мордовия",null,null,null,null,null,null,null,null,null,null,null,null,null,null,null,null,null,null,null,null,"XML_DPR_LIST_TAG_NAMES"]
["Республика Саха (Якутия)","RU14","Республика Саха (Якутия)",null,null,null,null,null,null,null,"XML_PLAN1X_HEAT_LIST_SRC_TAG_NAMES",null,"XML_PLAN1X_COLDVSNA_LIST_SRC_TAG_NAMES",null,"XML_PLAN1X_VOTV_LIST_SRC_TAG_NAMES",null,null,null,null,null,null,null,null,"DIC_NAME"]
["Республика Северная Осетия-Алания","RU15","Республика Северная Осетия (Алания)",null,null,null,null,null,null,null,"LGL_ID",null,"LGL_ID",null,"LGL_ID",null,null,null,null,null,null,null,null,"DIC_VALUE"]
["Республика Татарстан","RU16","Республика Татарстан",null,null,null,null,null,null,null,"NOMER_NAME",null,"NOMER_NAME",null,"NOMER_NAME"]
["Республика Тыва","RU17","Республика Тыва (Тува)",null,null,null,null,null,null,null,"L_SERVICE_PRODUCTION",null,"L_SERVICE_PRODUCTION",null,"L_SERVICE_PRODUCTION"]
["Республика Хакасия","RU19","Республика Хакасия",null,null,null,null,null,null,null,"L_SERVICE_TRANSMISSION",null,"L_SERVICE_CLEANING",null,"L_SERVICE_CLEANING",null,null,null,null,null,null,null,null,"XML_CNCSN_IP_LIST_TAG_NAMES"]
["Ростовская область","RU61","Ростовская область",null,null,null,null,null,null,null,"L_SERVICE_SALE",null,"L_SERVICE_TRANSMISSION",null,"L_SERVICE_TRANSMISSION",null,null,null,null,null,null,null,null,"DIC_NAME"]
["Рязанская область","RU62","Рязанская область",null,null,null,null,null,null,null,"ORG_NAME",null,"ORG_NAME",null,"ORG_NAME",null,null,null,null,null,null,null,null,"L_TYPE"]
["Самарская область","RU63","Самарская область",null,null,null,null,null,null,null,"INN_NAME",null,"INN_NAME",null,"INN_NAME",null,null,null,null,null,null,null,null,"L_NAME"]
["Саратовская область","RU64","Саратовская область",null,null,null,null,null,null,null,"KPP_NAME",null,"KPP_NAME",null,"KPP_NAME",null,null,null,null,null,null,null,null,"L_IS_MIXED_SPHERE"]
["Сахалинская область","RU65","Сахалинская область",null,null,null,null,null,null,null,"FIL_NAME",null,"FIL_NAME",null,"FIL_NAME",null,null,null,null,null,null,null,null,"L_SPHERE_LIST"]
["Свердловская область","RU66","Свердловская область",null,null,null,null,null,null,null,"NOMER2_NAME",null,"NOMER2_NAME",null,"NOMER2_NAME",null,null,null,null,null,null,null,null,"L_START_DATE"]
["Смоленская область","RU67","Смоленская область",null,null,null,null,null,null,null,"NMOB_NAME",null,"NMOB_NAME",null,"NMOB_NAME",null,null,null,null,null,null,null,null,"L_END_DATE"]
["Ставропольский край","RU26","Ставропольский край",null,null,null,null,null,null,null,"DET_NAME",null,"DET_NAME",null,"DET_NAME"]
["Тамбовская область","RU68","Тамбовская область",null,null,null,null,null,null,null,"L_ADDRESS_MR",null,"L_ADDRESS_MR",null,"L_ADDRESS_MR"]
["Тверская область","RU69","Тверская область",null,null,null,null,null,null,null,"L_ADDRESS_MO",null,"L_ADDRESS_MO",null,"L_ADDRESS_MO",null,null,null,null,null,null,null,null,"XML_FILE_STORE_DATA_TAG_NAMES"]
["Томская область","RU70","Томская область",null,null,null,null,null,null,null,"L_ADDRESS_OKTMO",null,"L_ADDRESS_OKTMO",null,"L_ADDRESS_OKTMO",null,null,null,null,null,null,null,null,"GUID"]
["Тульская область","RU71","Тульская область",null,null,null,null,null,null,null,"L_ADDRESS_LOCATION",null,"L_ADDRESS_LOCATION",null,"L_ADDRESS_LOCATION",null,null,null,null,null,null,null,null,"MIME"]
["Тюменская область","RU72","Тюменская область",null,null,null,null,null,null,null,"L_ADDRESS_LOC_OKTMO",null,"L_ADDRESS_LOC_OKTMO",null,"L_ADDRESS_LOC_OKTMO",null,null,null,null,null,null,null,null,"EXTENSION"]
["Удмуртская республика","RU18","Республика Удмуртия",null,null,null,null,null,null,null,"L_ADDRESS_STREET",null,"L_ADDRESS_STREET",null,"L_ADDRESS_STREET",null,null,null,null,null,null,null,null,"CREATE_DATE"]
["Ульяновская область","RU73","Ульяновская область",null,null,null,null,null,null,null,"L_ADDRESS_BUILDING",null,"L_ADDRESS_BUILDING",null,"L_ADDRESS_BUILDING",null,null,null,null,null,null,null,null,"FORCE_ALLOWED"]
["Хабаровский край","RU27","Хабаровский край",null,null,null,null,null,null,null,"DET2_NAME",null,"DET2_NAME",null,"DET2_NAME"]
["Ханты-Мансийский автономный округ","RU86","Ханты-Мансийский автономный округ",null,null,null,null,null,null,null,"MR_NAME",null,"MR_NAME",null,"MR_NAME"]
["Челябинская область","RU74","Челябинская область",null,null,null,null,null,null,null,"MO_NAME",null,"MO_NAME",null,"MO_NAME",null,null,null,null,null,null,null,null,"XML_PARSE_STATUS_TAG_NAMES"]
["Чеченская республика","RU20","Республика Чечня",null,null,null,null,null,null,null,"OKTMO_NAME",null,"OKTMO_NAME",null,"OKTMO_NAME",null,null,null,null,null,null,null,null,"STATUS"]
["Чувашская республика","RU21","Республика Чувашия",null,null,null,null,null,null,null,"LOCATION_NAME",null,"LOCATION_NAME",null,"LOCATION_NAME",null,null,null,null,null,null,null,null,"GUID"]
["Чукотский автономный округ","RU87","Чукотский автономный округ",null,null,null,null,null,null,null,"LOCATION_OKTMO_NAME",null,"LOCATION_OKTMO_NAME",null,"LOCATION_OKTMO_NAME"]
["Ямало-Ненецкий автономный округ","RU89","Ямало-Ненецкий автономный округ",null,null,null,null,null,null,null,"L_PR_IC",null,"L_PR_IC",null,"L_PR_IC"]
["Ярославская область","RU76","Ярославская область",null,null,null,null,null,null,null,"L_PR_CL",null,"L_PR_CL",null,"L_PR_CL"]
[null,null,null,null,null,null,null,null,null,null,"L_TR_IC",null,"L_CLN_IC",null,"L_CLN_IC"]
[null,null,null,null,null,null,null,null,null,null,"L_TR_CL",null,"L_CLN_CL",null,"L_CLN_CL"]
[null,null,null,null,null,null,null,null,null,null,"L_SL_IC",null,"L_TR_IC",null,"L_TR_IC"]
[null,null,null,null,null,null,null,null,null,null,"L_SL_CL",null,"L_TR_CL",null,"L_TR_CL"]
[]
[null,null,null,null,null,null,null,null,null,null,"XML_PLAN1X_HEAT_LIST_ORG_TAG_NAMES",null,"XML_PLAN1X_COLDVSNA_LIST_ORG_TAG_NAMES",null,"XML_PLAN1X_VOTV_LIST_ORG_TAG_NAMES"]
[null,null,null,null,null,null,null,null,null,null,"LGL_ID",null,"LGL_ID",null,"LGL_ID"]
[null,null,null,null,null,null,null,null,null,null,"NMBR",null,"NMBR",null,"NMBR"]
[null,null,null,null,null,null,null,null,null,null,"RST_ORG_ID",null,"RST_ORG_ID",null,"RST_ORG_ID"]
[null,null,null,null,null,null,null,null,null,null,"ORG",null,"ORG",null,"ORG"]
[null,null,null,null,null,null,null,null,null,null,"INN",null,"INN",null,"INN"]
[null,null,null,null,null,null,null,null,null,null,"KPP",null,"KPP",null,"KPP"]
[null,null,null,null,null,null,null,null,null,null,"FIL",null,"FIL",null,"FIL"]
[null,null,null,null,null,null,null,null,null,null,"VDET",null,"VDET",null,"VDET"]
[null,null,null,null,null,null,null,null,null,null,"INN_ID",null,"INN_ID",null,"INN_ID"]
[null,null,null,null,null,null,null,null,null,null,"KPP_ID",null,"KPP_ID",null,"KPP_ID"]
[null,null,null,null,null,null,null,null,null,null,"FIL_ID",null,"FIL_ID",null,"FIL_ID"]
[null,null,null,null,null,null,null,null,null,null,"VDET_ID",null,"VDET_ID",null,"VDET_ID"]
[null,null,null,null,null,null,null,null,null,null,"OKOPF",null,"OKOPF",null,"OKOPF"]
[null,null,null,null,null,null,null,null,null,null,"SPECIFIC_STATUS",null,"SPECIFIC_STATUS",null,"SPECIFIC_STATUS"]
[null,null,null,null,null,null,null,null,null,null,"SPECIFIC_STATUS_URL",null,"SPECIFIC_STATUS_URL",null,"SPECIFIC_STATUS_URL"]
[null,null,null,null,null,null,null,null,null,null,"UNREG",null,"UNREG",null,"UNREG"]
[null,null,null,null,null,null,null,null,null,null,"SCC",null,"SCC",null,"SCC"]
[null,null,null,null,null,null,null,null,null,null,"TAX",null,"TAX",null,"TAX"]
[null,null,null,null,null,null,null,null,null,null,"MILITARY",null,"MILITARY",null,"MILITARY"]
[null,null,null,null,null,null,null,null,null,null,"IS_PROFILE_ACTIVITY",null,"IS_PROFILE_ACTIVITY",null,"IS_PROFILE_ACTIVITY"]
[null,null,null,null,null,null,null,null,null,null,"OGRN",null,"OGRN",null,"OGRN"]
[null,null,null,null,null,null,null,null,null,null,"OKPO",null,"OKPO",null,"OKPO"]
[null,null,null,null,null,null,null,null,null,null,"STATE_SHARE_EXISTENCE",null,"STATE_SHARE_EXISTENCE",null,"STATE_SHARE_EXISTENCE"]
[null,null,null,null,null,null,null,null,null,null,"STATE_SHARE_VALUE",null,"STATE_SHARE_VALUE",null,"STATE_SHARE_VALUE"]
[null,null,null,null,null,null,null,null,null,null,"PREVAILING_SHARE_VALUE",null,"PREVAILING_SHARE_VALUE",null,"PREVAILING_SHARE_VALUE"]
[]
[null,null,null,null,null,null,null,null,null,null,"XML_PLAN1X_HEAT_LIST_TMX_TAG_NAMES",null,"XML_PLAN1X_COLDVSNA_LIST_TMX_TAG_NAMES",null,"XML_PLAN1X_VOTV_LIST_TMX_TAG_NAMES"]
[null,null,null,null,null,null,null,null,null,null,"NOMER",null,"NOMER",null,"NOMER"]
[null,null,null,null,null,null,null,null,null,null,"ORG",null,"ORG",null,"ORG"]
[null,null,null,null,null,null,null,null,null,null,"INN",null,"INN",null,"INN"]
[null,null,null,null,null,null,null,null,null,null,"KPP",null,"KPP",null,"KPP"]
[null,null,null,null,null,null,null,null,null,null,"FIL",null,"FIL",null,"FIL"]
[null,null,null,null,null,null,null,null,null,null,"VDET",null,"VDET",null,"VDET"]
[null,null,null,null,null,null,null,null,null,null,"DPR",null,"DPR",null,"DPR"]
[null,null,null,null,null,null,null,null,null,null,"MR",null,"MR",null,"MR"]
[null,null,null,null,null,null,null,null,null,null,"MO",null,"MO",null,"MO"]
[null,null,null,null,null,null,null,null,null,null,"OKTMO",null,"OKTMO",null,"OKTMO"]
[null,null,null,null,null,null,null,null,null,null,"DET",null,"DET",null,"DET"]
[null,null,null,null,null,null,null,null,null,null,"TF_I_RSL",null,"TF_I_RSL",null,"TF_I_RSL"]
[null,null,null,null,null,null,null,null,null,null,"TF_II_RSL",null,"TF_II_RSL",null,"TF_II_RSL"]
[null,null,null,null,null,null,null,null,null,null,"TF_I_BDG",null,"TF_I_BDG",null,"TF_I_BDG"]
[null,null,null,null,null,null,null,null,null,null,"TF_II_BDG",null,"TF_II_BDG",null,"TF_II_BDG"]
[null,null,null,null,null,null,null,null,null,null,"TF_I_PPL",null,"TF_I_PPL",null,"TF_I_PPL"]
[null,null,null,null,null,null,null,null,null,null,"TF_II_PPL",null,"TF_II_PPL",null,"TF_II_PPL"]
[null,null,null,null,null,null,null,null,null,null,"TF_I_OTH",null,"TF_I_OTH",null,"TF_I_OTH"]
[null,null,null,null,null,null,null,null,null,null,"TF_II_OTH",null,"TF_II_OTH",null,"TF_II_OTH"]
[]
[null,null,null,null,null,null,null,null,null,null,"XML_PLAN1X_HEAT_LIST_MO_TAG_NAMES",null,"XML_PLAN1X_COLDVSNA_LIST_MO_TAG_NAMES",null,"XML_PLAN1X_VOTV_LIST_MO_TAG_NAMES"]
[null,null,null,null,null,null,null,null,null,null,"POSITION",null,"POSITION",null,"POSITION"]
[null,null,null,null,null,null,null,null,null,null,"MR",null,"MR",null,"MR"]
[null,null,null,null,null,null,null,null,null,null,"MO",null,"MO",null,"MO"]
[null,null,null,null,null,null,null,null,null,null,"OKTMO",null,"OKTMO",null,"OKTMO"]
[null,null,null,null,null,null,null,null,null,null,"TAX",null,"TAX",null,"TAX"]
[null,null,null,null,null,null,null,null,null,null,"DPR",null,"DPR",null,"DPR"]
[null,null,null,null,null,null,null,null,null,null,"VTOV",null,"VTOV",null,"VTOV"]
[null,null,null,null,null,null,null,null,null,null,"TR_TARIFF",null,"TR_TARIFF",null,"TR_TARIFF"]
[null,null,null,null,null,null,null,null,null,null,"LGL_ID",null,"LGL_ID",null,"LGL_ID"]
[]
[null,null,null,null,null,null,null,null,null,null,"XML_PLAN1X_HEAT_LIST_CNCSN_TAG_NAMES",null,"XML_PLAN1X_COLDVSNA_LIST_CNCSN_TAG_NAMES",null,"XML_PLAN1X_VOTV_LIST_CNCSN_TAG_NAMES"]
[null,null,null,null,null,null,null,null,null,null,"LGL_ID",null,"LGL_ID",null,"LGL_ID"]
[null,null,null,null,null,null,null,null,null,null,"POSITION",null,"POSITION",null,"POSITION"]
[null,null,null,null,null,null,null,null,null,null,"ORG",null,"ORG",null,"ORG"]
[null,null,null,null,null,null,null,null,null,null,"INN",null,"INN",null,"INN"]
[null,null,null,null,null,null,null,null,null,null,"KPP",null,"KPP",null,"KPP"]
[null,null,null,null,null,null,null,null,null,null,"FIL",null,"FIL",null,"FIL"]
[null,null,null,null,null,null,null,null,null,null,"VDET",null,"VDET",null,"VDET"]
[null,null,null,null,null,null,null,null,null,null,"SPECIFIC_STATUS",null,"SPECIFIC_STATUS",null,"SPECIFIC_STATUS"]
[null,null,null,null,null,null,null,null,null,null,"MR",null,"MR",null,"MR"]
[null,null,null,null,null,null,null,null,null,null,"MO",null,"MO",null,"MO"]
[null,null,null,null,null,null,null,null,null,null,"OKTMO",null,"OKTMO",null,"OKTMO"]
[null,null,null,null,null,null,null,null,null,null,"TAX",null,"TAX",null,"TAX"]
[null,null,null,null,null,null,null,null,null,null,"DPR",null,"DPR",null,"DPR"]
[null,null,null,null,null,null,null,null,null,null,"VTOV",null,"VTOV",null,"VTOV"]
[null,null,null,null,null,null,null,null,null,null,"L_TYPE",null,"L_TYPE",null,"L_TYPE"]
[null,null,null,null,null,null,null,null,null,null,"L_NAME",null,"L_NAME",null,"L_NAME"]
[null,null,null,null,null,null,null,null,null,null,"L_IS_MIXED_SPHERE",null,"L_IS_MIXED_SPHERE",null,"L_IS_MIXED_SPHERE"]
[null,null,null,null,null,null,null,null,null,null,"L_SPHERE_LIST",null,"L_SPHERE_LIST",null,"L_SPHERE_LIST"]
[null,null,null,null,null,null,null,null,null,null,"L_START_DATE",null,"L_START_DATE",null,"L_START_DATE"]
[null,null,null,null,null,null,null,null,null,null,"L_END_DATE",null,"L_END_DATE",null,"L_END_DATE"]
[null,null,null,null,null,null,null,null,null,null,"L_DECISION_NAME",null,"L_DECISION_NAME",null,"L_DECISION_NAME"]
[null,null,null,null,null,null,null,null,null,null,"L_DECISION_TYPE",null,"L_DECISION_TYPE",null,"L_DECISION_TYPE"]
[null,null,null,null,null,null,null,null,null,null,"L_DECISION_NMBR",null,"L_DECISION_NMBR",null,"L_DECISION_NMBR"]
[null,null,null,null,null,null,null,null,null,null,"L_DECISION_DATE",null,"L_DECISION_DATE",null,"L_DECISION_DATE"]
[null,null,null,null,null,null,null,null,null,null,"L_DECISION_URL",null,"L_DECISION_URL",null,"L_DECISION_URL"]
[null,null,null,null,null,null,null,null,null,null,"L_URL",null,"L_URL",null,"L_URL"]
[null,null,null,null,null,null,null,null,null,null,"L_PLN_IP_TTL_TO_BE_DONE",null,"L_PLN_IP_TTL_TO_BE_DONE",null,"L_PLN_IP_TTL_TO_BE_DONE"]
[null,null,null,null,null,null,null,null,null,null,"L_PLN_IP_PRV_TO_BE_DONE",null,"L_PLN_IP_PRV_TO_BE_DONE",null,"L_PLN_IP_PRV_TO_BE_DONE"]
[null,null,null,null,null,null,null,null,null,null,"L_PLN_IP_BDG_TO_BE_DONE",null,"L_PLN_IP_BDG_TO_BE_DONE",null,"L_PLN_IP_BDG_TO_BE_DONE"]
[null,null,null,null,null,null,null,null,null,null,"L_PLN_IP_TF_TO_BE_DONE",null,"L_PLN_IP_TF_TO_BE_DONE",null,"L_PLN_IP_TF_TO_BE_DONE"]
[null,null,null,null,null,null,null,null,null,null,"L_PLN_IP_TTL_PREVIOUS",null,"L_PLN_IP_TTL_PREVIOUS",null,"L_PLN_IP_TTL_PREVIOUS"]
[null,null,null,null,null,null,null,null,null,null,"L_PLN_IP_PRV_PREVIOUS",null,"L_PLN_IP_PRV_PREVIOUS",null,"L_PLN_IP_PRV_PREVIOUS"]
[null,null,null,null,null,null,null,null,null,null,"L_PLN_IP_BDG_PREVIOUS",null,"L_PLN_IP_BDG_PREVIOUS",null,"L_PLN_IP_BDG_PREVIOUS"]
[null,null,null,null,null,null,null,null,null,null,"L_PLN_IP_TF_PREVIOUS",null,"L_PLN_IP_TF_PREVIOUS",null,"L_PLN_IP_TF_PREVIOUS"]
[null,null,null,null,null,null,null,null,null,null,"L_FCT_IP_TTL_FACT",null,"L_FCT_IP_TTL_FACT",null,"L_FCT_IP_TTL_FACT"]
[null,null,null,null,null,null,null,null,null,null,"L_FCT_IP_PRV_FACT",null,"L_FCT_IP_PRV_FACT",null,"L_FCT_IP_PRV_FACT"]
[null,null,null,null,null,null,null,null,null,null,"L_FCT_IP_BDG_FACT",null,"L_FCT_IP_BDG_FACT",null,"L_FCT_IP_BDG_FACT"]
[null,null,null,null,null,null,null,null,null,null,"L_FCT_IP_TF_FACT",null,"L_FCT_IP_TF_FACT",null,"L_FCT_IP_TF_FACT"]
[null,null,null,null,null,null,null,null,null,null,"L_PLN_IP_TTL_CURRENT",null,"L_PLN_IP_TTL_CURRENT",null,"L_PLN_IP_TTL_CURRENT"]
[null,null,null,null,null,null,null,null,null,null,"L_PLN_IP_OWN_TTL_CURRENT",null,"L_PLN_IP_OWN_TTL_CURRENT",null,"L_PLN_IP_OWN_TTL_CURRENT"]
[null,null,null,null,null,null,null,null,null,null,"L_PLN_IP_OWN_BNFT_CURRENT",null,"L_PLN_IP_OWN_BNFT_CURRENT",null,"L_PLN_IP_OWN_BNFT_CURRENT"]
[null,null,null,null,null,null,null,null,null,null,"L_PLN_IP_OWN_AMR_CURRENT",null,"L_PLN_IP_OWN_AMR_CURRENT",null,"L_PLN_IP_OWN_AMR_CURRENT"]
[null,null,null,null,null,null,null,null,null,null,"L_PLN_IP_OWN_PDKL_CURRENT",null,"L_PLN_IP_OWN_PDKL_CURRENT",null,"L_PLN_IP_OWN_PDKL_CURRENT"]
[null,null,null,null,null,null,null,null,null,null,"L_PLN_IP_OWN_OTH_CURRENT",null,"L_PLN_IP_OWN_OTH_CURRENT",null,"L_PLN_IP_OWN_OTH_CURRENT"]
[null,null,null,null,null,null,null,null,null,null,"L_PLN_IP_EXT_TTL_CURRENT",null,"L_PLN_IP_EXT_TTL_CURRENT",null,"L_PLN_IP_EXT_TTL_CURRENT"]
[null,null,null,null,null,null,null,null,null,null,"L_PLN_IP_EXT_CRDT_CURRENT",null,"L_PLN_IP_EXT_CRDT_CURRENT",null,"L_PLN_IP_EXT_CRDT_CURRENT"]
[null,null,null,null,null,null,null,null,null,null,"L_PLN_IP_EXT_LOAN_CURRENT",null,"L_PLN_IP_EXT_LOAN_CURRENT",null,"L_PLN_IP_EXT_LOAN_CURRENT"]
[null,null,null,null,null,null,null,null,null,null,"L_PLN_IP_EXT_OTH_CURRENT",null,"L_PLN_IP_EXT_OTH_CURRENT",null,"L_PLN_IP_EXT_OTH_CURRENT"]
[null,null,null,null,null,null,null,null,null,null,"L_PLN_IP_BDG_TTL_CURRENT",null,"L_PLN_IP_BDG_TTL_CURRENT",null,"L_PLN_IP_BDG_TTL_CURRENT"]
[null,null,null,null,null,null,null,null,null,null,"L_PLN_IP_BDG_FED_CURRENT",null,"L_PLN_IP_BDG_FED_CURRENT",null,"L_PLN_IP_BDG_FED_CURRENT"]
[null,null,null,null,null,null,null,null,null,null,"L_PLN_IP_BDG_REG_CURRENT",null,"L_PLN_IP_BDG_REG_CURRENT",null,"L_PLN_IP_BDG_REG_CURRENT"]
[null,null,null,null,null,null,null,null,null,null,"L_PLN_IP_BDG_MO_CURRENT",null,"L_PLN_IP_BDG_MO_CURRENT",null,"L_PLN_IP_BDG_MO_CURRENT"]
[null,null,null,null,null,null,null,null,null,null,"L_PLN_IP_OTH_TTL_CURRENT",null,"L_PLN_IP_OTH_TTL_CURRENT",null,"L_PLN_IP_OTH_TTL_CURRENT"]
[null,null,null,null,null,null,null,null,null,null,"L_PLN_IP_OTH_LSNG_CURRENT",null,"L_PLN_IP_OTH_LSNG_CURRENT",null,"L_PLN_IP_OTH_LSNG_CURRENT"]
[null,null,null,null,null,null,null,null,null,null,"L_PLN_IP_OTH_OTH_CURRENT",null,"L_PLN_IP_OTH_OTH_CURRENT",null,"L_PLN_IP_OTH_OTH_CURRENT"]
[null,null,null,null,null,null,null,null,null,null,"L_PLN_IP_NADB_CURRENT",null,"L_PLN_IP_NADB_CURRENT",null,"L_PLN_IP_NADB_CURRENT"]
[null,null,null,null,null,null,null,null,null,null,"L_CNCSN_IP_1_NMBR",null,"L_CNCSN_IP_1_NMBR",null,"L_CNCSN_IP_1_NMBR"]
[null,null,null,null,null,null,null,null,null,null,"L_CNCSN_IP_1_NAME",null,"L_CNCSN_IP_1_NAME",null,"L_CNCSN_IP_1_NAME"]
[null,null,null,null,null,null,null,null,null,null,"L_CNCSN_IP_1_SUM",null,"L_CNCSN_IP_1_SUM",null,"L_CNCSN_IP_1_SUM"]
[null,null,null,null,null,null,null,null,null,null,"L_CNCSN_IP_1_URL",null,"L_CNCSN_IP_1_URL",null,"L_CNCSN_IP_1_URL"]
[null,null,null,null,null,null,null,null,null,null,"L_CNCSN_IP_2_NMBR",null,"L_CNCSN_IP_2_NMBR",null,"L_CNCSN_IP_2_NMBR"]
[null,null,null,null,null,null,null,null,null,null,"L_CNCSN_IP_2_NAME",null,"L_CNCSN_IP_2_NAME",null,"L_CNCSN_IP_2_NAME"]
[null,null,null,null,null,null,null,null,null,null,"L_CNCSN_IP_2_SUM",null,"L_CNCSN_IP_2_SUM",null,"L_CNCSN_IP_2_SUM"]
[null,null,null,null,null,null,null,null,null,null,"L_CNCSN_IP_2_URL",null,"L_CNCSN_IP_2_URL",null,"L_CNCSN_IP_2_URL"]
[null,null,null,null,null,null,null,null,null,null,"L_CNCSN_IP_3_NMBR",null,"L_CNCSN_IP_3_NMBR",null,"L_CNCSN_IP_3_NMBR"]
[null,null,null,null,null,null,null,null,null,null,"L_CNCSN_IP_3_NAME",null,"L_CNCSN_IP_3_NAME",null,"L_CNCSN_IP_3_NAME"]
[null,null,null,null,null,null,null,null,null,null,"L_CNCSN_IP_3_SUM",null,"L_CNCSN_IP_3_SUM",null,"L_CNCSN_IP_3_SUM"]
[null,null,null,null,null,null,null,null,null,null,"L_CNCSN_IP_3_URL",null,"L_CNCSN_IP_3_URL",null,"L_CNCSN_IP_3_URL"]
[null,null,null,null,null,null,null,null,null,null,"L_CNCSN_IP_4_NMBR",null,"L_CNCSN_IP_4_NMBR",null,"L_CNCSN_IP_4_NMBR"]
[null,null,null,null,null,null,null,null,null,null,"L_CNCSN_IP_4_NAME",null,"L_CNCSN_IP_4_NAME",null,"L_CNCSN_IP_4_NAME"]
[null,null,null,null,null,null,null,null,null,null,"L_CNCSN_IP_4_SUM",null,"L_CNCSN_IP_4_SUM",null,"L_CNCSN_IP_4_SUM"]
[null,null,null,null,null,null,null,null,null,null,"L_CNCSN_IP_4_URL",null,"L_CNCSN_IP_4_URL",null,"L_CNCSN_IP_4_URL"]
[null,null,null,null,null,null,null,null,null,null,"L_CNCSN_IP_5_NMBR",null,"L_CNCSN_IP_5_NMBR",null,"L_CNCSN_IP_5_NMBR"]
[null,null,null,null,null,null,null,null,null,null,"L_CNCSN_IP_5_NAME",null,"L_CNCSN_IP_5_NAME",null,"L_CNCSN_IP_5_NAME"]
[null,null,null,null,null,null,null,null,null,null,"L_CNCSN_IP_5_SUM",null,"L_CNCSN_IP_5_SUM",null,"L_CNCSN_IP_5_SUM"]
[null,null,null,null,null,null,null,null,null,null,"L_CNCSN_IP_5_URL",null,"L_CNCSN_IP_5_URL",null,"L_CNCSN_IP_5_URL"]
[null,null,null,null,null,null,null,null,null,null,"L_CNCSN_IP_6_NMBR",null,"L_CNCSN_IP_6_NMBR",null,"L_CNCSN_IP_6_NMBR"]
[null,null,null,null,null,null,null,null,null,null,"L_CNCSN_IP_6_NAME",null,"L_CNCSN_IP_6_NAME",null,"L_CNCSN_IP_6_NAME"]
[null,null,null,null,null,null,null,null,null,null,"L_CNCSN_IP_6_SUM",null,"L_CNCSN_IP_6_SUM",null,"L_CNCSN_IP_6_SUM"]
[null,null,null,null,null,null,null,null,null,null,"L_CNCSN_IP_6_URL",null,"L_CNCSN_IP_6_URL",null,"L_CNCSN_IP_6_URL"]
[null,null,null,null,null,null,null,null,null,null,"L_CNCSN_IP_7_NMBR",null,"L_CNCSN_IP_7_NMBR",null,"L_CNCSN_IP_7_NMBR"]
[null,null,null,null,null,null,null,null,null,null,"L_CNCSN_IP_7_NAME",null,"L_CNCSN_IP_7_NAME",null,"L_CNCSN_IP_7_NAME"]
[null,null,null,null,null,null,null,null,null,null,"L_CNCSN_IP_7_SUM",null,"L_CNCSN_IP_7_SUM",null,"L_CNCSN_IP_7_SUM"]
[null,null,null,null,null,null,null,null,null,null,"L_CNCSN_IP_7_URL",null,"L_CNCSN_IP_7_URL",null,"L_CNCSN_IP_7_URL"]
[null,null,null,null,null,null,null,null,null,null,"L_CNCSN_IP_8_NMBR",null,"L_CNCSN_IP_8_NMBR",null,"L_CNCSN_IP_8_NMBR"]
[null,null,null,null,null,null,null,null,null,null,"L_CNCSN_IP_8_NAME",null,"L_CNCSN_IP_8_NAME",null,"L_CNCSN_IP_8_NAME"]
[null,null,null,null,null,null,null,null,null,null,"L_CNCSN_IP_8_SUM",null,"L_CNCSN_IP_8_SUM",null,"L_CNCSN_IP_8_SUM"]
[null,null,null,null,null,null,null,null,null,null,"L_CNCSN_IP_8_URL",null,"L_CNCSN_IP_8_URL",null,"L_CNCSN_IP_8_URL"]
[null,null,null,null,null,null,null,null,null,null,"L_CNCSN_IP_9_NMBR",null,"L_CNCSN_IP_9_NMBR",null,"L_CNCSN_IP_9_NMBR"]
[null,null,null,null,null,null,null,null,null,null,"L_CNCSN_IP_9_NAME",null,"L_CNCSN_IP_9_NAME",null,"L_CNCSN_IP_9_NAME"]
[null,null,null,null,null,null,null,null,null,null,"L_CNCSN_IP_9_SUM",null,"L_CNCSN_IP_9_SUM",null,"L_CNCSN_IP_9_SUM"]
[null,null,null,null,null,null,null,null,null,null,"L_CNCSN_IP_9_URL",null,"L_CNCSN_IP_9_URL",null,"L_CNCSN_IP_9_URL"]
[null,null,null,null,null,null,null,null,null,null,"L_CNCSN_IP_10_NMBR",null,"L_CNCSN_IP_10_NMBR",null,"L_CNCSN_IP_10_NMBR"]
[null,null,null,null,null,null,null,null,null,null,"L_CNCSN_IP_10_NAME",null,"L_CNCSN_IP_10_NAME",null,"L_CNCSN_IP_10_NAME"]
[null,null,null,null,null,null,null,null,null,null,"L_CNCSN_IP_10_SUM",null,"L_CNCSN_IP_10_SUM",null,"L_CNCSN_IP_10_SUM"]
[null,null,null,null,null,null,null,null,null,null,"L_CNCSN_IP_10_URL",null,"L_CNCSN_IP_10_URL",null,"L_CNCSN_IP_10_URL"]

{"sheet":"TECH_HORISONTAL","index":8,"n_rows":31,"n_cols":124,"rows_kept":31,"cut":false,"hidden":true,"merged":[[2,0,2,1],[13,10,14,10],[13,11,14,11],[13,12,14,12],[13,14,14,14],[5,0,5,1],[8,0,8,1],[12,0,12,1],[13,5,14,5],[13,6,14,6],[13,7,14,7],[13,8,14,8],[13,16,14,16],[26,15,27,15],[25,0,25,1],[17,0,17,1],[13,15,14,15],[13,9,14,9],[13,13,14,13],[21,0,21,1],[22,5,23,5],[22,6,23,6],[22,7,23,7],[22,8,23,8],[22,9,23,9],[22,10,23,10],[22,11,23,11],[22,12,23,12],[22,13,23,13],[22,14,23,14],[22,16,23,16],[26,17,27,17],[26,18,27,18],[26,19,27,19],[26,20,27,20],[26,21,27,21],[26,22,27,22],[26,23,27,23],[26,24,27,24],[26,25,27,25],[26,26,27,26],[26,27,27,27],[26,28,27,28],[26,29,27,29],[26,30,27,30],[26,31,27,31],[26,32,27,32],[26,33,27,33],[26,34,27,34],[26,67,27,67],[26,52,27,52],[26,53,27,53],[26,54,27,54],[26,55,27,55],[26,58,27,58],[26,59,27,59],[26,35,27,35],[26,36,27,36],[26,37,27,37],[26,38,27,38],[26,39,27,39],[26,40,27,40],[26,41,27,41],[26,42,27,42],[26,43,27,43],[26,80,27,80],[26,81,27,81],[29,0,29,1],[26,73,27,73],[26,74,27,74],[26,75,27,75],[26,76,27,76],[26,77,27,77],[26,78,27,78],[26,68,27,68],[26,69,27,69],[26,70,27,70],[26,71,27,71],[26,72,27,72],[26,79,27,79],[26,60,27,60],[26,61,27,61],[26,64,27,64],[26,65,27,65],[26,66,27,66],[26,46,27,46],[26,47,27,47],[26,48,27,48],[26,49,27,49],[26,84,27,84],[26,85,27,85],[26,86,27,86],[26,87,27,87],[26,88,27,88],[26,89,27,89],[26,90,27,90],[26,91,27,91],[26,92,27,92],[26,93,27,93],[26,94,27,94],[26,95,27,95],[26,96,27,96],[26,97,27,97],[26,98,27,98],[26,99,27,99],[26,100,27,100],[26,101,27,101]]}
[]
[]
["LIST_MO_HEAT_ADD_RANGE"]
[null,null,null,null,"О",null,null,null,null,{"$f":"IF(LEN(I4)=0,\"\",VLOOKUP(I4,OKTMO_VS_TYPE_LIST,2,FALSE))","v":""},null,null,{"$f":"IF(TAX=\"\",\"\",TAX)","v":"да"},null,null,null,null,null,null,null,null,null,null,null,null,null,null,null,null,null,null,null,null,null,null,null,null,null,null,null,null,null,null,null,null,null,null,null,null,null,null,null,null,null,null,null,null,null,null,null,null,null,null,null,null,null,null,null,null,null,null,null,null,null,null,null,null,null,null,null,null,null,null,null,null,null,null,"a","a","a","a","a","a","a","a","a","a","a","a"]
[]
["LIST_MO_COLDVSNA_ADD_RANGE"]
[null,null,null,null,"О",null,null,null,null,{"$f":"IF(LEN(I7)=0,\"\",VLOOKUP(I7,OKTMO_VS_TYPE_LIST,2,FALSE))","v":""},null,null,{"$f":"IF(TAX=\"\",\"\",TAX)","v":"да"},null,null,null,null,null,null,null,null,null,null,null,null,null,null,null,null,null,null,null,null,null,null,null,null,null,null,null,null,null,null,null,null,null,null,null,null,null,null,null,null,null,null,null,null,null,null,null,null,null,null,null,null,null,null,null,null,null,null,null,null,null,null,null,null,null,null,null,null,null,null,null,null,null,null,"a","a","a","a","a","a","a","a","a","a","a","a"]
[]
["LIST_MO_VOTV_ADD_RANGE"]
[null,null,null,null,"О",null,null,null,null,{"$f":"IF(LEN(I10)=0,\"\",VLOOKUP(I10,OKTMO_VS_TYPE_LIST,2,FALSE))","v":""},null,null,{"$f":"IF(TAX=\"\",\"\",TAX)","v":"да"},null,null,null,null,null,null,null,null,null,null,null,null,null,null,null,null,null,null,null,null,null,null,null,null,null,null,null,null,null,null,null,null,null,null,null,null,null,null,null,null,null,null,null,null,null,null,null,null,null,null,null,null,null,null,null,null,null,null,null,null,null,null,null,null,null,null,null,null,null,null,null,null,null,null,"a","a","a","a","a","a","a","a","a","a","a","a"]
[]
[]
["LIST_SRC_ADD_RANGE"]
[null,null,null,null,"О",null,null,null,null,null,null,null,null,null,null,null,{"$f":"ROW(P15)-ROW(P14)-1","v":0},{"$f":"F14 & \".0\"","v":".0"},{"$f":"SUM(BH14:BH15)","v":0},0,0,0,0,0,null,null,null,"0"]
[null,null,null,null,null,null,null,null,null,null,null,null,null,null,null,null,null,null,null,null,null,null,null,null,null,null,null,null,"Добавить объект"]
[]
[]
["LIST_SRC_ADD_OBJECT_RANGE"]
[null,null,null,null,null,null,null,null,null,null,null,null,null,null,null,null,null,null,null,null,null,null,null,null,null,"Изменить","О"]
[]
[]
["LIST_CNCSN_ADD_RANGE"]
[null,null,null,null,"О",null,null,null,null,null,null,null,null,null,null,null,{"$f":"COUNTIF(AA23:AA24,\"О\")","v":0},{"$f":"F23 & \".0\"","v":".0"},null,null,null,null,null,null,null,null,null,"0"]
[null,null,null,null,null,null,null,null,null,null,null,null,null,null,null,null,null,null,null,null,null,null,null,null,null,null,null,null,"Добавить"]
[]
["LIST_CNCSN_ADD_OBJECT_RANGE"]
[null,null,null,null,null,null,null,null,null,null,null,null,null,null,null,null,null,null,null,null,null,null,null,null,null,null,"О",null,"КС",null,null,null,null,"Найти",null,null,null,null,null,null,null,null,null,null,null,null,null,null,null,null,null,null,null,null,null,null,null,null,null,null,null,null,null,null,null,null,null,null,null,null,null,null,null,null,null,null,null,null,null,null,null,null,null,null,{"$f":"SUM(CH27,CM27,CQ27,CU27,CX27)","v":0},{"$f":"SUM(CI27:CL28)","v":0},null,null,null,null,{"$f":"SUM(CN27:CP28)","v":0},null,null,null,{"$f":"SUM(CR27:CT28)","v":0},null,null,null,{"$f":"SUM(CV27:CX28)","v":0},null,null,null,null,null,"0",null,null,null,null,null,null,null,null,null,{"$f":"SUM(DE27:DE28)","v":0},{"$f":"SUM(DF27:DF28)","v":0},{"$f":"IF(DK27=BM27,\"OK\",\"ALARM\")","v":"OK"},{"$f":"IF(DL27=CG27,\"OK\",\"ALARM\")","v":"OK"},{"$f":"IF(OR(AND(BG27<=0,COMPARE_DATES(AI27,\"01.01.2020\",\"<\")),AND(BG27>0,COMPARE_DATES(AI27,\"01.01.2020\",\">=\"))),\"ALARM\",\"OK\")","v":"ALARM"},{"$f":"IF(BM27<=0,\"ALARM\",\"OK\")","v":"ALARM"},{"$f":"IF(CG27<=0,\"ALARM\",\"OK\")","v":"ALARM"},{"$f":"IF(AU27<=0,\"ALARM\",\"OK\")","v":"ALARM"},{"$f":"IF(AU27<(BG27+CG27),\"ALARM\",\"OK\")","v":"OK"},{"$f":"IF(AU27<(BA27+CG27),\"ALARM\",\"OK\")","v":"OK"}]
[null,null,null,null,null,null,null,null,null,null,null,null,null,null,null,null,null,null,null,null,null,null,null,null,null,null,null,null,null,null,null,null,null,null,null,null,null,null,null,null,null,null,null,null,null,null,null,null,null,null,null,null,null,null,null,null,null,null,null,null,null,null,null,null,null,null,null,null,null,null,null,null,null,null,null,null,null,null,null,null,null,null,null,null,null,null,null,null,null,null,null,null,null,null,null,null,null,null,null,null,null,null,null,null,null,"Добавить ИП"]
[]
["LIST_CNCSN_ADD_SUBOBJECT_RANGE"]
[null,null,null,null,null,null,null,null,null,null,null,null,null,null,null,null,null,null,null,null,null,null,null,null,null,null,null,null,null,null,null,null,null,null,null,null,null,null,null,null,null,null,null,null,null,null,null,null,null,null,null,null,null,null,null,null,null,null,null,null,null,null,null,null,null,null,null,null,null,null,null,null,null,null,null,null,null,null,null,null,null,null,null,null,null,null,null,null,null,null,null,null,null,null,null,null,null,null,null,null,null,null,null,"О"]

{"sheet":"TECH_VERTICAL","index":9,"n_rows":3256,"n_cols":77,"rows_kept":3256,"cut":false,"hidden":true,"merged":[[2267,12,2268,12],[2267,13,2268,13],[2267,14,2268,14],[2267,28,2267,30],[2268,28,2268,30],[2929,61,2929,75],[2927,46,2927,60],[2928,46,2928,60],[2929,46,2929,60],[2269,46,2269,60],[2630,34,2630,48],[2270,61,2270,75],[2629,34,2629,48],[1,28,1,30],[18,28,18,30],[17,28,17,30],[20,28,20,30],[13,28,13,30],[20,34,20,48],[932,28,932,30],[931,28,931,30],[1972,28,1972,30],[924,28,924,30],[912,28,912,30],[928,28,928,30],[929,28,929,30],[930,28,930,30],[1970,28,1970,30],[1971,28,1971,30],[21,34,21,48],[931,46,931,60],[930,46,930,60],[932,46,932,60],[1954,28,1954,30],[18,12,19,12],[18,13,19,13],[18,14,19,14],[21,28,21,30],[19,28,19,30],[1971,12,1972,12],[929,12,930,12],[929,13,930,13],[1971,14,1972,14],[1971,13,1972,13],[929,14,930,14],[1966,28,1966,30],[2250,28,2250,30],[2266,28,2266,30],[2269,28,2269,30],[2626,28,2626,30],[1973,28,1973,30],[1974,28,1974,30],[2928,28,2928,30],[2929,28,2929,30],[2925,28,2925,30],[1973,34,1973,48],[2270,46,2270,60],[2628,28,2628,30],[1974,34,1974,48],[2268,46,2268,60],[2622,28,2622,30],[2610,28,2610,30],[2262,28,2262,30],[2270,28,2270,30],[2627,12,2628,12],[2627,28,2627,30],[2629,28,2629,30],[2928,76,2928,90],[2929,76,2929,90],[2927,76,2927,90],[2926,12,2927,12],[2926,13,2927,13],[2926,14,2927,14],[2926,28,2926,30],[2630,28,2630,30],[2909,28,2909,30],[2921,28,2921,30],[2627,13,2628,13],[2627,14,2628,14],[2927,28,2927,30],[2267,76,2267,90],[2268,76,2268,90],[2269,76,2269,90],[2270,76,2270,90],[2926,76,2926,90]]}
[]
[null,null,null,null,null,null,null,null,null,null,null,null,null,null,null,null,null,null,null,null,null,null,null,null,null,null,null,null,"HEAT_CALC_ADD_RANGE"]
[]
[]
[]
[null,null,null,null,null,null,null,null,null,null,null,null,null,null,null,null,null,null,null,null,null,null,null,null,null,null,null,null,12,6,6]
[]
[]
[null,null,null,null,null,null,null,null,null,null,null,null,null,null,null,null,null,null,null,null,null,null,null,null,null,null,null,null,"Y","I","II"]
[]
[]
[]
[null,null,null,null,null,null,null,null,null,null,null,null,null,null,null,null,null,null,null,null,null,null,null,null,null,null,null,null,"Год","I полугодие","II полугодие"]
[]
[null,null,null,null,null,null,null,null,null,null,null,null,null,null,null,null,null,null,null,null,null,null,null,null,null,null,null,null,{"$f":"AC17 & \"_\" & AC9","v":"0_Y"},{"$f":"AD17 & \"_\" & AD9","v":"0_I"},{"$f":"AE17 & \"_\" & AE9","v":"0_II"}]
[]
[null,null,null,null,null,null,null,null,null,null,null,null,null,null,null,null,null,null,null,null,null,null,null,null,null,null,null,null,{"$f":"AC19","v":0},{"$f":"AC19","v":0},{"$f":"AC19","v":0}]
[null,null,null,null,null,null,null,null,null,null,null,null,null,null,null,null,null,null,null,null,null,null,null,null,null,null,null,null,"Удалить"]
[null,null,null,null,null,null,null,null,null,null,null,null,"№ п/п","Наименование показателя","Единица измерения"]
[]
[null,null,null,null,null,null,null,null,null,null,null,null,null,"Является ли организация плательщиком НДС",null,null,null,null,null,null,null,null,null,null,null,null,null,null,null,null,null,null,null,null,"HEAT_CALC_EMPTY_BASE_RANGE"]
[null,null,null,null,null,null,null,null,null,null,null,null,null,null,null,null,null,null,null,null,null,null,null,null,null,null,null,null,null,null,null,null,null,null,"HEAT_CALC_SINGLE_BASE_RANGE"]
[]
[]
[]
[]
[]
[]
[]
[]
[]
[]
[]
[]
[]
[null,null,null,null,null,null,null,null,null,null,null,null,"4","Стоимость натурального топлива с учётом транспортировки (перевозки) (топливо на технологические цели)","тыс.руб.",null,null,null,null,null,null,null,null,null,null,null,null,null,null,null,null,{"$f":"Т!AF36","v":0},{"$f":"Т!AG36","v":0},{"$f":"Т!AH36","v":0}]
[null,null,null,null,null,null,null,null,null,null,null,null,"4.NG","Газ природный","тыс.руб.",null,null,null,null,null,null,null,null,null,null,null,null,null,null,null,null,{"$f":"Т!AF37","v":"NG"},{"$f":"Т!AG37","v":0},{"$f":"Т!AH37","v":0}]
[null,null,null,null,null,null,null,null,null,null,null,null,"4.NGL","Газ лимитный","тыс.руб.",null,null,null,null,null,null,null,null,null,null,null,null,null,null,null,null,{"$f":"Т!AF38","v":"NGL"},{"$f":"Т!AG38","v":0},{"$f":"Т!AH38","v":0}]
[null,null,null,null,null,null,null,null,null,null,null,null,"4.NGU","Газ сверхлимитный","тыс.руб.",null,null,null,null,null,null,null,null,null,null,null,null,null,null,null,null,{"$f":"Т!AF39","v":"NGU"},{"$f":"Т!AG39","v":0},{"$f":"Т!AH39","v":0}]
[null,null,null,null,null,null,null,null,null,null,null,null,"4.NGC","Газ коммерческий","тыс.руб.",null,null,null,null,null,null,null,null,null,null,null,null,null,null,null,null,{"$f":"Т!AF40","v":"NGC"},{"$f":"Т!AG40","v":0},{"$f":"Т!AH40","v":0}]
[null,null,null,null,null,null,null,null,null,null,null,null,"4.GBL","Газ доменный","тыс.руб.",null,null,null,null,null,null,null,null,null,null,null,null,null,null,null,null,{"$f":"Т!AF41","v":"GBL"},{"$f":"Т!AG41","v":0},{"$f":"Т!AH41","v":0}]
[null,null,null,null,null,null,null,null,null,null,null,null,"4.GCK","Газ коксовый","тыс.руб.",null,null,null,null,null,null,null,null,null,null,null,null,null,null,null,null,{"$f":"Т!AF42","v":"GCK"},{"$f":"Т!AG42","v":0},{"$f":"Т!AH42","v":0}]
[null,null,null,null,null,null,null,null,null,null,null,null,"4.GOA","Газ нефтяной (попутный)","тыс.руб.",null,null,null,null,null,null,null,null,null,null,null,null,null,null,null,null,{"$f":"Т!AF43","v":"GOA"},{"$f":"Т!AG43","v":0},{"$f":"Т!AH43","v":0}]
[null,null,null,null,null,null,null,null,null,null,null,null,"4.DSG","Газ сухой отбензиненный","тыс.руб.",null,null,null,null,null,null,null,null,null,null,null,null,null,null,null,null,{"$f":"Т!AF44","v":"DSG"},{"$f":"Т!AG44","v":0},{"$f":"Т!AH44","v":0}]
[null,null,null,null,null,null,null,null,null,null,null,null,"4.GCN","Газовый конденсат","тыс.руб.",null,null,null,null,null,null,null,null,null,null,null,null,null,null,null,null,{"$f":"Т!AF45","v":"GCN"},{"$f":"Т!AG45","v":0},{"$f":"Т!AH45","v":0}]
[null,null,null,null,null,null,null,null,null,null,null,null,"4.LNG","Газ сжиженный","тыс.руб.",null,null,null,null,null,null,null,null,null,null,null,null,null,null,null,null,{"$f":"Т!AF46","v":"LNG"},{"$f":"Т!AG46","v":0},{"$f":"Т!AH46","v":0}]
[null,null,null,null,null,null,null,null,null,null,null,null,"4.DSL","Дизельное топливо","тыс.руб.",null,null,null,null,null,null,null,null,null,null,null,null,null,null,null,null,{"$f":"Т!AF47","v":"DSL"},{"$f":"Т!AG47","v":0},{"$f":"Т!AH47","v":0}]
[null,null,null,null,null,null,null,null,null,null,null,null,"4.DSLA","А (арктическое)","тыс.руб.",null,null,null,null,null,null,null,null,null,null,null,null,null,null,null,null,{"$f":"Т!AF48","v":"DSLA"},{"$f":"Т!AG48","v":0},{"$f":"Т!AH48","v":0}]
[null,null,null,null,null,null,null,null,null,null,null,null,"4.DSLW","З (зимнее)","тыс.руб.",null,null,null,null,null,null,null,null,null,null,null,null,null,null,null,null,{"$f":"Т!AF49","v":"DSLW"},{"$f":"Т!AG49","v":0},{"$f":"Т!AH49","v":0}]
[null,null,null,null,null,null,null,null,null,null,null,null,"4.DSLS","Л (летнее)","тыс.руб.",null,null,null,null,null,null,null,null,null,null,null,null,null,null,null,null,{"$f":"Т!AF50","v":"DSLS"},{"$f":"Т!AG50","v":0},{"$f":"Т!AH50","v":0}]
[null,null,null,null,null,null,null,null,null,null,null,null,"4.DSLO","Е (межсезонное)","тыс.руб.",null,null,null,null,null,null,null,null,null,null,null,null,null,null,null,null,{"$f":"Т!AF51","v":"DSLO"},{"$f":"Т!AG51","v":0},{"$f":"Т!AH51","v":0}]
[null,null,null,null,null,null,null,null,null,null,null,null,"4.MST","Мазут","тыс.руб.",null,null,null,null,null,null,null,null,null,null,null,null,null,null,null,null,{"$f":"Т!AF52","v":"MST"},{"$f":"Т!AG52","v":0},{"$f":"Т!AH52","v":0}]
[null,null,null,null,null,null,null,null,null,null,null,null,"4.MSTM40","М-40","тыс.руб.",null,null,null,null,null,null,null,null,null,null,null,null,null,null,null,null,{"$f":"Т!AF53","v":"MSTM40"},{"$f":"Т!AG53","v":0},{"$f":"Т!AH53","v":0}]
[null,null,null,null,null,null,null,null,null,null,null,null,"4.MSTM100","М-100","тыс.руб.",null,null,null,null,null,null,null,null,null,null,null,null,null,null,null,null,{"$f":"Т!AF54","v":"MSTM100"},{"$f":"Т!AG54","v":0},{"$f":"Т!AH54","v":0}]
[null,null,null,null,null,null,null,null,null,null,null,null,"4.MSTM200","М-200","тыс.руб.",null,null,null,null,null,null,null,null,null,null,null,null,null,null,null,null,{"$f":"Т!AF55","v":"MSTM200"},{"$f":"Т!AG55","v":0},{"$f":"Т!AH55","v":0}]
[null,null,null,null,null,null,null,null,null,null,null,null,"4.MSTT","мазут марки \"Т\"","тыс.руб.",null,null,null,null,null,null,null,null,null,null,null,null,null,null,null,null,{"$f":"Т!AF56","v":"MSTT"},{"$f":"Т!AG56","v":0},{"$f":"Т!AH56","v":0}]
[null,null,null,null,null,null,null,null,null,null,null,null,"4.MSTF5","Ф-5","тыс.руб.",null,null,null,null,null,null,null,null,null,null,null,null,null,null,null,null,{"$f":"Т!AF57","v":"MSTF5"},{"$f":"Т!AG57","v":0},{"$f":"Т!AH57","v":0}]
[null,null,null,null,null,null,null,null,null,null,null,null,"4.MSTF12","Ф-12","тыс.руб.",null,null,null,null,null,null,null,null,null,null,null,null,null,null,null,null,{"$f":"Т!AF58","v":"MSTF12"},{"$f":"Т!AG58","v":0},{"$f":"Т!AH58","v":0}]
[null,null,null,null,null,null,null,null,null,null,null,null,"4.OIL","Нефть","тыс.руб.",null,null,null,null,null,null,null,null,null,null,null,null,null,null,null,null,{"$f":"Т!AF59","v":"OIL"},{"$f":"Т!AG59","v":0},{"$f":"Т!AH59","v":0}]
[null,null,null,null,null,null,null,null,null,null,null,null,"4.COA","Уголь","тыс.руб.",null,null,null,null,null,null,null,null,null,null,null,null,null,null,null,null,{"$f":"Т!AF60","v":"COA"},{"$f":"Т!AG60","v":0},{"$f":"Т!AH60","v":0}]
[null,null,null,null,null,null,null,null,null,null,null,null,"4.COAA","Уголь антрацит","тыс.руб.",null,null,null,null,null,null,null,null,null,null,null,null,null,null,null,null,{"$f":"Т!AF61","v":"COAA"},{"$f":"Т!AG61","v":0},{"$f":"Т!AH61","v":0}]
[null,null,null,null,null,null,null,null,null,null,null,null,"4.COAB","Уголь бурый","тыс.руб.",null,null,null,null,null,null,null,null,null,null,null,null,null,null,null,null,{"$f":"Т!AF62","v":"COAB"},{"$f":"Т!AG62","v":0},{"$f":"Т!AH62","v":0}]
[null,null,null,null,null,null,null,null,null,null,null,null,"4.COAG","Уголь газовый","тыс.руб.",null,null,null,null,null,null,null,null,null,null,null,null,null,null,null,null,{"$f":"Т!AF63","v":"COAG"},{"$f":"Т!AG63","v":0},{"$f":"Т!AH63","v":0}]
[null,null,null,null,null,null,null,null,null,null,null,null,"4.COALF","Уголь длиннопламенный","тыс.руб.",null,null,null,null,null,null,null,null,null,null,null,null,null,null,null,null,{"$f":"Т!AF64","v":"COALF"},{"$f":"Т!AG64","v":0},{"$f":"Т!AH64","v":0}]
[null,null,null,null,null,null,null,null,null,null,null,null,"4.COAF","Уголь жирный","тыс.руб.",null,null,null,null,null,null,null,null,null,null,null,null,null,null,null,null,{"$f":"Т!AF65","v":"COAF"},{"$f":"Т!AG65","v":0},{"$f":"Т!AH65","v":0}]
[null,null,null,null,null,null,null,null,null,null,null,null,"4.COAC","Уголь коксовый","тыс.руб.",null,null,null,null,null,null,null,null,null,null,null,null,null,null,null,null,{"$f":"Т!AF66","v":"COAC"},{"$f":"Т!AG66","v":0},{"$f":"Т!AH66","v":0}]
[null,null,null,null,null,null,null,null,null,null,null,null,"4.COASC","Уголь отощённо-спекающийся","тыс.руб.",null,null,null,null,null,null,null,null,null,null,null,null,null,null,null,null,{"$f":"Т!AF67","v":"COASC"},{"$f":"Т!AG67","v":0},{"$f":"Т!AH67","v":0}]
[null,null,null,null,null,null,null,null,null,null,null,null,"4.COAWC","Уголь слабоспекающийся","тыс.руб.",null,null,null,null,null,null,null,null,null,null,null,null,null,null,null,null,{"$f":"Т!AF68","v":"COAWC"},{"$f":"Т!AG68","v":0},{"$f":"Т!AH68","v":0}]
[null,null,null,null,null,null,null,null,null,null,null,null,"4.COAS","Уголь тощий","тыс.руб.",null,null,null,null,null,null,null,null,null,null,null,null,null,null,null,null,{"$f":"Т!AF69","v":"COAS"},{"$f":"Т!AG69","v":0},{"$f":"Т!AH69","v":0}]
[null,null,null,null,null,null,null,null,null,null,null,null,"4.ENR","Энергия","тыс.руб.",null,null,null,null,null,null,null,null,null,null,null,null,null,null,null,null,{"$f":"Т!AF70","v":"ENR"},{"$f":"Т!AG70","v":0},{"$f":"Т!AH70","v":0}]
[null,null,null,null,null,null,null,null,null,null,null,null,"4.PWR","Заявленная мощность","тыс.руб.",null,null,null,null,null,null,null,null,null,null,null,null,null,null,null,null,{"$f":"Т!AF71","v":"PWR"},{"$f":"Т!AG71","v":0},{"$f":"Т!AH71","v":0}]
[null,null,null,null,null,null,null,null,null,null,null,null,"4.CWD","Уголь древесный","тыс.руб.",null,null,null,null,null,null,null,null,null,null,null,null,null,null,null,null,{"$f":"Т!AF72","v":"CWD"},{"$f":"Т!AG72","v":0},{"$f":"Т!AH72","v":0}]
[null,null,null,null,null,null,null,null,null,null,null,null,"4.WDS","Дрова","тыс.руб.",null,null,null,null,null,null,null,null,null,null,null,null,null,null,null,null,{"$f":"Т!AF73","v":"WDS"},{"$f":"Т!AG73","v":0},{"$f":"Т!AH73","v":0}]
[null,null,null,null,null,null,null,null,null,null,null,null,"4.PLT","Пеллеты","тыс.руб.",null,null,null,null,null,null,null,null,null,null,null,null,null,null,null,null,{"$f":"Т!AF74","v":"PLT"},{"$f":"Т!AG74","v":0},{"$f":"Т!AH74","v":0}]
[null,null,null,null,null,null,null,null,null,null,null,null,"4.SAW","Опилки","тыс.руб.",null,null,null,null,null,null,null,null,null,null,null,null,null,null,null,null,{"$f":"Т!AF75","v":"SAW"},{"$f":"Т!AG75","v":0},{"$f":"Т!AH75","v":0}]
[null,null,null,null,null,null,null,null,null,null,null,null,"4.PEA","Торф","тыс.руб.",null,null,null,null,null,null,null,null,null,null,null,null,null,null,null,null,{"$f":"Т!AF76","v":"PEA"},{"$f":"Т!AG76","v":0},{"$f":"Т!AH76","v":0}]
[null,null,null,null,null,null,null,null,null,null,null,null,"4.SHL","Сланцы","тыс.руб.",null,null,null,null,null,null,null,null,null,null,null,null,null,null,null,null,{"$f":"Т!AF77","v":"SHL"},{"$f":"Т!AG77","v":0},{"$f":"Т!AH77","v":0}]
[null,null,null,null,null,null,null,null,null,null,null,null,"4.STF","Печное бытовое топливо","тыс.руб.",null,null,null,null,null,null,null,null,null,null,null,null,null,null,null,null,{"$f":"Т!AF78","v":"STF"},{"$f":"Т!AG78","v":0},{"$f":"Т!AH78","v":0}]
[null,null,null,null,null,null,null,null,null,null,null,null,"4.OTH","Прочие виды топлива","тыс.руб.",null,null,null,null,null,null,null,null,null,null,null,null,null,null,null,null,{"$f":"Т!AF79","v":"OTH"},{"$f":"Т!AG79","v":0},{"$f":"Т!AH79","v":0}]
[]
[]
[]
[]
[]
[]
[]
[]
[]
[]
[null,null,null,null,null,null,null,null,null,null,null,null,"5","Энергия, в том числе ","тыс.руб.",null,null,null,null,null,null,null,null,null,null,null,null,null,null,null,null,{"$f":"SUM(AF91,AF154)","v":0},{"$f":"SUM(AG91,AG154)","v":0},{"$f":"SUM(AH91,AH154)","v":0}]
[null,null,null,null,null,null,null,null,null,null,null,null,"5.1","энергия (покупная энергия) на технологические цели ","тыс.руб.",null,null,null,null,null,null,null,null,null,null,null,null,null,null,null,null,{"$f":"SUM(AF92,AF126,AF127)","v":0},{"$f":"SUM(AG92,AG126,AG127)","v":0},{"$f":"SUM(AH92,AH126,AH127)","v":0}]
[null,null,null,null,null,null,null,null,null,null,null,null,"5.1.1","затраты на покупную тепловую энергию ","тыс.руб.",null,null,null,null,null,null,null,null,null,null,null,null,null,null,null,null,{"$f":"SUM(AF93,AF109)","v":0},{"$f":"SUM(AG93,AG109)","v":0},{"$f":"SUM(AH93,AH109)","v":0}]
[null,null,null,null,null,null,null,null,null,null,null,null,{"$f":"M92 & \".1\"","v":"5.1.1.1"},"С коллекторов, всего","тыс.руб.",null,null,null,null,null,null,null,null,null,null,null,null,null,null,null,null,{"$f":"SUM(AF94,AF98,AF102)","v":0},{"$f":"SUM(AG94,AG98,AG102)","v":0},{"$f":"SUM(AH94,AH98,AH102)","v":0}]
[null,null,null,null,null,null,null,null,null,null,null,null,{"$f":"M92 & \".1.1\"","v":"5.1.1.1.1"},"от станций с мощностью производства >= 25 МВт","тыс.руб.",null,null,null,null,null,null,null,null,null,null,null,null,null,null,null,null,{"$f":"AG94+AH94","v":0}]
[null,null,null,null,null,null,null,null,null,null,null,null,{"$f":"M92 & \".1.1.0.1\"","v":"5.1.1.1.1.0.1"},"объём ТЭ","тыс. Гкал",null,null,null,null,null,null,null,null,null,null,null,null,null,null,null,null,{"$f":"AG95+AH95","v":0}]
[null,null,null,null,null,null,null,null,null,null,null,null,{"$f":"M92 & \".1.1.0.2\"","v":"5.1.1.1.1.0.2"},"цена ТЭ","руб./Гкал",null,null,null,null,null,null,null,null,null,null,null,null,null,null,null,null,{"$f":"IF(AF95=0,0,AF94/AF95)","v":0},{"$f":"IF(AG95=0,0,AG94/AG95)","v":0},{"$f":"IF(AH95=0,0,AH94/AH95)","v":0}]
[]
[null,null,null,null,null,null,null,null,null,null,null,null,{"$f":"M92 & \".1.2\"","v":"5.1.1.1.2"},"от станций с мощностью производства < 25 МВт","тыс.руб.",null,null,null,null,null,null,null,null,null,null,null,null,null,null,null,null,{"$f":"AG98+AH98","v":0}]
[null,null,null,null,null,null,null,null,null,null,null,null,{"$f":"M92 & \".1.2.0.1\"","v":"5.1.1.1.2.0.1"},"объём ТЭ","тыс. Гкал",null,null,null,null,null,null,null,null,null,null,null,null,null,null,null,null,{"$f":"AG99+AH99","v":0}]
[null,null,null,null,null,null,null,null,null,null,null,null,{"$f":"M92 & \".1.2.0.2\"","v":"5.1.1.1.2.0.2"},"цена ТЭ","руб./Гкал",null,null,null,null,null,null,null,null,null,null,null,null,null,null,null,null,{"$f":"IF(AF99=0,0,AF98/AF99)","v":0},{"$f":"IF(AG99=0,0,AG98/AG99)","v":0},{"$f":"IF(AH99=0,0,AH98/AH99)","v":0}]
[]
[null,null,null,null,null,null,null,null,null,null,null,null,{"$f":"M92 & \".1.3\"","v":"5.1.1.1.3"},"от котельных","тыс.руб.",null,null,null,null,null,null,null,null,null,null,null,null,null,null,null,null,{"$f":"AG102+AH102","v":0}]
[null,null,null,null,null,null,null,null,null,null,null,null,{"$f":"M92 & \".1.3.0.1\"","v":"5.1.1.1.3.0.1"},"объём ТЭ","тыс. Гкал",null,null,null,null,null,null,null,null,null,null,null,null,null,null,null,null,{"$f":"AG103+AH103","v":0}]
[null,null,null,null,null,null,null,null,null,null,null,null,{"$f":"M92 & \".1.3.0.2\"","v":"5.1.1.1.3.0.2"},"цена ТЭ","руб./Гкал",null,null,null,null,null,null,null,null,null,null,null,null,null,null,null,null,{"$f":"IF(AF103=0,0,AF102/AF103)","v":0},{"$f":"IF(AG103=0,0,AG102/AG103)","v":0},{"$f":"IF(AH103=0,0,AH102/AH103)","v":0}]
[null,null,null,null,null,null,null,null,null,null,null,null,{"$f":"M92 & \".2\"","v":"5.1.1.2"},"в том числе покупка потерь с коллекторов","тыс.руб.",null,null,null,null,null,null,null,null,null,null,null,null,null,null,null,null,{"$f":"SUM(AF106:AF108)","v":0},{"$f":"SUM(AG106:AG108)","v":0},{"$f":"SUM(AH106:AH108)","v":0}]
[null,null,null,null,null,null,null,null,null,null,null,null,{"$f":"M92 & \".2.1\"","v":"5.1.1.2.1"},"от станций с мощностью производства >= 25 МВт","тыс.руб.",null,null,null,null,null,null,null,null,null,null,null,null,null,null,null,null,{"$f":"AG106+AH106","v":0}]
[null,null,null,null,null,null,null,null,null,null,null,null,{"$f":"M92 & \".2.2\"","v":"5.1.1.2.2"},"от станций с мощностью производства < 25 МВт","тыс.руб.",null,null,null,null,null,null,null,null,null,null,null,null,null,null,null,null,{"$f":"AG107+AH107","v":0}]
[null,null,null,null,null,null,null,null,null,null,null,null,{"$f":"M92 & \".2.3\"","v":"5.1.1.2.3"},"от котельных","тыс.руб."]
[null,null,null,null,null,null,null,null,null,null,null,null,{"$f":"M92 & \".3\"","v":"5.1.1.3"},"Из тепловой сети, всего","тыс.руб.",null,null,null,null,null,null,null,null,null,null,null,null,null,null,null,null,{"$f":"SUM(AF110,AF114,AF118)","v":0},{"$f":"SUM(AG110,AG114,AG118)","v":0},{"$f":"SUM(AH110,AH114,AH118)","v":0}]
[null,null,null,null,null,null,null,null,null,null,null,null,{"$f":"M92 & \".3.1\"","v":"5.1.1.3.1"},"от станций с мощностью производства >= 25 МВт","тыс.руб.",null,null,null,null,null,null,null,null,null,null,null,null,null,null,null,null,{"$f":"AG110+AH110","v":0}]
[null,null,null,null,null,null,null,null,null,null,null,null,{"$f":"M92 & \".3.1.0.1\"","v":"5.1.1.3.1.0.1"},"объём ТЭ","тыс. Гкал",null,null,null,null,null,null,null,null,null,null,null,null,null,null,null,null,{"$f":"AG111+AH111","v":0}]
[null,null,null,null,null,null,null,null,null,null,null,null,{"$f":"M92 & \".3.1.0.2\"","v":"5.1.1.3.1.0.2"},"цена ТЭ","руб./Гкал",null,null,null,null,null,null,null,null,null,null,null,null,null,null,null,null,{"$f":"IF(AF111=0,0,AF110/AF111)","v":0},{"$f":"IF(AG111=0,0,AG110/AG111)","v":0},{"$f":"IF(AH111=0,0,AH110/AH111)","v":0}]
[]
[null,null,null,null,null,null,null,null,null,null,null,null,{"$f":"M92 & \".3.2\"","v":"5.1.1.3.2"},"от станций с мощностью производства < 25 МВт","тыс.руб.",null,null,null,null,null,null,null,null,null,null,null,null,null,null,null,null,{"$f":"AG114+AH114","v":0}]
[null,null,null,null,null,null,null,null,null,null,null,null,{"$f":"M92 & \".3.2.0.1\"","v":"5.1.1.3.2.0.1"},"объём ТЭ","тыс. Гкал",null,null,null,null,null,null,null,null,null,null,null,null,null,null,null,null,{"$f":"AG115+AH115","v":0}]
[null,null,null,null,null,null,null,null,null,null,null,null,{"$f":"M92 & \".3.2.0.2\"","v":"5.1.1.3.2.0.2"},"цена ТЭ","руб./Гкал",null,null,null,null,null,null,null,null,null,null,null,null,null,null,null,null,{"$f":"IF(AF115=0,0,AF114/AF115)","v":0},{"$f":"IF(AG115=0,0,AG114/AG115)","v":0},{"$f":"IF(AH115=0,0,AH114/AH115)","v":0}]
[]
[null,null,null,null,null,null,null,null,null,null,null,null,{"$f":"M92 & \".3.3\"","v":"5.1.1.3.3"},"от котельных (некомбинированная выработка)","тыс.руб.",null,null,null,null,null,null,null,null,null,null,null,null,null,null,null,null,{"$f":"AG118+AH118","v":0}]
[null,null,null,null,null,null,null,null,null,null,null,null,{"$f":"M92 & \".3.3.0.1\"","v":"5.1.1.3.3.0.1"},"объём ТЭ","тыс. Гкал",null,null,null,null,null,null,null,null,null,null,null,null,null,null,null,null,{"$f":"AG119+AH119","v":0}]
[null,null,null,null,null,null,null,null,null,null,null,null,{"$f":"M92 & \".3.3.0.2\"","v":"5.1.1.3.3.0.2"},"цена ТЭ","руб./Гкал",null,null,null,null,null,null,null,null,null,null,null,null,null,null,null,null,{"$f":"IF(AF119=0,0,AF118/AF119)","v":0},{"$f":"IF(AG119=0,0,AG118/AG119)","v":0},{"$f":"IF(AH119=0,0,AH118/AH119)","v":0}]
[]
[null,null,null,null,null,null,null,null,null,null,null,null,{"$f":"M92 & \".4\"","v":"5.1.1.4"},"в том числе покупка потерь из тепловой сети","тыс.руб.",null,null,null,null,null,null,null,null,null,null,null,null,null,null,null,null,{"$f":"SUM(AF123:AF125)","v":0},{"$f":"SUM(AG123:AG125)","v":0},{"$f":"SUM(AH123:AH125)","v":0}]
[null,null,null,null,null,null,null,null,null,null,null,null,{"$f":"M92 & \".4.1\"","v":"5.1.1.4.1"},"от станций с мощностью производства >= 25 МВт","тыс.руб.",null,null,null,null,null,null,null,null,null,null,null,null,null,null,null,null,{"$f":"AG123+AH123","v":0}]
[null,null,null,null,null,null,null,null,null,null,null,null,{"$f":"M92 & \".4.2\"","v":"5.1.1.4.2"},"от станций с мощностью производства < 25 МВт","тыс.руб.",null,null,null,null,null,null,null,null,null,null,null,null,null,null,null,null,0]
[null,null,null,null,null,null,null,null,null,null,null,null,{"$f":"M92 & \".4.3\"","v":"5.1.1.4.3"},"от котельных (некомбинированная выработка)","тыс.руб.",null,null,null,null,null,null,null,null,null,null,null,null,null,null,null,null,0]
[null,null,null,null,null,null,null,null,null,null,null,null,"5.1.2","затраты на оплату услуг по передаче тепловой энергии","тыс.руб.",null,null,null,null,null,null,null,null,null,null,null,null,null,null,null,null,0]
[null,null,null,null,null,null,null,null,null,null,null,null,"5.1.3","затраты на покупную электрическую энергию, по уровням напряжения:","тыс.руб.",null,null,null,null,null,null,null,null,null,null,null,null,null,null,null,null,0,{"$f":"SUM(AG130,AG133,AG136,AG139,AG142,AG145,AG148,AG151)","v":0},{"$f":"SUM(AH130,AH133,AH136,AH139,AH142,AH145,AH148,AH151)","v":0}]
[null,null,null,null,null,null,null,null,null,null,null,null,"5.1.3.0.1","объём энергии","тыс.кВт*ч",null,null,null,null,null,null,null,null,null,null,null,null,null,null,null,null,0,{"$f":"AG132+AG138+AG144+AG150","v":0},{"$f":"AH132+AH138+AH144+AH150","v":0}]
[null,null,null,null,null,null,null,null,null,null,null,null,"5.1.3.0.2","объём заявленной мощности","МВт",null,null,null,null,null,null,null,null,null,null,null,null,null,null,null,null,0,{"$f":"AG135+AG141+AG147+AG153","v":0},{"$f":"AH135+AH141+AH147+AH153","v":0}]
[null,null,null,null,null,null,null,null,null,null,null,null,"5.1.3.1.1","энергия НН (0,4 кВ и ниже)","тыс.руб.",null,null,null,null,null,null,null,null,null,null,null,null,null,null,null,null,0,{"$f":"AG131*AG132","v":0},{"$f":"AH131*AH132","v":0}]
[null,null,null,null,null,null,null,null,null,null,null,null,"5.1.3.1.1.1","тариф на энергию","руб./кВт*ч",null,null,null,null,null,null,null,null,null,null,null,null,null,null,null,null,{"$f":"IF(AF132=0,0,AF130/AF132)","v":0}]
[null,null,null,null,null,null,null,null,null,null,null,null,"5.1.3.1.1.2","объём энергии","тыс.кВт*ч",null,null,null,null,null,null,null,null,null,null,null,null,null,null,null,null,{"$f":"AG132+AH132","v":0}]
[null,null,null,null,null,null,null,null,null,null,null,null,"5.1.3.1.2","заявленная мощность по НН (0,4 кВ и ниже)","тыс.руб.",null,null,null,null,null,null,null,null,null,null,null,null,null,null,null,null,{"$f":"AG133+AH133","v":0},{"$f":"AG134*AG135","v":0},{"$f":"AH134*AH135","v":0}]
[null,null,null,null,null,null,null,null,null,null,null,null,"5.1.3.1.2.1","тариф на заявленную мощность","руб./кВт*мес",null,null,null,null,null,null,null,null,null,null,null,null,null,null,null,null,{"$f":"IF(AF135=0,0,AF133/AF135)","v":0}]
[null,null,null,null,null,null,null,null,null,null,null,null,"5.1.3.1.2.2","годовой объём мощности","МВт",null,null,null,null,null,null,null,null,null,null,null,null,null,null,null,null,{"$f":"AG135+AH135","v":0}]
[null,null,null,null,null,null,null,null,null,null,null,null,"5.1.3.2.1","энергия СН 2 (1-20 кВ)","тыс.руб.",null,null,null,null,null,null,null,null,null,null,null,null,null,null,null,null,{"$f":"AG136+AH136","v":0},{"$f":"AG137*AG138","v":0},{"$f":"AH137*AH138","v":0}]
[null,null,null,null,null,null,null,null,null,null,null,null,"5.1.3.2.1.1","тариф на энергию","руб./кВт*ч",null,null,null,null,null,null,null,null,null,null,null,null,null,null,null,null,{"$f":"IF(AF138=0,0,AF136/AF138)","v":0}]
[null,null,null,null,null,null,null,null,null,null,null,null,"5.1.3.2.1.2","объём энергии","тыс.кВт*ч",null,null,null,null,null,null,null,null,null,null,null,null,null,null,null,null,{"$f":"AG138+AH138","v":0}]
[null,null,null,null,null,null,null,null,null,null,null,null,"5.1.3.2.2","заявленная мощность по СН 2 (1-20 кВ)","тыс.руб.",null,null,null,null,null,null,null,null,null,null,null,null,null,null,null,null,{"$f":"AG139+AH139","v":0},{"$f":"AG140*AG141","v":0},{"$f":"AH140*AH141","v":0}]
[null,null,null,null,null,null,null,null,null,null,null,null,"5.1.3.2.2.1","тариф на заявленную мощность","руб./кВт*мес",null,null,null,null,null,null,null,null,null,null,null,null,null,null,null,null,{"$f":"IF(AF141=0,0,AF139/AF141)","v":0}]
[null,null,null,null,null,null,null,null,null,null,null,null,"5.1.3.2.2.2","годовой объём мощности","МВт",null,null,null,null,null,null,null,null,null,null,null,null,null,null,null,null,{"$f":"AG141+AH141","v":0}]
[null,null,null,null,null,null,null,null,null,null,null,null,"5.1.3.3.1","энергия СН 1 (35 кВ)","тыс.руб.",null,null,null,null,null,null,null,null,null,null,null,null,null,null,null,null,{"$f":"AG142+AH142","v":0},{"$f":"AG143*AG144","v":0},{"$f":"AH143*AH144","v":0}]
[null,null,null,null,null,null,null,null,null,null,null,null,"5.1.3.3.1.1","тариф на энергию","руб./кВт*ч",null,null,null,null,null,null,null,null,null,null,null,null,null,null,null,null,{"$f":"IF(AF144=0,0,AF142/AF144)","v":0}]
[null,null,null,null,null,null,null,null,null,null,null,null,"5.1.3.3.1.2","объём энергии","тыс.кВт*ч",null,null,null,null,null,null,null,null,null,null,null,null,null,null,null,null,{"$f":"AG144+AH144","v":0}]
[null,null,null,null,null,null,null,null,null,null,null,null,"5.1.3.3.2","заявленная мощность по СН 1 (35 кВ)","тыс.руб.",null,null,null,null,null,null,null,null,null,null,null,null,null,null,null,null,{"$f":"AG145+AH145","v":0},{"$f":"AG146*AG147","v":0},{"$f":"AH146*AH147","v":0}]
[null,null,null,null,null,null,null,null,null,null,null,null,"5.1.3.3.2.1","тариф на заявленную мощность","руб./кВт*мес",null,null,null,null,null,null,null,null,null,null,null,null,null,null,null,null,{"$f":"IF(AF147=0,0,AF145/AF147)","v":0}]
[null,null,null,null,null,null,null,null,null,null,null,null,"5.1.3.3.2.2","годовой объём мощности","МВт",null,null,null,null,null,null,null,null,null,null,null,null,null,null,null,null,{"$f":"AG147+AH147","v":0}]
[null,null,null,null,null,null,null,null,null,null,null,null,"5.1.3.4.1","энергия ВН (110 кВ и выше)","тыс.руб.",null,null,null,null,null,null,null,null,null,null,null,null,null,null,null,null,{"$f":"AG148+AH148","v":0},{"$f":"AG149*AG150","v":0},{"$f":"AH149*AH150","v":0}]
[null,null,null,null,null,null,null,null,null,null,null,null,"5.1.3.4.1.1","тариф на энергию","руб./кВт*ч",null,null,null,null,null,null,null,null,null,null,null,null,null,null,null,null,{"$f":"IF(AF150=0,0,AF148/AF150)","v":0}]
[null,null,null,null,null,null,null,null,null,null,null,null,"5.1.3.4.1.2","объём энергии","тыс.кВт*ч",null,null,null,null,null,null,null,null,null,null,null,null,null,null,null,null,{"$f":"AG150+AH150","v":0}]
[null,null,null,null,null,null,null,null,null,null,null,null,"5.1.3.4.2","заявленная мощность по ВН (110 кВ и выше)","тыс.руб.",null,null,null,null,null,null,null,null,null,null,null,null,null,null,null,null,{"$f":"AG151+AH151","v":0},{"$f":"AG152*AG153","v":0},{"$f":"AH152*AH153","v":0}]
[null,null,null,null,null,null,null,null,null,null,null,null,"5.1.3.4.2.1","тариф на заявленную мощность","руб./кВт*мес",null,null,null,null,null,null,null,null,null,null,null,null,null,null,null,null,{"$f":"IF(AF153=0,0,AF151/AF153)","v":0}]
[null,null,null,null,null,null,null,null,null,null,null,null,"5.1.3.4.2.2","годовой объём мощности","МВт",null,null,null,null,null,null,null,null,null,null,null,null,null,null,null,null,{"$f":"AG153+AH153","v":0}]
[null,null,null,null,null,null,null,null,null,null,null,null,"5.2","энергия на хозяйственные нужды ","тыс.руб.",null,null,null,null,null,null,null,null,null,null,null,null,null,null,null,null,{"$f":"SUM(AF155,AF189)","v":0},{"$f":"SUM(AG155,AG189)","v":0},{"$f":"SUM(AH155,AH189)","v":0}]
[null,null,null,null,null,null,null,null,null,null,null,null,"5.2.1","тепловая энергия ","тыс.руб.",null,null,null,null,null,null,null,null,null,null,null,null,null,null,null,null,{"$f":"SUM(AF156,AF172)","v":0},{"$f":"SUM(AG156,AG172)","v":0},{"$f":"SUM(AH156,AH172)","v":0}]
[null,null,null,null,null,null,null,null,null,null,null,null,{"$f":"M155 & \".1\"","v":"5.2.1.1"},"С коллекторов, всего","тыс.руб.",null,null,null,null,null,null,null,null,null,null,null,null,null,null,null,null,{"$f":"SUM(AF157,AF161,AF165)","v":0},{"$f":"SUM(AG157,AG161,AG165)","v":0},{"$f":"SUM(AH157,AH161,AH165)","v":0}]
[null,null,null,null,null,null,null,null,null,null,null,null,{"$f":"M155 & \".1.1\"","v":"5.2.1.1.1"},"от станций с мощностью производства >= 25 МВт","тыс.руб.",null,null,null,null,null,null,null,null,null,null,null,null,null,null,null,null,{"$f":"AG157+AH157","v":0}]
[null,null,null,null,null,null,null,null,null,null,null,null,{"$f":"M155 & \".1.1.0.1\"","v":"5.2.1.1.1.0.1"},"объём ТЭ","тыс. Гкал",null,null,null,null,null,null,null,null,null,null,null,null,null,null,null,null,{"$f":"AG158+AH158","v":0}]
[null,null,null,null,null,null,null,null,null,null,null,null,{"$f":"M155 & \".1.1.0.2\"","v":"5.2.1.1.1.0.2"},"цена ТЭ","руб./Гкал",null,null,null,null,null,null,null,null,null,null,null,null,null,null,null,null,{"$f":"IF(AF158=0,0,AF157/AF158)","v":0},{"$f":"IF(AG158=0,0,AG157/AG158)","v":0},{"$f":"IF(AH158=0,0,AH157/AH158)","v":0}]
[]
[null,null,null,null,null,null,null,null,null,null,null,null,{"$f":"M155 & \".1.2\"","v":"5.2.1.1.2"},"от станций с мощностью производства < 25 МВт","тыс.руб.",null,null,null,null,null,null,null,null,null,null,null,null,null,null,null,null,{"$f":"AG161+AH161","v":0}]
[null,null,null,null,null,null,null,null,null,null,null,null,{"$f":"M155 & \".1.2.0.1\"","v":"5.2.1.1.2.0.1"},"объём ТЭ","тыс. Гкал",null,null,null,null,null,null,null,null,null,null,null,null,null,null,null,null,{"$f":"AG162+AH162","v":0}]
[null,null,null,null,null,null,null,null,null,null,null,null,{"$f":"M155 & \".1.2.0.2\"","v":"5.2.1.1.2.0.2"},"цена ТЭ","руб./Гкал",null,null,null,null,null,null,null,null,null,null,null,null,null,null,null,null,{"$f":"IF(AF162=0,0,AF161/AF162)","v":0},{"$f":"IF(AG162=0,0,AG161/AG162)","v":0},{"$f":"IF(AH162=0,0,AH161/AH162)","v":0}]
[]
[null,null,null,null,null,null,null,null,null,null,null,null,{"$f":"M155 & \".1.3\"","v":"5.2.1.1.3"},"от котельных","тыс.руб.",null,null,null,null,null,null,null,null,null,null,null,null,null,null,null,null,{"$f":"AG165+AH165","v":0}]
[null,null,null,null,null,null,null,null,null,null,null,null,{"$f":"M155 & \".1.3.0.1\"","v":"5.2.1.1.3.0.1"},"объём ТЭ","тыс. Гкал",null,null,null,null,null,null,null,null,null,null,null,null,null,null,null,null,{"$f":"AG166+AH166","v":0}]
[null,null,null,null,null,null,null,null,null,null,null,null,{"$f":"M155 & \".1.3.0.2\"","v":"5.2.1.1.3.0.2"},"цена ТЭ","руб./Гкал",null,null,null,null,null,null,null,null,null,null,null,null,null,null,null,null,{"$f":"IF(AF166=0,0,AF165/AF166)","v":0},{"$f":"IF(AG166=0,0,AG165/AG166)","v":0},{"$f":"IF(AH166=0,0,AH165/AH166)","v":0}]
[null,null,null,null,null,null,null,null,null,null,null,null,{"$f":"M155 & \".2\"","v":"5.2.1.2"},"в том числе покупка потерь с коллекторов","тыс.руб.",null,null,null,null,null,null,null,null,null,null,null,null,null,null,null,null,{"$f":"SUM(AF169:AF171)","v":0},{"$f":"SUM(AG169:AG171)","v":0},{"$f":"SUM(AH169:AH171)","v":0}]
[null,null,null,null,null,null,null,null,null,null,null,null,{"$f":"M155 & \".2.1\"","v":"5.2.1.2.1"},"от станций с мощностью производства >= 25 МВт","тыс.руб.",null,null,null,null,null,null,null,null,null,null,null,null,null,null,null,null,{"$f":"AG169+AH169","v":0}]
[null,null,null,null,null,null,null,null,null,null,null,null,{"$f":"M155 & \".2.2\"","v":"5.2.1.2.2"},"от станций с мощностью производства < 25 МВт","тыс.руб.",null,null,null,null,null,null,null,null,null,null,null,null,null,null,null,null,{"$f":"AG170+AH170","v":0}]
[null,null,null,null,null,null,null,null,null,null,null,null,{"$f":"M155 & \".2.3\"","v":"5.2.1.2.3"},"от котельных","тыс.руб."]
[null,null,null,null,null,null,null,null,null,null,null,null,{"$f":"M155 & \".3\"","v":"5.2.1.3"},"Из тепловой сети, всего","тыс.руб.",null,null,null,null,null,null,null,null,null,null,null,null,null,null,null,null,{"$f":"SUM(AF173,AF177,AF181)","v":0},{"$f":"SUM(AG173,AG177,AG181)","v":0},{"$f":"SUM(AH173,AH177,AH181)","v":0}]
[null,null,null,null,null,null,null,null,null,null,null,null,{"$f":"M155 & \".3.1\"","v":"5.2.1.3.1"},"от станций с мощностью производства >= 25 МВт","тыс.руб.",null,null,null,null,null,null,null,null,null,null,null,null,null,null,null,null,{"$f":"AG173+AH173","v":0}]
[null,null,null,null,null,null,null,null,null,null,null,null,{"$f":"M155 & \".3.1.0.1\"","v":"5.2.1.3.1.0.1"},"объём ТЭ","тыс. Гкал",null,null,null,null,null,null,null,null,null,null,null,null,null,null,null,null,{"$f":"AG174+AH174","v":0}]
[null,null,null,null,null,null,null,null,null,null,null,null,{"$f":"M155 & \".3.1.0.2\"","v":"5.2.1.3.1.0.2"},"цена ТЭ","руб./Гкал",null,null,null,null,null,null,null,null,null,null,null,null,null,null,null,null,{"$f":"IF(AF174=0,0,AF173/AF174)","v":0},{"$f":"IF(AG174=0,0,AG173/AG174)","v":0},{"$f":"IF(AH174=0,0,AH173/AH174)","v":0}]
[]
[null,null,null,null,null,null,null,null,null,null,null,null,{"$f":"M155 & \".3.2\"","v":"5.2.1.3.2"},"от станций с мощностью производства < 25 МВт","тыс.руб.",null,null,null,null,null,null,null,null,null,null,null,null,null,null,null,null,{"$f":"AG177+AH177","v":0}]
[null,null,null,null,null,null,null,null,null,null,null,null,{"$f":"M155 & \".3.2.0.1\"","v":"5.2.1.3.2.0.1"},"объём ТЭ","тыс. Гкал",null,null,null,null,null,null,null,null,null,null,null,null,null,null,null,null,{"$f":"AG178+AH178","v":0}]
[null,null,null,null,null,null,null,null,null,null,null,null,{"$f":"M155 & \".3.2.0.2\"","v":"5.2.1.3.2.0.2"},"цена ТЭ","руб./Гкал",null,null,null,null,null,null,null,null,null,null,null,null,null,null,null,null,{"$f":"IF(AF178=0,0,AF177/AF178)","v":0},{"$f":"IF(AG178=0,0,AG177/AG178)","v":0},{"$f":"IF(AH178=0,0,AH177/AH178)","v":0}]
[]
[null,null,null,null,null,null,null,null,null,null,null,null,{"$f":"M155 & \".3.3\"","v":"5.2.1.3.3"},"от котельных (некомбинированная выработка)","тыс.руб.",null,null,null,null,null,null,null,null,null,null,null,null,null,null,null,null,{"$f":"AG181+AH181","v":0}]
[null,null,null,null,null,null,null,null,null,null,null,null,{"$f":"M155 & \".3.3.0.1\"","v":"5.2.1.3.3.0.1"},"объём ТЭ","тыс. Гкал",null,null,null,null,null,null,null,null,null,null,null,null,null,null,null,null,{"$f":"AG182+AH182","v":0}]
[null,null,null,null,null,null,null,null,null,null,null,null,{"$f":"M155 & \".3.3.0.2\"","v":"5.2.1.3.3.0.2"},"цена ТЭ","руб./Гкал",null,null,null,null,null,null,null,null,null,null,null,null,null,null,null,null,{"$f":"IF(AF182=0,0,AF181/AF182)","v":0},{"$f":"IF(AG182=0,0,AG181/AG182)","v":0},{"$f":"IF(AH182=0,0,AH181/AH182)","v":0}]
[]
[null,null,null,null,null,null,null,null,null,null,null,null,{"$f":"M155 & \".4\"","v":"5.2.1.4"},"в том числе покупка потерь из тепловой сети","тыс.руб.",null,null,null,null,null,null,null,null,null,null,null,null,null,null,null,null,{"$f":"SUM(AF186:AF188)","v":0},{"$f":"SUM(AG186:AG188)","v":0},{"$f":"SUM(AH186:AH188)","v":0}]
[null,null,null,null,null,null,null,null,null,null,null,null,{"$f":"M155 & \".4.1\"","v":"5.2.1.4.1"},"от станций с мощностью производства >= 25 МВт","тыс.руб.",null,null,null,null,null,null,null,null,null,null,null,null,null,null,null,null,{"$f":"AG186+AH186","v":0}]
[null,null,null,null,null,null,null,null,null,null,null,null,{"$f":"M155 & \".4.2\"","v":"5.2.1.4.2"},"от станций с мощностью производства < 25 МВт","тыс.руб.",null,null,null,null,null,null,null,null,null,null,null,null,null,null,null,null,0]
[null,null,null,null,null,null,null,null,null,null,null,null,{"$f":"M155 & \".4.3\"","v":"5.2.1.4.3"},"от котельных (некомбинированная выработка)","тыс.руб.",null,null,null,null,null,null,null,null,null,null,null,null,null,null,null,null,0]
[null,null,null,null,null,null,null,null,null,null,null,null,"5.2.2","электрическая энергия ","тыс.руб.",null,null,null,null,null,null,null,null,null,null,null,null,null,null,null,null,0,{"$f":"SUM(AG192,AG195,AG198,AG201,AG204,AG207,AG210,AG213)","v":0},{"$f":"SUM(AH192,AH195,AH198,AH201,AH204,AH207,AH210,AH213)","v":0}]
[null,null,null,null,null,null,null,null,null,null,null,null,"5.2.2.0.1","объём энергии","тыс.кВт*ч",null,null,null,null,null,null,null,null,null,null,null,null,null,null,null,null,0,{"$f":"AG194+AG200+AG206+AG212","v":0},{"$f":"AH194+AH200+AH206+AH212","v":0}]
[null,null,null,null,null,null,null,null,null,null,null,null,"5.2.2.0.2","объём заявленной мощности","МВт",null,null,null,null,null,null,null,null,null,null,null,null,null,null,null,null,0,{"$f":"AG197+AG203+AG209+AG215","v":0},{"$f":"AH197+AH203+AH209+AH215","v":0}]
[null,null,null,null,null,null,null,null,null,null,null,null,"5.2.2.1.1","энергия НН (0,4 кВ и ниже)","тыс.руб.",null,null,null,null,null,null,null,null,null,null,null,null,null,null,null,null,0,{"$f":"AG193*AG194","v":0},{"$f":"AH193*AH194","v":0}]
[null,null,null,null,null,null,null,null,null,null,null,null,"5.2.2.1.1.1","тариф на энергию","руб./кВт*ч",null,null,null,null,null,null,null,null,null,null,null,null,null,null,null,null,{"$f":"IF(AF194=0,0,AF192/AF194)","v":0}]
[null,null,null,null,null,null,null,null,null,null,null,null,"5.2.2.1.1.2","объём энергии","тыс.кВт*ч",null,null,null,null,null,null,null,null,null,null,null,null,null,null,null,null,{"$f":"AG194+AH194","v":0}]
[null,null,null,null,null,null,null,null,null,null,null,null,"5.2.2.1.2","заявленная мощность по НН (0,4 кВ и ниже)","тыс.руб.",null,null,null,null,null,null,null,null,null,null,null,null,null,null,null,null,{"$f":"AG195+AH195","v":0},{"$f":"AG196*AG197","v":0},{"$f":"AH196*AH197","v":0}]
[null,null,null,null,null,null,null,null,null,null,null,null,"5.2.2.1.2.1","тариф на заявленную мощность","руб./кВт*мес",null,null,null,null,null,null,null,null,null,null,null,null,null,null,null,null,{"$f":"IF(AF197=0,0,AF195/AF197)","v":0}]
[null,null,null,null,null,null,null,null,null,null,null,null,"5.2.2.1.2.2","годовой объём мощности","МВт",null,null,null,null,null,null,null,null,null,null,null,null,null,null,null,null,{"$f":"AG197+AH197","v":0}]
[null,null,null,null,null,null,null,null,null,null,null,null,"5.2.2.2.1","энергия СН 2 (1-20 кВ)","тыс.руб.",null,null,null,null,null,null,null,null,null,null,null,null,null,null,null,null,{"$f":"AG198+AH198","v":0},{"$f":"AG199*AG200","v":0},{"$f":"AH199*AH200","v":0}]
[null,null,null,null,null,null,null,null,null,null,null,null,"5.2.2.2.1.1","тариф на энергию","руб./кВт*ч",null,null,null,null,null,null,null,null,null,null,null,null,null,null,null,null,{"$f":"IF(AF200=0,0,AF198/AF200)","v":0}]
[null,null,null,null,null,null,null,null,null,null,null,null,"5.2.2.2.1.2","объём энергии","тыс.кВт*ч",null,null,null,null,null,null,null,null,null,null,null,null,null,null,null,null,{"$f":"AG200+AH200","v":0}]
[null,null,null,null,null,null,null,null,null,null,null,null,"5.2.2.2.2","заявленная мощность по СН 2 (1-20 кВ)","тыс.руб.",null,null,null,null,null,null,null,null,null,null,null,null,null,null,null,null,{"$f":"AG201+AH201","v":0},{"$f":"AG202*AG203","v":0},{"$f":"AH202*AH203","v":0}]
[null,null,null,null,null,null,null,null,null,null,null,null,"5.2.2.2.2.1","тариф на заявленную мощность","руб./кВт*мес",null,null,null,null,null,null,null,null,null,null,null,null,null,null,null,null,{"$f":"IF(AF203=0,0,AF201/AF203)","v":0}]
[null,null,null,null,null,null,null,null,null,null,null,null,"5.2.2.2.2.2","годовой объём мощности","МВт",null,null,null,null,null,null,null,null,null,null,null,null,null,null,null,null,{"$f":"AG203+AH203","v":0}]
[null,null,null,null,null,null,null,null,null,null,null,null,"5.2.2.3.1","энергия СН 1 (35 кВ)","тыс.руб.",null,null,null,null,null,null,null,null,null,null,null,null,null,null,null,null,{"$f":"AG204+AH204","v":0},{"$f":"AG205*AG206","v":0},{"$f":"AH205*AH206","v":0}]
[null,null,null,null,null,null,null,null,null,null,null,null,"5.2.2.3.1.1","тариф на энергию","руб./кВт*ч",null,null,null,null,null,null,null,null,null,null,null,null,null,null,null,null,{"$f":"IF(AF206=0,0,AF204/AF206)","v":0}]
[null,null,null,null,null,null,null,null,null,null,null,null,"5.2.2.3.1.2","объём энергии","тыс.кВт*ч",null,null,null,null,null,null,null,null,null,null,null,null,null,null,null,null,{"$f":"AG206+AH206","v":0}]
[null,null,null,null,null,null,null,null,null,null,null,null,"5.2.2.3.2","заявленная мощность по СН 1 (35 кВ)","тыс.руб.",null,null,null,null,null,null,null,null,null,null,null,null,null,null,null,null,{"$f":"AG207+AH207","v":0},{"$f":"AG208*AG209","v":0},{"$f":"AH208*AH209","v":0}]
[null,null,null,null,null,null,null,null,null,null,null,null,"5.2.2.3.2.1","тариф на заявленную мощность","руб./кВт*мес",null,null,null,null,null,null,null,null,null,null,null,null,null,null,null,null,{"$f":"IF(AF209=0,0,AF207/AF209)","v":0}]
[null,null,null,null,null,null,null,null,null,null,null,null,"5.2.2.3.2.2","годовой объём мощности","МВт",null,null,null,null,null,null,null,null,null,null,null,null,null,null,null,null,{"$f":"AG209+AH209","v":0}]
[null,null,null,null,null,null,null,null,null,null,null,null,"5.2.2.4.1","энергия ВН (110 кВ и выше)","тыс.руб.",null,null,null,null,null,null,null,null,null,null,null,null,null,null,null,null,{"$f":"AG210+AH210","v":0},{"$f":"AG211*AG212","v":0},{"$f":"AH211*AH212","v":0}]
[null,null,null,null,null,null,null,null,null,null,null,null,"5.2.2.4.1.1","тариф на энергию","руб./кВт*ч",null,null,null,null,null,null,null,null,null,null,null,null,null,null,null,null,{"$f":"IF(AF212=0,0,AF210/AF212)","v":0}]
[null,null,null,null,null,null,null,null,null,null,null,null,"5.2.2.4.1.2","объём энергии","тыс.кВт*ч",null,null,null,null,null,null,null,null,null,null,null,null,null,null,null,null,{"$f":"AG212+AH212","v":0}]
[null,null,null,null,null,null,null,null,null,null,null,null,"5.2.2.4.2","заявленная мощность по ВН (110 кВ и выше)","тыс.руб.",null,null,null,null,null,null,null,null,null,null,null,null,null,null,null,null,{"$f":"AG213+AH213","v":0},{"$f":"AG214*AG215","v":0},{"$f":"AH214*AH215","v":0}]
[null,null,null,null,null,null,null,null,null,null,null,null,"5.2.2.4.2.1","тариф на заявленную мощность","руб./кВт*мес",null,null,null,null,null,null,null,null,null,null,null,null,null,null,null,null,{"$f":"IF(AF215=0,0,AF213/AF215)","v":0}]
[null,null,null,null,null,null,null,null,null,null,null,null,"5.2.2.4.2.2","годовой объём мощности","МВт",null,null,null,null,null,null,null,null,null,null,null,null,null,null,null,null,{"$f":"AG215+AH215","v":0}]
[null,null,null,null,null,null,null,null,null,null,null,null,"6","Затраты на оплату труда ","тыс.руб.",null,null,null,null,null,null,null,null,null,null,null,null,null,null,null,null,{"$f":"AG216+AH216","v":0},{"$f":"SUM(AG222,AG229,AG236,AG240,AG244)","v":0},{"$f":"SUM(AH222,AH229,AH236,AH240,AH244)","v":0}]
[null,null,null,null,null,null,null,null,null,null,null,null,"6.0.1","Справочно: среднемесячная оплата труда в целом по организации","руб./мес.",null,null,null,null,null,null,null,null,null,null,null,null,null,null,null,null,null,{"$f":"IF(AG218=0,0,(1000*AG216/AG218)/AG$6)","v":0},{"$f":"IF(AH218=0,0,(1000*AH216/AH218)/AH$6)","v":0}]
[null,null,null,null,null,null,null,null,null,null,null,null,"6.0.2","Справочно: численность персонала в целом по организации","ед.",null,null,null,null,null,null,null,null,null,null,null,null,null,null,null,null,null,{"$f":"SUM(AG224,AG231,AG238,AG242,AG246)","v":0},{"$f":"SUM(AH224,AH231,AH238,AH242,AH246)","v":0}]
[null,null,null,null,null,null,null,null,null,null,null,null,{"$f":"M218 & \".1\"","v":"6.0.2.1"},"Справочно: нормативная численность персонала в целом по организации","ед.",null,null,null,null,null,null,null,null,null,null,null,null,null,null,null,null,null,{"$f":"SUM(AG225,AG232,AG239,AG243,AG247)","v":0},{"$f":"SUM(AH225,AH232,AH239,AH243,AH247)","v":0}]
[null,null,null,null,null,null,null,null,null,null,null,null,{"$f":"M218 & \".2\"","v":"6.0.2.2"},"Отношение фактической численности персонала к нормативной","%",null,null,null,null,null,null,null,null,null,null,null,null,null,null,null,null,null,{"$f":"IF(AG219=0,0,AG218/AG219*100)","v":0},{"$f":"IF(AH219=0,0,AH218/AH219*100)","v":0}]
[null,null,null,null,null,null,null,null,null,null,null,null,"6.0.3","Справочно: минимальный размер оплаты труда в целом по организации","руб./мес."]
[null,null,null,null,null,null,null,null,null,null,null,null,"6.1","оплата труда основных производственных рабочих","тыс.руб.",null,null,null,null,null,null,null,null,null,null,null,null,null,null,null,null,{"$f":"AG222+AH222","v":0}]
[null,null,null,null,null,null,null,null,null,null,null,null,"6.1.1","среднемесячная оплата труда основных производственных рабочих","руб./мес.",null,null,null,null,null,null,null,null,null,null,null,null,null,null,null,null,null,{"$f":"IF(AG224=0,0,(1000*AG222/AG224)/AG$6)","v":0},{"$f":"IF(AH224=0,0,(1000*AH222/AH224)/AH$6)","v":0}]
[null,null,null,null,null,null,null,null,null,null,null,null,"6.1.2","численность основного производственного персонала, относимого на регулируемый вид деятельности","ед."]
[null,null,null,null,null,null,null,null,null,null,null,null,{"$f":"M224 & \".0\"","v":"6.1.2.0"},{"$f":"\"справочно: нормативная \" & N224","v":"справочно: нормативная численность основного производственного персонала, относимого на регулируемый вид деятельности"},"ед."]
[null,null,null,null,null,null,null,null,null,null,null,null,"6.1.3","Тарифная ставка рабочего 1-го разряда","руб./мес."]
[null,null,null,null,null,null,null,null,null,null,null,null,"6.1.4","Базовая тарифная ставка рабочего 1-го разряда","руб./мес."]
[null,null,null,null,null,null,null,null,null,null,null,null,"6.1.5","Минимальная тарифная ставка рабочего 1-го разряда","руб./мес."]
[null,null,null,null,null,null,null,null,null,null,null,null,"6.2","оплата труда ремонтного персонала","тыс.руб.",null,null,null,null,null,null,null,null,null,null,null,null,null,null,null,null,{"$f":"AG229+AH229","v":0}]
[null,null,null,null,null,null,null,null,null,null,null,null,"6.2.1","среднемесячная оплата труда ремонтного персонала","руб./мес.",null,null,null,null,null,null,null,null,null,null,null,null,null,null,null,null,null,{"$f":"IF(AG231=0,0,(1000*AG229/AG231)/AG$6)","v":0},{"$f":"IF(AH231=0,0,(1000*AH229/AH231)/AH$6)","v":0}]
[null,null,null,null,null,null,null,null,null,null,null,null,"6.2.2","численность ремонтного персонала, относимого на регулируемый вид деятельности","ед."]
[null,null,null,null,null,null,null,null,null,null,null,null,{"$f":"M231 & \".0\"","v":"6.2.2.0"},{"$f":"\"справочно: нормативная \" & N231","v":"справочно: нормативная численность ремонтного персонала, относимого на регулируемый вид деятельности"},"ед."]
[null,null,null,null,null,null,null,null,null,null,null,null,"6.2.3","Тарифная ставка рабочего 1-го разряда","руб./мес."]
[null,null,null,null,null,null,null,null,null,null,null,null,"6.2.4","Базовая тарифная ставка рабочего 1-го разряда","руб./мес."]
[null,null,null,null,null,null,null,null,null,null,null,null,"6.2.5","Минимальная тарифная ставка рабочего 1-го разряда","руб./мес."]
[null,null,null,null,null,null,null,null,null,null,null,null,"6.3","оплата труда цехового персонала","тыс.руб.",null,null,null,null,null,null,null,null,null,null,null,null,null,null,null,null,{"$f":"AG236+AH236","v":0}]
[null,null,null,null,null,null,null,null,null,null,null,null,"6.3.1","среднемесячная оплата труда цехового персонала","руб./мес.",null,null,null,null,null,null,null,null,null,null,null,null,null,null,null,null,null,{"$f":"IF(AG238=0,0,(1000*AG236/AG238)/AG$6)","v":0},{"$f":"IF(AH238=0,0,(1000*AH236/AH238)/AH$6)","v":0}]
[null,null,null,null,null,null,null,null,null,null,null,null,"6.3.2","численность цехового персонала, относимого на регулируемый вид деятельности","ед."]
[null,null,null,null,null,null,null,null,null,null,null,null,{"$f":"M238 & \".0\"","v":"6.3.2.0"},{"$f":"\"справочно: нормативная \" & N238","v":"справочно: нормативная численность цехового персонала, относимого на регулируемый вид деятельности"},"ед."]
[null,null,null,null,null,null,null,null,null,null,null,null,"6.4","оплата труда АУП","тыс.руб.",null,null,null,null,null,null,null,null,null,null,null,null,null,null,null,null,{"$f":"AG240+AH240","v":0}]
[null,null,null,null,null,null,null,null,null,null,null,null,"6.4.1","среднемесячная оплата труда АУП","руб./мес.",null,null,null,null,null,null,null,null,null,null,null,null,null,null,null,null,null,{"$f":"IF(AG242=0,0,(1000*AG240/AG242)/AG$6)","v":0},{"$f":"IF(AH242=0,0,(1000*AH240/AH242)/AH$6)","v":0}]
[null,null,null,null,null,null,null,null,null,null,null,null,"6.4.2","численность АУП, относимого на регулируемый вид деятельности","ед."]
[null,null,null,null,null,null,null,null,null,null,null,null,{"$f":"M242 & \".0\"","v":"6.4.2.0"},{"$f":"\"справочно: нормативная \" & N242","v":"справочно: нормативная численность АУП, относимого на регулируемый вид деятельности"},"ед."]
[null,null,null,null,null,null,null,null,null,null,null,null,"6.5","оплата труда прочего персонала, относимого на регулируемый вид деятельности","тыс.руб.",null,null,null,null,null,null,null,null,null,null,null,null,null,null,null,null,{"$f":"AG244+AH244","v":0}]
[null,null,null,null,null,null,null,null,null,null,null,null,"6.5.1","среднемесячная оплата труда прочего персонала, относимого на регулируемый вид деятельности","руб./мес.",null,null,null,null,null,null,null,null,null,null,null,null,null,null,null,null,null,{"$f":"IF(AG246=0,0,(1000*AG244/AG246)/AG$6)","v":0},{"$f":"IF(AH246=0,0,(1000*AH244/AH246)/AH$6)","v":0}]
[null,null,null,null,null,null,null,null,null,null,null,null,"6.5.2","численность прочего персонала, относимого на регулируемый вид деятельности","ед."]
[null,null,null,null,null,null,null,null,null,null,null,null,{"$f":"M246 & \".0\"","v":"6.5.2.0"},{"$f":"\"справочно: нормативная \" & N246","v":"справочно: нормативная численность прочего персонала, относимого на регулируемый вид деятельности"},"ед."]
[null,null,null,null,null,null,null,null,null,null,null,null,"7","Отчисления на социальные нужды, в том числе ","тыс.руб.",null,null,null,null,null,null,null,null,null,null,null,null,null,null,null,null,{"$f":"AG248+AH248","v":0},{"$f":"SUM(AG250:AG254)","v":0},{"$f":"SUM(AH250:AH254)","v":0}]
[null,null,null,null,null,null,null,null,null,null,null,null,"7.0","процент отчислений на социальные нужды","%"]
[null,null,null,null,null,null,null,null,null,null,null,null,"7.1","отчисления на соц. нужды от заработной платы основных производственных рабочих","тыс.руб.",null,null,null,null,null,null,null,null,null,null,null,null,null,null,null,null,{"$f":"AG250+AH250","v":0},{"$f":"AG222*AG249/100","v":0},{"$f":"AH222*AH249/100","v":0}]
[null,null,null,null,null,null,null,null,null,null,null,null,"7.2","отчисления на соц. нужды от заработной платы ремонтного персонала","тыс.руб.",null,null,null,null,null,null,null,null,null,null,null,null,null,null,null,null,{"$f":"AG251+AH251","v":0},{"$f":"AG229*AG249/100","v":0},{"$f":"AH229*AH249/100","v":0}]
[null,null,null,null,null,null,null,null,null,null,null,null,"7.3","отчисления на соц. нужды от заработной платы цехового персонала","тыс.руб.",null,null,null,null,null,null,null,null,null,null,null,null,null,null,null,null,{"$f":"AG252+AH252","v":0},{"$f":"AG236*AG249/100","v":0},{"$f":"AH236*AH249/100","v":0}]
[null,null,null,null,null,null,null,null,null,null,null,null,"7.4","отчисления на соц. нужды от заработной платы АУП","тыс.руб.",null,null,null,null,null,null,null,null,null,null,null,null,null,null,null,null,{"$f":"AG253+AH253","v":0},{"$f":"AG240*AG249/100","v":0},{"$f":"AH240*AH249/100","v":0}]
[null,null,null,null,null,null,null,null,null,null,null,null,"7.5","отчисления на соц. нужды от заработной платы прочего персонала","тыс.руб.",null,null,null,null,null,null,null,null,null,null,null,null,null,null,null,null,{"$f":"AG254+AH254","v":0},{"$f":"AG244*AG249/100","v":0},{"$f":"AH244*AH249/100","v":0}]
[]
[null,null,null,null,null,null,null,null,null,null,null,null,"8","Холодная вода","тыс.руб.",null,null,null,null,null,null,null,null,null,null,null,null,null,null,null,null,{"$f":"AG256+AH256","v":0},{"$f":"AG257*AG258","v":0},{"$f":"AH257*AH258","v":0}]
[null,null,null,null,null,null,null,null,null,null,null,null,"8.1","Цена","руб./куб.м",null,null,null,null,null,null,null,null,null,null,null,null,null,null,null,null,{"$f":"IF(AF258=0,0,AF256/AF258)","v":0}]
[null,null,null,null,null,null,null,null,null,null,null,null,"8.2","Объём","тыс.куб.м",null,null,null,null,null,null,null,null,null,null,null,null,null,null,null,null,0]
[null,null,null,null,null,null,null,null,null,null,null,null,"9","Водоотведение","тыс.руб.",null,null,null,null,null,null,null,null,null,null,null,null,null,null,null,null,0,{"$f":"AG260*AG261","v":0},{"$f":"AH260*AH261","v":0}]
[null,null,null,null,null,null,null,null,null,null,null,null,"9.1","Цена","руб./куб.м",null,null,null,null,null,null,null,null,null,null,null,null,null,null,null,null,{"$f":"IF(AF261=0,0,AF259/AF261)","v":0}]
[null,null,null,null,null,null,null,null,null,null,null,null,"9.2","Объём","тыс.куб.м",null,null,null,null,null,null,null,null,null,null,null,null,null,null,null,null,0]
[null,null,null,null,null,null,null,null,null,null,null,null,"10","Теплоноситель","тыс.руб.",null,null,null,null,null,null,null,null,null,null,null,null,null,null,null,null,0]
[null,null,null,null,null,null,null,null,null,null,null,null,"11","Расходы, связанные с созданием нормативных запасов топлива","тыс.руб.",null,null,null,null,null,null,null,null,null,null,null,null,null,null,null,null,0]
[]
[null,null,null,null,null,null,null,null,null,null,null,null,"12","Расходы на приобретение сырья и материалов","тыс.руб.",null,null,null,null,null,null,null,null,null,null,null,null,null,null,null,null,{"$f":"AG265+AH265","v":0},{"$f":"SUM(AG266:AG272)","v":0},{"$f":"SUM(AH266:AH272)","v":0}]
[null,null,null,null,null,null,null,null,null,null,null,null,{"$f":"M265 & \".1\"","v":"12.1"},"Реагенты, фильтрующие и ионообменные материалы для водоподготовки","тыс.руб.",null,null,null,null,null,null,null,null,null,null,null,null,null,null,null,null,0]
[null,null,null,null,null,null,null,null,null,null,null,null,{"$f":"M265 & \".2\"","v":"12.2"},"ГСМ","тыс.руб.",null,null,null,null,null,null,null,null,null,null,null,null,null,null,null,null,0]
[null,null,null,null,null,null,null,null,null,null,null,null,{"$f":"M265 & \".3\"","v":"12.3"},"На текущий и капитальный ремонт","тыс.руб.",null,null,null,null,null,null,null,null,null,null,null,null,null,null,null,null,0]
[null,null,null,null,null,null,null,null,null,null,null,null,{"$f":"M265 & \".4\"","v":"12.4"},"На текущее содержание и техническое обслуживание","тыс.руб.",null,null,null,null,null,null,null,null,null,null,null,null,null,null,null,null,0]
[null,null,null,null,null,null,null,null,null,null,null,null,{"$f":"M265 & \".5\"","v":"12.5"},"Специальная одежда","тыс.руб.",null,null,null,null,null,null,null,null,null,null,null,null,null,null,null,null,0]
[null,null,null,null,null,null,null,null,null,null,null,null,{"$f":"M265 & \".6\"","v":"12.6"},"Хозяйственный инвентарь и другие вспомогательные материалы","тыс.руб.",null,null,null,null,null,null,null,null,null,null,null,null,null,null,null,null,0]
[null,null,null,null,null,null,null,null,null,null,null,null,{"$f":"M265 & \".7\"","v":"12.7"},"Прочие расходы","тыс.руб.",null,null,null,null,null,null,null,null,null,null,null,null,null,null,null,null,0]
[null,null,null,null,null,null,null,null,null,null,null,null,"13","Ремонт основных средств, выполняемый подрядным способом","тыс.руб.",null,null,null,null,null,null,null,null,null,null,null,null,null,null,null,null,0]
[null,null,null,null,null,null,null,null,null,null,null,null,"14","Расходы на оплату работ и услуг производственного характера, выполняемых по договорам со сторонними организациями","тыс.руб.",null,null,null,null,null,null,null,null,null,null,null,null,null,null,null,null,0,{"$f":"SUM(AG275,AG276,AG277,AG278)","v":0},{"$f":"SUM(AH275,AH276,AH277,AH278)","v":0}]
[null,null,null,null,null,null,null,null,null,null,null,null,{"$f":"M274 & \".1\"","v":"14.1"},"транспортные услуги","тыс.руб.",null,null,null,null,null,null,null,null,null,null,null,null,null,null,null,null,0]
[null,null,null,null,null,null,null,null,null,null,null,null,{"$f":"M274 & \".2\"","v":"14.2"},"работы по техническому регламенту","тыс.руб.",null,null,null,null,null,null,null,null,null,null,null,null,null,null,null,null,0]
[null,null,null,null,null,null,null,null,null,null,null,null,{"$f":"M274 & \".3\"","v":"14.3"},"прочие услуги вспомогательных производств","тыс.руб.",null,null,null,null,null,null,null,null,null,null,null,null,null,null,null,null,0]
[null,null,null,null,null,null,null,null,null,null,null,null,{"$f":"M274 & \".4\"","v":"14.4"},"иные работы и услуги производственного характера","тыс.руб.",null,null,null,null,null,null,null,null,null,null,null,null,null,null,null,null,0]
[null,null,null,null,null,null,null,null,null,null,null,null,"15","Расходы на оплату иных работ и услуг, выполняемых по договорам с организациями, включая:","тыс.руб.",null,null,null,null,null,null,null,null,null,null,null,null,null,null,null,null,0,{"$f":"SUM(AG280:AG291)","v":0},{"$f":"SUM(AH280:AH291)","v":0}]
[null,null,null,null,null,null,null,null,null,null,null,null,{"$f":"M279 & \".1\"","v":"15.1"},"услуги связи","тыс.руб.",null,null,null,null,null,null,null,null,null,null,null,null,null,null,null,null,0]
[null,null,null,null,null,null,null,null,null,null,null,null,{"$f":"M279 & \".2\"","v":"15.2"},"услуги вневедомственной охраны ","тыс.руб.",null,null,null,null,null,null,null,null,null,null,null,null,null,null,null,null,0]
[null,null,null,null,null,null,null,null,null,null,null,null,{"$f":"M279 & \".3\"","v":"15.3"},"коммунальные услуги ","тыс.руб.",null,null,null,null,null,null,null,null,null,null,null,null,null,null,null,null,0]
[null,null,null,null,null,null,null,null,null,null,null,null,{"$f":"M279 & \".4\"","v":"15.4"},"расходы на консультационные услуги","тыс.руб.",null,null,null,null,null,null,null,null,null,null,null,null,null,null,null,null,0]
[null,null,null,null,null,null,null,null,null,null,null,null,{"$f":"M279 & \".5\"","v":"15.5"},"расходы на юридические услуги","тыс.руб.",null,null,null,null,null,null,null,null,null,null,null,null,null,null,null,null,0]
[null,null,null,null,null,null,null,null,null,null,null,null,{"$f":"M279 & \".6\"","v":"15.6"},"расходы на информационные услуги","тыс.руб.",null,null,null,null,null,null,null,null,null,null,null,null,null,null,null,null,0]
[null,null,null,null,null,null,null,null,null,null,null,null,{"$f":"M279 & \".7\"","v":"15.7"},"расходы на аудиторские услуги","тыс.руб.",null,null,null,null,null,null,null,null,null,null,null,null,null,null,null,null,0]
[null,null,null,null,null,null,null,null,null,null,null,null,{"$f":"M279 & \".8\"","v":"15.8"},"услуги по стратегическому управлению организацией","тыс.руб.",null,null,null,null,null,null,null,null,null,null,null,null,null,null,null,null,0]
[null,null,null,null,null,null,null,null,null,null,null,null,{"$f":"M279 & \".9\"","v":"15.9"},"расходы по подготовке и освоению производства (пуско-наладочные работы)","тыс.руб.",null,null,null,null,null,null,null,null,null,null,null,null,null,null,null,null,0]
[null,null,null,null,null,null,null,null,null,null,null,null,{"$f":"M279 & \".10\"","v":"15.10"},"целевые средства на НИОКР","тыс.руб.",null,null,null,null,null,null,null,null,null,null,null,null,null,null,null,null,0]
[null,null,null,null,null,null,null,null,null,null,null,null,{"$f":"M279 & \".11\"","v":"15.11"},"средства на необязательное (дополнительное) страхование","тыс.руб.",null,null,null,null,null,null,null,null,null,null,null,null,null,null,null,null,0]
[null,null,null,null,null,null,null,null,null,null,null,null,{"$f":"M279 & \".12\"","v":"15.12"},"иные работы и услуги","тыс.руб.",null,null,null,null,null,null,null,null,null,null,null,null,null,null,null,null,0]
[]
[null,null,null,null,null,null,null,null,null,null,null,null,"RENT","Аренда имущества","тыс.руб.",null,null,null,null,null,null,null,null,null,null,null,null,null,null,null,null,{"$f":"AG293+AH293","v":0},{"$f":"SUM(AG294:AG296)","v":0},{"$f":"SUM(AH294:AH296)","v":0}]
[null,null,null,null,null,null,null,null,null,null,null,null,"RENT.1","Аренда объектов в государственной собственности","тыс.руб.",null,null,null,null,null,null,null,null,null,null,null,null,null,null,null,null,0]
[null,null,null,null,null,null,null,null,null,null,null,null,"RENT.2","Аренда объектов в муниципальной собственности","тыс.руб.",null,null,null,null,null,null,null,null,null,null,null,null,null,null,null,null,0]
[null,null,null,null,null,null,null,null,null,null,null,null,"RENT.3","Прочее","тыс.руб.",null,null,null,null,null,null,null,null,null,null,null,null,null,null,null,null,0]
[null,null,null,null,null,null,null,null,null,null,null,null,"16","Расходы на служебные командировки","тыс.руб.",null,null,null,null,null,null,null,null,null,null,null,null,null,null,null,null,0]
[null,null,null,null,null,null,null,null,null,null,null,null,"17","Расходы на обучение персонала","тыс.руб.",null,null,null,null,null,null,null,null,null,null,null,null,null,null,null,null,0]
[null,null,null,null,null,null,null,null,null,null,null,null,"18","Расходы на вывод из эксплуатации (в том числе на консервацию) и вывод из консервации","тыс.руб.",null,null,null,null,null,null,null,null,null,null,null,null,null,null,null,null,0]
[null,null,null,null,null,null,null,null,null,null,null,null,"19","Услуги банков","тыс.руб.",null,null,null,null,null,null,null,null,null,null,null,null,null,null,null,null,0]
[null,null,null,null,null,null,null,null,null,null,null,null,"20","Прочие операционные расходы","тыс.руб.",null,null,null,null,null,null,null,null,null,null,null,null,null,null,null,null,0,{"$f":"SUM(AG302,AG303)","v":0},{"$f":"SUM(AH302,AH303)","v":0}]
[null,null,null,null,null,null,null,null,null,null,null,null,{"$f":"M301 & \".1\"","v":"20.1"},"Общехозяйственные расходы","тыс.руб.",null,null,null,null,null,null,null,null,null,null,null,null,null,null,null,null,0]
[null,null,null,null,null,null,null,null,null,null,null,null,{"$f":"M301 & \".2\"","v":"20.2"},"Иные расходы","тыс.руб.",null,null,null,null,null,null,null,null,null,null,null,null,null,null,null,null,0]
[null,null,null,null,null,null,null,null,null,null,null,null,"21","Расходы на оплату услуг, оказываемых организациями, осуществляющими регулируемые виды деятельности","тыс.руб.",null,null,null,null,null,null,null,null,null,null,null,null,null,null,null,null,0]
[null,null,null,null,null,null,null,null,null,null,null,null,"22","Арендная плата","тыс.руб.",null,null,null,null,null,null,null,null,null,null,null,null,null,null,null,null,0,{"$f":"SUM(AG306,AG307)","v":0},{"$f":"SUM(AH306,AH307)","v":0}]
[null,null,null,null,null,null,null,null,null,null,null,null,{"$f":"M305 & \".1\"","v":"22.1"},"аренда производственных объектов","тыс.руб.",null,null,null,null,null,null,null,null,null,null,null,null,null,null,null,null,0]
[null,null,null,null,null,null,null,null,null,null,null,null,{"$f":"M305 & \".2\"","v":"22.2"},"аренда непроизводственных объектов","тыс.руб.",null,null,null,null,null,null,null,null,null,null,null,null,null,null,null,null,0]
[null,null,null,null,null,null,null,null,null,null,null,null,"23","Концессионная плата","тыс.руб.",null,null,null,null,null,null,null,null,null,null,null,null,null,null,null,null,0]
[null,null,null,null,null,null,null,null,null,null,null,null,"24","Лизинговый платеж","тыс.руб.",null,null,null,null,null,null,null,null,null,null,null,null,null,null,null,null,0,{"$f":"SUM(AG310,AG311,AG312)","v":0},{"$f":"SUM(AH310,AH311,AH312)","v":0}]
[null,null,null,null,null,null,null,null,null,null,null,null,{"$f":"M309 & \".1\"","v":"24.1"},"лизинг производственных объектов","тыс.руб.",null,null,null,null,null,null,null,null,null,null,null,null,null,null,null,null,0]
[null,null,null,null,null,null,null,null,null,null,null,null,{"$f":"M309 & \".2\"","v":"24.2"},"лизинг непроизводственных объектов (без перехода права собственности на предмет лизинга к лизингополучателю)","тыс.руб.",null,null,null,null,null,null,null,null,null,null,null,null,null,null,null,null,0]
[null,null,null,null,null,null,null,null,null,null,null,null,{"$f":"M309 & \".3\"","v":"24.3"},"лизинг непроизводственных объектов  (с переходом права собственности на предмет лизинга к лизингополучателю)","тыс.руб.",null,null,null,null,null,null,null,null,null,null,null,null,null,null,null,null,0]
[null,null,null,null,null,null,null,null,null,null,null,null,"25","Расходы на уплату налогов, сборов и других обязательных платежей, в том числе:","тыс.руб.",null,null,null,null,null,null,null,null,null,null,null,null,null,null,null,null,0,{"$f":"SUM(AG314:AG317)","v":0},{"$f":"SUM(AH314:AH317)","v":0}]
[null,null,null,null,null,null,null,null,null,null,null,null,{"$f":"M313 & \".1\"","v":"25.1"},"плата за выбросы и сбросы загрязняющих веществ в окружающую среду, размещение отходов и другие виды негативного воздействия на окружающую среду в пределах установленных нормативов и (или) лимитов","тыс.руб.",null,null,null,null,null,null,null,null,null,null,null,null,null,null,null,null,0]
[null,null,null,null,null,null,null,null,null,null,null,null,{"$f":"M313 & \".2\"","v":"25.2"},"расходы на обязательное страхование","тыс.руб.",null,null,null,null,null,null,null,null,null,null,null,null,null,null,null,null,0]
[null,null,null,null,null,null,null,null,null,null,null,null,{"$f":"M313 & \".3\"","v":"25.3"},"иные расходы","тыс.руб.",null,null,null,null,null,null,null,null,null,null,null,null,null,null,null,null,0]
[null,null,null,null,null,null,null,null,null,null,null,null,{"$f":"M313 & \".4\"","v":"25.4"},"уплата налогов, всего","тыс.руб.",null,null,null,null,null,null,null,null,null,null,null,null,null,null,null,null,0,{"$f":"SUM(AG318:AG322)","v":0},{"$f":"SUM(AH318:AH322)","v":0}]
[null,null,null,null,null,null,null,null,null,null,null,null,{"$f":"M317 & \".1\"","v":"25.4.1"},"налог на имущество организаций","тыс.руб.",null,null,null,null,null,null,null,null,null,null,null,null,null,null,null,null,0]
[null,null,null,null,null,null,null,null,null,null,null,null,{"$f":"M317 & \".2\"","v":"25.4.2"},"земельный налог","тыс.руб.",null,null,null,null,null,null,null,null,null,null,null,null,null,null,null,null,0]
[null,null,null,null,null,null,null,null,null,null,null,null,{"$f":"M317 & \".3\"","v":"25.4.3"},"транспортный налог","тыс.руб.",null,null,null,null,null,null,null,null,null,null,null,null,null,null,null,null,0]
[null,null,null,null,null,null,null,null,null,null,null,null,{"$f":"M317 & \".4\"","v":"25.4.4"},"водный налог","тыс.руб.",null,null,null,null,null,null,null,null,null,null,null,null,null,null,null,null,0]
[null,null,null,null,null,null,null,null,null,null,null,null,{"$f":"M317 & \".5\"","v":"25.4.5"},"прочие налоги","тыс.руб.",null,null,null,null,null,null,null,null,null,null,null,null,null,null,null,null,0]
[null,null,null,null,null,null,null,null,null,null,null,null,"26","Расходы по сомнительным долгам","тыс.руб.",null,null,null,null,null,null,null,null,null,null,null,null,null,null,null,null,0]
[null,null,null,null,null,null,null,null,null,null,null,null,"27","Амортизация основных средств и нематериальных активов","тыс.руб.",null,null,null,null,null,null,null,null,null,null,null,null,null,null,null,null,0,{"$f":"SUM(AG325:AG326)","v":0},{"$f":"SUM(AH325:AH326)","v":0}]
[null,null,null,null,null,null,null,null,null,null,null,null,{"$f":"M324 & \".1\"","v":"27.1"},"Амортизация производственного оборудования","тыс.руб.",null,null,null,null,null,null,null,null,null,null,null,null,null,null,null,null,0]
[null,null,null,null,null,null,null,null,null,null,null,null,{"$f":"M324 & \".2\"","v":"27.2"},"Амортизация иных основных средств и нематериальных активов","тыс.руб.",null,null,null,null,null,null,null,null,null,null,null,null,null,null,null,null,0]
[null,null,null,null,null,null,null,null,null,null,null,null,"28","Расходы на выплаты по договорам займа и кредитным договорам, включая проценты по ним","тыс.руб.",null,null,null,null,null,null,null,null,null,null,null,null,null,null,null,null,0]
[null,null,null,null,null,null,null,null,null,null,null,null,"29","Прочие неподконтрольные расходы","тыс.руб.",null,null,null,null,null,null,null,null,null,null,null,null,null,null,null,null,0]
[null,null,null,null,null,null,null,null,null,null,null,null,"30","Налог на прибыль","тыс.руб.",null,null,null,null,null,null,null,null,null,null,null,null,null,null,null,null,0]
[]
[null,null,null,null,null,null,null,null,null,null,null,null,"РО","Итого расходы","тыс.руб.",null,null,null,null,null,null,null,null,null,null,null,null,null,null,null,null,{"$f":"AG331+AH331","v":0},{"$f":"SUM(AG36,AG90,AG216,AG248,AG256,AG259,AG262,AG263,AG265,AG273,AG274,AG279,AG297,AG298,AG299,AG300,AG301,AG304,AG305,AG308,AG309,AG313,AG323,AG324,AG327,AG328,AG329)","v":0},{"$f":"SUM(AH36,AH90,AH216,AH248,AH256,AH259,AH262,AH263,AH265,AH273,AH274,AH279,AH297,AH298,AH299,AH300,AH301,AH304,AH305,AH308,AH309,AH313,AH323,AH324,AH327,AH328,AH329)","v":0}]
[]
[null,null,null,null,null,null,null,null,null,null,null,null,"РР","Итого расходы на реализацию","тыс.руб.",null,null,null,null,null,null,null,null,null,null,null,null,null,null,null,null,{"$f":"AG333+AH333","v":0},{"$f":"AG331*AG$372","v":0},{"$f":"AH331*AH$372","v":0}]
[]
[null,null,null,null,null,null,null,null,null,null,null,null,"У","Убыток","тыс.руб.",null,null,null,null,null,null,null,null,null,null,null,null,null,null,null,null,{"$f":"AG335+AH335","v":0}]
[null,null,null,null,null,null,null,null,null,null,null,null,"П","Прибыль","тыс.руб.",null,null,null,null,null,null,null,null,null,null,null,null,null,null,null,null,{"$f":"AG336+AH336","v":0},{"$f":"SUM(AG338:AG341)","v":0},{"$f":"SUM(AH338:AH341)","v":0}]
[]
[null,null,null,null,null,null,null,null,null,null,null,null,"П.1","Прибыль на развитие производства (капитальные вложения)","тыс.руб.",null,null,null,null,null,null,null,null,null,null,null,null,null,null,null,null,{"$f":"AG338+AH338","v":0}]
[null,null,null,null,null,null,null,null,null,null,null,null,"П.2","Прибыль на социальное развитие","тыс.руб.",null,null,null,null,null,null,null,null,null,null,null,null,null,null,null,null,{"$f":"AG339+AH339","v":0}]
[null,null,null,null,null,null,null,null,null,null,null,null,"П.3","Прибыль на поощрение","тыс.руб.",null,null,null,null,null,null,null,null,null,null,null,null,null,null,null,null,{"$f":"AG340+AH340","v":0}]
[null,null,null,null,null,null,null,null,null,null,null,null,"П.4","Прибыль на прочие цели","тыс.руб.",null,null,null,null,null,null,null,null,null,null,null,null,null,null,null,null,{"$f":"AG341+AH341","v":0}]
[]
[]
[]
[]
[]
[]
[]
[]
[null,null,null,null,null,null,null,null,null,null,null,null,"РП","Итого расходы с учётом расходов из прибыли","тыс.руб.",null,null,null,null,null,null,null,null,null,null,null,null,null,null,null,null,{"$f":"AG350+AH350","v":0},{"$f":"AG331+AG336","v":0},{"$f":"AH331+AH336","v":0}]
[]
[]
[]
[]
[]
[]
[]
[]
[]
[]
[]
[]
[]
[]
[]
[]
[]
[]
[]
[null,null,null,null,null,null,null,null,null,null,null,null,"UI.TOTAL","Полезный отпуск продукции всего:\n[БТр!п.3] - транспортировка\n[БПр!п.3 - БПр!п.3.6 + БПр!п.5.2] - производство","Гкал",null,null,null,null,null,null,null,null,null,null,null,null,null,null,null,null,{"$f":"AG370+AH370","v":0},{"$f":"SUMIF(БПр!$BA$131:$BA$188,AG$17 & \".0-\" & AG$9,БПр!$M$131:$M$188)-SUMIF(БПр!$BA$131:$BA$188,AG$17 & \".0-\" & AG$9,БПр!$Q$131:$Q$188)-SUMIF(БПр!$BA$131:$BA$188,AG$17 & \".0-\" & AG$9,БПр!$V$131:$V$188)+SUMIF(БПр!$BA$131:$BA$188,AG$17 & \".0-\" & AG$9,БПр!$AO$131:$AO$188)+SUMIF(БТр!$BA$131:$BA$188,AG$17 & \".0-\" & AG$9,БТр!$M$131:$M$188)","v":0},{"$f":"SUMIF(БПр!$BA$131:$BA$188,AH$17 & \".0-\" & AH$9,БПр!$M$131:$M$188)-SUMIF(БПр!$BA$131:$BA$188,AH$17 & \".0-\" & AH$9,БПр!$Q$131:$Q$188)-SUMIF(БПр!$BA$131:$BA$188,AH$17 & \".0-\" & AH$9,БПр!$V$131:$V$188)+SUMIF(БПр!$BA$131:$BA$188,AH$17 & \".0-\" & AH$9,БПр!$AO$131:$AO$188)+SUMIF(БТр!$BA$131:$BA$188,AH$17 & \".0-\" & AH$9,БТр!$M$131:$M$188)","v":0}]
[null,null,null,null,null,null,null,null,null,null,null,null,"UI.EC","Полезный отпуск продукции на реализацию потребителям:\n[БТр!п.3.2:3.5] - транспортировка\n[БПр!п.3.2:3.5 + БПр!п.5.2.2 + БПр!п.5.2.3] - производство","Гкал",null,null,null,null,null,null,null,null,null,null,null,null,null,null,null,null,{"$f":"AG371+AH371","v":0},{"$f":"SUMIF(БПр!$BA$131:$BA$188,AG$17 & \".0-\" & AG$9,БПр!$R$131:$R$188)+SUMIF(БПр!$BA$131:$BA$188,AG$17 & \".0-\" & AG$9,БПр!$S$131:$S$188)+SUMIF(БПр!$BA$131:$BA$188,AG$17 & \".0-\" & AG$9,БПр!$T$131:$T$188)+SUMIF(БПр!$BA$131:$BA$188,AG$17 & \".0-\" & AG$9,БПр!$U$131:$U$188)+SUMIF(БПр!$BA$131:$BA$188,AG$17 & \".0-\" & AG$9,БПр!$AT$131:$AT$188)+SUMIF(БПр!$BA$131:$BA$188,AG$17 & \".0-\" & AG$9,БПр!$AU$131:$AU$188)+SUMIF(БТр!$BA$131:$BA$188,AG$17 & \".0-\" & AG$9,БТр!$Q$131:$Q$188)+SUMIF(БТр!$BA$131:$BA$188,AG$17 & \".0-\" & AG$9,БТр!$R$131:$R$188)+SUMIF(БТр!$BA$131:$BA$188,AG$17 & \".0-\" & AG$9,БТр!$S$131:$S$188)+SUMIF(БТр!$BA$131:$BA$188,AG$17 & \".0-\" & AG$9,БТр!$T$131:$T$188)","v":0},{"$f":"SUMIF(БПр!$BA$131:$BA$188,AH$17 & \".0-\" & AH$9,БПр!$R$131:$R$188)+SUMIF(БПр!$BA$131:$BA$188,AH$17 & \".0-\" & AH$9,БПр!$S$131:$S$188)+SUMIF(БПр!$BA$131:$BA$188,AH$17 & \".0-\" & AH$9,БПр!$T$131:$T$188)+SUMIF(БПр!$BA$131:$BA$188,AH$17 & \".0-\" & AH$9,БПр!$U$131:$U$188)+SUMIF(БПр!$BA$131:$BA$188,AH$17 & \".0-\" & AH$9,БПр!$AT$131:$AT$188)+SUMIF(БПр!$BA$131:$BA$188,AH$17 & \".0-\" & AH$9,БПр!$AU$131:$AU$188)+SUMIF(БТр!$BA$131:$BA$188,AH$17 & \".0-\" & AH$9,БТр!$Q$131:$Q$188)+SUMIF(БТр!$BA$131:$BA$188,AH$17 & \".0-\" & AH$9,БТр!$R$131:$R$188)+SUMIF(БТр!$BA$131:$BA$188,AH$17 & \".0-\" & AH$9,БТр!$S$131:$S$188)+SUMIF(БТр!$BA$131:$BA$188,AH$17 & \".0-\" & AH$9,БТр!$T$131:$T$188)","v":0}]
[null,null,null,null,null,null,null,null,null,null,null,null,"UI.COEF","Коэффициент (доля) на реализацию потребителям",null,null,null,null,null,null,null,null,null,null,null,null,null,null,null,null,null,{"$f":"IF(AF370=0,0,AF371/AF370)","v":0},{"$f":"IF(AG370=0,0,AG371/AG370)","v":0},{"$f":"IF(AH370=0,0,AH371/AH370)","v":0}]
[null,null,null,null,null,null,null,null,null,null,null,null,"UI.PURE.EC","Полезный отпуск продукции на реализацию потребителям без учёта перепродажи:\n[БТр!п.3.3:3.5] - транспортировка\n[БПр!п.3.2:3.4 + БПр!п.5.2.3] - производство","Гкал",null,null,null,null,null,null,null,null,null,null,null,null,null,null,null,null,{"$f":"AG373+AH373","v":0},{"$f":"SUMIF(БПр!$BA$131:$BA$188,AG$17 & \".0-\" & AG$9,БПр!$R$131:$R$188)+SUMIF(БПр!$BA$131:$BA$188,AG$17 & \".0-\" & AG$9,БПр!$S$131:$S$188)+SUMIF(БПр!$BA$131:$BA$188,AG$17 & \".0-\" & AG$9,БПр!$T$131:$T$188)+SUMIF(БПр!$BA$131:$BA$188,AG$17 & \".0-\" & AG$9,БПр!$AU$131:$AU$188)+SUMIF(БТр!$BA$131:$BA$188,AG$17 & \".0-\" & AG$9,БТр!$R$131:$R$188)+SUMIF(БТр!$BA$131:$BA$188,AG$17 & \".0-\" & AG$9,БТр!$S$131:$S$188)+SUMIF(БТр!$BA$131:$BA$188,AG$17 & \".0-\" & AG$9,БТр!$T$131:$T$188)","v":0},{"$f":"SUMIF(БПр!$BA$131:$BA$188,AH$17 & \".0-\" & AH$9,БПр!$R$131:$R$188)+SUMIF(БПр!$BA$131:$BA$188,AH$17 & \".0-\" & AH$9,БПр!$S$131:$S$188)+SUMIF(БПр!$BA$131:$BA$188,AH$17 & \".0-\" & AH$9,БПр!$T$131:$T$188)+SUMIF(БПр!$BA$131:$BA$188,AH$17 & \".0-\" & AH$9,БПр!$AU$131:$AU$188)+SUMIF(БТр!$BA$131:$BA$188,AH$17 & \".0-\" & AH$9,БТр!$R$131:$R$188)+SUMIF(БТр!$BA$131:$BA$188,AH$17 & \".0-\" & AH$9,БТр!$S$131:$S$188)+SUMIF(БТр!$BA$131:$BA$188,AH$17 & \".0-\" & AH$9,БТр!$T$131:$T$188)","v":0}]
[]
[null,null,null,null,null,null,null,null,null,null,null,null,"PROFITABILITY","Рентабельность","%",null,null,null,null,null,null,null,null,null,null,null,null,null,null,null,null,{"$f":"IF(AF331=0,0,(AF336-AF335)/AF331*100)","v":0},{"$f":"IF(AG331=0,0,(AG336-AG335)/AG331*100)","v":0},{"$f":"IF(AH331=0,0,(AH336-AH335)/AH331*100)","v":0}]
[]
[null,null,null,null,null,null,null,null,null,null,null,null,"D","Справочно: результат деятельности в периоде регулирования","тыс.руб.",null,null,null,null,null,null,null,null,null,null,null,null,null,null,null,null,{"$f":"AG377+AH377","v":0},{"$f":"AG378-(AG333+AG336-AG335)","v":0},{"$f":"AH378-(AH333+AH336-AH335)","v":0}]
[null,null,null,null,null,null,null,null,null,null,null,null,{"$f":"M377 & \".0.1\"","v":"D.0.1"},"Общий доход от реализации потребителям без учёта НДС, исходя из утверждённых тарифов","тыс.руб.",null,null,null,null,null,null,null,null,null,null,null,null,null,null,null,null,{"$f":"AG378+AH378","v":0},{"$f":"AG380+AG383+AG386+AG389+AG392+AG393","v":0},{"$f":"AH380+AH383+AH386+AH389+AH392+AH393","v":0}]
[null,null,null,null,null,null,null,null,null,null,null,null,{"$f":"M377 & \".0.2\"","v":"D.0.2"},"Полезный отпуск продукции на реализацию потребителям","Гкал",null,null,null,null,null,null,null,null,null,null,null,null,null,null,null,null,{"$f":"AG379+AH379","v":0},{"$f":"AG382+AG385+AG388+AG391","v":0},{"$f":"AH382+AH385+AH388+AH391","v":0}]
[null,null,null,null,null,null,null,null,null,null,null,null,{"$f":"M377 & \".1\"","v":"D.1"},"Организации-перепродавцы / энергоснабжающие организации","тыс.руб.",null,null,null,null,null,null,null,null,null,null,null,null,null,null,null,null,{"$f":"AG380+AH380","v":0},{"$f":"AG381*AG382/1000","v":0},{"$f":"AH381*AH382/1000","v":0}]
[null,null,null,null,null,null,null,null,null,null,null,null,{"$f":"M380 & \".1\"","v":"D.1.1"},"средневзвешенный тариф","руб./Гкал",null,null,null,null,null,null,null,null,null,null,null,null,null,null,null,null,{"$f":"IF(AF382=0,0,AF380*1000/AF382)","v":0}]
[null,null,null,null,null,null,null,null,null,null,null,null,{"$f":"M380 & \".2\"","v":"D.1.2"},"объём","Гкал",null,null,null,null,null,null,null,null,null,null,null,null,null,null,null,null,{"$f":"AG382+AH382","v":0},{"$f":"SUMIF(БПр!$BA$131:$BA$188,AG$17 & \".0-\" & AG$9,БПр!$U$131:$U$188)+SUMIF(БПр!$BA$131:$BA$188,AG$17 & \".0-\" & AG$9,БПр!$AT$131:$AT$188)+IF(AG$16&\"::\"&VDET=\"TRANSPORT::руб/Гкал/час в мес::Передача\",SUMIF(БТр!$BB$131:$BB$188,AG$17 & \".0.YEAR\",БТр!$I$131:$I$188)*AG$6,SUMIF(БТр!$BA$131:$BA$188,AG$17 & \".0-\" & AG$9,БТр!$Q$131:$Q$188))","v":0},{"$f":"SUMIF(БПр!$BA$131:$BA$188,AH$17 & \".0-\" & AH$9,БПр!$U$131:$U$188)+SUMIF(БПр!$BA$131:$BA$188,AH$17 & \".0-\" & AH$9,БПр!$AT$131:$AT$188)+IF(AH$16&\"::\"&VDET=\"TRANSPORT::руб/Гкал/час в мес::Передача\",SUMIF(БТр!$BB$131:$BB$188,AH$17 & \".0.YEAR\",БТр!$I$131:$I$188)*AH$6,SUMIF(БТр!$BA$131:$BA$188,AH$17 & \".0-\" & AH$9,БТр!$Q$131:$Q$188))","v":0}]
[null,null,null,null,null,null,null,null,null,null,null,null,{"$f":"M377 & \".2\"","v":"D.2"},"Бюджетные потребители","тыс.руб.",null,null,null,null,null,null,null,null,null,null,null,null,null,null,null,null,{"$f":"AG383+AH383","v":0},{"$f":"AG384*AG385/1000","v":0},{"$f":"AH384*AH385/1000","v":0}]
[null,null,null,null,null,null,null,null,null,null,null,null,{"$f":"M383 & \".1\"","v":"D.2.1"},"средневзвешенный тариф","руб./Гкал",null,null,null,null,null,null,null,null,null,null,null,null,null,null,null,null,{"$f":"IF(AF385=0,0,AF383*1000/AF385)","v":0}]
[null,null,null,null,null,null,null,null,null,null,null,null,{"$f":"M383 & \".2\"","v":"D.2.2"},"объём","Гкал",null,null,null,null,null,null,null,null,null,null,null,null,null,null,null,null,{"$f":"AG385+AH385","v":0},{"$f":"SUMIF(БПр!$BA$131:$BA$188,AG$17 & \".0-\" & AG$9,БПр!$R$131:$R$188)+SUMIF(БПр!$BA$131:$BA$188,AG$17 & \".0-\" & AG$9,БПр!$AV$131:$AV$188)+IF(AG$16&\"::\"&VDET=\"TRANSPORT::руб/Гкал/час в мес::Передача\",SUMIF(БТр!$BB$131:$BB$188,AG$17 & \".0.YEAR\",БТр!$I$131:$I$188)*AG$6,SUMIF(БТр!$BA$131:$BA$188,AG$17 & \".0-\" & AG$9,БТр!$R$131:$R$188))","v":0},{"$f":"SUMIF(БПр!$BA$131:$BA$188,AH$17 & \".0-\" & AH$9,БПр!$R$131:$R$188)+SUMIF(БПр!$BA$131:$BA$188,AH$17 & \".0-\" & AH$9,БПр!$AV$131:$AV$188)+IF(AH$16&\"::\"&VDET=\"TRANSPORT::руб/Гкал/час в мес::Передача\",SUMIF(БТр!$BB$131:$BB$188,AH$17 & \".0.YEAR\",БТр!$I$131:$I$188)*AH$6,SUMIF(БТр!$BA$131:$BA$188,AH$17 & \".0-\" & AH$9,БТр!$R$131:$R$188))","v":0}]
[null,null,null,null,null,null,null,null,null,null,null,null,{"$f":"M377 & \".3\"","v":"D.3"},"Население","тыс.руб.",null,null,null,null,null,null,null,null,null,null,null,null,null,null,null,null,{"$f":"AG386+AH386","v":0},{"$f":"AG387*AG388/1000","v":0},{"$f":"AH387*AH388/1000","v":0}]
[null,null,null,null,null,null,null,null,null,null,null,null,{"$f":"M386 & \".1\"","v":"D.3.1"},"средневзвешенный тариф","руб./Гкал",null,null,null,null,null,null,null,null,null,null,null,null,null,null,null,null,{"$f":"IF(AF388=0,0,AF386*1000/AF388)","v":0}]
[null,null,null,null,null,null,null,null,null,null,null,null,{"$f":"M386 & \".2\"","v":"D.3.2"},"объём","Гкал",null,null,null,null,null,null,null,null,null,null,null,null,null,null,null,null,{"$f":"AG388+AH388","v":0},{"$f":"SUMIF(БПр!$BA$131:$BA$188,AG$17 & \".0-\" & AG$9,БПр!$S$131:$S$188)+SUMIF(БПр!$BA$131:$BA$188,AG$17 & \".0-\" & AG$9,БПр!$AW$131:$AW$188)+IF(AG$16&\"::\"&VDET=\"TRANSPORT::руб/Гкал/час в мес::Передача\",SUMIF(БТр!$BB$131:$BB$188,AG$17 & \".0.YEAR\",БТр!$I$131:$I$188)*AG$6,SUMIF(БТр!$BA$131:$BA$188,AG$17 & \".0-\" & AG$9,БТр!$S$131:$S$188))","v":0},{"$f":"SUMIF(БПр!$BA$131:$BA$188,AH$17 & \".0-\" & AH$9,БПр!$S$131:$S$188)+SUMIF(БПр!$BA$131:$BA$188,AH$17 & \".0-\" & AH$9,БПр!$AW$131:$AW$188)+IF(AH$16&\"::\"&VDET=\"TRANSPORT::руб/Гкал/час в мес::Передача\",SUMIF(БТр!$BB$131:$BB$188,AH$17 & \".0.YEAR\",БТр!$I$131:$I$188)*AH$6,SUMIF(БТр!$BA$131:$BA$188,AH$17 & \".0-\" & AH$9,БТр!$S$131:$S$188))","v":0}]
[null,null,null,null,null,null,null,null,null,null,null,null,{"$f":"M377 & \".4\"","v":"D.4"},"Прочие","тыс.руб.",null,null,null,null,null,null,null,null,null,null,null,null,null,null,null,null,{"$f":"AG389+AH389","v":0},{"$f":"AG390*AG391/1000","v":0},{"$f":"AH390*AH391/1000","v":0}]
[null,null,null,null,null,null,null,null,null,null,null,null,{"$f":"M389 & \".1\"","v":"D.4.1"},"средневзвешенный тариф","руб./Гкал",null,null,null,null,null,null,null,null,null,null,null,null,null,null,null,null,{"$f":"IF(AF391=0,0,AF389*1000/AF391)","v":0}]
[null,null,null,null,null,null,null,null,null,null,null,null,{"$f":"M389 & \".2\"","v":"D.4.2"},"объём","Гкал",null,null,null,null,null,null,null,null,null,null,null,null,null,null,null,null,{"$f":"AG391+AH391","v":0},{"$f":"SUMIF(БПр!$BA$131:$BA$188,AG$17 & \".0-\" & AG$9,БПр!$T$131:$T$188)+SUMIF(БПр!$BA$131:$BA$188,AG$17 & \".0-\" & AG$9,БПр!$AX$131:$AX$188)+IF(AG$16&\"::\"&VDET=\"TRANSPORT::руб/Гкал/час в мес::Передача\",SUMIF(БТр!$BB$131:$BB$188,AG$17 & \".0.YEAR\",БТр!$I$131:$I$188)*AG$6,SUMIF(БТр!$BA$131:$BA$188,AG$17 & \".0-\" & AG$9,БТр!$T$131:$T$188))","v":0},{"$f":"SUMIF(БПр!$BA$131:$BA$188,AH$17 & \".0-\" & AH$9,БПр!$T$131:$T$188)+SUMIF(БПр!$BA$131:$BA$188,AH$17 & \".0-\" & AH$9,БПр!$AX$131:$AX$188)+IF(AH$16&\"::\"&VDET=\"TRANSPORT::руб/Гкал/час в мес::Передача\",SUMIF(БТр!$BB$131:$BB$188,AH$17 & \".0.YEAR\",БТр!$I$131:$I$188)*AH$6,SUMIF(БТр!$BA$131:$BA$188,AH$17 & \".0-\" & AH$9,БТр!$T$131:$T$188))","v":0}]
[null,null,null,null,null,null,null,null,null,null,null,null,{"$f":"M377 & \".5\"","v":"D.5"},"Объём дотаций из всех уровней бюджета","тыс.руб.",null,null,null,null,null,null,null,null,null,null,null,null,null,null,null,null,{"$f":"AG392+AH392","v":0}]
[null,null,null,null,null,null,null,null,null,null,null,null,{"$f":"M377 & \".6\"","v":"D.6"},"Доходы, полученные сверх реализации по утверждённым тарифам","тыс.руб.",null,null,null,null,null,null,null,null,null,null,null,null,null,null,null,null,{"$f":"AG393+AH393","v":0}]
[]
[]
[]
[]
[]
[]
[null,null,null,null,null,null,null,null,null,null,null,null,null,"Дополнительные показатели"]
[null,null,null,null,null,null,null,null,null,null,null,null,null,"Производство"]
[null,null,null,null,null,null,null,null,null,null,null,null,null,{"$f":"\"Стоимость основных средств, относимых на источники производства \" & RESOURCE_IDENTIFIER","v":"Стоимость основных средств, относимых на источники производства ТЭ"},"тыс.руб."]
[null,null,null,null,null,null,null,null,null,null,null,null,null,"Износ основных средств","%"]
[null,null,null,null,null,null,null,null,null,null,null,null,null,"Передача"]
[null,null,null,null,null,null,null,null,null,null,null,null,null,{"$f":"\"Стоимость основных средств, относимых на передачу \" & RESOURCE_IDENTIFIER","v":"Стоимость основных средств, относимых на передачу ТЭ"},"тыс.руб."]
[null,null,null,null,null,null,null,null,null,null,null,null,null,"Протяженность сетей (в двухтрубном исчислении)","км"]
[null,null,null,null,null,null,null,null,null,null,null,null,null,"Протяженность сетей, подлежащих замене (износ 100%)","км"]
[null,null,null,null,null,null,null,null,null,null,null,null,null,"Сбыт"]
[null,null,null,null,null,null,null,null,null,null,null,null,null,"Полезный отпуск наиболее крупному единичному потребителю","Гкал"]
[null,null,null,null,null,null,null,null,null,null,null,null,null,"Численность обслуживаемого населения","чел."]
[null,null,null,null,null,null,null,null,null,null,null,null,null,"Количество абонентов","тыс.ед."]
[]
[]
[]
[]
[]
[]
[]
[]
[]
[]
[]
[]
[]
[]
[]
[]
[]
[]
[]
[]
[]
[]
[]
[]
[]
[]
[]
[]
[]
[]
[]
[]
[]
[]
[]
[]
[]
[]
[]
[]
[]
[]
[]
[]
[]
[]
[]
[]
[]
[]
[]
[]
[]
[]
[]
[]
[]
[]
[]
[]
[]
[]
[]
[]
[]
[]
[]
[]
[]
[]
[]
[]
[]
[]
[]
[]
[]
[]
[]
[]
[]
[]
[]
[]
[]
[]
[]
[]
[]
[]
[]
[]
[]
[]
[]
[]
[]
[]
[]
[]
[]
[]
[]
[]
[]
[]
[]
[]
[]
[]
[]
[]
[]
[]
[]
[]
[]
[]
[]
[]
[]
[]
[]
[]
[]
[]
[]
[]
[]
[]
[]
[]
[]
[]
[]
[]
[]
[]
[]
[]
[]
[]
[]
[]
[]
[]
[]
[]
[]
[]
[]
[]
[]
[]
[]
[]
[]
[]
[]
[]
[]
[]
[]
[]
[]
[]
[]
[]
[]
[]
[]
[]
[]
[]
[]
[]
[]
[]
[]
[]
[]
[]
[]
[]
[]
[]
[]
[]
[]
[]
[]
[]
[]
[]
[]
[]
[]
[]
[]
[]
[]
[]
[]
[]
[]
[]
[]
[]
[]
[]
[]
[]
[]
[]
[]
[]
[]
[]
[]
[]
[]
[]
[]
[]
[]
[]
[]
[]
[]
[]
[]
[]
[]
[]
[]
[]
[]
[]
[]
[]
[]
[]
[]
[]
[]
[]
[]
[]
[]
[]
[]
[]
[]
[]
[]
[]
[]
[]
[]
[]
[]
[]
[]
[]
[]
[]
[]
[]
[]
[]
[]
[]
[]
[]
[]
[]
[]
[]
[]
[]
[]
[]
[]
[]
[]
[]
[]
[]
[]
[]
[]
[]
[]
[]
[]
[]
[]
[]
[]
[]
[]
[]
[]
[]
[]
[]
[]
[]
[]
[]
[]
[]
[]
[]
[]
[]
[]
[]
[]
[]
[]
[]
[]
[]
[]
[]
[]
[]
[]
[]
[]
[]
[]
[]
[]
[]
[]
[]
[]
[]
[]
[]
[]
[]
[]
[]
[]
[]
[]
[]
[]
[]
[]
[]
[]
[]
[]
[]
[]
[]
[]
[]
[]
[]
[]
[]
[]
[]
[]
[]
[]
[]
[]
[]
[]
[]
[]
[]
[]
[]
[]
[]
[]
[]
[]
[]
[]
[]
[]
[]
[]
[]
[]
[]
[]
[]
[]
[]
[]
[]
[]
[]
[]
[]
[]
[]
[]
[]
[]
[]
[]
[]
[]
[]
[]
[]
[]
[]
[]
[]
[]
[]
[]
[]
[]
[]
[]
[]
[]
[]
[]
[]
[]
[]
[]
[]
[]
[]
[]
[]
[]
[]
[]
[]
[]
[]
[]
[]
[]
[]
[]
[]
[]
[]
[]
[]
[]
[]
[]
[]
[]
[]
[]
[]
[]
[]
[]
[]
[]
[]
[]
[]
[]
[]
[]
[]
[]
[]
[]
[]
[]
[]
[]
[]
[]
[]
[]
[]
[]
[]
[]
[]
[]
[]
[]
[]
[]
[]
[]
[]
[]
[null,null,null,null,null,null,null,null,null,null,null,null,null,null,null,null,null,null,null,null,null,null,null,null,null,null,null,null,"HEAT_FUEL_ADD_RANGE"]
[]
[]
[]
[null,null,null,null,null,null,null,null,null,null,null,null,null,null,null,null,null,null,null,null,null,null,null,null,null,null,null,null,12,6,6]
[]
[]
[null,null,null,null,null,null,null,null,null,null,null,null,null,null,null,null,null,null,null,null,null,null,null,null,null,null,null,null,"Y","I","II"]
[]
[null,null,null,null,null,null,null,null,null,null,null,null,null,null,null,null,null,null,null,null,null,null,null,null,null,null,null,null,"Y","I","II"]
[]
[null,null,null,null,null,null,null,null,null,null,null,null,null,null,null,null,null,null,null,null,null,null,null,null,null,null,null,null,"Год","I полугодие","II полугодие"]
[]
[null,null,null,null,null,null,null,null,null,null,null,null,null,null,null,null,null,null,null,null,null,null,null,null,null,null,null,null,{"$f":"AC928 & \"_\" & AC920","v":"0_Y"},{"$f":"AD928 & \"_\" & AD920","v":"0_I"},{"$f":"AE928 & \"_\" & AE920","v":"0_II"}]
[]
[null,null,null,null,null,null,null,null,null,null,null,null,null,null,null,null,null,null,null,null,null,null,null,null,null,null,null,null,{"$f":"AC930","v":0},{"$f":"AC930","v":0},{"$f":"AC930","v":0}]
[null,null,null,null,null,null,null,null,null,null,null,null,null,null,null,null,null,null,null,null,null,null,null,null,null,null,null,null,"Удалить"]
[null,null,null,null,null,null,null,null,null,null,null,null,"№ п/п","Наименование показателя","Единица измерения"]
[null,null,null,null,null,null,null,null,null,null,null,null,null,null,null,null,null,null,null,null,null,null,null,null,null,null,null,null,null,null,null,null,null,null,null,null,null,null,null,null,null,null,null,null,null,null,"HEAT_FUEL_EMPTY_BASE_RANGE"]
[null,null,null,null,null,null,null,null,null,null,null,null,null,"Является ли организация плательщиком НДС",null,null,null,null,null,null,null,null,null,null,null,null,null,null,null,null,null,null,null,null,null,null,null,null,null,null,null,null,null,null,null,null,"HEAT_FUEL_SINGLE_BASE_RANGE"]
[null,null,null,null,null,null,null,null,null,null,null,null,null,{"$f":"IF(CALC_IDENTIFIER=\"\",\"\",CALC_IDENTIFIER)","v":""},null,null,null,null,null,null,null,null,null,null,null,null,null,null,null,null,null,null,null,null,null,null,null,null,null,null,null,null,null,null,null,null,"HEAT_FUEL_TEMPLATE_RANGE"]
[]
[]
[]
[]
[]
[]
[]
[]
[]
[]
[]
[]
[]
[null,null,null,null,null,null,null,null,null,null,null,null,"4","Стоимость натурального топлива с учётом транспортировки (перевозки) (топливо на технологические цели)","тыс.руб.",null,null,null,null,null,null,null,null,null,null,null,null,null,null,null,null,{"$f":"SUM(AF948,AF952:AF957,AF958,AF963,AF970,AF971,AF981:AF990)","v":0},{"$f":"SUM(AG948,AG952:AG957,AG958,AG963,AG970,AG971,AG981:AG990)","v":0},{"$f":"SUM(AH948,AH952:AH957,AH958,AH963,AH970,AH971,AH981:AH990)","v":0},null,null,null,{"$f":"SUM(AL948,AL952:AL957,AL958,AL963,AL970,AL971,AL981:AL990)","v":0},{"$f":"SUM(AM948,AM952:AM957,AM958,AM963,AM970,AM971,AM981:AM990)","v":0},{"$f":"SUM(AN948,AN952:AN957,AN958,AN963,AN970,AN971,AN981:AN990)","v":0}]
[null,null,null,null,null,null,null,null,null,null,null,null,"4.NG","Газ природный","тыс.руб.",null,null,null,null,null,null,null,null,null,null,null,null,null,null,null,null,null,null,null,null,null,null,{"$f":"SUM(AL949:AL951)","v":0},{"$f":"SUM(AM949:AM951)","v":0},{"$f":"SUM(AN949:AN951)","v":0},null,null,null,"NG"]
[null,null,null,null,null,null,null,null,null,null,null,null,"4.NGL","Газ лимитный","тыс.руб.",null,null,null,null,null,null,null,null,null,null,null,null,null,null,null,null,null,null,null,null,null,null,{"$f":"AL1321+AL1382+AL1390+AL1398","v":0},{"$f":"AM1321+AM1382+AM1390+AM1398","v":0},{"$f":"AN1321+AN1382+AN1390+AN1398","v":0},null,null,null,"NGL"]
[null,null,null,null,null,null,null,null,null,null,null,null,"4.NGU","Газ сверхлимитный","тыс.руб.",null,null,null,null,null,null,null,null,null,null,null,null,null,null,null,null,null,null,null,null,null,null,{"$f":"AL1322+AL1417+AL1425+AL1433","v":0},{"$f":"AM1322+AM1417+AM1425+AM1433","v":0},{"$f":"AN1322+AN1417+AN1425+AN1433","v":0},null,null,null,"NGU"]
[null,null,null,null,null,null,null,null,null,null,null,null,"4.NGC","Газ коммерческий","тыс.руб.",null,null,null,null,null,null,null,null,null,null,null,null,null,null,null,null,null,null,null,null,null,null,{"$f":"AL1323","v":0},{"$f":"AM1323","v":0},{"$f":"AN1323","v":0},null,null,null,"NGC"]
[null,null,null,null,null,null,null,null,null,null,null,null,"4.GBL","Газ доменный","тыс.руб.",null,null,null,null,null,null,null,null,null,null,null,null,null,null,null,null,null,null,null,null,null,null,{"$f":"AL1324+AL1529+AL1661+AL1793","v":0},0,0,null,null,null,"GBL"]
[null,null,null,null,null,null,null,null,null,null,null,null,"4.GCK","Газ коксовый","тыс.руб.",null,null,null,null,null,null,null,null,null,null,null,null,null,null,null,null,null,null,null,null,null,null,0,0,0,null,null,null,"GCK"]
[null,null,null,null,null,null,null,null,null,null,null,null,"4.GOA","Газ нефтяной (попутный)","тыс.руб.",null,null,null,null,null,null,null,null,null,null,null,null,null,null,null,null,null,null,null,null,null,null,0,0,0,null,null,null,"GOA"]
[null,null,null,null,null,null,null,null,null,null,null,null,"4.DSG","Газ сухой отбензиненный","тыс.руб.",null,null,null,null,null,null,null,null,null,null,null,null,null,null,null,null,null,null,null,null,null,null,0,0,0,null,null,null,"DSG"]
[null,null,null,null,null,null,null,null,null,null,null,null,"4.GCN","Газовый конденсат","тыс.руб.",null,null,null,null,null,null,null,null,null,null,null,null,null,null,null,null,null,null,null,null,null,null,0,0,0,null,null,null,"GCN"]
[null,null,null,null,null,null,null,null,null,null,null,null,"4.LNG","Газ сжиженный","тыс.руб.",null,null,null,null,null,null,null,null,null,null,null,null,null,null,null,null,null,null,null,null,null,null,0,0,0,null,null,null,"LNG"]
[null,null,null,null,null,null,null,null,null,null,null,null,"4.DSL","Дизельное топливо","тыс.руб.",null,null,null,null,null,null,null,null,null,null,null,null,null,null,null,null,null,null,null,null,null,null,0,0,0,null,null,null,"DSL"]
[null,null,null,null,null,null,null,null,null,null,null,null,"4.DSLA","А (арктическое)","тыс.руб.",null,null,null,null,null,null,null,null,null,null,null,null,null,null,null,null,null,null,null,null,null,null,0,0,0,null,null,null,"DSLA"]
[null,null,null,null,null,null,null,null,null,null,null,null,"4.DSLW","З (зимнее)","тыс.руб.",null,null,null,null,null,null,null,null,null,null,null,null,null,null,null,null,null,null,null,null,null,null,0,0,0,null,null,null,"DSLW"]
[null,null,null,null,null,null,null,null,null,null,null,null,"4.DSLS","Л (летнее)","тыс.руб.",null,null,null,null,null,null,null,null,null,null,null,null,null,null,null,null,null,null,null,null,null,null,0,0,0,null,null,null,"DSLS"]
[null,null,null,null,null,null,null,null,null,null,null,null,"4.DSLO","Е (межсезонное)","тыс.руб.",null,null,null,null,null,null,null,null,null,null,null,null,null,null,null,null,null,null,null,null,null,null,0,0,0,null,null,null,"DSLO"]
[null,null,null,null,null,null,null,null,null,null,null,null,"4.MST","Мазут","тыс.руб.",null,null,null,null,null,null,null,null,null,null,null,null,null,null,null,null,null,null,null,null,null,null,0,0,0,null,null,null,"MST"]
[null,null,null,null,null,null,null,null,null,null,null,null,"4.MSTM40","М-40","тыс.руб.",null,null,null,null,null,null,null,null,null,null,null,null,null,null,null,null,null,null,null,null,null,null,0,0,0,null,null,null,"MSTM40"]
[null,null,null,null,null,null,null,null,null,null,null,null,"4.MSTM100","М-100","тыс.руб.",null,null,null,null,null,null,null,null,null,null,null,null,null,null,null,null,null,null,null,null,null,null,0,0,0,null,null,null,"MSTM100"]
[null,null,null,null,null,null,null,null,null,null,null,null,"4.MSTM200","М-200","тыс.руб.",null,null,null,null,null,null,null,null,null,null,null,null,null,null,null,null,null,null,null,null,null,null,0,0,0,null,null,null,"MSTM200"]
[null,null,null,null,null,null,null,null,null,null,null,null,"4.MSTT","мазут марки \"Т\"","тыс.руб.",null,null,null,null,null,null,null,null,null,null,null,null,null,null,null,null,null,null,null,null,null,null,0,0,0,null,null,null,"MSTT"]
[null,null,null,null,null,null,null,null,null,null,null,null,"4.MSTF5","Ф-5","тыс.руб.",null,null,null,null,null,null,null,null,null,null,null,null,null,null,null,null,null,null,null,null,null,null,{"$f":"AL1340+AL1545+AL1677+AL1809","v":0},0,0,null,null,null,"MSTF5"]
[null,null,null,null,null,null,null,null,null,null,null,null,"4.MSTF12","Ф-12","тыс.руб.",null,null,null,null,null,null,null,null,null,null,null,null,null,null,null,null,null,null,null,null,null,null,0,0,0,null,null,null,"MSTF12"]
[null,null,null,null,null,null,null,null,null,null,null,null,"4.OIL","Нефть","тыс.руб.",null,null,null,null,null,null,null,null,null,null,null,null,null,null,null,null,null,null,null,null,null,null,0,0,0,null,null,null,"OIL"]
[null,null,null,null,null,null,null,null,null,null,null,null,"4.COA","Уголь","тыс.руб.",null,null,null,null,null,null,null,null,null,null,null,null,null,null,null,null,null,null,null,null,null,null,0,0,0,null,null,null,"COA"]
[null,null,null,null,null,null,null,null,null,null,null,null,"4.COAA","Уголь антрацит","тыс.руб.",null,null,null,null,null,null,null,null,null,null,null,null,null,null,null,null,null,null,null,null,null,null,0,0,0,null,null,null,"COAA"]
[null,null,null,null,null,null,null,null,null,null,null,null,"4.COAB","Уголь бурый","тыс.руб.",null,null,null,null,null,null,null,null,null,null,null,null,null,null,null,null,null,null,null,null,null,null,0,0,0,null,null,null,"COAB"]
[null,null,null,null,null,null,null,null,null,null,null,null,"4.COAG","Уголь газовый","тыс.руб.",null,null,null,null,null,null,null,null,null,null,null,null,null,null,null,null,null,null,null,null,null,null,0,0,0,null,null,null,"COAG"]
[null,null,null,null,null,null,null,null,null,null,null,null,"4.COALF","Уголь длиннопламенный","тыс.руб.",null,null,null,null,null,null,null,null,null,null,null,null,null,null,null,null,null,null,null,null,null,null,0,0,0,null,null,null,"COALF"]
[null,null,null,null,null,null,null,null,null,null,null,null,"4.COAF","Уголь жирный","тыс.руб.",null,null,null,null,null,null,null,null,null,null,null,null,null,null,null,null,null,null,null,null,null,null,0,0,0,null,null,null,"COAF"]
[null,null,null,null,null,null,null,null,null,null,null,null,"4.COAC","Уголь коксовый","тыс.руб.",null,null,null,null,null,null,null,null,null,null,null,null,null,null,null,null,null,null,null,null,null,null,0,0,0,null,null,null,"COAC"]
[null,null,null,null,null,null,null,null,null,null,null,null,"4.COASC","Уголь отощённо-спекающийся","тыс.руб.",null,null,null,null,null,null,null,null,null,null,null,null,null,null,null,null,null,null,null,null,null,null,0,0,0,null,null,null,"COASC"]
[null,null,null,null,null,null,null,null,null,null,null,null,"4.COAWC","Уголь слабоспекающийся","тыс.руб.",null,null,null,null,null,null,null,null,null,null,null,null,null,null,null,null,null,null,null,null,null,null,0,0,0,null,null,null,"COAWC"]
[null,null,null,null,null,null,null,null,null,null,null,null,"4.COAS","Уголь тощий","тыс.руб.",null,null,null,null,null,null,null,null,null,null,null,null,null,null,null,null,null,null,null,null,null,null,0,0,0,null,null,null,"COAS"]
[null,null,null,null,null,null,null,null,null,null,null,null,"4.ENR","Энергия","тыс.руб.",null,null,null,null,null,null,null,null,null,null,null,null,null,null,null,null,null,null,null,null,null,null,{"$f":"SUM(AL1837,AL1843,AL1849,AL1855)","v":0},{"$f":"SUM(AM1837,AM1843,AM1849,AM1855)","v":0},{"$f":"SUM(AN1837,AN1843,AN1849,AN1855)","v":0},null,null,null,"ENR"]
[null,null,null,null,null,null,null,null,null,null,null,null,"4.PWR","Заявленная мощность","тыс.руб.",null,null,null,null,null,null,null,null,null,null,null,null,null,null,null,null,null,null,null,null,null,null,{"$f":"SUM(AL1840,AL1846,AL1852,AL1858)","v":0},{"$f":"SUM(AM1840,AM1846,AM1852,AM1858)","v":0},{"$f":"SUM(AN1840,AN1846,AN1852,AN1858)","v":0},null,null,null,"PWR"]
[null,null,null,null,null,null,null,null,null,null,null,null,"4.CWD","Уголь древесный","тыс.руб.",null,null,null,null,null,null,null,null,null,null,null,null,null,null,null,null,null,null,null,null,null,null,{"$f":"AL1355+AL1560+AL1692+AL1824","v":0},0,0,null,null,null,"CWD"]
[null,null,null,null,null,null,null,null,null,null,null,null,"4.WDS","Дрова","тыс.руб.",null,null,null,null,null,null,null,null,null,null,null,null,null,null,null,null,null,null,null,null,null,null,0,0,0,null,null,null,"WDS"]
[null,null,null,null,null,null,null,null,null,null,null,null,"4.PLT","Пеллеты","тыс.руб.",null,null,null,null,null,null,null,null,null,null,null,null,null,null,null,null,null,null,null,null,null,null,0,0,0,null,null,null,"PLT"]
[null,null,null,null,null,null,null,null,null,null,null,null,"4.SAW","Опилки","тыс.руб.",null,null,null,null,null,null,null,null,null,null,null,null,null,null,null,null,null,null,null,null,null,null,0,0,0,null,null,null,"SAW"]
[null,null,null,null,null,null,null,null,null,null,null,null,"4.PEA","Торф","тыс.руб.",null,null,null,null,null,null,null,null,null,null,null,null,null,null,null,null,null,null,null,null,null,null,0,0,0,null,null,null,"PEA"]
[null,null,null,null,null,null,null,null,null,null,null,null,"4.SHL","Сланцы","тыс.руб.",null,null,null,null,null,null,null,null,null,null,null,null,null,null,null,null,null,null,null,null,null,null,0,0,0,null,null,null,"SHL"]
[null,null,null,null,null,null,null,null,null,null,null,null,"4.STF","Печное бытовое топливо","тыс.руб.",null,null,null,null,null,null,null,null,null,null,null,null,null,null,null,null,null,null,null,null,null,null,0,0,0,null,null,null,"STF"]
[null,null,null,null,null,null,null,null,null,null,null,null,"4.OTH","Прочие виды топлива","тыс.руб.",null,null,null,null,null,null,null,null,null,null,null,null,null,null,null,null,null,null,null,null,null,null,{"$f":"AL1862","v":0},{"$f":"AM1862","v":0},{"$f":"AN1862","v":0},null,null,null,"OTH"]
[null,null,null,null,null,null,null,null,null,null,null,null,"4.CFPTR","Цена условного топлива с учётом транспортировки (перевозки)","тыс.руб./тут",null,null,null,null,null,null,null,null,null,null,null,null,null,null,null,null,{"$f":"IF(AF1079=0,0,AF947/AF1079)","v":0},{"$f":"IF(AG1079=0,0,AG947/AG1079)","v":0},{"$f":"IF(AH1079=0,0,AH947/AH1079)","v":0},null,null,null,{"$f":"IF(AL1079=0,0,AL947/AL1079)","v":0},0,0]
[null,null,null,null,null,null,null,null,null,null,null,null,"4.CFPTR.NG","Газ природный","тыс.руб./тут",null,null,null,null,null,null,null,null,null,null,null,null,null,null,null,null,null,null,null,null,null,null,0,0,0,null,null,null,"NG"]
[null,null,null,null,null,null,null,null,null,null,null,null,"4.CFPTR.NGL","Газ лимитный","тыс.руб./тут",null,null,null,null,null,null,null,null,null,null,null,null,null,null,null,null,null,null,null,null,null,null,0,0,0,null,null,null,"NGL"]
[null,null,null,null,null,null,null,null,null,null,null,null,"4.CFPTR.NGU","Газ сверхлимитный","тыс.руб./тут",null,null,null,null,null,null,null,null,null,null,null,null,null,null,null,null,null,null,null,null,null,null,0,0,0,null,null,null,"NGU"]
[null,null,null,null,null,null,null,null,null,null,null,null,"4.CFPTR.NGC","Газ коммерческий","тыс.руб./тут",null,null,null,null,null,null,null,null,null,null,null,null,null,null,null,null,null,null,null,null,null,null,0,0,0,null,null,null,"NGC"]
[null,null,null,null,null,null,null,null,null,null,null,null,"4.CFPTR.GBL","Газ доменный","тыс.руб./тут",null,null,null,null,null,null,null,null,null,null,null,null,null,null,null,null,null,null,null,null,null,null,0,0,0,null,null,null,"GBL"]
[null,null,null,null,null,null,null,null,null,null,null,null,"4.CFPTR.GCK","Газ коксовый","тыс.руб./тут",null,null,null,null,null,null,null,null,null,null,null,null,null,null,null,null,null,null,null,null,null,null,0,0,0,null,null,null,"GCK"]
[null,null,null,null,null,null,null,null,null,null,null,null,"4.CFPTR.GOA","Газ нефтяной (попутный)","тыс.руб./тут",null,null,null,null,null,null,null,null,null,null,null,null,null,null,null,null,null,null,null,null,null,null,0,0,0,null,null,null,"GOA"]
[null,null,null,null,null,null,null,null,null,null,null,null,"4.CFPTR.DSG","Газ сухой отбензиненный","тыс.руб./тут",null,null,null,null,null,null,null,null,null,null,null,null,null,null,null,null,null,null,null,null,null,null,0,0,0,null,null,null,"DSG"]
[null,null,null,null,null,null,null,null,null,null,null,null,"4.CFPTR.GCN","Газовый конденсат","тыс.руб./тут",null,null,null,null,null,null,null,null,null,null,null,null,null,null,null,null,null,null,null,null,null,null,0,0,0,null,null,null,"GCN"]
[null,null,null,null,null,null,null,null,null,null,null,null,"4.CFPTR.LNG","Газ сжиженный","тыс.руб./тут",null,null,null,null,null,null,null,null,null,null,null,null,null,null,null,null,null,null,null,null,null,null,0,0,0,null,null,null,"LNG"]
[null,null,null,null,null,null,null,null,null,null,null,null,"4.CFPTR.DSL","Дизельное топливо","тыс.руб./тут",null,null,null,null,null,null,null,null,null,null,null,null,null,null,null,null,null,null,null,null,null,null,0,0,0,null,null,null,"DSL"]
[null,null,null,null,null,null,null,null,null,null,null,null,"4.CFPTR.DSLA","А (арктическое)","тыс.руб./тут",null,null,null,null,null,null,null,null,null,null,null,null,null,null,null,null,null,null,null,null,null,null,0,0,0,null,null,null,"DSLA"]
[null,null,null,null,null,null,null,null,null,null,null,null,"4.CFPTR.DSLW","З (зимнее)","тыс.руб./тут",null,null,null,null,null,null,null,null,null,null,null,null,null,null,null,null,null,null,null,null,null,null,0,0,0,null,null,null,"DSLW"]
[null,null,null,null,null,null,null,null,null,null,null,null,"4.CFPTR.DSLS","Л (летнее)","тыс.руб./тут",null,null,null,null,null,null,null,null,null,null,null,null,null,null,null,null,null,null,null,null,null,null,0,0,0,null,null,null,"DSLS"]
[null,null,null,null,null,null,null,null,null,null,null,null,"4.CFPTR.DSLO","Е (межсезонное)","тыс.руб./тут",null,null,null,null,null,null,null,null,null,null,null,null,null,null,null,null,null,null,null,null,null,null,0,0,0,null,null,null,"DSLO"]
[null,null,null,null,null,null,null,null,null,null,null,null,"4.CFPTR.MST","Мазут","тыс.руб./тут",null,null,null,null,null,null,null,null,null,null,null,null,null,null,null,null,null,null,null,null,null,null,{"$f":"IF(AL1095=0,0,AL963/AL1095)","v":0},0,0,null,null,null,"MST"]
[null,null,null,null,null,null,null,null,null,null,null,null,"4.CFPTR.MSTM40","М-40","тыс.руб./тут",null,null,null,null,null,null,null,null,null,null,null,null,null,null,null,null,null,null,null,null,null,null,0,0,0,null,null,null,"MSTM40"]
[null,null,null,null,null,null,null,null,null,null,null,null,"4.CFPTR.MSTM100","М-100","тыс.руб./тут",null,null,null,null,null,null,null,null,null,null,null,null,null,null,null,null,null,null,null,null,null,null,0,0,0,null,null,null,"MSTM100"]
[null,null,null,null,null,null,null,null,null,null,null,null,"4.CFPTR.MSTM200","М-200","тыс.руб./тут",null,null,null,null,null,null,null,null,null,null,null,null,null,null,null,null,null,null,null,null,null,null,0,0,0,null,null,null,"MSTM200"]
[null,null,null,null,null,null,null,null,null,null,null,null,"4.CFPTR.MSTT","мазут марки \"Т\"","тыс.руб./тут",null,null,null,null,null,null,null,null,null,null,null,null,null,null,null,null,null,null,null,null,null,null,0,0,0,null,null,null,"MSTT"]
[null,null,null,null,null,null,null,null,null,null,null,null,"4.CFPTR.MSTF5","Ф-5","тыс.руб./тут",null,null,null,null,null,null,null,null,null,null,null,null,null,null,null,null,null,null,null,null,null,null,0,0,0,null,null,null,"MSTF5"]
[null,null,null,null,null,null,null,null,null,null,null,null,"4.CFPTR.MSTF12","Ф-12","тыс.руб./тут",null,null,null,null,null,null,null,null,null,null,null,null,null,null,null,null,null,null,null,null,null,null,0,0,0,null,null,null,"MSTF12"]
[null,null,null,null,null,null,null,null,null,null,null,null,"4.CFPTR.OIL","Нефть","тыс.руб./тут",null,null,null,null,null,null,null,null,null,null,null,null,null,null,null,null,null,null,null,null,null,null,0,0,0,null,null,null,"OIL"]
[null,null,null,null,null,null,null,null,null,null,null,null,"4.CFPTR.COA","Уголь","тыс.руб./тут",null,null,null,null,null,null,null,null,null,null,null,null,null,null,null,null,null,null,null,null,null,null,0,0,0,null,null,null,"COA"]
[null,null,null,null,null,null,null,null,null,null,null,null,"4.CFPTR.COAA","Уголь антрацит","тыс.руб./тут",null,null,null,null,null,null,null,null,null,null,null,null,null,null,null,null,null,null,null,null,null,null,0,0,0,null,null,null,"COAA"]
[null,null,null,null,null,null,null,null,null,null,null,null,"4.CFPTR.COAB","Уголь бурый","тыс.руб./тут",null,null,null,null,null,null,null,null,null,null,null,null,null,null,null,null,null,null,null,null,null,null,0,0,0,null,null,null,"COAB"]
[null,null,null,null,null,null,null,null,null,null,null,null,"4.CFPTR.COAG","Уголь газовый","тыс.руб./тут",null,null,null,null,null,null,null,null,null,null,null,null,null,null,null,null,null,null,null,null,null,null,0,0,0,null,null,null,"COAG"]
[null,null,null,null,null,null,null,null,null,null,null,null,"4.CFPTR.COALF","Уголь длиннопламенный","тыс.руб./тут",null,null,null,null,null,null,null,null,null,null,null,null,null,null,null,null,null,null,null,null,null,null,0,0,0,null,null,null,"COALF"]
[null,null,null,null,null,null,null,null,null,null,null,null,"4.CFPTR.COAF","Уголь жирный","тыс.руб./тут",null,null,null,null,null,null,null,null,null,null,null,null,null,null,null,null,null,null,null,null,null,null,0,0,0,null,null,null,"COAF"]
[null,null,null,null,null,null,null,null,null,null,null,null,"4.CFPTR.COAC","Уголь коксовый","тыс.руб./тут",null,null,null,null,null,null,null,null,null,null,null,null,null,null,null,null,null,null,null,null,null,null,0,0,0,null,null,null,"COAC"]
[null,null,null,null,null,null,null,null,null,null,null,null,"4.CFPTR.COASC","Уголь отощённо-спекающийся","тыс.руб./тут",null,null,null,null,null,null,null,null,null,null,null,null,null,null,null,null,null,null,null,null,null,null,0,0,0,null,null,null,"COASC"]
[null,null,null,null,null,null,null,null,null,null,null,null,"4.CFPTR.COAWC","Уголь слабоспекающийся","тыс.руб./тут",null,null,null,null,null,null,null,null,null,null,null,null,null,null,null,null,null,null,null,null,null,null,{"$f":"IF(AL1111=0,0,AL979/AL1111)","v":0},0,0,null,null,null,"COAWC"]
[null,null,null,null,null,null,null,null,null,null,null,null,"4.CFPTR.COAS","Уголь тощий","тыс.руб./тут",null,null,null,null,null,null,null,null,null,null,null,null,null,null,null,null,null,null,null,null,null,null,0,0,0,null,null,null,"COAS"]
[]
[]
[null,null,null,null,null,null,null,null,null,null,null,null,"4.CFPTR.CWD","Уголь древесный","тыс.руб./тут",null,null,null,null,null,null,null,null,null,null,null,null,null,null,null,null,null,null,null,null,null,null,{"$f":"IF(AL1115=0,0,AL983/AL1115)","v":0},0,0,null,null,null,"CWD"]
[null,null,null,null,null,null,null,null,null,null,null,null,"4.CFPTR.WDS","Дрова","тыс.руб./тут",null,null,null,null,null,null,null,null,null,null,null,null,null,null,null,null,null,null,null,null,null,null,0,0,0,null,null,null,"WDS"]
[null,null,null,null,null,null,null,null,null,null,null,null,"4.CFPTR.PLT","Пеллеты","тыс.руб./тут",null,null,null,null,null,null,null,null,null,null,null,null,null,null,null,null,null,null,null,null,null,null,0,0,0,null,null,null,"PLT"]
[null,null,null,null,null,null,null,null,null,null,null,null,"4.CFPTR.SAW","Опилки","тыс.руб./тут",null,null,null,null,null,null,null,null,null,null,null,null,null,null,null,null,null,null,null,null,null,null,0,0,0,null,null,null,"SAW"]
[null,null,null,null,null,null,null,null,null,null,null,null,"4.CFPTR.PEA","Торф","тыс.руб./тут",null,null,null,null,null,null,null,null,null,null,null,null,null,null,null,null,null,null,null,null,null,null,0,0,0,null,null,null,"PEA"]
[null,null,null,null,null,null,null,null,null,null,null,null,"4.CFPTR.SHL","Сланцы","тыс.руб./тут",null,null,null,null,null,null,null,null,null,null,null,null,null,null,null,null,null,null,null,null,null,null,0,0,0,null,null,null,"SHL"]
[null,null,null,null,null,null,null,null,null,null,null,null,"4.CFPTR.STF","Печное бытовое топливо","тыс.руб./тут",null,null,null,null,null,null,null,null,null,null,null,null,null,null,null,null,null,null,null,null,null,null,0,0,0,null,null,null,"STF"]
[]
[null,null,null,null,null,null,null,null,null,null,null,null,"4.NFPTR","Цена натурального топлива с учётом транспортировки (перевозки)"]
[null,null,null,null,null,null,null,null,null,null,null,null,"4.NFPTR.NG","Газ природный","руб./тыс.м3",null,null,null,null,null,null,null,null,null,null,null,null,null,null,null,null,null,null,null,null,null,null,{"$f":"IF(AL1212=0,0,AL948/AL1212*1000)","v":0},0,0,null,null,null,"NG"]
[null,null,null,null,null,null,null,null,null,null,null,null,"4.NFPTR.NGL","Газ лимитный","руб./тыс.м3",null,null,null,null,null,null,null,null,null,null,null,null,null,null,null,null,null,null,null,null,null,null,0,0,0,null,null,null,"NGL"]
[null,null,null,null,null,null,null,null,null,null,null,null,"4.NFPTR.NGU","Газ сверхлимитный","руб./тыс.м3",null,null,null,null,null,null,null,null,null,null,null,null,null,null,null,null,null,null,null,null,null,null,0,0,0,null,null,null,"NGU"]
[null,null,null,null,null,null,null,null,null,null,null,null,"4.NFPTR.NGC","Газ коммерческий","руб./тыс.м3",null,null,null,null,null,null,null,null,null,null,null,null,null,null,null,null,null,null,null,null,null,null,0,0,0,null,null,null,"NGC"]
[null,null,null,null,null,null,null,null,null,null,null,null,"4.NFPTR.GBL","Газ доменный","руб./тнт",null,null,null,null,null,null,null,null,null,null,null,null,null,null,null,null,null,null,null,null,null,null,0,0,0,null,null,null,"GBL"]
[null,null,null,null,null,null,null,null,null,null,null,null,"4.NFPTR.GCK","Газ коксовый","руб./тнт",null,null,null,null,null,null,null,null,null,null,null,null,null,null,null,null,null,null,null,null,null,null,0,0,0,null,null,null,"GCK"]
[null,null,null,null,null,null,null,null,null,null,null,null,"4.NFPTR.GOA","Газ нефтяной (попутный)","руб./тнт",null,null,null,null,null,null,null,null,null,null,null,null,null,null,null,null,null,null,null,null,null,null,0,0,0,null,null,null,"GOA"]
[null,null,null,null,null,null,null,null,null,null,null,null,"4.NFPTR.DSG","Газ сухой отбензиненный","руб./тнт",null,null,null,null,null,null,null,null,null,null,null,null,null,null,null,null,null,null,null,null,null,null,0,0,0,null,null,null,"DSG"]
[null,null,null,null,null,null,null,null,null,null,null,null,"4.NFPTR.GCN","Газовый конденсат","руб./тнт",null,null,null,null,null,null,null,null,null,null,null,null,null,null,null,null,null,null,null,null,null,null,0,0,0,null,null,null,"GCN"]
[null,null,null,null,null,null,null,null,null,null,null,null,"4.NFPTR.LNG","Газ сжиженный","руб./тнт",null,null,null,null,null,null,null,null,null,null,null,null,null,null,null,null,null,null,null,null,null,null,0,0,0,null,null,null,"LNG"]
[null,null,null,null,null,null,null,null,null,null,null,null,"4.NFPTR.DSL","Дизельное топливо","руб./тнт",null,null,null,null,null,null,null,null,null,null,null,null,null,null,null,null,null,null,null,null,null,null,0,0,0,null,null,null,"DSL"]
[null,null,null,null,null,null,null,null,null,null,null,null,"4.NFPTR.DSLA","А (арктическое)","руб./тнт",null,null,null,null,null,null,null,null,null,null,null,null,null,null,null,null,null,null,null,null,null,null,0,0,0,null,null,null,"DSLA"]
[null,null,null,null,null,null,null,null,null,null,null,null,"4.NFPTR.DSLW","З (зимнее)","руб./тнт",null,null,null,null,null,null,null,null,null,null,null,null,null,null,null,null,null,null,null,null,null,null,0,0,0,null,null,null,"DSLW"]
[null,null,null,null,null,null,null,null,null,null,null,null,"4.NFPTR.DSLS","Л (летнее)","руб./тнт",null,null,null,null,null,null,null,null,null,null,null,null,null,null,null,null,null,null,null,null,null,null,0,0,0,null,null,null,"DSLS"]
[null,null,null,null,null,null,null,null,null,null,null,null,"4.NFPTR.DSLO","Е (межсезонное)","руб./тнт",null,null,null,null,null,null,null,null,null,null,null,null,null,null,null,null,null,null,null,null,null,null,0,0,0,null,null,null,"DSLO"]
[null,null,null,null,null,null,null,null,null,null,null,null,"4.NFPTR.MST","Мазут","руб./тнт",null,null,null,null,null,null,null,null,null,null,null,null,null,null,null,null,null,null,null,null,null,null,0,0,0,null,null,null,"MST"]
[null,null,null,null,null,null,null,null,null,null,null,null,"4.NFPTR.MSTM40","М-40","руб./тнт",null,null,null,null,null,null,null,null,null,null,null,null,null,null,null,null,null,null,null,null,null,null,{"$f":"IF(AL1228=0,0,AL964/AL1228*1000)","v":0},0,0,null,null,null,"MSTM40"]
[null,null,null,null,null,null,null,null,null,null,null,null,"4.NFPTR.MSTM100","М-100","руб./тнт",null,null,null,null,null,null,null,null,null,null,null,null,null,null,null,null,null,null,null,null,null,null,0,0,0,null,null,null,"MSTM100"]
[null,null,null,null,null,null,null,null,null,null,null,null,"4.NFPTR.MSTM200","М-200","руб./тнт",null,null,null,null,null,null,null,null,null,null,null,null,null,null,null,null,null,null,null,null,null,null,0,0,0,null,null,null,"MSTM200"]
[null,null,null,null,null,null,null,null,null,null,null,null,"4.NFPTR.MSTT","мазут марки \"Т\"","руб./тнт",null,null,null,null,null,null,null,null,null,null,null,null,null,null,null,null,null,null,null,null,null,null,0,0,0,null,null,null,"MSTT"]
[null,null,null,null,null,null,null,null,null,null,null,null,"4.NFPTR.MSTF5","Ф-5","руб./тнт",null,null,null,null,null,null,null,null,null,null,null,null,null,null,null,null,null,null,null,null,null,null,0,0,0,null,null,null,"MSTF5"]
[null,null,null,null,null,null,null,null,null,null,null,null,"4.NFPTR.MSTF12","Ф-12","руб./тнт",null,null,null,null,null,null,null,null,null,null,null,null,null,null,null,null,null,null,null,null,null,null,0,0,0,null,null,null,"MSTF12"]
[null,null,null,null,null,null,null,null,null,null,null,null,"4.NFPTR.OIL","Нефть","руб./тнт",null,null,null,null,null,null,null,null,null,null,null,null,null,null,null,null,null,null,null,null,null,null,0,0,0,null,null,null,"OIL"]
[null,null,null,null,null,null,null,null,null,null,null,null,"4.NFPTR.COA","Уголь","руб./тнт",null,null,null,null,null,null,null,null,null,null,null,null,null,null,null,null,null,null,null,null,null,null,0,0,0,null,null,null,"COA"]
[null,null,null,null,null,null,null,null,null,null,null,null,"4.NFPTR.COAA","Уголь антрацит","руб./тнт",null,null,null,null,null,null,null,null,null,null,null,null,null,null,null,null,null,null,null,null,null,null,0,0,0,null,null,null,"COAA"]
[null,null,null,null,null,null,null,null,null,null,null,null,"4.NFPTR.COAB","Уголь бурый","руб./тнт",null,null,null,null,null,null,null,null,null,null,null,null,null,null,null,null,null,null,null,null,null,null,0,0,0,null,null,null,"COAB"]
[null,null,null,null,null,null,null,null,null,null,null,null,"4.NFPTR.COAG","Уголь газовый","руб./тнт",null,null,null,null,null,null,null,null,null,null,null,null,null,null,null,null,null,null,null,null,null,null,0,0,0,null,null,null,"COAG"]
[null,null,null,null,null,null,null,null,null,null,null,null,"4.NFPTR.COALF","Уголь длиннопламенный","руб./тнт",null,null,null,null,null,null,null,null,null,null,null,null,null,null,null,null,null,null,null,null,null,null,0,0,0,null,null,null,"COALF"]
[null,null,null,null,null,null,null,null,null,null,null,null,"4.NFPTR.COAF","Уголь жирный","руб./тнт",null,null,null,null,null,null,null,null,null,null,null,null,null,null,null,null,null,null,null,null,null,null,0,0,0,null,null,null,"COAF"]
[null,null,null,null,null,null,null,null,null,null,null,null,"4.NFPTR.COAC","Уголь коксовый","руб./тнт",null,null,null,null,null,null,null,null,null,null,null,null,null,null,null,null,null,null,null,null,null,null,0,0,0,null,null,null,"COAC"]
[null,null,null,null,null,null,null,null,null,null,null,null,"4.NFPTR.COASC","Уголь отощённо-спекающийся","руб./тнт",null,null,null,null,null,null,null,null,null,null,null,null,null,null,null,null,null,null,null,null,null,null,0,0,0,null,null,null,"COASC"]
[null,null,null,null,null,null,null,null,null,null,null,null,"4.NFPTR.COAWC","Уголь слабоспекающийся","руб./тнт",null,null,null,null,null,null,null,null,null,null,null,null,null,null,null,null,null,null,null,null,null,null,0,0,0,null,null,null,"COAWC"]
[null,null,null,null,null,null,null,null,null,null,null,null,"4.NFPTR.COAS","Уголь тощий","руб./тнт",null,null,null,null,null,null,null,null,null,null,null,null,null,null,null,null,null,null,null,null,null,null,{"$f":"IF(AL1244=0,0,AL980/AL1244*1000)","v":0},{"$f":"IF(AM1244=0,0,AM980/AM1244*1000)","v":0},{"$f":"IF(AN1244=0,0,AN980/AN1244*1000)","v":0},null,null,null,"COAS"]
[null,null,null,null,null,null,null,null,null,null,null,null,"4.NFPTR.ENR","Энергия","руб./кВт*ч",null,null,null,null,null,null,null,null,null,null,null,null,null,null,null,null,null,null,null,null,null,null,{"$f":"IF(AL1835=0,0,AL981/AL1835)","v":0},0,0,null,null,null,"ENR"]
[null,null,null,null,null,null,null,null,null,null,null,null,"4.NFPTR.PWR","Заявленная мощность","руб./кВт*мес",null,null,null,null,null,null,null,null,null,null,null,null,null,null,null,null,null,null,null,null,null,null,0,0,0,null,null,null,"PWR"]
[null,null,null,null,null,null,null,null,null,null,null,null,"4.NFPTR.CWD","Уголь древесный","руб./тнт",null,null,null,null,null,null,null,null,null,null,null,null,null,null,null,null,null,null,null,null,null,null,{"$f":"IF(AL1247=0,0,AL983/AL1247*1000)","v":0},0,0,null,null,null,"CWD"]
[null,null,null,null,null,null,null,null,null,null,null,null,"4.NFPTR.WDS","Дрова","руб./тнт",null,null,null,null,null,null,null,null,null,null,null,null,null,null,null,null,null,null,null,null,null,null,0,0,0,null,null,null,"WDS"]
[null,null,null,null,null,null,null,null,null,null,null,null,"4.NFPTR.PLT","Пеллеты","руб./тнт",null,null,null,null,null,null,null,null,null,null,null,null,null,null,null,null,null,null,null,null,null,null,0,0,0,null,null,null,"PLT"]
[null,null,null,null,null,null,null,null,null,null,null,null,"4.NFPTR.SAW","Опилки","руб./тнт",null,null,null,null,null,null,null,null,null,null,null,null,null,null,null,null,null,null,null,null,null,null,0,0,0,null,null,null,"SAW"]
[null,null,null,null,null,null,null,null,null,null,null,null,"4.NFPTR.PEA","Торф","руб./тнт",null,null,null,null,null,null,null,null,null,null,null,null,null,null,null,null,null,null,null,null,null,null,0,0,0,null,null,null,"PEA"]
[null,null,null,null,null,null,null,null,null,null,null,null,"4.NFPTR.SHL","Сланцы","руб./тнт",null,null,null,null,null,null,null,null,null,null,null,null,null,null,null,null,null,null,null,null,null,null,0,0,0,null,null,null,"SHL"]
[null,null,null,null,null,null,null,null,null,null,null,null,"4.NFPTR.STF","Печное бытовое топливо","руб./тнт",null,null,null,null,null,null,null,null,null,null,null,null,null,null,null,null,null,null,null,null,null,null,0,0,0,null,null,null,"STF"]
[]
[null,null,null,null,null,null,null,null,null,null,null,null,"4.CFV","Расход условного топлива","тут",null,null,null,null,null,null,null,null,null,null,null,null,null,null,null,null,{"$f":"SUM(AF1080,AF1084:AF1089,AF1090,AF1095,AF1102,AF1103,AF1115:AF1121)","v":0},{"$f":"SUM(AG1080,AG1084:AG1089,AG1090,AG1095,AG1102,AG1103,AG1115:AG1121)","v":0},{"$f":"SUM(AH1080,AH1084:AH1089,AH1090,AH1095,AH1102,AH1103,AH1115:AH1121)","v":0},null,null,null,{"$f":"SUM(AL1080,AL1084:AL1089,AL1090,AL1095,AL1102,AL1103,AL1115:AL1121)","v":0},{"$f":"SUM(AM1080,AM1084:AM1089,AM1090,AM1095,AM1102,AM1103,AM1115:AM1121)","v":0},{"$f":"SUM(AN1080,AN1084:AN1089,AN1090,AN1095,AN1102,AN1103,AN1115:AN1121)","v":0}]
[null,null,null,null,null,null,null,null,null,null,null,null,"4.CFV.NG","Газ природный","тут",null,null,null,null,null,null,null,null,null,null,null,null,null,null,null,null,null,null,null,null,null,null,{"$f":"AM1080+AN1080","v":0},{"$f":"SUM(AM1081:AM1083)","v":0},{"$f":"SUM(AN1081:AN1083)","v":0},null,null,null,"NG"]
[null,null,null,null,null,null,null,null,null,null,null,null,"4.CFV.NGL","Газ лимитный","тут",null,null,null,null,null,null,null,null,null,null,null,null,null,null,null,null,null,null,null,null,null,null,0,{"$f":"AM1169*AM1213","v":0},0,null,null,null,"NGL"]
[null,null,null,null,null,null,null,null,null,null,null,null,"4.CFV.NGU","Газ сверхлимитный","тут",null,null,null,null,null,null,null,null,null,null,null,null,null,null,null,null,null,null,null,null,null,null,0,0,0,null,null,null,"NGU"]
[null,null,null,null,null,null,null,null,null,null,null,null,"4.CFV.NGC","Газ коммерческий","тут",null,null,null,null,null,null,null,null,null,null,null,null,null,null,null,null,null,null,null,null,null,null,0,0,0,null,null,null,"NGC"]
[null,null,null,null,null,null,null,null,null,null,null,null,"4.CFV.GBL","Газ доменный","тут",null,null,null,null,null,null,null,null,null,null,null,null,null,null,null,null,null,null,null,null,null,null,0,0,0,null,null,null,"GBL"]
[null,null,null,null,null,null,null,null,null,null,null,null,"4.CFV.GCK","Газ коксовый","тут",null,null,null,null,null,null,null,null,null,null,null,null,null,null,null,null,null,null,null,null,null,null,0,0,0,null,null,null,"GCK"]
[null,null,null,null,null,null,null,null,null,null,null,null,"4.CFV.GOA","Газ нефтяной (попутный)","тут",null,null,null,null,null,null,null,null,null,null,null,null,null,null,null,null,null,null,null,null,null,null,0,0,0,null,null,null,"GOA"]
[null,null,null,null,null,null,null,null,null,null,null,null,"4.CFV.DSG","Газ сухой отбензиненный","тут",null,null,null,null,null,null,null,null,null,null,null,null,null,null,null,null,null,null,null,null,null,null,0,0,0,null,null,null,"DSG"]
[null,null,null,null,null,null,null,null,null,null,null,null,"4.CFV.GCN","Газовый конденсат","тут",null,null,null,null,null,null,null,null,null,null,null,null,null,null,null,null,null,null,null,null,null,null,0,0,0,null,null,null,"GCN"]
[null,null,null,null,null,null,null,null,null,null,null,null,"4.CFV.LNG","Газ сжиженный","тут",null,null,null,null,null,null,null,null,null,null,null,null,null,null,null,null,null,null,null,null,null,null,0,0,0,null,null,null,"LNG"]
[null,null,null,null,null,null,null,null,null,null,null,null,"4.CFV.DSL","Дизельное топливо","тут",null,null,null,null,null,null,null,null,null,null,null,null,null,null,null,null,null,null,null,null,null,null,0,{"$f":"SUM(AM1091:AM1094)","v":0},{"$f":"SUM(AN1091:AN1094)","v":0},null,null,null,"DSL"]
[null,null,null,null,null,null,null,null,null,null,null,null,"4.CFV.DSLA","А (арктическое)","тут",null,null,null,null,null,null,null,null,null,null,null,null,null,null,null,null,null,null,null,null,null,null,0,0,0,null,null,null,"DSLA"]
[null,null,null,null,null,null,null,null,null,null,null,null,"4.CFV.DSLW","З (зимнее)","тут",null,null,null,null,null,null,null,null,null,null,null,null,null,null,null,null,null,null,null,null,null,null,0,0,0,null,null,null,"DSLW"]
[null,null,null,null,null,null,null,null,null,null,null,null,"4.CFV.DSLS","Л (летнее)","тут",null,null,null,null,null,null,null,null,null,null,null,null,null,null,null,null,null,null,null,null,null,null,0,0,0,null,null,null,"DSLS"]
[null,null,null,null,null,null,null,null,null,null,null,null,"4.CFV.DSLO","Е (межсезонное)","тут",null,null,null,null,null,null,null,null,null,null,null,null,null,null,null,null,null,null,null,null,null,null,0,0,0,null,null,null,"DSLO"]
[null,null,null,null,null,null,null,null,null,null,null,null,"4.CFV.MST","Мазут","тут",null,null,null,null,null,null,null,null,null,null,null,null,null,null,null,null,null,null,null,null,null,null,0,{"$f":"SUM(AM1096:AM1101)","v":0},{"$f":"SUM(AN1096:AN1101)","v":0},null,null,null,"MST"]
[null,null,null,null,null,null,null,null,null,null,null,null,"4.CFV.MSTM40","М-40","тут",null,null,null,null,null,null,null,null,null,null,null,null,null,null,null,null,null,null,null,null,null,null,0,0,0,null,null,null,"MSTM40"]
[null,null,null,null,null,null,null,null,null,null,null,null,"4.CFV.MSTM100","М-100","тут",null,null,null,null,null,null,null,null,null,null,null,null,null,null,null,null,null,null,null,null,null,null,0,{"$f":"AM1185*AM1229","v":0},0,null,null,null,"MSTM100"]
[null,null,null,null,null,null,null,null,null,null,null,null,"4.CFV.MSTM200","М-200","тут",null,null,null,null,null,null,null,null,null,null,null,null,null,null,null,null,null,null,null,null,null,null,0,0,0,null,null,null,"MSTM200"]
[null,null,null,null,null,null,null,null,null,null,null,null,"4.CFV.MSTT","мазут марки \"Т\"","тут",null,null,null,null,null,null,null,null,null,null,null,null,null,null,null,null,null,null,null,null,null,null,0,0,0,null,null,null,"MSTT"]
[null,null,null,null,null,null,null,null,null,null,null,null,"4.CFV.MSTF5","Ф-5","тут",null,null,null,null,null,null,null,null,null,null,null,null,null,null,null,null,null,null,null,null,null,null,0,0,0,null,null,null,"MSTF5"]
[null,null,null,null,null,null,null,null,null,null,null,null,"4.CFV.MSTF12","Ф-12","тут",null,null,null,null,null,null,null,null,null,null,null,null,null,null,null,null,null,null,null,null,null,null,0,0,0,null,null,null,"MSTF12"]
[null,null,null,null,null,null,null,null,null,null,null,null,"4.CFV.OIL","Нефть","тут",null,null,null,null,null,null,null,null,null,null,null,null,null,null,null,null,null,null,null,null,null,null,0,0,0,null,null,null,"OIL"]
[null,null,null,null,null,null,null,null,null,null,null,null,"4.CFV.COA","Уголь","тут",null,null,null,null,null,null,null,null,null,null,null,null,null,null,null,null,null,null,null,null,null,null,0,{"$f":"SUM(AM1104:AM1112)","v":0},{"$f":"SUM(AN1104:AN1112)","v":0},null,null,null,"COA"]
[null,null,null,null,null,null,null,null,null,null,null,null,"4.CFV.COAA","Уголь антрацит","тут",null,null,null,null,null,null,null,null,null,null,null,null,null,null,null,null,null,null,null,null,null,null,0,0,0,null,null,null,"COAA"]
[null,null,null,null,null,null,null,null,null,null,null,null,"4.CFV.COAB","Уголь бурый","тут",null,null,null,null,null,null,null,null,null,null,null,null,null,null,null,null,null,null,null,null,null,null,0,0,0,null,null,null,"COAB"]
[null,null,null,null,null,null,null,null,null,null,null,null,"4.CFV.COAG","Уголь газовый","тут",null,null,null,null,null,null,null,null,null,null,null,null,null,null,null,null,null,null,null,null,null,null,0,0,0,null,null,null,"COAG"]
[null,null,null,null,null,null,null,null,null,null,null,null,"4.CFV.COALF","Уголь длиннопламенный","тут",null,null,null,null,null,null,null,null,null,null,null,null,null,null,null,null,null,null,null,null,null,null,0,0,0,null,null,null,"COALF"]
[null,null,null,null,null,null,null,null,null,null,null,null,"4.CFV.COAF","Уголь жирный","тут",null,null,null,null,null,null,null,null,null,null,null,null,null,null,null,null,null,null,null,null,null,null,0,0,0,null,null,null,"COAF"]
[null,null,null,null,null,null,null,null,null,null,null,null,"4.CFV.COAC","Уголь коксовый","тут",null,null,null,null,null,null,null,null,null,null,null,null,null,null,null,null,null,null,null,null,null,null,0,0,0,null,null,null,"COAC"]
[null,null,null,null,null,null,null,null,null,null,null,null,"4.CFV.COASC","Уголь отощённо-спекающийся","тут",null,null,null,null,null,null,null,null,null,null,null,null,null,null,null,null,null,null,null,null,null,null,0,0,0,null,null,null,"COASC"]
[null,null,null,null,null,null,null,null,null,null,null,null,"4.CFV.COAWC","Уголь слабоспекающийся","тут",null,null,null,null,null,null,null,null,null,null,null,null,null,null,null,null,null,null,null,null,null,null,0,0,0,null,null,null,"COAWC"]
[null,null,null,null,null,null,null,null,null,null,null,null,"4.CFV.COAS","Уголь тощий","тут",null,null,null,null,null,null,null,null,null,null,null,null,null,null,null,null,null,null,null,null,null,null,0,0,0,null,null,null,"COAS"]
[]
[]
[null,null,null,null,null,null,null,null,null,null,null,null,"4.CFV.CWD","Уголь древесный","тут",null,null,null,null,null,null,null,null,null,null,null,null,null,null,null,null,null,null,null,null,null,null,{"$f":"AM1115+AN1115","v":0},{"$f":"AM1203*AM1247","v":0},0,null,null,null,"CWD"]
[null,null,null,null,null,null,null,null,null,null,null,null,"4.CFV.WDS","Дрова","тут",null,null,null,null,null,null,null,null,null,null,null,null,null,null,null,null,null,null,null,null,null,null,0,0,0,null,null,null,"WDS"]
[null,null,null,null,null,null,null,null,null,null,null,null,"4.CFV.PLT","Пеллеты","тут",null,null,null,null,null,null,null,null,null,null,null,null,null,null,null,null,null,null,null,null,null,null,0,0,0,null,null,null,"PLT"]
[null,null,null,null,null,null,null,null,null,null,null,null,"4.CFV.SAW","Опилки","тут",null,null,null,null,null,null,null,null,null,null,null,null,null,null,null,null,null,null,null,null,null,null,0,0,0,null,null,null,"SAW"]
[null,null,null,null,null,null,null,null,null,null,null,null,"4.CFV.PEA","Торф","тут",null,null,null,null,null,null,null,null,null,null,null,null,null,null,null,null,null,null,null,null,null,null,0,0,0,null,null,null,"PEA"]
[null,null,null,null,null,null,null,null,null,null,null,null,"4.CFV.SHL","Сланцы","тут",null,null,null,null,null,null,null,null,null,null,null,null,null,null,null,null,null,null,null,null,null,null,0,0,0,null,null,null,"SHL"]
[null,null,null,null,null,null,null,null,null,null,null,null,"4.CFV.STF","Печное бытовое топливо","тут",null,null,null,null,null,null,null,null,null,null,null,null,null,null,null,null,null,null,null,null,null,null,0,0,0,null,null,null,"STF"]
[]
[null,null,null,null,null,null,null,null,null,null,null,null,"4.P","Доля","%",null,null,null,null,null,null,null,null,null,null,null,null,null,null,null,null,{"$f":"SUM(AF1124,AF1128:AF1133,AF1134,AF1139,AF1146,AF1147,AF1159:AF1165)","v":0},{"$f":"SUM(AG1124,AG1128:AG1133,AG1134,AG1139,AG1146,AG1147,AG1159:AG1165)","v":0},{"$f":"SUM(AH1124,AH1128:AH1133,AH1134,AH1139,AH1146,AH1147,AH1159:AH1165)","v":0},null,null,null,{"$f":"SUM(AL1124,AL1128:AL1133,AL1134,AL1139,AL1146,AL1147,AL1159:AL1165)","v":0},{"$f":"SUM(AM1124,AM1128:AM1133,AM1134,AM1139,AM1146,AM1147,AM1159:AM1165)","v":0},{"$f":"SUM(AN1124,AN1128:AN1133,AN1134,AN1139,AN1146,AN1147,AN1159:AN1165)","v":0}]
[null,null,null,null,null,null,null,null,null,null,null,null,"4.P.NG","Газ природный","%",null,null,null,null,null,null,null,null,null,null,null,null,null,null,null,null,null,null,null,null,null,null,{"$f":"IF(AL1079=0,0,AL1080/AL1079*100)","v":0},{"$f":"IF(AM1079=0,0,AM1080/AM1079*100)","v":0},{"$f":"IF(AN1079=0,0,AN1080/AN1079*100)","v":0},null,null,null,"NG"]
[null,null,null,null,null,null,null,null,null,null,null,null,"4.P.NGL","Газ лимитный","%",null,null,null,null,null,null,null,null,null,null,null,null,null,null,null,null,null,null,null,null,null,null,{"$f":"IF(AL1079=0,0,AL1081/AL1079*100)","v":0},{"$f":"IF(AM1079=0,0,AM1081/AM1079*100)","v":0},{"$f":"IF(AN1079=0,0,AN1081/AN1079*100)","v":0},null,null,null,"NGL"]
[null,null,null,null,null,null,null,null,null,null,null,null,"4.P.NGU","Газ сверхлимитный","%",null,null,null,null,null,null,null,null,null,null,null,null,null,null,null,null,null,null,null,null,null,null,{"$f":"IF(AL1079=0,0,AL1082/AL1079*100)","v":0},{"$f":"IF(AM1079=0,0,AM1082/AM1079*100)","v":0},{"$f":"IF(AN1079=0,0,AN1082/AN1079*100)","v":0},null,null,null,"NGU"]
[null,null,null,null,null,null,null,null,null,null,null,null,"4.P.NGC","Газ коммерческий","%",null,null,null,null,null,null,null,null,null,null,null,null,null,null,null,null,null,null,null,null,null,null,{"$f":"IF(AL1079=0,0,AL1083/AL1079*100)","v":0},{"$f":"IF(AM1079=0,0,AM1083/AM1079*100)","v":0},{"$f":"IF(AN1079=0,0,AN1083/AN1079*100)","v":0},null,null,null,"NGC"]
[null,null,null,null,null,null,null,null,null,null,null,null,"4.P.GBL","Газ доменный","%",null,null,null,null,null,null,null,null,null,null,null,null,null,null,null,null,null,null,null,null,null,null,{"$f":"IF(AL1079=0,0,AL1084/AL1079*100)","v":0},{"$f":"IF(AM1079=0,0,AM1084/AM1079*100)","v":0},{"$f":"IF(AN1079=0,0,AN1084/AN1079*100)","v":0},null,null,null,"GBL"]
[null,null,null,null,null,null,null,null,null,null,null,null,"4.P.GCK","Газ коксовый","%",null,null,null,null,null,null,null,null,null,null,null,null,null,null,null,null,null,null,null,null,null,null,{"$f":"IF(AL1079=0,0,AL1085/AL1079*100)","v":0},{"$f":"IF(AM1079=0,0,AM1085/AM1079*100)","v":0},{"$f":"IF(AN1079=0,0,AN1085/AN1079*100)","v":0},null,null,null,"GCK"]
[null,null,null,null,null,null,null,null,null,null,null,null,"4.P.GOA","Газ нефтяной (попутный)","%",null,null,null,null,null,null,null,null,null,null,null,null,null,null,null,null,null,null,null,null,null,null,{"$f":"IF(AL1079=0,0,AL1086/AL1079*100)","v":0},{"$f":"IF(AM1079=0,0,AM1086/AM1079*100)","v":0},{"$f":"IF(AN1079=0,0,AN1086/AN1079*100)","v":0},null,null,null,"GOA"]
[null,null,null,null,null,null,null,null,null,null,null,null,"4.P.DSG","Газ сухой отбензиненный","%",null,null,null,null,null,null,null,null,null,null,null,null,null,null,null,null,null,null,null,null,null,null,{"$f":"IF(AL1079=0,0,AL1087/AL1079*100)","v":0},{"$f":"IF(AM1079=0,0,AM1087/AM1079*100)","v":0},{"$f":"IF(AN1079=0,0,AN1087/AN1079*100)","v":0},null,null,null,"DSG"]
[null,null,null,null,null,null,null,null,null,null,null,null,"4.P.GCN","Газовый конденсат","%",null,null,null,null,null,null,null,null,null,null,null,null,null,null,null,null,null,null,null,null,null,null,{"$f":"IF(AL1079=0,0,AL1088/AL1079*100)","v":0},{"$f":"IF(AM1079=0,0,AM1088/AM1079*100)","v":0},{"$f":"IF(AN1079=0,0,AN1088/AN1079*100)","v":0},null,null,null,"GCN"]
[null,null,null,null,null,null,null,null,null,null,null,null,"4.P.LNG","Газ сжиженный","%",null,null,null,null,null,null,null,null,null,null,null,null,null,null,null,null,null,null,null,null,null,null,{"$f":"IF(AL1079=0,0,AL1089/AL1079*100)","v":0},{"$f":"IF(AM1079=0,0,AM1089/AM1079*100)","v":0},{"$f":"IF(AN1079=0,0,AN1089/AN1079*100)","v":0},null,null,null,"LNG"]
[null,null,null,null,null,null,null,null,null,null,null,null,"4.P.DSL","Дизельное топливо","%",null,null,null,null,null,null,null,null,null,null,null,null,null,null,null,null,null,null,null,null,null,null,{"$f":"IF(AL1079=0,0,AL1090/AL1079*100)","v":0},{"$f":"IF(AM1079=0,0,AM1090/AM1079*100)","v":0},{"$f":"IF(AN1079=0,0,AN1090/AN1079*100)","v":0},null,null,null,"DSL"]
[null,null,null,null,null,null,null,null,null,null,null,null,"4.P.DSLA","А (арктическое)","%",null,null,null,null,null,null,null,null,null,null,null,null,null,null,null,null,null,null,null,null,null,null,{"$f":"IF(AL1079=0,0,AL1091/AL1079*100)","v":0},{"$f":"IF(AM1079=0,0,AM1091/AM1079*100)","v":0},{"$f":"IF(AN1079=0,0,AN1091/AN1079*100)","v":0},null,null,null,"DSLA"]
[null,null,null,null,null,null,null,null,null,null,null,null,"4.P.DSLW","З (зимнее)","%",null,null,null,null,null,null,null,null,null,null,null,null,null,null,null,null,null,null,null,null,null,null,{"$f":"IF(AL1079=0,0,AL1092/AL1079*100)","v":0},{"$f":"IF(AM1079=0,0,AM1092/AM1079*100)","v":0},{"$f":"IF(AN1079=0,0,AN1092/AN1079*100)","v":0},null,null,null,"DSLW"]
[null,null,null,null,null,null,null,null,null,null,null,null,"4.P.DSLS","Л (летнее)","%",null,null,null,null,null,null,null,null,null,null,null,null,null,null,null,null,null,null,null,null,null,null,{"$f":"IF(AL1079=0,0,AL1093/AL1079*100)","v":0},{"$f":"IF(AM1079=0,0,AM1093/AM1079*100)","v":0},{"$f":"IF(AN1079=0,0,AN1093/AN1079*100)","v":0},null,null,null,"DSLS"]
[null,null,null,null,null,null,null,null,null,null,null,null,"4.P.DSLO","Е (межсезонное)","%",null,null,null,null,null,null,null,null,null,null,null,null,null,null,null,null,null,null,null,null,null,null,{"$f":"IF(AL1079=0,0,AL1094/AL1079*100)","v":0},{"$f":"IF(AM1079=0,0,AM1094/AM1079*100)","v":0},{"$f":"IF(AN1079=0,0,AN1094/AN1079*100)","v":0},null,null,null,"DSLO"]
[null,null,null,null,null,null,null,null,null,null,null,null,"4.P.MST","Мазут","%",null,null,null,null,null,null,null,null,null,null,null,null,null,null,null,null,null,null,null,null,null,null,{"$f":"IF(AL1079=0,0,AL1095/AL1079*100)","v":0},{"$f":"IF(AM1079=0,0,AM1095/AM1079*100)","v":0},{"$f":"IF(AN1079=0,0,AN1095/AN1079*100)","v":0},null,null,null,"MST"]
[null,null,null,null,null,null,null,null,null,null,null,null,"4.P.MSTM40","М-40","%",null,null,null,null,null,null,null,null,null,null,null,null,null,null,null,null,null,null,null,null,null,null,{"$f":"IF(AL1079=0,0,AL1096/AL1079*100)","v":0},{"$f":"IF(AM1079=0,0,AM1096/AM1079*100)","v":0},{"$f":"IF(AN1079=0,0,AN1096/AN1079*100)","v":0},null,null,null,"MSTM40"]
[null,null,null,null,null,null,null,null,null,null,null,null,"4.P.MSTM100","М-100","%",null,null,null,null,null,null,null,null,null,null,null,null,null,null,null,null,null,null,null,null,null,null,{"$f":"IF(AL1079=0,0,AL1097/AL1079*100)","v":0},{"$f":"IF(AM1079=0,0,AM1097/AM1079*100)","v":0},{"$f":"IF(AN1079=0,0,AN1097/AN1079*100)","v":0},null,null,null,"MSTM100"]
[null,null,null,null,null,null,null,null,null,null,null,null,"4.P.MSTM200","М-200","%",null,null,null,null,null,null,null,null,null,null,null,null,null,null,null,null,null,null,null,null,null,null,{"$f":"IF(AL1079=0,0,AL1098/AL1079*100)","v":0},{"$f":"IF(AM1079=0,0,AM1098/AM1079*100)","v":0},{"$f":"IF(AN1079=0,0,AN1098/AN1079*100)","v":0},null,null,null,"MSTM200"]
[null,null,null,null,null,null,null,null,null,null,null,null,"4.P.MSTT","мазут марки \"Т\"","%",null,null,null,null,null,null,null,null,null,null,null,null,null,null,null,null,null,null,null,null,null,null,{"$f":"IF(AL1079=0,0,AL1099/AL1079*100)","v":0},{"$f":"IF(AM1079=0,0,AM1099/AM1079*100)","v":0},{"$f":"IF(AN1079=0,0,AN1099/AN1079*100)","v":0},null,null,null,"MSTT"]
[null,null,null,null,null,null,null,null,null,null,null,null,"4.P.MSTF5","Ф-5","%",null,null,null,null,null,null,null,null,null,null,null,null,null,null,null,null,null,null,null,null,null,null,{"$f":"IF(AL1079=0,0,AL1100/AL1079*100)","v":0},{"$f":"IF(AM1079=0,0,AM1100/AM1079*100)","v":0},{"$f":"IF(AN1079=0,0,AN1100/AN1079*100)","v":0},null,null,null,"MSTF5"]
[null,null,null,null,null,null,null,null,null,null,null,null,"4.P.MSTF12","Ф-12","%",null,null,null,null,null,null,null,null,null,null,null,null,null,null,null,null,null,null,null,null,null,null,{"$f":"IF(AL1079=0,0,AL1101/AL1079*100)","v":0},{"$f":"IF(AM1079=0,0,AM1101/AM1079*100)","v":0},{"$f":"IF(AN1079=0,0,AN1101/AN1079*100)","v":0},null,null,null,"MSTF12"]
[null,null,null,null,null,null,null,null,null,null,null,null,"4.P.OIL","Нефть","%",null,null,null,null,null,null,null,null,null,null,null,null,null,null,null,null,null,null,null,null,null,null,{"$f":"IF(AL1079=0,0,AL1102/AL1079*100)","v":0},{"$f":"IF(AM1079=0,0,AM1102/AM1079*100)","v":0},{"$f":"IF(AN1079=0,0,AN1102/AN1079*100)","v":0},null,null,null,"OIL"]
[null,null,null,null,null,null,null,null,null,null,null,null,"4.P.COA","Уголь","%",null,null,null,null,null,null,null,null,null,null,null,null,null,null,null,null,null,null,null,null,null,null,{"$f":"IF(AL1079=0,0,AL1103/AL1079*100)","v":0},{"$f":"IF(AM1079=0,0,AM1103/AM1079*100)","v":0},{"$f":"IF(AN1079=0,0,AN1103/AN1079*100)","v":0},null,null,null,"COA"]
[null,null,null,null,null,null,null,null,null,null,null,null,"4.P.COAA","Уголь антрацит","%",null,null,null,null,null,null,null,null,null,null,null,null,null,null,null,null,null,null,null,null,null,null,{"$f":"IF(AL1079=0,0,AL1104/AL1079*100)","v":0},{"$f":"IF(AM1079=0,0,AM1104/AM1079*100)","v":0},{"$f":"IF(AN1079=0,0,AN1104/AN1079*100)","v":0},null,null,null,"COAA"]
[null,null,null,null,null,null,null,null,null,null,null,null,"4.P.COAB","Уголь бурый","%",null,null,null,null,null,null,null,null,null,null,null,null,null,null,null,null,null,null,null,null,null,null,{"$f":"IF(AL1079=0,0,AL1105/AL1079*100)","v":0},{"$f":"IF(AM1079=0,0,AM1105/AM1079*100)","v":0},{"$f":"IF(AN1079=0,0,AN1105/AN1079*100)","v":0},null,null,null,"COAB"]
[null,null,null,null,null,null,null,null,null,null,null,null,"4.P.COAG","Уголь газовый","%",null,null,null,null,null,null,null,null,null,null,null,null,null,null,null,null,null,null,null,null,null,null,{"$f":"IF(AL1079=0,0,AL1106/AL1079*100)","v":0},{"$f":"IF(AM1079=0,0,AM1106/AM1079*100)","v":0},{"$f":"IF(AN1079=0,0,AN1106/AN1079*100)","v":0},null,null,null,"COAG"]
[null,null,null,null,null,null,null,null,null,null,null,null,"4.P.COALF","Уголь длиннопламенный","%",null,null,null,null,null,null,null,null,null,null,null,null,null,null,null,null,null,null,null,null,null,null,{"$f":"IF(AL1079=0,0,AL1107/AL1079*100)","v":0},{"$f":"IF(AM1079=0,0,AM1107/AM1079*100)","v":0},{"$f":"IF(AN1079=0,0,AN1107/AN1079*100)","v":0},null,null,null,"COALF"]
[null,null,null,null,null,null,null,null,null,null,null,null,"4.P.COAF","Уголь жирный","%",null,null,null,null,null,null,null,null,null,null,null,null,null,null,null,null,null,null,null,null,null,null,{"$f":"IF(AL1079=0,0,AL1108/AL1079*100)","v":0},{"$f":"IF(AM1079=0,0,AM1108/AM1079*100)","v":0},{"$f":"IF(AN1079=0,0,AN1108/AN1079*100)","v":0},null,null,null,"COAF"]
[null,null,null,null,null,null,null,null,null,null,null,null,"4.P.COAC","Уголь коксовый","%",null,null,null,null,null,null,null,null,null,null,null,null,null,null,null,null,null,null,null,null,null,null,{"$f":"IF(AL1079=0,0,AL1109/AL1079*100)","v":0},{"$f":"IF(AM1079=0,0,AM1109/AM1079*100)","v":0},{"$f":"IF(AN1079=0,0,AN1109/AN1079*100)","v":0},null,null,null,"COAC"]
[null,null,null,null,null,null,null,null,null,null,null,null,"4.P.COASC","Уголь отощённо-спекающийся","%",null,null,null,null,null,null,null,null,null,null,null,null,null,null,null,null,null,null,null,null,null,null,{"$f":"IF(AL1079=0,0,AL1110/AL1079*100)","v":0},{"$f":"IF(AM1079=0,0,AM1110/AM1079*100)","v":0},{"$f":"IF(AN1079=0,0,AN1110/AN1079*100)","v":0},null,null,null,"COASC"]
[null,null,null,null,null,null,null,null,null,null,null,null,"4.P.COAWC","Уголь слабоспекающийся","%",null,null,null,null,null,null,null,null,null,null,null,null,null,null,null,null,null,null,null,null,null,null,{"$f":"IF(AL1079=0,0,AL1111/AL1079*100)","v":0},{"$f":"IF(AM1079=0,0,AM1111/AM1079*100)","v":0},{"$f":"IF(AN1079=0,0,AN1111/AN1079*100)","v":0},null,null,null,"COAWC"]
[null,null,null,null,null,null,null,null,null,null,null,null,"4.P.COAS","Уголь тощий","%",null,null,null,null,null,null,null,null,null,null,null,null,null,null,null,null,null,null,null,null,null,null,{"$f":"IF(AL1079=0,0,AL1112/AL1079*100)","v":0},{"$f":"IF(AM1079=0,0,AM1112/AM1079*100)","v":0},{"$f":"IF(AN1079=0,0,AN1112/AN1079*100)","v":0},null,null,null,"COAS"]
[]
[]
[null,null,null,null,null,null,null,null,null,null,null,null,"4.P.CWD","Уголь древесный","%",null,null,null,null,null,null,null,null,null,null,null,null,null,null,null,null,null,null,null,null,null,null,{"$f":"IF(AL1079=0,0,AL1115/AL1079*100)","v":0},{"$f":"IF(AM1079=0,0,AM1115/AM1079*100)","v":0},{"$f":"IF(AN1079=0,0,AN1115/AN1079*100)","v":0},null,null,null,"CWD"]
[null,null,null,null,null,null,null,null,null,null,null,null,"4.P.WDS","Дрова","%",null,null,null,null,null,null,null,null,null,null,null,null,null,null,null,null,null,null,null,null,null,null,{"$f":"IF(AL1079=0,0,AL1116/AL1079*100)","v":0},{"$f":"IF(AM1079=0,0,AM1116/AM1079*100)","v":0},{"$f":"IF(AN1079=0,0,AN1116/AN1079*100)","v":0},null,null,null,"WDS"]
[null,null,null,null,null,null,null,null,null,null,null,null,"4.P.PLT","Пеллеты","%",null,null,null,null,null,null,null,null,null,null,null,null,null,null,null,null,null,null,null,null,null,null,{"$f":"IF(AL1079=0,0,AL1117/AL1079*100)","v":0},{"$f":"IF(AM1079=0,0,AM1117/AM1079*100)","v":0},{"$f":"IF(AN1079=0,0,AN1117/AN1079*100)","v":0},null,null,null,"PLT"]
[null,null,null,null,null,null,null,null,null,null,null,null,"4.P.SAW","Опилки","%",null,null,null,null,null,null,null,null,null,null,null,null,null,null,null,null,null,null,null,null,null,null,{"$f":"IF(AL1079=0,0,AL1118/AL1079*100)","v":0},{"$f":"IF(AM1079=0,0,AM1118/AM1079*100)","v":0},{"$f":"IF(AN1079=0,0,AN1118/AN1079*100)","v":0},null,null,null,"SAW"]
[null,null,null,null,null,null,null,null,null,null,null,null,"4.P.PEA","Торф","%",null,null,null,null,null,null,null,null,null,null,null,null,null,null,null,null,null,null,null,null,null,null,{"$f":"IF(AL1079=0,0,AL1119/AL1079*100)","v":0},{"$f":"IF(AM1079=0,0,AM1119/AM1079*100)","v":0},{"$f":"IF(AN1079=0,0,AN1119/AN1079*100)","v":0},null,null,null,"PEA"]
[null,null,null,null,null,null,null,null,null,null,null,null,"4.P.SHL","Сланцы","%",null,null,null,null,null,null,null,null,null,null,null,null,null,null,null,null,null,null,null,null,null,null,{"$f":"IF(AL1079=0,0,AL1120/AL1079*100)","v":0},{"$f":"IF(AM1079=0,0,AM1120/AM1079*100)","v":0},{"$f":"IF(AN1079=0,0,AN1120/AN1079*100)","v":0},null,null,null,"SHL"]
[null,null,null,null,null,null,null,null,null,null,null,null,"4.P.STF","Печное бытовое топливо","%",null,null,null,null,null,null,null,null,null,null,null,null,null,null,null,null,null,null,null,null,null,null,{"$f":"IF(AL1079=0,0,AL1121/AL1079*100)","v":0},{"$f":"IF(AM1079=0,0,AM1121/AM1079*100)","v":0},{"$f":"IF(AN1079=0,0,AN1121/AN1079*100)","v":0},null,null,null,"STF"]
[]
[null,null,null,null,null,null,null,null,null,null,null,null,"4.CF","Переводной коэффициент"]
[null,null,null,null,null,null,null,null,null,null,null,null,"4.CF.NG","Газ природный",null,null,null,null,null,null,null,null,null,null,null,null,null,null,null,null,null,null,null,null,null,null,null,{"$f":"IF(AL1212=0,0,AL1080/AL1212)","v":0},{"$f":"IF(AM1212=0,0,AM1080/AM1212)","v":0},{"$f":"IF(AN1212=0,0,AN1080/AN1212)","v":0},null,null,null,"NG"]
[null,null,null,null,null,null,null,null,null,null,null,null,"4.CF.NGL","Газ лимитный",null,null,null,null,null,null,null,null,null,null,null,null,null,null,null,null,null,null,null,null,null,null,null,null,{"$f":"AL1169","v":0},0,null,null,null,"NGL"]
[null,null,null,null,null,null,null,null,null,null,null,null,"4.CF.NGU","Газ сверхлимитный",null,null,null,null,null,null,null,null,null,null,null,null,null,null,null,null,null,null,null,null,null,null,null,null,0,0,null,null,null,"NGU"]
[null,null,null,null,null,null,null,null,null,null,null,null,"4.CF.NGC","Газ коммерческий",null,null,null,null,null,null,null,null,null,null,null,null,null,null,null,null,null,null,null,null,null,null,null,null,0,0,null,null,null,"NGC"]
[null,null,null,null,null,null,null,null,null,null,null,null,"4.CF.GBL","Газ доменный",null,null,null,null,null,null,null,null,null,null,null,null,null,null,null,null,null,null,null,null,null,null,null,null,0,0,null,null,null,"GBL"]
[null,null,null,null,null,null,null,null,null,null,null,null,"4.CF.GCK","Газ коксовый",null,null,null,null,null,null,null,null,null,null,null,null,null,null,null,null,null,null,null,null,null,null,null,null,0,0,null,null,null,"GCK"]
[null,null,null,null,null,null,null,null,null,null,null,null,"4.CF.GOA","Газ нефтяной (попутный)",null,null,null,null,null,null,null,null,null,null,null,null,null,null,null,null,null,null,null,null,null,null,null,null,0,0,null,null,null,"GOA"]
[null,null,null,null,null,null,null,null,null,null,null,null,"4.CF.DSG","Газ сухой отбензиненный",null,null,null,null,null,null,null,null,null,null,null,null,null,null,null,null,null,null,null,null,null,null,null,null,0,0,null,null,null,"DSG"]
[null,null,null,null,null,null,null,null,null,null,null,null,"4.CF.GCN","Газовый конденсат",null,null,null,null,null,null,null,null,null,null,null,null,null,null,null,null,null,null,null,null,null,null,null,null,0,0,null,null,null,"GCN"]
[null,null,null,null,null,null,null,null,null,null,null,null,"4.CF.LNG","Газ сжиженный",null,null,null,null,null,null,null,null,null,null,null,null,null,null,null,null,null,null,null,null,null,null,null,null,0,0,null,null,null,"LNG"]
[null,null,null,null,null,null,null,null,null,null,null,null,"4.CF.DSL","Дизельное топливо",null,null,null,null,null,null,null,null,null,null,null,null,null,null,null,null,null,null,null,null,null,null,null,{"$f":"IF(AL1222=0,0,AL1090/AL1222)","v":0},{"$f":"IF(AM1222=0,0,AM1090/AM1222)","v":0},{"$f":"IF(AN1222=0,0,AN1090/AN1222)","v":0},null,null,null,"DSL"]
[null,null,null,null,null,null,null,null,null,null,null,null,"4.CF.DSLA","А (арктическое)",null,null,null,null,null,null,null,null,null,null,null,null,null,null,null,null,null,null,null,null,null,null,null,null,0,0,null,null,null,"DSLA"]
[null,null,null,null,null,null,null,null,null,null,null,null,"4.CF.DSLW","З (зимнее)",null,null,null,null,null,null,null,null,null,null,null,null,null,null,null,null,null,null,null,null,null,null,null,null,0,0,null,null,null,"DSLW"]
[null,null,null,null,null,null,null,null,null,null,null,null,"4.CF.DSLS","Л (летнее)",null,null,null,null,null,null,null,null,null,null,null,null,null,null,null,null,null,null,null,null,null,null,null,null,0,0,null,null,null,"DSLS"]
[null,null,null,null,null,null,null,null,null,null,null,null,"4.CF.DSLO","Е (межсезонное)",null,null,null,null,null,null,null,null,null,null,null,null,null,null,null,null,null,null,null,null,null,null,null,null,0,0,null,null,null,"DSLO"]
[null,null,null,null,null,null,null,null,null,null,null,null,"4.CF.MST","Мазут",null,null,null,null,null,null,null,null,null,null,null,null,null,null,null,null,null,null,null,null,null,null,null,{"$f":"IF(AL1227=0,0,AL1095/AL1227)","v":0},{"$f":"IF(AM1227=0,0,AM1095/AM1227)","v":0},{"$f":"IF(AN1227=0,0,AN1095/AN1227)","v":0},null,null,null,"MST"]
[null,null,null,null,null,null,null,null,null,null,null,null,"4.CF.MSTM40","М-40",null,null,null,null,null,null,null,null,null,null,null,null,null,null,null,null,null,null,null,null,null,null,null,null,0,0,null,null,null,"MSTM40"]
[null,null,null,null,null,null,null,null,null,null,null,null,"4.CF.MSTM100","М-100",null,null,null,null,null,null,null,null,null,null,null,null,null,null,null,null,null,null,null,null,null,null,null,null,0,0,null,null,null,"MSTM100"]
[null,null,null,null,null,null,null,null,null,null,null,null,"4.CF.MSTM200","М-200",null,null,null,null,null,null,null,null,null,null,null,null,null,null,null,null,null,null,null,null,null,null,null,null,0,0,null,null,null,"MSTM200"]
[null,null,null,null,null,null,null,null,null,null,null,null,"4.CF.MSTT","мазут марки \"Т\"",null,null,null,null,null,null,null,null,null,null,null,null,null,null,null,null,null,null,null,null,null,null,null,null,0,0,null,null,null,"MSTT"]
[null,null,null,null,null,null,null,null,null,null,null,null,"4.CF.MSTF5","Ф-5",null,null,null,null,null,null,null,null,null,null,null,null,null,null,null,null,null,null,null,null,null,null,null,null,0,0,null,null,null,"MSTF5"]
[null,null,null,null,null,null,null,null,null,null,null,null,"4.CF.MSTF12","Ф-12",null,null,null,null,null,null,null,null,null,null,null,null,null,null,null,null,null,null,null,null,null,null,null,null,0,0,null,null,null,"MSTF12"]
[null,null,null,null,null,null,null,null,null,null,null,null,"4.CF.OIL","Нефть",null,null,null,null,null,null,null,null,null,null,null,null,null,null,null,null,null,null,null,null,null,null,null,null,0,0,null,null,null,"OIL"]
[null,null,null,null,null,null,null,null,null,null,null,null,"4.CF.COA","Уголь",null,null,null,null,null,null,null,null,null,null,null,null,null,null,null,null,null,null,null,null,null,null,null,{"$f":"IF(AL1235=0,0,AL1103/AL1235)","v":0},{"$f":"IF(AM1235=0,0,AM1103/AM1235)","v":0},{"$f":"IF(AN1235=0,0,AN1103/AN1235)","v":0},null,null,null,"COA"]
[null,null,null,null,null,null,null,null,null,null,null,null,"4.CF.COAA","Уголь антрацит",null,null,null,null,null,null,null,null,null,null,null,null,null,null,null,null,null,null,null,null,null,null,null,null,0,0,null,null,null,"COAA"]
[null,null,null,null,null,null,null,null,null,null,null,null,"4.CF.COAB","Уголь бурый",null,null,null,null,null,null,null,null,null,null,null,null,null,null,null,null,null,null,null,null,null,null,null,null,0,0,null,null,null,"COAB"]
[null,null,null,null,null,null,null,null,null,null,null,null,"4.CF.COAG","Уголь газовый",null,null,null,null,null,null,null,null,null,null,null,null,null,null,null,null,null,null,null,null,null,null,null,null,0,0,null,null,null,"COAG"]
[null,null,null,null,null,null,null,null,null,null,null,null,"4.CF.COALF","Уголь длиннопламенный",null,null,null,null,null,null,null,null,null,null,null,null,null,null,null,null,null,null,null,null,null,null,null,null,0,0,null,null,null,"COALF"]
[null,null,null,null,null,null,null,null,null,null,null,null,"4.CF.COAF","Уголь жирный",null,null,null,null,null,null,null,null,null,null,null,null,null,null,null,null,null,null,null,null,null,null,null,null,0,0,null,null,null,"COAF"]
[null,null,null,null,null,null,null,null,null,null,null,null,"4.CF.COAC","Уголь коксовый",null,null,null,null,null,null,null,null,null,null,null,null,null,null,null,null,null,null,null,null,null,null,null,null,0,0,null,null,null,"COAC"]
[null,null,null,null,null,null,null,null,null,null,null,null,"4.CF.COASC","Уголь отощённо-спекающийся",null,null,null,null,null,null,null,null,null,null,null,null,null,null,null,null,null,null,null,null,null,null,null,null,0,0,null,null,null,"COASC"]
[null,null,null,null,null,null,null,null,null,null,null,null,"4.CF.COAWC","Уголь слабоспекающийся",null,null,null,null,null,null,null,null,null,null,null,null,null,null,null,null,null,null,null,null,null,null,null,null,0,0,null,null,null,"COAWC"]
[null,null,null,null,null,null,null,null,null,null,null,null,"4.CF.COAS","Уголь тощий",null,null,null,null,null,null,null,null,null,null,null,null,null,null,null,null,null,null,null,null,null,null,null,null,0,0,null,null,null,"COAS"]
[]
[]
[null,null,null,null,null,null,null,null,null,null,null,null,"4.CF.CWD","Уголь древесный",null,null,null,null,null,null,null,null,null,null,null,null,null,null,null,null,null,null,null,null,null,null,null,null,{"$f":"AL1203","v":0},0,null,null,null,"CWD"]
[null,null,null,null,null,null,null,null,null,null,null,null,"4.CF.WDS","Дрова",null,null,null,null,null,null,null,null,null,null,null,null,null,null,null,null,null,null,null,null,null,null,null,null,0,0,null,null,null,"WDS"]
[null,null,null,null,null,null,null,null,null,null,null,null,"4.CF.PLT","Пеллеты",null,null,null,null,null,null,null,null,null,null,null,null,null,null,null,null,null,null,null,null,null,null,null,null,0,0,null,null,null,"PLT"]
[null,null,null,null,null,null,null,null,null,null,null,null,"4.CF.SAW","Опилки",null,null,null,null,null,null,null,null,null,null,null,null,null,null,null,null,null,null,null,null,null,null,null,null,0,0,null,null,null,"SAW"]
[null,null,null,null,null,null,null,null,null,null,null,null,"4.CF.PEA","Торф",null,null,null,null,null,null,null,null,null,null,null,null,null,null,null,null,null,null,null,null,null,null,null,null,0,0,null,null,null,"PEA"]
[null,null,null,null,null,null,null,null,null,null,null,null,"4.CF.SHL","Сланцы",null,null,null,null,null,null,null,null,null,null,null,null,null,null,null,null,null,null,null,null,null,null,null,null,0,0,null,null,null,"SHL"]
[null,null,null,null,null,null,null,null,null,null,null,null,"4.CF.STF","Печное бытовое топливо",null,null,null,null,null,null,null,null,null,null,null,null,null,null,null,null,null,null,null,null,null,null,null,null,0,0,null,null,null,"STF"]
[]
[null,null,null,null,null,null,null,null,null,null,null,null,"4.NFV","Расход натурального топлива"]
[null,null,null,null,null,null,null,null,null,null,null,null,"4.NFV.NG","Газ природный","тыс.м3",null,null,null,null,null,null,null,null,null,null,null,null,null,null,null,null,null,null,null,null,null,null,{"$f":"AM1212+AN1212","v":0},{"$f":"SUM(AM1213:AM1215)","v":0},{"$f":"SUM(AN1213:AN1215)","v":0},null,null,null,"NG"]
[null,null,null,null,null,null,null,null,null,null,null,null,"4.NFV.NGL","Газ лимитный","тыс.м3",null,null,null,null,null,null,null,null,null,null,null,null,null,null,null,null,null,null,null,null,null,null,{"$f":"AL1256","v":0},{"$f":"AM1256","v":0},{"$f":"AN1256","v":0},null,null,null,"NGL"]
[null,null,null,null,null,null,null,null,null,null,null,null,"4.NFV.NGU","Газ сверхлимитный","тыс.м3",null,null,null,null,null,null,null,null,null,null,null,null,null,null,null,null,null,null,null,null,null,null,{"$f":"AL1264","v":0},{"$f":"AM1264","v":0},{"$f":"AN1264","v":0},null,null,null,"NGU"]
[null,null,null,null,null,null,null,null,null,null,null,null,"4.NFV.NGC","Газ коммерческий","тыс.м3",null,null,null,null,null,null,null,null,null,null,null,null,null,null,null,null,null,null,null,null,null,null,{"$f":"AM1215+AN1215","v":0},null,null,null,null,null,"NGC"]
[null,null,null,null,null,null,null,null,null,null,null,null,"4.NFV.GBL","Газ доменный","тнт",null,null,null,null,null,null,null,null,null,null,null,null,null,null,null,null,null,null,null,null,null,null,0,null,null,null,null,null,"GBL"]
[null,null,null,null,null,null,null,null,null,null,null,null,"4.NFV.GCK","Газ коксовый","тнт",null,null,null,null,null,null,null,null,null,null,null,null,null,null,null,null,null,null,null,null,null,null,0,null,null,null,null,null,"GCK"]
[null,null,null,null,null,null,null,null,null,null,null,null,"4.NFV.GOA","Газ нефтяной (попутный)","тнт",null,null,null,null,null,null,null,null,null,null,null,null,null,null,null,null,null,null,null,null,null,null,0,null,null,null,null,null,"GOA"]
[null,null,null,null,null,null,null,null,null,null,null,null,"4.NFV.DSG","Газ сухой отбензиненный","тнт",null,null,null,null,null,null,null,null,null,null,null,null,null,null,null,null,null,null,null,null,null,null,0,null,null,null,null,null,"DSG"]
[null,null,null,null,null,null,null,null,null,null,null,null,"4.NFV.GCN","Газовый конденсат","тнт",null,null,null,null,null,null,null,null,null,null,null,null,null,null,null,null,null,null,null,null,null,null,0,null,null,null,null,null,"GCN"]
[null,null,null,null,null,null,null,null,null,null,null,null,"4.NFV.LNG","Газ сжиженный","тнт",null,null,null,null,null,null,null,null,null,null,null,null,null,null,null,null,null,null,null,null,null,null,0,null,null,null,null,null,"LNG"]
[null,null,null,null,null,null,null,null,null,null,null,null,"4.NFV.DSL","Дизельное топливо","тнт",null,null,null,null,null,null,null,null,null,null,null,null,null,null,null,null,null,null,null,null,null,null,0,{"$f":"SUM(AM1223:AM1226)","v":0},{"$f":"SUM(AN1223:AN1226)","v":0},null,null,null,"DSL"]
[null,null,null,null,null,null,null,null,null,null,null,null,"4.NFV.DSLA","А (арктическое)","тнт",null,null,null,null,null,null,null,null,null,null,null,null,null,null,null,null,null,null,null,null,null,null,0,null,null,null,null,null,"DSLA"]
[null,null,null,null,null,null,null,null,null,null,null,null,"4.NFV.DSLW","З (зимнее)","тнт",null,null,null,null,null,null,null,null,null,null,null,null,null,null,null,null,null,null,null,null,null,null,0,null,null,null,null,null,"DSLW"]
[null,null,null,null,null,null,null,null,null,null,null,null,"4.NFV.DSLS","Л (летнее)","тнт",null,null,null,null,null,null,null,null,null,null,null,null,null,null,null,null,null,null,null,null,null,null,0,null,null,null,null,null,"DSLS"]
[null,null,null,null,null,null,null,null,null,null,null,null,"4.NFV.DSLO","Е (межсезонное)","тнт",null,null,null,null,null,null,null,null,null,null,null,null,null,null,null,null,null,null,null,null,null,null,0,null,null,null,null,null,"DSLO"]
[null,null,null,null,null,null,null,null,null,null,null,null,"4.NFV.MST","Мазут","тнт",null,null,null,null,null,null,null,null,null,null,null,null,null,null,null,null,null,null,null,null,null,null,0,{"$f":"SUM(AM1228:AM1233)","v":0},{"$f":"SUM(AN1228:AN1233)","v":0},null,null,null,"MST"]
[null,null,null,null,null,null,null,null,null,null,null,null,"4.NFV.MSTM40","М-40","тнт",null,null,null,null,null,null,null,null,null,null,null,null,null,null,null,null,null,null,null,null,null,null,0,null,null,null,null,null,"MSTM40"]
[null,null,null,null,null,null,null,null,null,null,null,null,"4.NFV.MSTM100","М-100","тнт",null,null,null,null,null,null,null,null,null,null,null,null,null,null,null,null,null,null,null,null,null,null,0,null,null,null,null,null,"MSTM100"]
[null,null,null,null,null,null,null,null,null,null,null,null,"4.NFV.MSTM200","М-200","тнт",null,null,null,null,null,null,null,null,null,null,null,null,null,null,null,null,null,null,null,null,null,null,0,null,null,null,null,null,"MSTM200"]
[null,null,null,null,null,null,null,null,null,null,null,null,"4.NFV.MSTT","мазут марки \"Т\"","тнт",null,null,null,null,null,null,null,null,null,null,null,null,null,null,null,null,null,null,null,null,null,null,0,null,null,null,null,null,"MSTT"]
[null,null,null,null,null,null,null,null,null,null,null,null,"4.NFV.MSTF5","Ф-5","тнт",null,null,null,null,null,null,null,null,null,null,null,null,null,null,null,null,null,null,null,null,null,null,0,null,null,null,null,null,"MSTF5"]
[null,null,null,null,null,null,null,null,null,null,null,null,"4.NFV.MSTF12","Ф-12","тнт",null,null,null,null,null,null,null,null,null,null,null,null,null,null,null,null,null,null,null,null,null,null,0,null,null,null,null,null,"MSTF12"]
[null,null,null,null,null,null,null,null,null,null,null,null,"4.NFV.OIL","Нефть","тнт",null,null,null,null,null,null,null,null,null,null,null,null,null,null,null,null,null,null,null,null,null,null,0,null,null,null,null,null,"OIL"]
[null,null,null,null,null,null,null,null,null,null,null,null,"4.NFV.COA","Уголь","тнт",null,null,null,null,null,null,null,null,null,null,null,null,null,null,null,null,null,null,null,null,null,null,0,{"$f":"SUM(AM1236:AM1244)","v":0},{"$f":"SUM(AN1236:AN1244)","v":0},null,null,null,"COA"]
[null,null,null,null,null,null,null,null,null,null,null,null,"4.NFV.COAA","Уголь антрацит","тнт",null,null,null,null,null,null,null,null,null,null,null,null,null,null,null,null,null,null,null,null,null,null,0,null,null,null,null,null,"COAA"]
[null,null,null,null,null,null,null,null,null,null,null,null,"4.NFV.COAB","Уголь бурый","тнт",null,null,null,null,null,null,null,null,null,null,null,null,null,null,null,null,null,null,null,null,null,null,0,null,null,null,null,null,"COAB"]
[null,null,null,null,null,null,null,null,null,null,null,null,"4.NFV.COAG","Уголь газовый","тнт",null,null,null,null,null,null,null,null,null,null,null,null,null,null,null,null,null,null,null,null,null,null,0,null,null,null,null,null,"COAG"]
[null,null,null,null,null,null,null,null,null,null,null,null,"4.NFV.COALF","Уголь длиннопламенный","тнт",null,null,null,null,null,null,null,null,null,null,null,null,null,null,null,null,null,null,null,null,null,null,0,null,null,null,null,null,"COALF"]
[null,null,null,null,null,null,null,null,null,null,null,null,"4.NFV.COAF","Уголь жирный","тнт",null,null,null,null,null,null,null,null,null,null,null,null,null,null,null,null,null,null,null,null,null,null,0,null,null,null,null,null,"COAF"]
[null,null,null,null,null,null,null,null,null,null,null,null,"4.NFV.COAC","Уголь коксовый","тнт",null,null,null,null,null,null,null,null,null,null,null,null,null,null,null,null,null,null,null,null,null,null,0,null,null,null,null,null,"COAC"]
[null,null,null,null,null,null,null,null,null,null,null,null,"4.NFV.COASC","Уголь отощённо-спекающийся","тнт",null,null,null,null,null,null,null,null,null,null,null,null,null,null,null,null,null,null,null,null,null,null,0,null,null,null,null,null,"COASC"]
[null,null,null,null,null,null,null,null,null,null,null,null,"4.NFV.COAWC","Уголь слабоспекающийся","тнт",null,null,null,null,null,null,null,null,null,null,null,null,null,null,null,null,null,null,null,null,null,null,0,null,null,null,null,null,"COAWC"]
[null,null,null,null,null,null,null,null,null,null,null,null,"4.NFV.COAS","Уголь тощий","тнт",null,null,null,null,null,null,null,null,null,null,null,null,null,null,null,null,null,null,null,null,null,null,0,null,null,null,null,null,"COAS"]
[null,null,null,null,null,null,null,null,null,null,null,null,"4.NFV.ENR","Энергия","тыс.кВт*ч",null,null,null,null,null,null,null,null,null,null,null,null,null,null,null,null,null,null,null,null,null,null,{"$f":"AL1835","v":0},0,0,null,null,null,"ENR"]
[null,null,null,null,null,null,null,null,null,null,null,null,"4.NFV.PWR","Заявленная мощность","МВт",null,null,null,null,null,null,null,null,null,null,null,null,null,null,null,null,null,null,null,null,null,null,0,0,0,null,null,null,"PWR"]
[null,null,null,null,null,null,null,null,null,null,null,null,"4.NFV.CWD","Уголь древесный","тнт",null,null,null,null,null,null,null,null,null,null,null,null,null,null,null,null,null,null,null,null,null,null,{"$f":"AM1247+AN1247","v":0},null,null,null,null,null,"CWD"]
[null,null,null,null,null,null,null,null,null,null,null,null,"4.NFV.WDS","Дрова","тнт",null,null,null,null,null,null,null,null,null,null,null,null,null,null,null,null,null,null,null,null,null,null,0,null,null,null,null,null,"WDS"]
[null,null,null,null,null,null,null,null,null,null,null,null,"4.NFV.PLT","Пеллеты","тнт",null,null,null,null,null,null,null,null,null,null,null,null,null,null,null,null,null,null,null,null,null,null,0,null,null,null,null,null,"PLT"]
[null,null,null,null,null,null,null,null,null,null,null,null,"4.NFV.SAW","Опилки","тнт",null,null,null,null,null,null,null,null,null,null,null,null,null,null,null,null,null,null,null,null,null,null,0,null,null,null,null,null,"SAW"]
[null,null,null,null,null,null,null,null,null,null,null,null,"4.NFV.PEA","Торф","тнт",null,null,null,null,null,null,null,null,null,null,null,null,null,null,null,null,null,null,null,null,null,null,0,null,null,null,null,null,"PEA"]
[null,null,null,null,null,null,null,null,null,null,null,null,"4.NFV.SHL","Сланцы","тнт",null,null,null,null,null,null,null,null,null,null,null,null,null,null,null,null,null,null,null,null,null,null,0,null,null,null,null,null,"SHL"]
[null,null,null,null,null,null,null,null,null,null,null,null,"4.NFV.STF","Печное бытовое топливо","тнт",null,null,null,null,null,null,null,null,null,null,null,null,null,null,null,null,null,null,null,null,null,null,0,null,null,null,null,null,"STF"]
[]
[null,null,null,null,null,null,null,null,null,null,null,null,"4.NGV","Расход природного газа"]
[null,null,null,null,null,null,null,null,null,null,null,null,"4.NGV.NGL","Газ лимитный","тыс.м3",null,null,null,null,null,null,null,null,null,null,null,null,null,null,null,null,null,null,null,null,null,null,{"$f":"AM1256+AN1256","v":0},{"$f":"SUM(AM1257:AM1263)","v":0},{"$f":"SUM(AN1257:AN1263)","v":0},null,null,null,"NGL"]
[null,null,null,null,null,null,null,null,null,null,null,null,"4.NGV.1.NGL","1 группа: свыше 500 млн.м3","тыс.м3",null,null,null,null,null,null,null,null,null,null,null,null,null,null,null,null,null,null,null,null,null,null,0,null,null,null,null,null,"NGL"]
[null,null,null,null,null,null,null,null,null,null,null,null,"4.NGV.2.NGL","2 группа: от 100 до 500 млн.м3 включительно","тыс.м3",null,null,null,null,null,null,null,null,null,null,null,null,null,null,null,null,null,null,null,null,null,null,0,null,null,null,null,null,"NGL"]
[null,null,null,null,null,null,null,null,null,null,null,null,"4.NGV.3.NGL","3 группа: от 10 до 100 млн.м3 включительно","тыс.м3",null,null,null,null,null,null,null,null,null,null,null,null,null,null,null,null,null,null,null,null,null,null,0,null,null,null,null,null,"NGL"]
[null,null,null,null,null,null,null,null,null,null,null,null,"4.NGV.4.NGL","4 группа: от 1 до 10 млн.м3 включительно","тыс.м3",null,null,null,null,null,null,null,null,null,null,null,null,null,null,null,null,null,null,null,null,null,null,0,null,null,null,null,null,"NGL"]
[null,null,null,null,null,null,null,null,null,null,null,null,"4.NGV.5.NGL","5 группа: от 0,1 до 1 млн.м3 включительно","тыс.м3",null,null,null,null,null,null,null,null,null,null,null,null,null,null,null,null,null,null,null,null,null,null,0,null,null,null,null,null,"NGL"]
[null,null,null,null,null,null,null,null,null,null,null,null,"4.NGV.6.NGL","6 группа: от 0,01 до 0,1 млн.м3 включительно","тыс.м3",null,null,null,null,null,null,null,null,null,null,null,null,null,null,null,null,null,null,null,null,null,null,0,null,null,null,null,null,"NGL"]
[null,null,null,null,null,null,null,null,null,null,null,null,"4.NGV.7.NGL","7 группа: до 0,01 млн.м3 включительно","тыс.м3",null,null,null,null,null,null,null,null,null,null,null,null,null,null,null,null,null,null,null,null,null,null,0,null,null,null,null,null,"NGL"]
[null,null,null,null,null,null,null,null,null,null,null,null,"4.NGV.NGU","Газ сверхлимитный","тыс.м3",null,null,null,null,null,null,null,null,null,null,null,null,null,null,null,null,null,null,null,null,null,null,0,{"$f":"SUM(AM1265:AM1271)","v":0},{"$f":"SUM(AN1265:AN1271)","v":0},null,null,null,"NGU"]
[null,null,null,null,null,null,null,null,null,null,null,null,"4.NGV.1.NGU","1 группа: свыше 500 млн.м3","тыс.м3",null,null,null,null,null,null,null,null,null,null,null,null,null,null,null,null,null,null,null,null,null,null,0,null,null,null,null,null,"NGU"]
[null,null,null,null,null,null,null,null,null,null,null,null,"4.NGV.2.NGU","2 группа: от 100 до 500 млн.м3 включительно","тыс.м3",null,null,null,null,null,null,null,null,null,null,null,null,null,null,null,null,null,null,null,null,null,null,0,null,null,null,null,null,"NGU"]
[null,null,null,null,null,null,null,null,null,null,null,null,"4.NGV.3.NGU","3 группа: от 10 до 100 млн.м3 включительно","тыс.м3",null,null,null,null,null,null,null,null,null,null,null,null,null,null,null,null,null,null,null,null,null,null,0,null,null,null,null,null,"NGU"]
[null,null,null,null,null,null,null,null,null,null,null,null,"4.NGV.4.NGU","4 группа: от 1 до 10 млн.м3 включительно","тыс.м3",null,null,null,null,null,null,null,null,null,null,null,null,null,null,null,null,null,null,null,null,null,null,0,null,null,null,null,null,"NGU"]
[null,null,null,null,null,null,null,null,null,null,null,null,"4.NGV.5.NGU","5 группа: от 0,1 до 1 млн.м3 включительно","тыс.м3",null,null,null,null,null,null,null,null,null,null,null,null,null,null,null,null,null,null,null,null,null,null,0,null,null,null,null,null,"NGU"]
[null,null,null,null,null,null,null,null,null,null,null,null,"4.NGV.6.NGU","6 группа: от 0,01 до 0,1 млн.м3 включительно","тыс.м3",null,null,null,null,null,null,null,null,null,null,null,null,null,null,null,null,null,null,null,null,null,null,0,null,null,null,null,null,"NGU"]
[null,null,null,null,null,null,null,null,null,null,null,null,"4.NGV.7.NGU","7 группа: до 0,01 млн.м3 включительно","тыс.м3",null,null,null,null,null,null,null,null,null,null,null,null,null,null,null,null,null,null,null,null,null,null,0,null,null,null,null,null,"NGU"]
[]
[null,null,null,null,null,null,null,null,null,null,null,null,null,"Показатели себестоимости топлива "]
[]
[null,null,null,null,null,null,null,null,null,null,null,null,"4.NFP","Цена натурального топлива без учёта транспортировки (перевозки)"]
[null,null,null,null,null,null,null,null,null,null,null,null,"4.NFP.NG","Газ природный","руб./тыс.м3",null,null,null,null,null,null,null,null,null,null,null,null,null,null,null,null,null,null,null,null,null,null,{"$f":"IF(AL1212=0,0,AL1320/AL1212*1000)","v":0},{"$f":"IF(AM1212=0,0,AM1320/AM1212*1000)","v":0},{"$f":"IF(AN1212=0,0,AN1320/AN1212*1000)","v":0},null,null,null,"NG"]
[null,null,null,null,null,null,null,null,null,null,null,null,"4.NFP.NGL","Газ лимитный","руб./тыс.м3",null,null,null,null,null,null,null,null,null,null,null,null,null,null,null,null,null,null,null,null,null,null,{"$f":"IF(AL1213=0,0,AL1321/AL1213*1000)","v":0},null,null,null,null,null,"NGL"]
[null,null,null,null,null,null,null,null,null,null,null,null,"4.NFP.NGU","Газ сверхлимитный","руб./тыс.м3",null,null,null,null,null,null,null,null,null,null,null,null,null,null,null,null,null,null,null,null,null,null,0,null,null,null,null,null,"NGU"]
[null,null,null,null,null,null,null,null,null,null,null,null,"4.NFP.NGC","Газ коммерческий","руб./тыс.м3",null,null,null,null,null,null,null,null,null,null,null,null,null,null,null,null,null,null,null,null,null,null,0,null,null,null,null,null,"NGC"]
[null,null,null,null,null,null,null,null,null,null,null,null,"4.NFP.GBL","Газ доменный","руб./тнт",null,null,null,null,null,null,null,null,null,null,null,null,null,null,null,null,null,null,null,null,null,null,0,null,null,null,null,null,"GBL"]
[null,null,null,null,null,null,null,null,null,null,null,null,"4.NFP.GCK","Газ коксовый","руб./тнт",null,null,null,null,null,null,null,null,null,null,null,null,null,null,null,null,null,null,null,null,null,null,0,null,null,null,null,null,"GCK"]
[null,null,null,null,null,null,null,null,null,null,null,null,"4.NFP.GOA","Газ нефтяной (попутный)","руб./тнт",null,null,null,null,null,null,null,null,null,null,null,null,null,null,null,null,null,null,null,null,null,null,0,null,null,null,null,null,"GOA"]
[null,null,null,null,null,null,null,null,null,null,null,null,"4.NFP.DSG","Газ сухой отбензиненный","руб./тнт",null,null,null,null,null,null,null,null,null,null,null,null,null,null,null,null,null,null,null,null,null,null,0,null,null,null,null,null,"DSG"]
[null,null,null,null,null,null,null,null,null,null,null,null,"4.NFP.GCN","Газовый конденсат","руб./тнт",null,null,null,null,null,null,null,null,null,null,null,null,null,null,null,null,null,null,null,null,null,null,0,null,null,null,null,null,"GCN"]
[null,null,null,null,null,null,null,null,null,null,null,null,"4.NFP.LNG","Газ сжиженный","руб./тнт",null,null,null,null,null,null,null,null,null,null,null,null,null,null,null,null,null,null,null,null,null,null,0,null,null,null,null,null,"LNG"]
[null,null,null,null,null,null,null,null,null,null,null,null,"4.NFP.DSL","Дизельное топливо","руб./тнт",null,null,null,null,null,null,null,null,null,null,null,null,null,null,null,null,null,null,null,null,null,null,0,{"$f":"IF(AM1222=0,0,AM1330/AM1222*1000)","v":0},{"$f":"IF(AN1222=0,0,AN1330/AN1222*1000)","v":0},null,null,null,"DSL"]
[null,null,null,null,null,null,null,null,null,null,null,null,"4.NFP.DSLA","А (арктическое)","руб./тнт",null,null,null,null,null,null,null,null,null,null,null,null,null,null,null,null,null,null,null,null,null,null,0,null,null,null,null,null,"DSLA"]
[null,null,null,null,null,null,null,null,null,null,null,null,"4.NFP.DSLW","З (зимнее)","руб./тнт",null,null,null,null,null,null,null,null,null,null,null,null,null,null,null,null,null,null,null,null,null,null,0,null,null,null,null,null,"DSLW"]
[null,null,null,null,null,null,null,null,null,null,null,null,"4.NFP.DSLS","Л (летнее)","руб./тнт",null,null,null,null,null,null,null,null,null,null,null,null,null,null,null,null,null,null,null,null,null,null,0,null,null,null,null,null,"DSLS"]
[null,null,null,null,null,null,null,null,null,null,null,null,"4.NFP.DSLO","Е (межсезонное)","руб./тнт",null,null,null,null,null,null,null,null,null,null,null,null,null,null,null,null,null,null,null,null,null,null,0,null,null,null,null,null,"DSLO"]
[null,null,null,null,null,null,null,null,null,null,null,null,"4.NFP.MST","Мазут","руб./тнт",null,null,null,null,null,null,null,null,null,null,null,null,null,null,null,null,null,null,null,null,null,null,0,{"$f":"IF(AM1227=0,0,AM1335/AM1227*1000)","v":0},{"$f":"IF(AN1227=0,0,AN1335/AN1227*1000)","v":0},null,null,null,"MST"]
[null,null,null,null,null,null,null,null,null,null,null,null,"4.NFP.MSTM40","М-40","руб./тнт",null,null,null,null,null,null,null,null,null,null,null,null,null,null,null,null,null,null,null,null,null,null,0,null,null,null,null,null,"MSTM40"]
[null,null,null,null,null,null,null,null,null,null,null,null,"4.NFP.MSTM100","М-100","руб./тнт",null,null,null,null,null,null,null,null,null,null,null,null,null,null,null,null,null,null,null,null,null,null,0,null,null,null,null,null,"MSTM100"]
[null,null,null,null,null,null,null,null,null,null,null,null,"4.NFP.MSTM200","М-200","руб./тнт",null,null,null,null,null,null,null,null,null,null,null,null,null,null,null,null,null,null,null,null,null,null,0,null,null,null,null,null,"MSTM200"]
[null,null,null,null,null,null,null,null,null,null,null,null,"4.NFP.MSTT","мазут марки \"Т\"","руб./тнт",null,null,null,null,null,null,null,null,null,null,null,null,null,null,null,null,null,null,null,null,null,null,0,null,null,null,null,null,"MSTT"]
[null,null,null,null,null,null,null,null,null,null,null,null,"4.NFP.MSTF5","Ф-5","руб./тнт",null,null,null,null,null,null,null,null,null,null,null,null,null,null,null,null,null,null,null,null,null,null,0,null,null,null,null,null,"MSTF5"]
[null,null,null,null,null,null,null,null,null,null,null,null,"4.NFP.MSTF12","Ф-12","руб./тнт",null,null,null,null,null,null,null,null,null,null,null,null,null,null,null,null,null,null,null,null,null,null,0,null,null,null,null,null,"MSTF12"]
[null,null,null,null,null,null,null,null,null,null,null,null,"4.NFP.OIL","Нефть","руб./тнт",null,null,null,null,null,null,null,null,null,null,null,null,null,null,null,null,null,null,null,null,null,null,0,null,null,null,null,null,"OIL"]
[null,null,null,null,null,null,null,null,null,null,null,null,"4.NFP.COA","Уголь","руб./тнт",null,null,null,null,null,null,null,null,null,null,null,null,null,null,null,null,null,null,null,null,null,null,0,{"$f":"IF(AM1235=0,0,AM1343/AM1235*1000)","v":0},{"$f":"IF(AN1235=0,0,AN1343/AN1235*1000)","v":0},null,null,null,"COA"]
[null,null,null,null,null,null,null,null,null,null,null,null,"4.NFP.COAA","Уголь антрацит","руб./тнт",null,null,null,null,null,null,null,null,null,null,null,null,null,null,null,null,null,null,null,null,null,null,0,null,null,null,null,null,"COAA"]
[null,null,null,null,null,null,null,null,null,null,null,null,"4.NFP.COAB","Уголь бурый","руб./тнт",null,null,null,null,null,null,null,null,null,null,null,null,null,null,null,null,null,null,null,null,null,null,0,null,null,null,null,null,"COAB"]
[null,null,null,null,null,null,null,null,null,null,null,null,"4.NFP.COAG","Уголь газовый","руб./тнт",null,null,null,null,null,null,null,null,null,null,null,null,null,null,null,null,null,null,null,null,null,null,0,null,null,null,null,null,"COAG"]
[null,null,null,null,null,null,null,null,null,null,null,null,"4.NFP.COALF","Уголь длиннопламенный","руб./тнт",null,null,null,null,null,null,null,null,null,null,null,null,null,null,null,null,null,null,null,null,null,null,0,null,null,null,null,null,"COALF"]
[null,null,null,null,null,null,null,null,null,null,null,null,"4.NFP.COAF","Уголь жирный","руб./тнт",null,null,null,null,null,null,null,null,null,null,null,null,null,null,null,null,null,null,null,null,null,null,0,null,null,null,null,null,"COAF"]
[null,null,null,null,null,null,null,null,null,null,null,null,"4.NFP.COAC","Уголь коксовый","руб./тнт",null,null,null,null,null,null,null,null,null,null,null,null,null,null,null,null,null,null,null,null,null,null,0,null,null,null,null,null,"COAC"]
[null,null,null,null,null,null,null,null,null,null,null,null,"4.NFP.COASC","Уголь отощённо-спекающийся","руб./тнт",null,null,null,null,null,null,null,null,null,null,null,null,null,null,null,null,null,null,null,null,null,null,0,null,null,null,null,null,"COASC"]
[null,null,null,null,null,null,null,null,null,null,null,null,"4.NFP.COAWC","Уголь слабоспекающийся","руб./тнт",null,null,null,null,null,null,null,null,null,null,null,null,null,null,null,null,null,null,null,null,null,null,0,null,null,null,null,null,"COAWC"]
[null,null,null,null,null,null,null,null,null,null,null,null,"4.NFP.COAS","Уголь тощий","руб./тнт",null,null,null,null,null,null,null,null,null,null,null,null,null,null,null,null,null,null,null,null,null,null,0,null,null,null,null,null,"COAS"]
[]
[]
[null,null,null,null,null,null,null,null,null,null,null,null,"4.NFP.CWD","Уголь древесный","руб./тнт",null,null,null,null,null,null,null,null,null,null,null,null,null,null,null,null,null,null,null,null,null,null,{"$f":"IF(AL1247=0,0,AL1355/AL1247*1000)","v":0},null,null,null,null,null,"CWD"]
[null,null,null,null,null,null,null,null,null,null,null,null,"4.NFP.WDS","Дрова","руб./тнт",null,null,null,null,null,null,null,null,null,null,null,null,null,null,null,null,null,null,null,null,null,null,0,null,null,null,null,null,"WDS"]
[null,null,null,null,null,null,null,null,null,null,null,null,"4.NFP.PLT","Пеллеты","руб./тнт",null,null,null,null,null,null,null,null,null,null,null,null,null,null,null,null,null,null,null,null,null,null,0,null,null,null,null,null,"PLT"]
[null,null,null,null,null,null,null,null,null,null,null,null,"4.NFP.SAW","Опилки","руб./тнт",null,null,null,null,null,null,null,null,null,null,null,null,null,null,null,null,null,null,null,null,null,null,0,null,null,null,null,null,"SAW"]
[null,null,null,null,null,null,null,null,null,null,null,null,"4.NFP.PEA","Торф","руб./тнт",null,null,null,null,null,null,null,null,null,null,null,null,null,null,null,null,null,null,null,null,null,null,0,null,null,null,null,null,"PEA"]
[null,null,null,null,null,null,null,null,null,null,null,null,"4.NFP.SHL","Сланцы","руб./тнт",null,null,null,null,null,null,null,null,null,null,null,null,null,null,null,null,null,null,null,null,null,null,0,null,null,null,null,null,"SHL"]
[null,null,null,null,null,null,null,null,null,null,null,null,"4.NFP.STF","Печное бытовое топливо","руб./тнт",null,null,null,null,null,null,null,null,null,null,null,null,null,null,null,null,null,null,null,null,null,null,0,null,null,null,null,null,"STF"]
[]
[null,null,null,null,null,null,null,null,null,null,null,null,"4.NFC","Стоимость натурального топлива без учёта транспортировки (перевозки)","тыс.руб.",null,null,null,null,null,null,null,null,null,null,null,null,null,null,null,null,{"$f":"SUM(AF1320,AF1324:AF1329,AF1330,AF1335,AF1342,AF1343,AF1355:AF1361)","v":0},{"$f":"SUM(AG1320,AG1324:AG1329,AG1330,AG1335,AG1342,AG1343,AG1355:AG1361)","v":0},{"$f":"SUM(AH1320,AH1324:AH1329,AH1330,AH1335,AH1342,AH1343,AH1355:AH1361)","v":0},null,null,null,{"$f":"SUM(AL1320,AL1324:AL1329,AL1330,AL1335,AL1342,AL1343,AL1355:AL1361)","v":0},{"$f":"SUM(AM1320,AM1324:AM1329,AM1330,AM1335,AM1342,AM1343,AM1355:AM1361)","v":0},{"$f":"SUM(AN1320,AN1324:AN1329,AN1330,AN1335,AN1342,AN1343,AN1355:AN1361)","v":0}]
[null,null,null,null,null,null,null,null,null,null,null,null,"NFC.NG","Газ природный","тыс.руб.",null,null,null,null,null,null,null,null,null,null,null,null,null,null,null,null,null,null,null,null,null,null,{"$f":"AM1320+AN1320","v":0},{"$f":"SUM(AM1321:AM1323)","v":0},{"$f":"SUM(AN1321:AN1323)","v":0},null,null,null,"NG"]
[null,null,null,null,null,null,null,null,null,null,null,null,"NFC.NGL","Газ лимитный","тыс.руб.",null,null,null,null,null,null,null,null,null,null,null,null,null,null,null,null,null,null,null,null,null,null,0,{"$f":"AM1277*AM1213/1000","v":0},0,null,null,null,"NGL"]
[null,null,null,null,null,null,null,null,null,null,null,null,"NFC.NGU","Газ сверхлимитный","тыс.руб.",null,null,null,null,null,null,null,null,null,null,null,null,null,null,null,null,null,null,null,null,null,null,0,0,0,null,null,null,"NGU"]
[null,null,null,null,null,null,null,null,null,null,null,null,"NFC.NGC","Газ коммерческий","тыс.руб.",null,null,null,null,null,null,null,null,null,null,null,null,null,null,null,null,null,null,null,null,null,null,0,0,0,null,null,null,"NGC"]
[null,null,null,null,null,null,null,null,null,null,null,null,"NFC.GBL","Газ доменный","тыс.руб.",null,null,null,null,null,null,null,null,null,null,null,null,null,null,null,null,null,null,null,null,null,null,0,0,0,null,null,null,"GBL"]
[null,null,null,null,null,null,null,null,null,null,null,null,"NFC.GCK","Газ коксовый","тыс.руб.",null,null,null,null,null,null,null,null,null,null,null,null,null,null,null,null,null,null,null,null,null,null,0,0,0,null,null,null,"GCK"]
[null,null,null,null,null,null,null,null,null,null,null,null,"NFC.GOA","Газ нефтяной (попутный)","тыс.руб.",null,null,null,null,null,null,null,null,null,null,null,null,null,null,null,null,null,null,null,null,null,null,0,0,0,null,null,null,"GOA"]
[null,null,null,null,null,null,null,null,null,null,null,null,"NFC.DSG","Газ сухой отбензиненный","тыс.руб.",null,null,null,null,null,null,null,null,null,null,null,null,null,null,null,null,null,null,null,null,null,null,0,0,0,null,null,null,"DSG"]
[null,null,null,null,null,null,null,null,null,null,null,null,"NFC.GCN","Газовый конденсат","тыс.руб.",null,null,null,null,null,null,null,null,null,null,null,null,null,null,null,null,null,null,null,null,null,null,0,0,0,null,null,null,"GCN"]
[null,null,null,null,null,null,null,null,null,null,null,null,"NFC.LNG","Газ сжиженный","тыс.руб.",null,null,null,null,null,null,null,null,null,null,null,null,null,null,null,null,null,null,null,null,null,null,0,0,0,null,null,null,"LNG"]
[null,null,null,null,null,null,null,null,null,null,null,null,"NFC.DSL","Дизельное топливо","тыс.руб.",null,null,null,null,null,null,null,null,null,null,null,null,null,null,null,null,null,null,null,null,null,null,0,{"$f":"SUM(AM1331:AM1334)","v":0},{"$f":"SUM(AN1331:AN1334)","v":0},null,null,null,"DSL"]
[null,null,null,null,null,null,null,null,null,null,null,null,"NFC.DSLA","А (арктическое)","тыс.руб.",null,null,null,null,null,null,null,null,null,null,null,null,null,null,null,null,null,null,null,null,null,null,0,{"$f":"AM1287*AM1223/1000","v":0},0,null,null,null,"DSLA"]
[null,null,null,null,null,null,null,null,null,null,null,null,"NFC.DSLW","З (зимнее)","тыс.руб.",null,null,null,null,null,null,null,null,null,null,null,null,null,null,null,null,null,null,null,null,null,null,0,0,0,null,null,null,"DSLW"]
[null,null,null,null,null,null,null,null,null,null,null,null,"NFC.DSLS","Л (летнее)","тыс.руб.",null,null,null,null,null,null,null,null,null,null,null,null,null,null,null,null,null,null,null,null,null,null,0,0,0,null,null,null,"DSLS"]
[null,null,null,null,null,null,null,null,null,null,null,null,"NFC.DSLO","Е (межсезонное)","тыс.руб.",null,null,null,null,null,null,null,null,null,null,null,null,null,null,null,null,null,null,null,null,null,null,0,0,0,null,null,null,"DSLO"]
[null,null,null,null,null,null,null,null,null,null,null,null,"NFC.MST","Мазут","тыс.руб.",null,null,null,null,null,null,null,null,null,null,null,null,null,null,null,null,null,null,null,null,null,null,0,{"$f":"SUM(AM1336:AM1341)","v":0},{"$f":"SUM(AN1336:AN1341)","v":0},null,null,null,"MST"]
[null,null,null,null,null,null,null,null,null,null,null,null,"NFC.MSTM40","М-40","тыс.руб.",null,null,null,null,null,null,null,null,null,null,null,null,null,null,null,null,null,null,null,null,null,null,0,{"$f":"AM1292*AM1228/1000","v":0},0,null,null,null,"MSTM40"]
[null,null,null,null,null,null,null,null,null,null,null,null,"NFC.MSTM100","М-100","тыс.руб.",null,null,null,null,null,null,null,null,null,null,null,null,null,null,null,null,null,null,null,null,null,null,0,0,0,null,null,null,"MSTM100"]
[null,null,null,null,null,null,null,null,null,null,null,null,"NFC.MSTM200","М-200","тыс.руб.",null,null,null,null,null,null,null,null,null,null,null,null,null,null,null,null,null,null,null,null,null,null,0,0,0,null,null,null,"MSTM200"]
[null,null,null,null,null,null,null,null,null,null,null,null,"NFC.MSTT","мазут марки \"Т\"","тыс.руб.",null,null,null,null,null,null,null,null,null,null,null,null,null,null,null,null,null,null,null,null,null,null,0,0,0,null,null,null,"MSTT"]
[null,null,null,null,null,null,null,null,null,null,null,null,"NFC.MSTF5","Ф-5","тыс.руб.",null,null,null,null,null,null,null,null,null,null,null,null,null,null,null,null,null,null,null,null,null,null,0,0,0,null,null,null,"MSTF5"]
[null,null,null,null,null,null,null,null,null,null,null,null,"NFC.MSTF12","Ф-12","тыс.руб.",null,null,null,null,null,null,null,null,null,null,null,null,null,null,null,null,null,null,null,null,null,null,0,0,0,null,null,null,"MSTF12"]
[null,null,null,null,null,null,null,null,null,null,null,null,"NFC.OIL","Нефть","тыс.руб.",null,null,null,null,null,null,null,null,null,null,null,null,null,null,null,null,null,null,null,null,null,null,0,0,0,null,null,null,"OIL"]
[null,null,null,null,null,null,null,null,null,null,null,null,"NFC.COA","Уголь","тыс.руб.",null,null,null,null,null,null,null,null,null,null,null,null,null,null,null,null,null,null,null,null,null,null,0,{"$f":"SUM(AM1344:AM1352)","v":0},{"$f":"SUM(AN1344:AN1352)","v":0},null,null,null,"COA"]
[null,null,null,null,null,null,null,null,null,null,null,null,"NFC.COAA","Уголь антрацит","тыс.руб.",null,null,null,null,null,null,null,null,null,null,null,null,null,null,null,null,null,null,null,null,null,null,0,{"$f":"AM1300*AM1236/1000","v":0},0,null,null,null,"COAA"]
[null,null,null,null,null,null,null,null,null,null,null,null,"NFC.COAB","Уголь бурый","тыс.руб.",null,null,null,null,null,null,null,null,null,null,null,null,null,null,null,null,null,null,null,null,null,null,0,0,0,null,null,null,"COAB"]
[null,null,null,null,null,null,null,null,null,null,null,null,"NFC.COAG","Уголь газовый","тыс.руб.",null,null,null,null,null,null,null,null,null,null,null,null,null,null,null,null,null,null,null,null,null,null,0,0,0,null,null,null,"COAG"]
[null,null,null,null,null,null,null,null,null,null,null,null,"NFC.COALF","Уголь длиннопламенный","тыс.руб.",null,null,null,null,null,null,null,null,null,null,null,null,null,null,null,null,null,null,null,null,null,null,0,0,0,null,null,null,"COALF"]
[null,null,null,null,null,null,null,null,null,null,null,null,"NFC.COAF","Уголь жирный","тыс.руб.",null,null,null,null,null,null,null,null,null,null,null,null,null,null,null,null,null,null,null,null,null,null,0,0,0,null,null,null,"COAF"]
[null,null,null,null,null,null,null,null,null,null,null,null,"NFC.COAC","Уголь коксовый","тыс.руб.",null,null,null,null,null,null,null,null,null,null,null,null,null,null,null,null,null,null,null,null,null,null,0,0,0,null,null,null,"COAC"]
[null,null,null,null,null,null,null,null,null,null,null,null,"NFC.COASC","Уголь отощённо-спекающийся","тыс.руб.",null,null,null,null,null,null,null,null,null,null,null,null,null,null,null,null,null,null,null,null,null,null,0,0,0,null,null,null,"COASC"]
[null,null,null,null,null,null,null,null,null,null,null,null,"NFC.COAWC","Уголь слабоспекающийся","тыс.руб.",null,null,null,null,null,null,null,null,null,null,null,null,null,null,null,null,null,null,null,null,null,null,0,0,0,null,null,null,"COAWC"]
[null,null,null,null,null,null,null,null,null,null,null,null,"NFC.COAS","Уголь тощий","тыс.руб.",null,null,null,null,null,null,null,null,null,null,null,null,null,null,null,null,null,null,null,null,null,null,0,0,0,null,null,null,"COAS"]
[]
[]
[null,null,null,null,null,null,null,null,null,null,null,null,"NFC.CWD","Уголь древесный","тыс.руб.",null,null,null,null,null,null,null,null,null,null,null,null,null,null,null,null,null,null,null,null,null,null,{"$f":"AM1355+AN1355","v":0},{"$f":"AM1311*AM1247/1000","v":0},0,null,null,null,"CWD"]
[null,null,null,null,null,null,null,null,null,null,null,null,"NFC.WDS","Дрова","тыс.руб.",null,null,null,null,null,null,null,null,null,null,null,null,null,null,null,null,null,null,null,null,null,null,0,0,0,null,null,null,"WDS"]
[null,null,null,null,null,null,null,null,null,null,null,null,"NFC.PLT","Пеллеты","тыс.руб.",null,null,null,null,null,null,null,null,null,null,null,null,null,null,null,null,null,null,null,null,null,null,0,0,0,null,null,null,"PLT"]
[null,null,null,null,null,null,null,null,null,null,null,null,"NFC.SAW","Опилки","тыс.руб.",null,null,null,null,null,null,null,null,null,null,null,null,null,null,null,null,null,null,null,null,null,null,0,0,0,null,null,null,"SAW"]
[null,null,null,null,null,null,null,null,null,null,null,null,"NFC.PEA","Торф","тыс.руб.",null,null,null,null,null,null,null,null,null,null,null,null,null,null,null,null,null,null,null,null,null,null,0,0,0,null,null,null,"PEA"]
[null,null,null,null,null,null,null,null,null,null,null,null,"NFC.SHL","Сланцы","тыс.руб.",null,null,null,null,null,null,null,null,null,null,null,null,null,null,null,null,null,null,null,null,null,null,0,0,0,null,null,null,"SHL"]
[null,null,null,null,null,null,null,null,null,null,null,null,"NFC.STF","Печное бытовое топливо","тыс.руб.",null,null,null,null,null,null,null,null,null,null,null,null,null,null,null,null,null,null,null,null,null,null,0,0,0,null,null,null,"STF"]
[]
[]
[null,null,null,null,null,null,null,null,null,null,null,null,null,"Показатели транспортировки (перевозки) топлива"]
[]
[null,null,null,null,null,null,null,null,null,null,null,null,"4.0.3.1.1.1","Природный газ. Газ лимитный. Тариф на ССУ (cнабженческо-сбытовые услуги)"]
[null,null,null,null,null,null,null,null,null,null,null,null,{"$f":"M1366 & \".1\"","v":"4.0.3.1.1.1.1"},"1 группа: свыше 500 млн.м3","руб./тыс.м3",null,null,null,null,null,null,null,null,null,null,null,null,null,null,null,null,null,null,null,null,null,null,{"$f":"IF(AL1257=0,0,AL1383/AL1257*1000)","v":0},null,null,null,null,null,"NGL"]
[null,null,null,null,null,null,null,null,null,null,null,null,{"$f":"M1366 & \".2\"","v":"4.0.3.1.1.1.2"},"2 группа: от 100 до 500 млн.м3 включительно","руб./тыс.м3",null,null,null,null,null,null,null,null,null,null,null,null,null,null,null,null,null,null,null,null,null,null,{"$f":"IF(AL1258=0,0,AL1384/AL1258*1000)","v":0},null,null,null,null,null,"NGL"]
[null,null,null,null,null,null,null,null,null,null,null,null,{"$f":"M1366 & \".3\"","v":"4.0.3.1.1.1.3"},"3 группа: от 10 до 100 млн.м3 включительно","руб./тыс.м3",null,null,null,null,null,null,null,null,null,null,null,null,null,null,null,null,null,null,null,null,null,null,0,null,null,null,null,null,"NGL"]
[null,null,null,null,null,null,null,null,null,null,null,null,{"$f":"M1366 & \".4\"","v":"4.0.3.1.1.1.4"},"4 группа: от 1 до 10 млн.м3 включительно","руб./тыс.м3",null,null,null,null,null,null,null,null,null,null,null,null,null,null,null,null,null,null,null,null,null,null,0,null,null,null,null,null,"NGL"]
[null,null,null,null,null,null,null,null,null,null,null,null,{"$f":"M1366 & \".5\"","v":"4.0.3.1.1.1.5"},"5 группа: от 0,1 до 1 млн.м3 включительно","руб./тыс.м3",null,null,null,null,null,null,null,null,null,null,null,null,null,null,null,null,null,null,null,null,null,null,0,null,null,null,null,null,"NGL"]
[null,null,null,null,null,null,null,null,null,null,null,null,{"$f":"M1366 & \".6\"","v":"4.0.3.1.1.1.6"},"6 группа: от 0,01 до 0,1 млн.м3 включительно","руб./тыс.м3",null,null,null,null,null,null,null,null,null,null,null,null,null,null,null,null,null,null,null,null,null,null,0,null,null,null,null,null,"NGL"]
[null,null,null,null,null,null,null,null,null,null,null,null,{"$f":"M1366 & \".7\"","v":"4.0.3.1.1.1.7"},"7 группа: до 0,01 млн.м3 включительно","руб./тыс.м3",null,null,null,null,null,null,null,null,null,null,null,null,null,null,null,null,null,null,null,null,null,null,0,null,null,null,null,null,"NGL"]
[null,null,null,null,null,null,null,null,null,null,null,null,"4.0.3.1.1.2","Природный газ. Газ лимитный. Тариф ГРО (услуги газораспределительной организации)"]
[null,null,null,null,null,null,null,null,null,null,null,null,{"$f":"M1374 & \".1\"","v":"4.0.3.1.1.2.1"},"1 группа: свыше 500 млн.м3","руб./тыс.м3",null,null,null,null,null,null,null,null,null,null,null,null,null,null,null,null,null,null,null,null,null,null,{"$f":"IF(AL1257=0,0,AL1391/AL1257*1000)","v":0},null,null,null,null,null,"NGL"]
[null,null,null,null,null,null,null,null,null,null,null,null,{"$f":"M1374 & \".2\"","v":"4.0.3.1.1.2.2"},"2 группа: от 100 до 500 млн.м3 включительно","руб./тыс.м3",null,null,null,null,null,null,null,null,null,null,null,null,null,null,null,null,null,null,null,null,null,null,{"$f":"IF(AL1258=0,0,AL1392/AL1258*1000)","v":0},null,null,null,null,null,"NGL"]
[null,null,null,null,null,null,null,null,null,null,null,null,{"$f":"M1374 & \".3\"","v":"4.0.3.1.1.2.3"},"3 группа: от 10 до 100 млн.м3 включительно","руб./тыс.м3",null,null,null,null,null,null,null,null,null,null,null,null,null,null,null,null,null,null,null,null,null,null,0,null,null,null,null,null,"NGL"]
[null,null,null,null,null,null,null,null,null,null,null,null,{"$f":"M1374 & \".4\"","v":"4.0.3.1.1.2.4"},"4 группа: от 1 до 10 млн.м3 включительно","руб./тыс.м3",null,null,null,null,null,null,null,null,null,null,null,null,null,null,null,null,null,null,null,null,null,null,0,null,null,null,null,null,"NGL"]
[null,null,null,null,null,null,null,null,null,null,null,null,{"$f":"M1374 & \".5\"","v":"4.0.3.1.1.2.5"},"5 группа: от 0,1 до 1 млн.м3 включительно","руб./тыс.м3",null,null,null,null,null,null,null,null,null,null,null,null,null,null,null,null,null,null,null,null,null,null,0,null,null,null,null,null,"NGL"]
[null,null,null,null,null,null,null,null,null,null,null,null,{"$f":"M1374 & \".6\"","v":"4.0.3.1.1.2.6"},"6 группа: от 0,01 до 0,1 млн.м3 включительно","руб./тыс.м3",null,null,null,null,null,null,null,null,null,null,null,null,null,null,null,null,null,null,null,null,null,null,0,null,null,null,null,null,"NGL"]
[null,null,null,null,null,null,null,null,null,null,null,null,{"$f":"M1374 & \".7\"","v":"4.0.3.1.1.2.7"},"7 группа: до 0,01 млн.м3 включительно","руб./тыс.м3",null,null,null,null,null,null,null,null,null,null,null,null,null,null,null,null,null,null,null,null,null,null,0,null,null,null,null,null,"NGL"]
[null,null,null,null,null,null,null,null,null,null,null,null,"4.0.3.1.1.3","Природный газ. Газ лимитный. ПССУ (плата за cнабженческо-сбытовые услуги), всего","тыс.руб.",null,null,null,null,null,null,null,null,null,null,null,null,null,null,null,null,null,null,null,null,null,null,{"$f":"AM1382+AN1382","v":0},{"$f":"SUM(AM1383:AM1389)","v":0},{"$f":"SUM(AN1383:AN1389)","v":0},null,null,null,"NGL"]
[null,null,null,null,null,null,null,null,null,null,null,null,{"$f":"M1382 & \".1\"","v":"4.0.3.1.1.3.1"},"1 группа: свыше 500 млн.м3","тыс.руб.",null,null,null,null,null,null,null,null,null,null,null,null,null,null,null,null,null,null,null,null,null,null,0,{"$f":"AM1367*AM1257/1000","v":0},{"$f":"AN1367*AN1257/1000","v":0},null,null,null,"NGL"]
[null,null,null,null,null,null,null,null,null,null,null,null,{"$f":"M1382 & \".2\"","v":"4.0.3.1.1.3.2"},"2 группа: от 100 до 500 млн.м3 включительно","тыс.руб.",null,null,null,null,null,null,null,null,null,null,null,null,null,null,null,null,null,null,null,null,null,null,0,{"$f":"AM1368*AM1258/1000","v":0},0,null,null,null,"NGL"]
[null,null,null,null,null,null,null,null,null,null,null,null,{"$f":"M1382 & \".3\"","v":"4.0.3.1.1.3.3"},"3 группа: от 10 до 100 млн.м3 включительно","тыс.руб.",null,null,null,null,null,null,null,null,null,null,null,null,null,null,null,null,null,null,null,null,null,null,0,0,0,null,null,null,"NGL"]
[null,null,null,null,null,null,null,null,null,null,null,null,{"$f":"M1382 & \".4\"","v":"4.0.3.1.1.3.4"},"4 группа: от 1 до 10 млн.м3 включительно","тыс.руб.",null,null,null,null,null,null,null,null,null,null,null,null,null,null,null,null,null,null,null,null,null,null,0,0,0,null,null,null,"NGL"]
[null,null,null,null,null,null,null,null,null,null,null,null,{"$f":"M1382 & \".5\"","v":"4.0.3.1.1.3.5"},"5 группа: от 0,1 до 1 млн.м3 включительно","тыс.руб.",null,null,null,null,null,null,null,null,null,null,null,null,null,null,null,null,null,null,null,null,null,null,0,0,0,null,null,null,"NGL"]
[null,null,null,null,null,null,null,null,null,null,null,null,{"$f":"M1382 & \".6\"","v":"4.0.3.1.1.3.6"},"6 группа: от 0,01 до 0,1 млн.м3 включительно","тыс.руб.",null,null,null,null,null,null,null,null,null,null,null,null,null,null,null,null,null,null,null,null,null,null,0,0,0,null,null,null,"NGL"]
[null,null,null,null,null,null,null,null,null,null,null,null,{"$f":"M1382 & \".7\"","v":"4.0.3.1.1.3.7"},"7 группа: до 0,01 млн.м3 включительно","тыс.руб.",null,null,null,null,null,null,null,null,null,null,null,null,null,null,null,null,null,null,null,null,null,null,0,0,0,null,null,null,"NGL"]
[null,null,null,null,null,null,null,null,null,null,null,null,"4.0.3.1.1.4","Природный газ. Газ лимитный. ГРО (плата за услуги газораспределительной организации), всего","тыс.руб.",null,null,null,null,null,null,null,null,null,null,null,null,null,null,null,null,null,null,null,null,null,null,0,{"$f":"SUM(AM1391:AM1397)","v":0},{"$f":"SUM(AN1391:AN1397)","v":0},null,null,null,"NGL"]
[null,null,null,null,null,null,null,null,null,null,null,null,{"$f":"M1390 & \".1\"","v":"4.0.3.1.1.4.1"},"1 группа: свыше 500 млн.м3","тыс.руб.",null,null,null,null,null,null,null,null,null,null,null,null,null,null,null,null,null,null,null,null,null,null,0,{"$f":"AM1375*AM1257/1000","v":0},{"$f":"AN1375*AN1257/1000","v":0},null,null,null,"NGL"]
[null,null,null,null,null,null,null,null,null,null,null,null,{"$f":"M1390 & \".2\"","v":"4.0.3.1.1.4.2"},"2 группа: от 100 до 500 млн.м3 включительно","тыс.руб.",null,null,null,null,null,null,null,null,null,null,null,null,null,null,null,null,null,null,null,null,null,null,0,{"$f":"AM1376*AM1258/1000","v":0},0,null,null,null,"NGL"]
[null,null,null,null,null,null,null,null,null,null,null,null,{"$f":"M1390 & \".3\"","v":"4.0.3.1.1.4.3"},"3 группа: от 10 до 100 млн.м3 включительно","тыс.руб.",null,null,null,null,null,null,null,null,null,null,null,null,null,null,null,null,null,null,null,null,null,null,0,0,0,null,null,null,"NGL"]
[null,null,null,null,null,null,null,null,null,null,null,null,{"$f":"M1390 & \".4\"","v":"4.0.3.1.1.4.4"},"4 группа: от 1 до 10 млн.м3 включительно","тыс.руб.",null,null,null,null,null,null,null,null,null,null,null,null,null,null,null,null,null,null,null,null,null,null,0,0,0,null,null,null,"NGL"]
[null,null,null,null,null,null,null,null,null,null,null,null,{"$f":"M1390 & \".5\"","v":"4.0.3.1.1.4.5"},"5 группа: от 0,1 до 1 млн.м3 включительно","тыс.руб.",null,null,null,null,null,null,null,null,null,null,null,null,null,null,null,null,null,null,null,null,null,null,0,0,0,null,null,null,"NGL"]
[null,null,null,null,null,null,null,null,null,null,null,null,{"$f":"M1390 & \".6\"","v":"4.0.3.1.1.4.6"},"6 группа: от 0,01 до 0,1 млн.м3 включительно","тыс.руб.",null,null,null,null,null,null,null,null,null,null,null,null,null,null,null,null,null,null,null,null,null,null,0,0,0,null,null,null,"NGL"]
[null,null,null,null,null,null,null,null,null,null,null,null,{"$f":"M1390 & \".7\"","v":"4.0.3.1.1.4.7"},"7 группа: до 0,01 млн.м3 включительно","тыс.руб.",null,null,null,null,null,null,null,null,null,null,null,null,null,null,null,null,null,null,null,null,null,null,0,0,0,null,null,null,"NGL"]
[null,null,null,null,null,null,null,null,null,null,null,null,"4.0.3.1.1.5","Природный газ. Газ лимитный. ТТР (плата за услуги транзитной транспортировки), всего","тыс.руб.",null,null,null,null,null,null,null,null,null,null,null,null,null,null,null,null,null,null,null,null,null,null,0,null,null,null,null,null,"NGL"]
[null,null,null,null,null,null,null,null,null,null,null,null,{"$f":"M1398 & \".1\"","v":"4.0.3.1.1.5.1"},"Средний тариф транзитной транспортировки","руб./тыс.м3",null,null,null,null,null,null,null,null,null,null,null,null,null,null,null,null,null,null,null,null,null,null,{"$f":"IF(AL1400=0,0,AL1398/AL1400*1000)","v":0},{"$f":"IF(AM1400=0,0,AM1398/AM1400*1000)","v":0},{"$f":"IF(AN1400=0,0,AN1398/AN1400*1000)","v":0},null,null,null,"NGL"]
[null,null,null,null,null,null,null,null,null,null,null,null,{"$f":"M1398 & \".2\"","v":"4.0.3.1.1.5.2"},"Объём топлива, транспортируемого в транзитном потоке","тыс.м3",null,null,null,null,null,null,null,null,null,null,null,null,null,null,null,null,null,null,null,null,null,null,{"$f":"AM1400+AN1400","v":0},null,null,null,null,null,"NGL"]
[null,null,null,null,null,null,null,null,null,null,null,null,"4.0.3.1.2.1","Природный газ. Газ сверхлимитный. Тариф на ССУ (cнабженческо-сбытовые услуги)"]
[null,null,null,null,null,null,null,null,null,null,null,null,{"$f":"M1401 & \".1\"","v":"4.0.3.1.2.1.1"},"1 группа: свыше 500 млн.м3","руб./тыс.м3",null,null,null,null,null,null,null,null,null,null,null,null,null,null,null,null,null,null,null,null,null,null,{"$f":"IF(AL1265=0,0,AL1418/AL1265*1000)","v":0},null,null,null,null,null,"NGU"]
[null,null,null,null,null,null,null,null,null,null,null,null,{"$f":"M1401 & \".2\"","v":"4.0.3.1.2.1.2"},"2 группа: от 100 до 500 млн.м3 включительно","руб./тыс.м3",null,null,null,null,null,null,null,null,null,null,null,null,null,null,null,null,null,null,null,null,null,null,{"$f":"IF(AL1266=0,0,AL1419/AL1266*1000)","v":0},null,null,null,null,null,"NGU"]
[null,null,null,null,null,null,null,null,null,null,null,null,{"$f":"M1401 & \".3\"","v":"4.0.3.1.2.1.3"},"3 группа: от 10 до 100 млн.м3 включительно","руб./тыс.м3",null,null,null,null,null,null,null,null,null,null,null,null,null,null,null,null,null,null,null,null,null,null,0,null,null,null,null,null,"NGU"]
[null,null,null,null,null,null,null,null,null,null,null,null,{"$f":"M1401 & \".4\"","v":"4.0.3.1.2.1.4"},"4 группа: от 1 до 10 млн.м3 включительно","руб./тыс.м3",null,null,null,null,null,null,null,null,null,null,null,null,null,null,null,null,null,null,null,null,null,null,0,null,null,null,null,null,"NGU"]
[null,null,null,null,null,null,null,null,null,null,null,null,{"$f":"M1401 & \".5\"","v":"4.0.3.1.2.1.5"},"5 группа: от 0,1 до 1 млн.м3 включительно","руб./тыс.м3",null,null,null,null,null,null,null,null,null,null,null,null,null,null,null,null,null,null,null,null,null,null,0,null,null,null,null,null,"NGU"]
[null,null,null,null,null,null,null,null,null,null,null,null,{"$f":"M1401 & \".6\"","v":"4.0.3.1.2.1.6"},"6 группа: от 0,01 до 0,1 млн.м3 включительно","руб./тыс.м3",null,null,null,null,null,null,null,null,null,null,null,null,null,null,null,null,null,null,null,null,null,null,0,null,null,null,null,null,"NGU"]
[null,null,null,null,null,null,null,null,null,null,null,null,{"$f":"M1401 & \".7\"","v":"4.0.3.1.2.1.7"},"7 группа: до 0,01 млн.м3 включительно","руб./тыс.м3",null,null,null,null,null,null,null,null,null,null,null,null,null,null,null,null,null,null,null,null,null,null,0,null,null,null,null,null,"NGU"]
[null,null,null,null,null,null,null,null,null,null,null,null,"4.0.3.1.2.2","Природный газ. Газ сверхлимитный. Тариф ГРО (услуги газораспределительной организации)"]
[null,null,null,null,null,null,null,null,null,null,null,null,{"$f":"M1409 & \".1\"","v":"4.0.3.1.2.2.1"},"1 группа: свыше 500 млн.м3","руб./тыс.м3",null,null,null,null,null,null,null,null,null,null,null,null,null,null,null,null,null,null,null,null,null,null,{"$f":"IF(AL1265=0,0,AL1426/AL1265*1000)","v":0},null,null,null,null,null,"NGU"]
[null,null,null,null,null,null,null,null,null,null,null,null,{"$f":"M1409 & \".2\"","v":"4.0.3.1.2.2.2"},"2 группа: от 100 до 500 млн.м3 включительно","руб./тыс.м3",null,null,null,null,null,null,null,null,null,null,null,null,null,null,null,null,null,null,null,null,null,null,{"$f":"IF(AL1266=0,0,AL1427/AL1266*1000)","v":0},null,null,null,null,null,"NGU"]
[null,null,null,null,null,null,null,null,null,null,null,null,{"$f":"M1409 & \".3\"","v":"4.0.3.1.2.2.3"},"3 группа: от 10 до 100 млн.м3 включительно","руб./тыс.м3",null,null,null,null,null,null,null,null,null,null,null,null,null,null,null,null,null,null,null,null,null,null,0,null,null,null,null,null,"NGU"]
[null,null,null,null,null,null,null,null,null,null,null,null,{"$f":"M1409 & \".4\"","v":"4.0.3.1.2.2.4"},"4 группа: от 1 до 10 млн.м3 включительно","руб./тыс.м3",null,null,null,null,null,null,null,null,null,null,null,null,null,null,null,null,null,null,null,null,null,null,0,null,null,null,null,null,"NGU"]
[null,null,null,null,null,null,null,null,null,null,null,null,{"$f":"M1409 & \".5\"","v":"4.0.3.1.2.2.5"},"5 группа: от 0,1 до 1 млн.м3 включительно","руб./тыс.м3",null,null,null,null,null,null,null,null,null,null,null,null,null,null,null,null,null,null,null,null,null,null,0,null,null,null,null,null,"NGU"]
[null,null,null,null,null,null,null,null,null,null,null,null,{"$f":"M1409 & \".6\"","v":"4.0.3.1.2.2.6"},"6 группа: от 0,01 до 0,1 млн.м3 включительно","руб./тыс.м3",null,null,null,null,null,null,null,null,null,null,null,null,null,null,null,null,null,null,null,null,null,null,0,null,null,null,null,null,"NGU"]
[null,null,null,null,null,null,null,null,null,null,null,null,{"$f":"M1409 & \".7\"","v":"4.0.3.1.2.2.7"},"7 группа: до 0,01 млн.м3 включительно","руб./тыс.м3",null,null,null,null,null,null,null,null,null,null,null,null,null,null,null,null,null,null,null,null,null,null,0,null,null,null,null,null,"NGU"]
[null,null,null,null,null,null,null,null,null,null,null,null,"4.0.3.1.2.3","Природный газ. Газ сверхлимитный. ПССУ (плата за cнабженческо-сбытовые услуги), всего","тыс.руб.",null,null,null,null,null,null,null,null,null,null,null,null,null,null,null,null,null,null,null,null,null,null,{"$f":"AM1417+AN1417","v":0},{"$f":"SUM(AM1418:AM1424)","v":0},{"$f":"SUM(AN1418:AN1424)","v":0},null,null,null,"NGU"]
[null,null,null,null,null,null,null,null,null,null,null,null,{"$f":"M1417 & \".1\"","v":"4.0.3.1.2.3.1"},"1 группа: свыше 500 млн.м3","тыс.руб.",null,null,null,null,null,null,null,null,null,null,null,null,null,null,null,null,null,null,null,null,null,null,0,{"$f":"AM1402*AM1265/1000","v":0},{"$f":"AN1402*AN1265/1000","v":0},null,null,null,"NGU"]
[null,null,null,null,null,null,null,null,null,null,null,null,{"$f":"M1417 & \".2\"","v":"4.0.3.1.2.3.2"},"2 группа: от 100 до 500 млн.м3 включительно","тыс.руб.",null,null,null,null,null,null,null,null,null,null,null,null,null,null,null,null,null,null,null,null,null,null,0,{"$f":"AM1403*AM1266/1000","v":0},0,null,null,null,"NGU"]
[null,null,null,null,null,null,null,null,null,null,null,null,{"$f":"M1417 & \".3\"","v":"4.0.3.1.2.3.3"},"3 группа: от 10 до 100 млн.м3 включительно","тыс.руб.",null,null,null,null,null,null,null,null,null,null,null,null,null,null,null,null,null,null,null,null,null,null,0,0,0,null,null,null,"NGU"]
[null,null,null,null,null,null,null,null,null,null,null,null,{"$f":"M1417 & \".4\"","v":"4.0.3.1.2.3.4"},"4 группа: от 1 до 10 млн.м3 включительно","тыс.руб.",null,null,null,null,null,null,null,null,null,null,null,null,null,null,null,null,null,null,null,null,null,null,0,0,0,null,null,null,"NGU"]
[null,null,null,null,null,null,null,null,null,null,null,null,{"$f":"M1417 & \".5\"","v":"4.0.3.1.2.3.5"},"5 группа: от 0,1 до 1 млн.м3 включительно","тыс.руб.",null,null,null,null,null,null,null,null,null,null,null,null,null,null,null,null,null,null,null,null,null,null,0,0,0,null,null,null,"NGU"]
[null,null,null,null,null,null,null,null,null,null,null,null,{"$f":"M1417 & \".6\"","v":"4.0.3.1.2.3.6"},"6 группа: от 0,01 до 0,1 млн.м3 включительно","тыс.руб.",null,null,null,null,null,null,null,null,null,null,null,null,null,null,null,null,null,null,null,null,null,null,0,0,0,null,null,null,"NGU"]
[null,null,null,null,null,null,null,null,null,null,null,null,{"$f":"M1417 & \".7\"","v":"4.0.3.1.2.3.7"},"7 группа: до 0,01 млн.м3 включительно","тыс.руб.",null,null,null,null,null,null,null,null,null,null,null,null,null,null,null,null,null,null,null,null,null,null,0,0,0,null,null,null,"NGU"]
[null,null,null,null,null,null,null,null,null,null,null,null,"4.0.3.1.2.4","Природный газ. Газ сверхлимитный. ГРО (плата за услуги газораспределительной организации), всего","тыс.руб.",null,null,null,null,null,null,null,null,null,null,null,null,null,null,null,null,null,null,null,null,null,null,0,{"$f":"SUM(AM1426:AM1432)","v":0},{"$f":"SUM(AN1426:AN1432)","v":0},null,null,null,"NGU"]
[null,null,null,null,null,null,null,null,null,null,null,null,{"$f":"M1425 & \".1\"","v":"4.0.3.1.2.4.1"},"1 группа: свыше 500 млн.м3","тыс.руб.",null,null,null,null,null,null,null,null,null,null,null,null,null,null,null,null,null,null,null,null,null,null,0,{"$f":"AM1410*AM1265/1000","v":0},{"$f":"AN1410*AN1265/1000","v":0},null,null,null,"NGU"]
[null,null,null,null,null,null,null,null,null,null,null,null,{"$f":"M1425 & \".2\"","v":"4.0.3.1.2.4.2"},"2 группа: от 100 до 500 млн.м3 включительно","тыс.руб.",null,null,null,null,null,null,null,null,null,null,null,null,null,null,null,null,null,null,null,null,null,null,0,{"$f":"AM1411*AM1266/1000","v":0},0,null,null,null,"NGU"]
[null,null,null,null,null,null,null,null,null,null,null,null,{"$f":"M1425 & \".3\"","v":"4.0.3.1.2.4.3"},"3 группа: от 10 до 100 млн.м3 включительно","тыс.руб.",null,null,null,null,null,null,null,null,null,null,null,null,null,null,null,null,null,null,null,null,null,null,0,0,0,null,null,null,"NGU"]
[null,null,null,null,null,null,null,null,null,null,null,null,{"$f":"M1425 & \".4\"","v":"4.0.3.1.2.4.4"},"4 группа: от 1 до 10 млн.м3 включительно","тыс.руб.",null,null,null,null,null,null,null,null,null,null,null,null,null,null,null,null,null,null,null,null,null,null,0,0,0,null,null,null,"NGU"]
[null,null,null,null,null,null,null,null,null,null,null,null,{"$f":"M1425 & \".5\"","v":"4.0.3.1.2.4.5"},"5 группа: от 0,1 до 1 млн.м3 включительно","тыс.руб.",null,null,null,null,null,null,null,null,null,null,null,null,null,null,null,null,null,null,null,null,null,null,0,0,0,null,null,null,"NGU"]
[null,null,null,null,null,null,null,null,null,null,null,null,{"$f":"M1425 & \".6\"","v":"4.0.3.1.2.4.6"},"6 группа: от 0,01 до 0,1 млн.м3 включительно","тыс.руб.",null,null,null,null,null,null,null,null,null,null,null,null,null,null,null,null,null,null,null,null,null,null,0,0,0,null,null,null,"NGU"]
[null,null,null,null,null,null,null,null,null,null,null,null,{"$f":"M1425 & \".7\"","v":"4.0.3.1.2.4.7"},"7 группа: до 0,01 млн.м3 включительно","тыс.руб.",null,null,null,null,null,null,null,null,null,null,null,null,null,null,null,null,null,null,null,null,null,null,0,0,0,null,null,null,"NGU"]
[null,null,null,null,null,null,null,null,null,null,null,null,"4.0.3.1.2.5","Природный газ. Газ сверхлимитный. ТТР (плата за услуги транзитной транспортировки), всего","тыс.руб.",null,null,null,null,null,null,null,null,null,null,null,null,null,null,null,null,null,null,null,null,null,null,0,null,null,null,null,null,"NGU"]
[null,null,null,null,null,null,null,null,null,null,null,null,{"$f":"M1433 & \".1\"","v":"4.0.3.1.2.5.1"},"Средний тариф транзитной транспортировки","руб./тыс.м3",null,null,null,null,null,null,null,null,null,null,null,null,null,null,null,null,null,null,null,null,null,null,{"$f":"IF(AL1435=0,0,AL1433/AL1435*1000)","v":0},{"$f":"IF(AM1435=0,0,AM1433/AM1435*1000)","v":0},{"$f":"IF(AN1435=0,0,AN1433/AN1435*1000)","v":0},null,null,null,"NGU"]
[null,null,null,null,null,null,null,null,null,null,null,null,{"$f":"M1433 & \".2\"","v":"4.0.3.1.2.5.2"},"Объём топлива, транспортируемого в транзитном потоке","тыс.м3",null,null,null,null,null,null,null,null,null,null,null,null,null,null,null,null,null,null,null,null,null,null,{"$f":"AM1435+AN1435","v":0},null,null,null,null,null,"NGU"]
[null,null,null,null,null,null,null,null,null,null,null,null,"4.PATR","Перевозка автомобильным транспортом. Цена (тариф) за транспортировку (перевозку) единицы топлива"]
[]
[]
[]
[]
[]
[]
[]
[]
[null,null,null,null,null,null,null,null,null,null,null,null,"4.PATR.GCN","Газовый конденсат","руб./тнт",null,null,null,null,null,null,null,null,null,null,null,null,null,null,null,null,null,null,null,null,null,null,{"$f":"IF(AL1489=0,0,AL1533/AL1489*1000)","v":0},null,null,null,null,null,"GCN"]
[null,null,null,null,null,null,null,null,null,null,null,null,"4.PATR.LNG","Газ сжиженный","руб./тнт",null,null,null,null,null,null,null,null,null,null,null,null,null,null,null,null,null,null,null,null,null,null,0,null,null,null,null,null,"LNG"]
[null,null,null,null,null,null,null,null,null,null,null,null,"4.PATR.DSL","Дизельное топливо","руб./тнт",null,null,null,null,null,null,null,null,null,null,null,null,null,null,null,null,null,null,null,null,null,null,0,{"$f":"IF(AM1491=0,0,AM1535/AM1491*1000)","v":0},{"$f":"IF(AN1491=0,0,AN1535/AN1491*1000)","v":0},null,null,null,"DSL"]
[null,null,null,null,null,null,null,null,null,null,null,null,"4.PATR.DSLA","А (арктическое)","руб./тнт",null,null,null,null,null,null,null,null,null,null,null,null,null,null,null,null,null,null,null,null,null,null,0,null,null,null,null,null,"DSLA"]
[null,null,null,null,null,null,null,null,null,null,null,null,"4.PATR.DSLW","З (зимнее)","руб./тнт",null,null,null,null,null,null,null,null,null,null,null,null,null,null,null,null,null,null,null,null,null,null,0,null,null,null,null,null,"DSLW"]
[null,null,null,null,null,null,null,null,null,null,null,null,"4.PATR.DSLS","Л (летнее)","руб./тнт",null,null,null,null,null,null,null,null,null,null,null,null,null,null,null,null,null,null,null,null,null,null,0,null,null,null,null,null,"DSLS"]
[null,null,null,null,null,null,null,null,null,null,null,null,"4.PATR.DSLO","Е (межсезонное)","руб./тнт",null,null,null,null,null,null,null,null,null,null,null,null,null,null,null,null,null,null,null,null,null,null,0,null,null,null,null,null,"DSLO"]
[null,null,null,null,null,null,null,null,null,null,null,null,"4.PATR.MST","Мазут","руб./тнт",null,null,null,null,null,null,null,null,null,null,null,null,null,null,null,null,null,null,null,null,null,null,0,{"$f":"IF(AM1496=0,0,AM1540/AM1496*1000)","v":0},{"$f":"IF(AN1496=0,0,AN1540/AN1496*1000)","v":0},null,null,null,"MST"]
[null,null,null,null,null,null,null,null,null,null,null,null,"4.PATR.MSTM40","М-40","руб./тнт",null,null,null,null,null,null,null,null,null,null,null,null,null,null,null,null,null,null,null,null,null,null,0,null,null,null,null,null,"MSTM40"]
[null,null,null,null,null,null,null,null,null,null,null,null,"4.PATR.MSTM100","М-100","руб./тнт",null,null,null,null,null,null,null,null,null,null,null,null,null,null,null,null,null,null,null,null,null,null,0,null,null,null,null,null,"MSTM100"]
[null,null,null,null,null,null,null,null,null,null,null,null,"4.PATR.MSTM200","М-200","руб./тнт",null,null,null,null,null,null,null,null,null,null,null,null,null,null,null,null,null,null,null,null,null,null,0,null,null,null,null,null,"MSTM200"]
[null,null,null,null,null,null,null,null,null,null,null,null,"4.PATR.MSTT","мазут марки \"Т\"","руб./тнт",null,null,null,null,null,null,null,null,null,null,null,null,null,null,null,null,null,null,null,null,null,null,0,null,null,null,null,null,"MSTT"]
[null,null,null,null,null,null,null,null,null,null,null,null,"4.PATR.MSTF5","Ф-5","руб./тнт",null,null,null,null,null,null,null,null,null,null,null,null,null,null,null,null,null,null,null,null,null,null,0,null,null,null,null,null,"MSTF5"]
[null,null,null,null,null,null,null,null,null,null,null,null,"4.PATR.MSTF12","Ф-12","руб./тнт",null,null,null,null,null,null,null,null,null,null,null,null,null,null,null,null,null,null,null,null,null,null,0,null,null,null,null,null,"MSTF12"]
[null,null,null,null,null,null,null,null,null,null,null,null,"4.PATR.OIL","Нефть","руб./тнт",null,null,null,null,null,null,null,null,null,null,null,null,null,null,null,null,null,null,null,null,null,null,0,null,null,null,null,null,"OIL"]
[null,null,null,null,null,null,null,null,null,null,null,null,"4.PATR.COA","Уголь","руб./тнт",null,null,null,null,null,null,null,null,null,null,null,null,null,null,null,null,null,null,null,null,null,null,0,{"$f":"IF(AM1504=0,0,AM1548/AM1504*1000)","v":0},{"$f":"IF(AN1504=0,0,AN1548/AN1504*1000)","v":0},null,null,null,"COA"]
[null,null,null,null,null,null,null,null,null,null,null,null,"4.PATR.COAA","Уголь антрацит","руб./тнт",null,null,null,null,null,null,null,null,null,null,null,null,null,null,null,null,null,null,null,null,null,null,0,null,null,null,null,null,"COAA"]
[null,null,null,null,null,null,null,null,null,null,null,null,"4.PATR.COAB","Уголь бурый","руб./тнт",null,null,null,null,null,null,null,null,null,null,null,null,null,null,null,null,null,null,null,null,null,null,0,null,null,null,null,null,"COAB"]
[null,null,null,null,null,null,null,null,null,null,null,null,"4.PATR.COAG","Уголь газовый","руб./тнт",null,null,null,null,null,null,null,null,null,null,null,null,null,null,null,null,null,null,null,null,null,null,0,null,null,null,null,null,"COAG"]
[null,null,null,null,null,null,null,null,null,null,null,null,"4.PATR.COALF","Уголь длиннопламенный","руб./тнт",null,null,null,null,null,null,null,null,null,null,null,null,null,null,null,null,null,null,null,null,null,null,0,null,null,null,null,null,"COALF"]
[null,null,null,null,null,null,null,null,null,null,null,null,"4.PATR.COAF","Уголь жирный","руб./тнт",null,null,null,null,null,null,null,null,null,null,null,null,null,null,null,null,null,null,null,null,null,null,0,null,null,null,null,null,"COAF"]
[null,null,null,null,null,null,null,null,null,null,null,null,"4.PATR.COAC","Уголь коксовый","руб./тнт",null,null,null,null,null,null,null,null,null,null,null,null,null,null,null,null,null,null,null,null,null,null,0,null,null,null,null,null,"COAC"]
[null,null,null,null,null,null,null,null,null,null,null,null,"4.PATR.COASC","Уголь отощённо-спекающийся","руб./тнт",null,null,null,null,null,null,null,null,null,null,null,null,null,null,null,null,null,null,null,null,null,null,0,null,null,null,null,null,"COASC"]
[null,null,null,null,null,null,null,null,null,null,null,null,"4.PATR.COAWC","Уголь слабоспекающийся","руб./тнт",null,null,null,null,null,null,null,null,null,null,null,null,null,null,null,null,null,null,null,null,null,null,0,null,null,null,null,null,"COAWC"]
[null,null,null,null,null,null,null,null,null,null,null,null,"4.PATR.COAS","Уголь тощий","руб./тнт",null,null,null,null,null,null,null,null,null,null,null,null,null,null,null,null,null,null,null,null,null,null,0,null,null,null,null,null,"COAS"]
[]
[]
[null,null,null,null,null,null,null,null,null,null,null,null,"4.PATR.CWD","Уголь древесный","руб./тнт",null,null,null,null,null,null,null,null,null,null,null,null,null,null,null,null,null,null,null,null,null,null,{"$f":"IF(AL1516=0,0,AL1560/AL1516*1000)","v":0},null,null,null,null,null,"CWD"]
[null,null,null,null,null,null,null,null,null,null,null,null,"4.PATR.WDS","Дрова","руб./тнт",null,null,null,null,null,null,null,null,null,null,null,null,null,null,null,null,null,null,null,null,null,null,0,null,null,null,null,null,"WDS"]
[null,null,null,null,null,null,null,null,null,null,null,null,"4.PATR.PLT","Пеллеты","руб./тнт",null,null,null,null,null,null,null,null,null,null,null,null,null,null,null,null,null,null,null,null,null,null,0,null,null,null,null,null,"PLT"]
[null,null,null,null,null,null,null,null,null,null,null,null,"4.PATR.SAW","Опилки","руб./тнт",null,null,null,null,null,null,null,null,null,null,null,null,null,null,null,null,null,null,null,null,null,null,0,null,null,null,null,null,"SAW"]
[null,null,null,null,null,null,null,null,null,null,null,null,"4.PATR.PEA","Торф","руб./тнт",null,null,null,null,null,null,null,null,null,null,null,null,null,null,null,null,null,null,null,null,null,null,0,null,null,null,null,null,"PEA"]
[null,null,null,null,null,null,null,null,null,null,null,null,"4.PATR.SHL","Сланцы","руб./тнт",null,null,null,null,null,null,null,null,null,null,null,null,null,null,null,null,null,null,null,null,null,null,0,null,null,null,null,null,"SHL"]
[null,null,null,null,null,null,null,null,null,null,null,null,"4.PATR.STF","Печное бытовое топливо","руб./тнт",null,null,null,null,null,null,null,null,null,null,null,null,null,null,null,null,null,null,null,null,null,null,0,null,null,null,null,null,"STF"]
[]
[null,null,null,null,null,null,null,null,null,null,null,null,"4.VATR","Перевозка автомобильным транспортом. Объём транспортировки (перевозки) топлива"]
[]
[]
[]
[]
[]
[]
[]
[]
[null,null,null,null,null,null,null,null,null,null,null,null,"4.VATR.GCN","Газовый конденсат","тнт",null,null,null,null,null,null,null,null,null,null,null,null,null,null,null,null,null,null,null,null,null,null,{"$f":"AM1489+AN1489","v":0},null,null,null,null,null,"GCN"]
[null,null,null,null,null,null,null,null,null,null,null,null,"4.VATR.LNG","Газ сжиженный","тнт",null,null,null,null,null,null,null,null,null,null,null,null,null,null,null,null,null,null,null,null,null,null,0,null,null,null,null,null,"LNG"]
[null,null,null,null,null,null,null,null,null,null,null,null,"4.VATR.DSL","Дизельное топливо","тнт",null,null,null,null,null,null,null,null,null,null,null,null,null,null,null,null,null,null,null,null,null,null,0,{"$f":"SUM(AM1492:AM1495)","v":0},{"$f":"SUM(AN1492:AN1495)","v":0},null,null,null,"DSL"]
[null,null,null,null,null,null,null,null,null,null,null,null,"4.VATR.DSLA","А (арктическое)","тнт",null,null,null,null,null,null,null,null,null,null,null,null,null,null,null,null,null,null,null,null,null,null,0,null,null,null,null,null,"DSLA"]
[null,null,null,null,null,null,null,null,null,null,null,null,"4.VATR.DSLW","З (зимнее)","тнт",null,null,null,null,null,null,null,null,null,null,null,null,null,null,null,null,null,null,null,null,null,null,0,null,null,null,null,null,"DSLW"]
[null,null,null,null,null,null,null,null,null,null,null,null,"4.VATR.DSLS","Л (летнее)","тнт",null,null,null,null,null,null,null,null,null,null,null,null,null,null,null,null,null,null,null,null,null,null,0,null,null,null,null,null,"DSLS"]
[null,null,null,null,null,null,null,null,null,null,null,null,"4.VATR.DSLO","Е (межсезонное)","тнт",null,null,null,null,null,null,null,null,null,null,null,null,null,null,null,null,null,null,null,null,null,null,0,null,null,null,null,null,"DSLO"]
[null,null,null,null,null,null,null,null,null,null,null,null,"4.VATR.MST","Мазут","тнт",null,null,null,null,null,null,null,null,null,null,null,null,null,null,null,null,null,null,null,null,null,null,0,{"$f":"SUM(AM1497:AM1502)","v":0},{"$f":"SUM(AN1497:AN1502)","v":0},null,null,null,"MST"]
[null,null,null,null,null,null,null,null,null,null,null,null,"4.VATR.MSTM40","М-40","тнт",null,null,null,null,null,null,null,null,null,null,null,null,null,null,null,null,null,null,null,null,null,null,0,null,null,null,null,null,"MSTM40"]
[null,null,null,null,null,null,null,null,null,null,null,null,"4.VATR.MSTM100","М-100","тнт",null,null,null,null,null,null,null,null,null,null,null,null,null,null,null,null,null,null,null,null,null,null,0,null,null,null,null,null,"MSTM100"]
[null,null,null,null,null,null,null,null,null,null,null,null,"4.VATR.MSTM200","М-200","тнт",null,null,null,null,null,null,null,null,null,null,null,null,null,null,null,null,null,null,null,null,null,null,0,null,null,null,null,null,"MSTM200"]
[null,null,null,null,null,null,null,null,null,null,null,null,"4.VATR.MSTT","мазут марки \"Т\"","тнт",null,null,null,null,null,null,null,null,null,null,null,null,null,null,null,null,null,null,null,null,null,null,0,null,null,null,null,null,"MSTT"]
[null,null,null,null,null,null,null,null,null,null,null,null,"4.VATR.MSTF5","Ф-5","тнт",null,null,null,null,null,null,null,null,null,null,null,null,null,null,null,null,null,null,null,null,null,null,0,null,null,null,null,null,"MSTF5"]
[null,null,null,null,null,null,null,null,null,null,null,null,"4.VATR.MSTF12","Ф-12","тнт",null,null,null,null,null,null,null,null,null,null,null,null,null,null,null,null,null,null,null,null,null,null,0,null,null,null,null,null,"MSTF12"]
[null,null,null,null,null,null,null,null,null,null,null,null,"4.VATR.OIL","Нефть","тнт",null,null,null,null,null,null,null,null,null,null,null,null,null,null,null,null,null,null,null,null,null,null,0,null,null,null,null,null,"OIL"]
[null,null,null,null,null,null,null,null,null,null,null,null,"4.VATR.COA","Уголь","тнт",null,null,null,null,null,null,null,null,null,null,null,null,null,null,null,null,null,null,null,null,null,null,0,{"$f":"SUM(AM1505:AM1513)","v":0},{"$f":"SUM(AN1505:AN1513)","v":0},null,null,null,"COA"]
[null,null,null,null,null,null,null,null,null,null,null,null,"4.VATR.COAA","Уголь антрацит","тнт",null,null,null,null,null,null,null,null,null,null,null,null,null,null,null,null,null,null,null,null,null,null,0,null,null,null,null,null,"COAA"]
[null,null,null,null,null,null,null,null,null,null,null,null,"4.VATR.COAB","Уголь бурый","тнт",null,null,null,null,null,null,null,null,null,null,null,null,null,null,null,null,null,null,null,null,null,null,0,null,null,null,null,null,"COAB"]
[null,null,null,null,null,null,null,null,null,null,null,null,"4.VATR.COAG","Уголь газовый","тнт",null,null,null,null,null,null,null,null,null,null,null,null,null,null,null,null,null,null,null,null,null,null,0,null,null,null,null,null,"COAG"]
[null,null,null,null,null,null,null,null,null,null,null,null,"4.VATR.COALF","Уголь длиннопламенный","тнт",null,null,null,null,null,null,null,null,null,null,null,null,null,null,null,null,null,null,null,null,null,null,0,null,null,null,null,null,"COALF"]
[null,null,null,null,null,null,null,null,null,null,null,null,"4.VATR.COAF","Уголь жирный","тнт",null,null,null,null,null,null,null,null,null,null,null,null,null,null,null,null,null,null,null,null,null,null,0,null,null,null,null,null,"COAF"]
[null,null,null,null,null,null,null,null,null,null,null,null,"4.VATR.COAC","Уголь коксовый","тнт",null,null,null,null,null,null,null,null,null,null,null,null,null,null,null,null,null,null,null,null,null,null,0,null,null,null,null,null,"COAC"]
[null,null,null,null,null,null,null,null,null,null,null,null,"4.VATR.COASC","Уголь отощённо-спекающийся","тнт",null,null,null,null,null,null,null,null,null,null,null,null,null,null,null,null,null,null,null,null,null,null,0,null,null,null,null,null,"COASC"]
[null,null,null,null,null,null,null,null,null,null,null,null,"4.VATR.COAWC","Уголь слабоспекающийся","тнт",null,null,null,null,null,null,null,null,null,null,null,null,null,null,null,null,null,null,null,null,null,null,0,null,null,null,null,null,"COAWC"]
[null,null,null,null,null,null,null,null,null,null,null,null,"4.VATR.COAS","Уголь тощий","тнт",null,null,null,null,null,null,null,null,null,null,null,null,null,null,null,null,null,null,null,null,null,null,0,null,null,null,null,null,"COAS"]
[]
[]
[null,null,null,null,null,null,null,null,null,null,null,null,"4.VATR.CWD","Уголь древесный","тнт",null,null,null,null,null,null,null,null,null,null,null,null,null,null,null,null,null,null,null,null,null,null,{"$f":"AM1516+AN1516","v":0},null,null,null,null,null,"CWD"]
[null,null,null,null,null,null,null,null,null,null,null,null,"4.VATR.WDS","Дрова","тнт",null,null,null,null,null,null,null,null,null,null,null,null,null,null,null,null,null,null,null,null,null,null,0,null,null,null,null,null,"WDS"]
[null,null,null,null,null,null,null,null,null,null,null,null,"4.VATR.PLT","Пеллеты","тнт",null,null,null,null,null,null,null,null,null,null,null,null,null,null,null,null,null,null,null,null,null,null,0,null,null,null,null,null,"PLT"]
[null,null,null,null,null,null,null,null,null,null,null,null,"4.VATR.SAW","Опилки","тнт",null,null,null,null,null,null,null,null,null,null,null,null,null,null,null,null,null,null,null,null,null,null,0,null,null,null,null,null,"SAW"]
[null,null,null,null,null,null,null,null,null,null,null,null,"4.VATR.PEA","Торф","тнт",null,null,null,null,null,null,null,null,null,null,null,null,null,null,null,null,null,null,null,null,null,null,0,null,null,null,null,null,"PEA"]
[null,null,null,null,null,null,null,null,null,null,null,null,"4.VATR.SHL","Сланцы","тнт",null,null,null,null,null,null,null,null,null,null,null,null,null,null,null,null,null,null,null,null,null,null,0,null,null,null,null,null,"SHL"]
[null,null,null,null,null,null,null,null,null,null,null,null,"4.VATR.STF","Печное бытовое топливо","тнт",null,null,null,null,null,null,null,null,null,null,null,null,null,null,null,null,null,null,null,null,null,null,0,null,null,null,null,null,"STF"]
[]
[null,null,null,null,null,null,null,null,null,null,null,null,"4.CATR","Перевозка автомобильным транспортом. Стоимость транспортировки (перевозки) топлива","тыс.руб.",null,null,null,null,null,null,null,null,null,null,null,null,null,null,null,null,{"$f":"SUM(AF1525,AF1529:AF1534,AF1535,AF1540,AF1547,AF1548,AF1560:AF1566)","v":0},{"$f":"SUM(AG1525,AG1529:AG1534,AG1535,AG1540,AG1547,AG1548,AG1560:AG1566)","v":0},{"$f":"SUM(AH1525,AH1529:AH1534,AH1535,AH1540,AH1547,AH1548,AH1560:AH1566)","v":0},null,null,null,{"$f":"SUM(AL1525,AL1529:AL1534,AL1535,AL1540,AL1547,AL1548,AL1560:AL1566)","v":0},{"$f":"SUM(AM1525,AM1529:AM1534,AM1535,AM1540,AM1547,AM1548,AM1560:AM1566)","v":0},{"$f":"SUM(AN1525,AN1529:AN1534,AN1535,AN1540,AN1547,AN1548,AN1560:AN1566)","v":0}]
[]
[]
[]
[]
[]
[]
[]
[]
[null,null,null,null,null,null,null,null,null,null,null,null,"4.CATR.GCN","Газовый конденсат","тыс.руб.",null,null,null,null,null,null,null,null,null,null,null,null,null,null,null,null,null,null,null,null,null,null,{"$f":"AM1533+AN1533","v":0},{"$f":"AM1445*AM1489/1000","v":0},0,null,null,null,"GCN"]
[null,null,null,null,null,null,null,null,null,null,null,null,"4.CATR.LNG","Газ сжиженный","тыс.руб.",null,null,null,null,null,null,null,null,null,null,null,null,null,null,null,null,null,null,null,null,null,null,0,0,0,null,null,null,"LNG"]
[null,null,null,null,null,null,null,null,null,null,null,null,"4.CATR.DSL","Дизельное топливо","тыс.руб.",null,null,null,null,null,null,null,null,null,null,null,null,null,null,null,null,null,null,null,null,null,null,0,{"$f":"SUM(AM1536:AM1539)","v":0},{"$f":"SUM(AN1536:AN1539)","v":0},null,null,null,"DSL"]
[null,null,null,null,null,null,null,null,null,null,null,null,"4.CATR.DSLA","А (арктическое)","тыс.руб.",null,null,null,null,null,null,null,null,null,null,null,null,null,null,null,null,null,null,null,null,null,null,0,0,0,null,null,null,"DSLA"]
[null,null,null,null,null,null,null,null,null,null,null,null,"4.CATR.DSLW","З (зимнее)","тыс.руб.",null,null,null,null,null,null,null,null,null,null,null,null,null,null,null,null,null,null,null,null,null,null,0,0,0,null,null,null,"DSLW"]
[null,null,null,null,null,null,null,null,null,null,null,null,"4.CATR.DSLS","Л (летнее)","тыс.руб.",null,null,null,null,null,null,null,null,null,null,null,null,null,null,null,null,null,null,null,null,null,null,0,0,0,null,null,null,"DSLS"]
[null,null,null,null,null,null,null,null,null,null,null,null,"4.CATR.DSLO","Е (межсезонное)","тыс.руб.",null,null,null,null,null,null,null,null,null,null,null,null,null,null,null,null,null,null,null,null,null,null,0,0,0,null,null,null,"DSLO"]
[null,null,null,null,null,null,null,null,null,null,null,null,"4.CATR.MST","Мазут","тыс.руб.",null,null,null,null,null,null,null,null,null,null,null,null,null,null,null,null,null,null,null,null,null,null,0,{"$f":"SUM(AM1541:AM1546)","v":0},{"$f":"SUM(AN1541:AN1546)","v":0},null,null,null,"MST"]
[null,null,null,null,null,null,null,null,null,null,null,null,"4.CATR.MSTM40","М-40","тыс.руб.",null,null,null,null,null,null,null,null,null,null,null,null,null,null,null,null,null,null,null,null,null,null,0,0,0,null,null,null,"MSTM40"]
[null,null,null,null,null,null,null,null,null,null,null,null,"4.CATR.MSTM100","М-100","тыс.руб.",null,null,null,null,null,null,null,null,null,null,null,null,null,null,null,null,null,null,null,null,null,null,0,0,0,null,null,null,"MSTM100"]
[null,null,null,null,null,null,null,null,null,null,null,null,"4.CATR.MSTM200","М-200","тыс.руб.",null,null,null,null,null,null,null,null,null,null,null,null,null,null,null,null,null,null,null,null,null,null,0,0,0,null,null,null,"MSTM200"]
[null,null,null,null,null,null,null,null,null,null,null,null,"4.CATR.MSTT","мазут марки \"Т\"","тыс.руб.",null,null,null,null,null,null,null,null,null,null,null,null,null,null,null,null,null,null,null,null,null,null,0,0,0,null,null,null,"MSTT"]
[null,null,null,null,null,null,null,null,null,null,null,null,"4.CATR.MSTF5","Ф-5","тыс.руб.",null,null,null,null,null,null,null,null,null,null,null,null,null,null,null,null,null,null,null,null,null,null,0,0,0,null,null,null,"MSTF5"]
[null,null,null,null,null,null,null,null,null,null,null,null,"4.CATR.MSTF12","Ф-12","тыс.руб.",null,null,null,null,null,null,null,null,null,null,null,null,null,null,null,null,null,null,null,null,null,null,0,0,0,null,null,null,"MSTF12"]
[null,null,null,null,null,null,null,null,null,null,null,null,"4.CATR.OIL","Нефть","тыс.руб.",null,null,null,null,null,null,null,null,null,null,null,null,null,null,null,null,null,null,null,null,null,null,0,0,0,null,null,null,"OIL"]
[null,null,null,null,null,null,null,null,null,null,null,null,"4.CATR.COA","Уголь","тыс.руб.",null,null,null,null,null,null,null,null,null,null,null,null,null,null,null,null,null,null,null,null,null,null,0,{"$f":"SUM(AM1549:AM1557)","v":0},{"$f":"SUM(AN1549:AN1557)","v":0},null,null,null,"COA"]
[null,null,null,null,null,null,null,null,null,null,null,null,"4.CATR.COAA","Уголь антрацит","тыс.руб.",null,null,null,null,null,null,null,null,null,null,null,null,null,null,null,null,null,null,null,null,null,null,0,{"$f":"AM1461*AM1505/1000","v":0},0,null,null,null,"COAA"]
[null,null,null,null,null,null,null,null,null,null,null,null,"4.CATR.COAB","Уголь бурый","тыс.руб.",null,null,null,null,null,null,null,null,null,null,null,null,null,null,null,null,null,null,null,null,null,null,0,0,0,null,null,null,"COAB"]
[null,null,null,null,null,null,null,null,null,null,null,null,"4.CATR.COAG","Уголь газовый","тыс.руб.",null,null,null,null,null,null,null,null,null,null,null,null,null,null,null,null,null,null,null,null,null,null,0,0,0,null,null,null,"COAG"]
[null,null,null,null,null,null,null,null,null,null,null,null,"4.CATR.COALF","Уголь длиннопламенный","тыс.руб.",null,null,null,null,null,null,null,null,null,null,null,null,null,null,null,null,null,null,null,null,null,null,0,0,0,null,null,null,"COALF"]
[null,null,null,null,null,null,null,null,null,null,null,null,"4.CATR.COAF","Уголь жирный","тыс.руб.",null,null,null,null,null,null,null,null,null,null,null,null,null,null,null,null,null,null,null,null,null,null,0,0,0,null,null,null,"COAF"]
[null,null,null,null,null,null,null,null,null,null,null,null,"4.CATR.COAC","Уголь коксовый","тыс.руб.",null,null,null,null,null,null,null,null,null,null,null,null,null,null,null,null,null,null,null,null,null,null,0,0,0,null,null,null,"COAC"]
[null,null,null,null,null,null,null,null,null,null,null,null,"4.CATR.COASC","Уголь отощённо-спекающийся","тыс.руб.",null,null,null,null,null,null,null,null,null,null,null,null,null,null,null,null,null,null,null,null,null,null,0,0,0,null,null,null,"COASC"]
[null,null,null,null,null,null,null,null,null,null,null,null,"4.CATR.COAWC","Уголь слабоспекающийся","тыс.руб.",null,null,null,null,null,null,null,null,null,null,null,null,null,null,null,null,null,null,null,null,null,null,0,0,0,null,null,null,"COAWC"]
[null,null,null,null,null,null,null,null,null,null,null,null,"4.CATR.COAS","Уголь тощий","тыс.руб.",null,null,null,null,null,null,null,null,null,null,null,null,null,null,null,null,null,null,null,null,null,null,0,0,0,null,null,null,"COAS"]
[]
[]
[null,null,null,null,null,null,null,null,null,null,null,null,"4.CATR.CWD","Уголь древесный","тыс.руб.",null,null,null,null,null,null,null,null,null,null,null,null,null,null,null,null,null,null,null,null,null,null,{"$f":"AM1560+AN1560","v":0},{"$f":"AM1472*AM1516/1000","v":0},0,null,null,null,"CWD"]
[null,null,null,null,null,null,null,null,null,null,null,null,"4.CATR.WDS","Дрова","тыс.руб.",null,null,null,null,null,null,null,null,null,null,null,null,null,null,null,null,null,null,null,null,null,null,0,0,0,null,null,null,"WDS"]
[null,null,null,null,null,null,null,null,null,null,null,null,"4.CATR.PLT","Пеллеты","тыс.руб.",null,null,null,null,null,null,null,null,null,null,null,null,null,null,null,null,null,null,null,null,null,null,0,0,0,null,null,null,"PLT"]
[null,null,null,null,null,null,null,null,null,null,null,null,"4.CATR.SAW","Опилки","тыс.руб.",null,null,null,null,null,null,null,null,null,null,null,null,null,null,null,null,null,null,null,null,null,null,0,0,0,null,null,null,"SAW"]
[null,null,null,null,null,null,null,null,null,null,null,null,"4.CATR.PEA","Торф","тыс.руб.",null,null,null,null,null,null,null,null,null,null,null,null,null,null,null,null,null,null,null,null,null,null,0,0,0,null,null,null,"PEA"]
[null,null,null,null,null,null,null,null,null,null,null,null,"4.CATR.SHL","Сланцы","тыс.руб.",null,null,null,null,null,null,null,null,null,null,null,null,null,null,null,null,null,null,null,null,null,null,0,0,0,null,null,null,"SHL"]
[null,null,null,null,null,null,null,null,null,null,null,null,"4.CATR.STF","Печное бытовое топливо","тыс.руб.",null,null,null,null,null,null,null,null,null,null,null,null,null,null,null,null,null,null,null,null,null,null,0,0,0,null,null,null,"STF"]
[]
[null,null,null,null,null,null,null,null,null,null,null,null,"4.PRTR","Перевозка ж/д транспортом. Цена (тариф) за транспортировку (перевозку) единицы топлива"]
[]
[]
[]
[]
[]
[]
[]
[]
[null,null,null,null,null,null,null,null,null,null,null,null,"4.PRTR.GCN","Газовый конденсат","руб./тнт",null,null,null,null,null,null,null,null,null,null,null,null,null,null,null,null,null,null,null,null,null,null,{"$f":"IF(AL1621=0,0,AL1665/AL1621*1000)","v":0},null,null,null,null,null,"GCN"]
[null,null,null,null,null,null,null,null,null,null,null,null,"4.PRTR.LNG","Газ сжиженный","руб./тнт",null,null,null,null,null,null,null,null,null,null,null,null,null,null,null,null,null,null,null,null,null,null,0,null,null,null,null,null,"LNG"]
[null,null,null,null,null,null,null,null,null,null,null,null,"4.PRTR.DSL","Дизельное топливо","руб./тнт",null,null,null,null,null,null,null,null,null,null,null,null,null,null,null,null,null,null,null,null,null,null,0,{"$f":"IF(AM1623=0,0,AM1667/AM1623*1000)","v":0},{"$f":"IF(AN1623=0,0,AN1667/AN1623*1000)","v":0},null,null,null,"DSL"]
[null,null,null,null,null,null,null,null,null,null,null,null,"4.PRTR.DSLA","А (арктическое)","руб./тнт",null,null,null,null,null,null,null,null,null,null,null,null,null,null,null,null,null,null,null,null,null,null,0,null,null,null,null,null,"DSLA"]
[null,null,null,null,null,null,null,null,null,null,null,null,"4.PRTR.DSLW","З (зимнее)","руб./тнт",null,null,null,null,null,null,null,null,null,null,null,null,null,null,null,null,null,null,null,null,null,null,0,null,null,null,null,null,"DSLW"]
[null,null,null,null,null,null,null,null,null,null,null,null,"4.PRTR.DSLS","Л (летнее)","руб./тнт",null,null,null,null,null,null,null,null,null,null,null,null,null,null,null,null,null,null,null,null,null,null,0,null,null,null,null,null,"DSLS"]
[null,null,null,null,null,null,null,null,null,null,null,null,"4.PRTR.DSLO","Е (межсезонное)","руб./тнт",null,null,null,null,null,null,null,null,null,null,null,null,null,null,null,null,null,null,null,null,null,null,0,null,null,null,null,null,"DSLO"]
[null,null,null,null,null,null,null,null,null,null,null,null,"4.PRTR.MST","Мазут","руб./тнт",null,null,null,null,null,null,null,null,null,null,null,null,null,null,null,null,null,null,null,null,null,null,0,{"$f":"IF(AM1628=0,0,AM1672/AM1628*1000)","v":0},{"$f":"IF(AN1628=0,0,AN1672/AN1628*1000)","v":0},null,null,null,"MST"]
[null,null,null,null,null,null,null,null,null,null,null,null,"4.PRTR.MSTM40","М-40","руб./тнт",null,null,null,null,null,null,null,null,null,null,null,null,null,null,null,null,null,null,null,null,null,null,0,null,null,null,null,null,"MSTM40"]
[null,null,null,null,null,null,null,null,null,null,null,null,"4.PRTR.MSTM100","М-100","руб./тнт",null,null,null,null,null,null,null,null,null,null,null,null,null,null,null,null,null,null,null,null,null,null,0,null,null,null,null,null,"MSTM100"]
[null,null,null,null,null,null,null,null,null,null,null,null,"4.PRTR.MSTM200","М-200","руб./тнт",null,null,null,null,null,null,null,null,null,null,null,null,null,null,null,null,null,null,null,null,null,null,0,null,null,null,null,null,"MSTM200"]
[null,null,null,null,null,null,null,null,null,null,null,null,"4.PRTR.MSTT","мазут марки \"Т\"","руб./тнт",null,null,null,null,null,null,null,null,null,null,null,null,null,null,null,null,null,null,null,null,null,null,0,null,null,null,null,null,"MSTT"]
[null,null,null,null,null,null,null,null,null,null,null,null,"4.PRTR.MSTF5","Ф-5","руб./тнт",null,null,null,null,null,null,null,null,null,null,null,null,null,null,null,null,null,null,null,null,null,null,0,null,null,null,null,null,"MSTF5"]
[null,null,null,null,null,null,null,null,null,null,null,null,"4.PRTR.MSTF12","Ф-12","руб./тнт",null,null,null,null,null,null,null,null,null,null,null,null,null,null,null,null,null,null,null,null,null,null,0,null,null,null,null,null,"MSTF12"]
[null,null,null,null,null,null,null,null,null,null,null,null,"4.PRTR.OIL","Нефть","руб./тнт",null,null,null,null,null,null,null,null,null,null,null,null,null,null,null,null,null,null,null,null,null,null,0,null,null,null,null,null,"OIL"]
[null,null,null,null,null,null,null,null,null,null,null,null,"4.PRTR.COA","Уголь","руб./тнт",null,null,null,null,null,null,null,null,null,null,null,null,null,null,null,null,null,null,null,null,null,null,0,{"$f":"IF(AM1636=0,0,AM1680/AM1636*1000)","v":0},{"$f":"IF(AN1636=0,0,AN1680/AN1636*1000)","v":0},null,null,null,"COA"]
[null,null,null,null,null,null,null,null,null,null,null,null,"4.PRTR.COAA","Уголь антрацит","руб./тнт",null,null,null,null,null,null,null,null,null,null,null,null,null,null,null,null,null,null,null,null,null,null,0,null,null,null,null,null,"COAA"]
[null,null,null,null,null,null,null,null,null,null,null,null,"4.PRTR.COAB","Уголь бурый","руб./тнт",null,null,null,null,null,null,null,null,null,null,null,null,null,null,null,null,null,null,null,null,null,null,0,null,null,null,null,null,"COAB"]
[null,null,null,null,null,null,null,null,null,null,null,null,"4.PRTR.COAG","Уголь газовый","руб./тнт",null,null,null,null,null,null,null,null,null,null,null,null,null,null,null,null,null,null,null,null,null,null,0,null,null,null,null,null,"COAG"]
[null,null,null,null,null,null,null,null,null,null,null,null,"4.PRTR.COALF","Уголь длиннопламенный","руб./тнт",null,null,null,null,null,null,null,null,null,null,null,null,null,null,null,null,null,null,null,null,null,null,0,null,null,null,null,null,"COALF"]
[null,null,null,null,null,null,null,null,null,null,null,null,"4.PRTR.COAF","Уголь жирный","руб./тнт",null,null,null,null,null,null,null,null,null,null,null,null,null,null,null,null,null,null,null,null,null,null,0,null,null,null,null,null,"COAF"]
[null,null,null,null,null,null,null,null,null,null,null,null,"4.PRTR.COAC","Уголь коксовый","руб./тнт",null,null,null,null,null,null,null,null,null,null,null,null,null,null,null,null,null,null,null,null,null,null,0,null,null,null,null,null,"COAC"]
[null,null,null,null,null,null,null,null,null,null,null,null,"4.PRTR.COASC","Уголь отощённо-спекающийся","руб./тнт",null,null,null,null,null,null,null,null,null,null,null,null,null,null,null,null,null,null,null,null,null,null,0,null,null,null,null,null,"COASC"]
[null,null,null,null,null,null,null,null,null,null,null,null,"4.PRTR.COAWC","Уголь слабоспекающийся","руб./тнт",null,null,null,null,null,null,null,null,null,null,null,null,null,null,null,null,null,null,null,null,null,null,0,null,null,null,null,null,"COAWC"]
[null,null,null,null,null,null,null,null,null,null,null,null,"4.PRTR.COAS","Уголь тощий","руб./тнт",null,null,null,null,null,null,null,null,null,null,null,null,null,null,null,null,null,null,null,null,null,null,0,null,null,null,null,null,"COAS"]
[]
[]
[null,null,null,null,null,null,null,null,null,null,null,null,"4.PRTR.CWD","Уголь древесный","руб./тнт",null,null,null,null,null,null,null,null,null,null,null,null,null,null,null,null,null,null,null,null,null,null,{"$f":"IF(AL1648=0,0,AL1692/AL1648*1000)","v":0},null,null,null,null,null,"CWD"]
[null,null,null,null,null,null,null,null,null,null,null,null,"4.PRTR.WDS","Дрова","руб./тнт",null,null,null,null,null,null,null,null,null,null,null,null,null,null,null,null,null,null,null,null,null,null,0,null,null,null,null,null,"WDS"]
[null,null,null,null,null,null,null,null,null,null,null,null,"4.PRTR.PLT","Пеллеты","руб./тнт",null,null,null,null,null,null,null,null,null,null,null,null,null,null,null,null,null,null,null,null,null,null,0,null,null,null,null,null,"PLT"]
[null,null,null,null,null,null,null,null,null,null,null,null,"4.PRTR.SAW","Опилки","руб./тнт",null,null,null,null,null,null,null,null,null,null,null,null,null,null,null,null,null,null,null,null,null,null,0,null,null,null,null,null,"SAW"]
[null,null,null,null,null,null,null,null,null,null,null,null,"4.PRTR.PEA","Торф","руб./тнт",null,null,null,null,null,null,null,null,null,null,null,null,null,null,null,null,null,null,null,null,null,null,0,null,null,null,null,null,"PEA"]
[null,null,null,null,null,null,null,null,null,null,null,null,"4.PRTR.SHL","Сланцы","руб./тнт",null,null,null,null,null,null,null,null,null,null,null,null,null,null,null,null,null,null,null,null,null,null,0,null,null,null,null,null,"SHL"]
[null,null,null,null,null,null,null,null,null,null,null,null,"4.PRTR.STF","Печное бытовое топливо","руб./тнт",null,null,null,null,null,null,null,null,null,null,null,null,null,null,null,null,null,null,null,null,null,null,0,null,null,null,null,null,"STF"]
[]
[null,null,null,null,null,null,null,null,null,null,null,null,"4.VRTR","Перевозка ж/д транспортом. Объём транспортировки (перевозки) топлива"]
[]
[]
[]
[]
[]
[]
[]
[]
[null,null,null,null,null,null,null,null,null,null,null,null,"4.VRTR.GCN","Газовый конденсат","тнт",null,null,null,null,null,null,null,null,null,null,null,null,null,null,null,null,null,null,null,null,null,null,{"$f":"AM1621+AN1621","v":0},null,null,null,null,null,"GCN"]
[null,null,null,null,null,null,null,null,null,null,null,null,"4.VRTR.LNG","Газ сжиженный","тнт",null,null,null,null,null,null,null,null,null,null,null,null,null,null,null,null,null,null,null,null,null,null,0,null,null,null,null,null,"LNG"]
[null,null,null,null,null,null,null,null,null,null,null,null,"4.VRTR.DSL","Дизельное топливо","тнт",null,null,null,null,null,null,null,null,null,null,null,null,null,null,null,null,null,null,null,null,null,null,0,{"$f":"SUM(AM1624:AM1627)","v":0},{"$f":"SUM(AN1624:AN1627)","v":0},null,null,null,"DSL"]
[null,null,null,null,null,null,null,null,null,null,null,null,"4.VRTR.DSLA","А (арктическое)","тнт",null,null,null,null,null,null,null,null,null,null,null,null,null,null,null,null,null,null,null,null,null,null,0,null,null,null,null,null,"DSLA"]
[null,null,null,null,null,null,null,null,null,null,null,null,"4.VRTR.DSLW","З (зимнее)","тнт",null,null,null,null,null,null,null,null,null,null,null,null,null,null,null,null,null,null,null,null,null,null,0,null,null,null,null,null,"DSLW"]
[null,null,null,null,null,null,null,null,null,null,null,null,"4.VRTR.DSLS","Л (летнее)","тнт",null,null,null,null,null,null,null,null,null,null,null,null,null,null,null,null,null,null,null,null,null,null,0,null,null,null,null,null,"DSLS"]
[null,null,null,null,null,null,null,null,null,null,null,null,"4.VRTR.DSLO","Е (межсезонное)","тнт",null,null,null,null,null,null,null,null,null,null,null,null,null,null,null,null,null,null,null,null,null,null,0,null,null,null,null,null,"DSLO"]
[null,null,null,null,null,null,null,null,null,null,null,null,"4.VRTR.MST","Мазут","тнт",null,null,null,null,null,null,null,null,null,null,null,null,null,null,null,null,null,null,null,null,null,null,0,{"$f":"SUM(AM1629:AM1634)","v":0},{"$f":"SUM(AN1629:AN1634)","v":0},null,null,null,"MST"]
[null,null,null,null,null,null,null,null,null,null,null,null,"4.VRTR.MSTM40","М-40","тнт",null,null,null,null,null,null,null,null,null,null,null,null,null,null,null,null,null,null,null,null,null,null,0,null,null,null,null,null,"MSTM40"]
[null,null,null,null,null,null,null,null,null,null,null,null,"4.VRTR.MSTM100","М-100","тнт",null,null,null,null,null,null,null,null,null,null,null,null,null,null,null,null,null,null,null,null,null,null,0,null,null,null,null,null,"MSTM100"]
[null,null,null,null,null,null,null,null,null,null,null,null,"4.VRTR.MSTM200","М-200","тнт",null,null,null,null,null,null,null,null,null,null,null,null,null,null,null,null,null,null,null,null,null,null,0,null,null,null,null,null,"MSTM200"]
[null,null,null,null,null,null,null,null,null,null,null,null,"4.VRTR.MSTT","мазут марки \"Т\"","тнт",null,null,null,null,null,null,null,null,null,null,null,null,null,null,null,null,null,null,null,null,null,null,0,null,null,null,null,null,"MSTT"]
[null,null,null,null,null,null,null,null,null,null,null,null,"4.VRTR.MSTF5","Ф-5","тнт",null,null,null,null,null,null,null,null,null,null,null,null,null,null,null,null,null,null,null,null,null,null,0,null,null,null,null,null,"MSTF5"]
[null,null,null,null,null,null,null,null,null,null,null,null,"4.VRTR.MSTF12","Ф-12","тнт",null,null,null,null,null,null,null,null,null,null,null,null,null,null,null,null,null,null,null,null,null,null,0,null,null,null,null,null,"MSTF12"]
[null,null,null,null,null,null,null,null,null,null,null,null,"4.VRTR.OIL","Нефть","тнт",null,null,null,null,null,null,null,null,null,null,null,null,null,null,null,null,null,null,null,null,null,null,0,null,null,null,null,null,"OIL"]
[null,null,null,null,null,null,null,null,null,null,null,null,"4.VRTR.COA","Уголь","тнт",null,null,null,null,null,null,null,null,null,null,null,null,null,null,null,null,null,null,null,null,null,null,0,{"$f":"SUM(AM1637:AM1645)","v":0},{"$f":"SUM(AN1637:AN1645)","v":0},null,null,null,"COA"]
[null,null,null,null,null,null,null,null,null,null,null,null,"4.VRTR.COAA","Уголь антрацит","тнт",null,null,null,null,null,null,null,null,null,null,null,null,null,null,null,null,null,null,null,null,null,null,0,null,null,null,null,null,"COAA"]
[null,null,null,null,null,null,null,null,null,null,null,null,"4.VRTR.COAB","Уголь бурый","тнт",null,null,null,null,null,null,null,null,null,null,null,null,null,null,null,null,null,null,null,null,null,null,0,null,null,null,null,null,"COAB"]
[null,null,null,null,null,null,null,null,null,null,null,null,"4.VRTR.COAG","Уголь газовый","тнт",null,null,null,null,null,null,null,null,null,null,null,null,null,null,null,null,null,null,null,null,null,null,0,null,null,null,null,null,"COAG"]
[null,null,null,null,null,null,null,null,null,null,null,null,"4.VRTR.COALF","Уголь длиннопламенный","тнт",null,null,null,null,null,null,null,null,null,null,null,null,null,null,null,null,null,null,null,null,null,null,0,null,null,null,null,null,"COALF"]
[null,null,null,null,null,null,null,null,null,null,null,null,"4.VRTR.COAF","Уголь жирный","тнт",null,null,null,null,null,null,null,null,null,null,null,null,null,null,null,null,null,null,null,null,null,null,0,null,null,null,null,null,"COAF"]
[null,null,null,null,null,null,null,null,null,null,null,null,"4.VRTR.COAC","Уголь коксовый","тнт",null,null,null,null,null,null,null,null,null,null,null,null,null,null,null,null,null,null,null,null,null,null,0,null,null,null,null,null,"COAC"]
[null,null,null,null,null,null,null,null,null,null,null,null,"4.VRTR.COASC","Уголь отощённо-спекающийся","тнт",null,null,null,null,null,null,null,null,null,null,null,null,null,null,null,null,null,null,null,null,null,null,0,null,null,null,null,null,"COASC"]
[null,null,null,null,null,null,null,null,null,null,null,null,"4.VRTR.COAWC","Уголь слабоспекающийся","тнт",null,null,null,null,null,null,null,null,null,null,null,null,null,null,null,null,null,null,null,null,null,null,0,null,null,null,null,null,"COAWC"]
[null,null,null,null,null,null,null,null,null,null,null,null,"4.VRTR.COAS","Уголь тощий","тнт",null,null,null,null,null,null,null,null,null,null,null,null,null,null,null,null,null,null,null,null,null,null,0,null,null,null,null,null,"COAS"]
[]
[]
[null,null,null,null,null,null,null,null,null,null,null,null,"4.VRTR.CWD","Уголь древесный","тнт",null,null,null,null,null,null,null,null,null,null,null,null,null,null,null,null,null,null,null,null,null,null,{"$f":"AM1648+AN1648","v":0},null,null,null,null,null,"CWD"]
[null,null,null,null,null,null,null,null,null,null,null,null,"4.VRTR.WDS","Дрова","тнт",null,null,null,null,null,null,null,null,null,null,null,null,null,null,null,null,null,null,null,null,null,null,0,null,null,null,null,null,"WDS"]
[null,null,null,null,null,null,null,null,null,null,null,null,"4.VRTR.PLT","Пеллеты","тнт",null,null,null,null,null,null,null,null,null,null,null,null,null,null,null,null,null,null,null,null,null,null,0,null,null,null,null,null,"PLT"]
[null,null,null,null,null,null,null,null,null,null,null,null,"4.VRTR.SAW","Опилки","тнт",null,null,null,null,null,null,null,null,null,null,null,null,null,null,null,null,null,null,null,null,null,null,0,null,null,null,null,null,"SAW"]
[null,null,null,null,null,null,null,null,null,null,null,null,"4.VRTR.PEA","Торф","тнт",null,null,null,null,null,null,null,null,null,null,null,null,null,null,null,null,null,null,null,null,null,null,0,null,null,null,null,null,"PEA"]
[null,null,null,null,null,null,null,null,null,null,null,null,"4.VRTR.SHL","Сланцы","тнт",null,null,null,null,null,null,null,null,null,null,null,null,null,null,null,null,null,null,null,null,null,null,0,null,null,null,null,null,"SHL"]
[null,null,null,null,null,null,null,null,null,null,null,null,"4.VRTR.STF","Печное бытовое топливо","тнт",null,null,null,null,null,null,null,null,null,null,null,null,null,null,null,null,null,null,null,null,null,null,0,null,null,null,null,null,"STF"]
[]
[null,null,null,null,null,null,null,null,null,null,null,null,"4.CRTR","Перевозка ж/д транспортом. Стоимость транспортировки (перевозки) топлива","тыс.руб.",null,null,null,null,null,null,null,null,null,null,null,null,null,null,null,null,{"$f":"SUM(AF1657,AF1661:AF1666,AF1667,AF1672,AF1679,AF1680,AF1692:AF1698)","v":0},{"$f":"SUM(AG1657,AG1661:AG1666,AG1667,AG1672,AG1679,AG1680,AG1692:AG1698)","v":0},{"$f":"SUM(AH1657,AH1661:AH1666,AH1667,AH1672,AH1679,AH1680,AH1692:AH1698)","v":0},null,null,null,{"$f":"SUM(AL1657,AL1661:AL1666,AL1667,AL1672,AL1679,AL1680,AL1692:AL1698)","v":0},{"$f":"SUM(AM1657,AM1661:AM1666,AM1667,AM1672,AM1679,AM1680,AM1692:AM1698)","v":0},{"$f":"SUM(AN1657,AN1661:AN1666,AN1667,AN1672,AN1679,AN1680,AN1692:AN1698)","v":0}]
[]
[]
[]
[]
[]
[]
[]
[]
[null,null,null,null,null,null,null,null,null,null,null,null,"4.CRTR.GCN","Газовый конденсат","тыс.руб.",null,null,null,null,null,null,null,null,null,null,null,null,null,null,null,null,null,null,null,null,null,null,{"$f":"AM1665+AN1665","v":0},{"$f":"AM1577*AM1621/1000","v":0},0,null,null,null,"GCN"]
[null,null,null,null,null,null,null,null,null,null,null,null,"4.CRTR.LNG","Газ сжиженный","тыс.руб.",null,null,null,null,null,null,null,null,null,null,null,null,null,null,null,null,null,null,null,null,null,null,0,0,0,null,null,null,"LNG"]
[null,null,null,null,null,null,null,null,null,null,null,null,"4.CRTR.DSL","Дизельное топливо","тыс.руб.",null,null,null,null,null,null,null,null,null,null,null,null,null,null,null,null,null,null,null,null,null,null,0,{"$f":"SUM(AM1668:AM1671)","v":0},{"$f":"SUM(AN1668:AN1671)","v":0},null,null,null,"DSL"]
[null,null,null,null,null,null,null,null,null,null,null,null,"4.CRTR.DSLA","А (арктическое)","тыс.руб.",null,null,null,null,null,null,null,null,null,null,null,null,null,null,null,null,null,null,null,null,null,null,0,0,0,null,null,null,"DSLA"]
[null,null,null,null,null,null,null,null,null,null,null,null,"4.CRTR.DSLW","З (зимнее)","тыс.руб.",null,null,null,null,null,null,null,null,null,null,null,null,null,null,null,null,null,null,null,null,null,null,0,0,0,null,null,null,"DSLW"]
[null,null,null,null,null,null,null,null,null,null,null,null,"4.CRTR.DSLS","Л (летнее)","тыс.руб.",null,null,null,null,null,null,null,null,null,null,null,null,null,null,null,null,null,null,null,null,null,null,0,0,0,null,null,null,"DSLS"]
[null,null,null,null,null,null,null,null,null,null,null,null,"4.CRTR.DSLO","Е (межсезонное)","тыс.руб.",null,null,null,null,null,null,null,null,null,null,null,null,null,null,null,null,null,null,null,null,null,null,0,0,0,null,null,null,"DSLO"]
[null,null,null,null,null,null,null,null,null,null,null,null,"4.CRTR.MST","Мазут","тыс.руб.",null,null,null,null,null,null,null,null,null,null,null,null,null,null,null,null,null,null,null,null,null,null,0,{"$f":"SUM(AM1673:AM1678)","v":0},{"$f":"SUM(AN1673:AN1678)","v":0},null,null,null,"MST"]
[null,null,null,null,null,null,null,null,null,null,null,null,"4.CRTR.MSTM40","М-40","тыс.руб.",null,null,null,null,null,null,null,null,null,null,null,null,null,null,null,null,null,null,null,null,null,null,0,0,0,null,null,null,"MSTM40"]
[null,null,null,null,null,null,null,null,null,null,null,null,"4.CRTR.MSTM100","М-100","тыс.руб.",null,null,null,null,null,null,null,null,null,null,null,null,null,null,null,null,null,null,null,null,null,null,0,0,0,null,null,null,"MSTM100"]
[null,null,null,null,null,null,null,null,null,null,null,null,"4.CRTR.MSTM200","М-200","тыс.руб.",null,null,null,null,null,null,null,null,null,null,null,null,null,null,null,null,null,null,null,null,null,null,0,0,0,null,null,null,"MSTM200"]
[null,null,null,null,null,null,null,null,null,null,null,null,"4.CRTR.MSTT","мазут марки \"Т\"","тыс.руб.",null,null,null,null,null,null,null,null,null,null,null,null,null,null,null,null,null,null,null,null,null,null,0,0,0,null,null,null,"MSTT"]
[null,null,null,null,null,null,null,null,null,null,null,null,"4.CRTR.MSTF5","Ф-5","тыс.руб.",null,null,null,null,null,null,null,null,null,null,null,null,null,null,null,null,null,null,null,null,null,null,0,0,0,null,null,null,"MSTF5"]
[null,null,null,null,null,null,null,null,null,null,null,null,"4.CRTR.MSTF12","Ф-12","тыс.руб.",null,null,null,null,null,null,null,null,null,null,null,null,null,null,null,null,null,null,null,null,null,null,0,0,0,null,null,null,"MSTF12"]
[null,null,null,null,null,null,null,null,null,null,null,null,"4.CRTR.OIL","Нефть","тыс.руб.",null,null,null,null,null,null,null,null,null,null,null,null,null,null,null,null,null,null,null,null,null,null,0,0,0,null,null,null,"OIL"]
[null,null,null,null,null,null,null,null,null,null,null,null,"4.CRTR.COA","Уголь","тыс.руб.",null,null,null,null,null,null,null,null,null,null,null,null,null,null,null,null,null,null,null,null,null,null,0,{"$f":"SUM(AM1681:AM1689)","v":0},{"$f":"SUM(AN1681:AN1689)","v":0},null,null,null,"COA"]
[null,null,null,null,null,null,null,null,null,null,null,null,"4.CRTR.COAA","Уголь антрацит","тыс.руб.",null,null,null,null,null,null,null,null,null,null,null,null,null,null,null,null,null,null,null,null,null,null,0,{"$f":"AM1593*AM1637/1000","v":0},0,null,null,null,"COAA"]
[null,null,null,null,null,null,null,null,null,null,null,null,"4.CRTR.COAB","Уголь бурый","тыс.руб.",null,null,null,null,null,null,null,null,null,null,null,null,null,null,null,null,null,null,null,null,null,null,0,0,0,null,null,null,"COAB"]
[null,null,null,null,null,null,null,null,null,null,null,null,"4.CRTR.COAG","Уголь газовый","тыс.руб.",null,null,null,null,null,null,null,null,null,null,null,null,null,null,null,null,null,null,null,null,null,null,0,0,0,null,null,null,"COAG"]
[null,null,null,null,null,null,null,null,null,null,null,null,"4.CRTR.COALF","Уголь длиннопламенный","тыс.руб.",null,null,null,null,null,null,null,null,null,null,null,null,null,null,null,null,null,null,null,null,null,null,0,0,0,null,null,null,"COALF"]
[null,null,null,null,null,null,null,null,null,null,null,null,"4.CRTR.COAF","Уголь жирный","тыс.руб.",null,null,null,null,null,null,null,null,null,null,null,null,null,null,null,null,null,null,null,null,null,null,0,0,0,null,null,null,"COAF"]
[null,null,null,null,null,null,null,null,null,null,null,null,"4.CRTR.COAC","Уголь коксовый","тыс.руб.",null,null,null,null,null,null,null,null,null,null,null,null,null,null,null,null,null,null,null,null,null,null,0,0,0,null,null,null,"COAC"]
[null,null,null,null,null,null,null,null,null,null,null,null,"4.CRTR.COASC","Уголь отощённо-спекающийся","тыс.руб.",null,null,null,null,null,null,null,null,null,null,null,null,null,null,null,null,null,null,null,null,null,null,0,0,0,null,null,null,"COASC"]
[null,null,null,null,null,null,null,null,null,null,null,null,"4.CRTR.COAWC","Уголь слабоспекающийся","тыс.руб.",null,null,null,null,null,null,null,null,null,null,null,null,null,null,null,null,null,null,null,null,null,null,0,0,0,null,null,null,"COAWC"]
[null,null,null,null,null,null,null,null,null,null,null,null,"4.CRTR.COAS","Уголь тощий","тыс.руб.",null,null,null,null,null,null,null,null,null,null,null,null,null,null,null,null,null,null,null,null,null,null,0,0,0,null,null,null,"COAS"]
[]
[]
[null,null,null,null,null,null,null,null,null,null,null,null,"4.CRTR.CWD","Уголь древесный","тыс.руб.",null,null,null,null,null,null,null,null,null,null,null,null,null,null,null,null,null,null,null,null,null,null,{"$f":"AM1692+AN1692","v":0},{"$f":"AM1604*AM1648/1000","v":0},0,null,null,null,"CWD"]
[null,null,null,null,null,null,null,null,null,null,null,null,"4.CRTR.WDS","Дрова","тыс.руб.",null,null,null,null,null,null,null,null,null,null,null,null,null,null,null,null,null,null,null,null,null,null,0,0,0,null,null,null,"WDS"]
[null,null,null,null,null,null,null,null,null,null,null,null,"4.CRTR.PLT","Пеллеты","тыс.руб.",null,null,null,null,null,null,null,null,null,null,null,null,null,null,null,null,null,null,null,null,null,null,0,0,0,null,null,null,"PLT"]
[null,null,null,null,null,null,null,null,null,null,null,null,"4.CRTR.SAW","Опилки","тыс.руб.",null,null,null,null,null,null,null,null,null,null,null,null,null,null,null,null,null,null,null,null,null,null,0,0,0,null,null,null,"SAW"]
[null,null,null,null,null,null,null,null,null,null,null,null,"4.CRTR.PEA","Торф","тыс.руб.",null,null,null,null,null,null,null,null,null,null,null,null,null,null,null,null,null,null,null,null,null,null,0,0,0,null,null,null,"PEA"]
[null,null,null,null,null,null,null,null,null,null,null,null,"4.CRTR.SHL","Сланцы","тыс.руб.",null,null,null,null,null,null,null,null,null,null,null,null,null,null,null,null,null,null,null,null,null,null,0,0,0,null,null,null,"SHL"]
[null,null,null,null,null,null,null,null,null,null,null,null,"4.CRTR.STF","Печное бытовое топливо","тыс.руб.",null,null,null,null,null,null,null,null,null,null,null,null,null,null,null,null,null,null,null,null,null,null,0,0,0,null,null,null,"STF"]
[]
[null,null,null,null,null,null,null,null,null,null,null,null,"4.POTR","Иные виды транспортировки (перевозки). Цена (тариф) за транспортировку (перевозку) единицы топлива"]
[]
[]
[]
[]
[]
[]
[]
[]
[null,null,null,null,null,null,null,null,null,null,null,null,"4.POTR.GCN","Газовый конденсат","руб./тнт",null,null,null,null,null,null,null,null,null,null,null,null,null,null,null,null,null,null,null,null,null,null,{"$f":"IF(AL1753=0,0,AL1797/AL1753*1000)","v":0},null,null,null,null,null,"GCN"]
[null,null,null,null,null,null,null,null,null,null,null,null,"4.POTR.LNG","Газ сжиженный","руб./тнт",null,null,null,null,null,null,null,null,null,null,null,null,null,null,null,null,null,null,null,null,null,null,0,null,null,null,null,null,"LNG"]
[null,null,null,null,null,null,null,null,null,null,null,null,"4.POTR.DSL","Дизельное топливо","руб./тнт",null,null,null,null,null,null,null,null,null,null,null,null,null,null,null,null,null,null,null,null,null,null,0,{"$f":"IF(AM1755=0,0,AM1799/AM1755*1000)","v":0},{"$f":"IF(AN1755=0,0,AN1799/AN1755*1000)","v":0},null,null,null,"DSL"]
[null,null,null,null,null,null,null,null,null,null,null,null,"4.POTR.DSLA","А (арктическое)","руб./тнт",null,null,null,null,null,null,null,null,null,null,null,null,null,null,null,null,null,null,null,null,null,null,0,null,null,null,null,null,"DSLA"]
[null,null,null,null,null,null,null,null,null,null,null,null,"4.POTR.DSLW","З (зимнее)","руб./тнт",null,null,null,null,null,null,null,null,null,null,null,null,null,null,null,null,null,null,null,null,null,null,0,null,null,null,null,null,"DSLW"]
[null,null,null,null,null,null,null,null,null,null,null,null,"4.POTR.DSLS","Л (летнее)","руб./тнт",null,null,null,null,null,null,null,null,null,null,null,null,null,null,null,null,null,null,null,null,null,null,0,null,null,null,null,null,"DSLS"]
[null,null,null,null,null,null,null,null,null,null,null,null,"4.POTR.DSLO","Е (межсезонное)","руб./тнт",null,null,null,null,null,null,null,null,null,null,null,null,null,null,null,null,null,null,null,null,null,null,0,null,null,null,null,null,"DSLO"]
[null,null,null,null,null,null,null,null,null,null,null,null,"4.POTR.MST","Мазут","руб./тнт",null,null,null,null,null,null,null,null,null,null,null,null,null,null,null,null,null,null,null,null,null,null,0,{"$f":"IF(AM1760=0,0,AM1804/AM1760*1000)","v":0},{"$f":"IF(AN1760=0,0,AN1804/AN1760*1000)","v":0},null,null,null,"MST"]
[null,null,null,null,null,null,null,null,null,null,null,null,"4.POTR.MSTM40","М-40","руб./тнт",null,null,null,null,null,null,null,null,null,null,null,null,null,null,null,null,null,null,null,null,null,null,0,null,null,null,null,null,"MSTM40"]
[null,null,null,null,null,null,null,null,null,null,null,null,"4.POTR.MSTM100","М-100","руб./тнт",null,null,null,null,null,null,null,null,null,null,null,null,null,null,null,null,null,null,null,null,null,null,0,null,null,null,null,null,"MSTM100"]
[null,null,null,null,null,null,null,null,null,null,null,null,"4.POTR.MSTM200","М-200","руб./тнт",null,null,null,null,null,null,null,null,null,null,null,null,null,null,null,null,null,null,null,null,null,null,0,null,null,null,null,null,"MSTM200"]
[null,null,null,null,null,null,null,null,null,null,null,null,"4.POTR.MSTT","мазут марки \"Т\"","руб./тнт",null,null,null,null,null,null,null,null,null,null,null,null,null,null,null,null,null,null,null,null,null,null,0,null,null,null,null,null,"MSTT"]
[null,null,null,null,null,null,null,null,null,null,null,null,"4.POTR.MSTF5","Ф-5","руб./тнт",null,null,null,null,null,null,null,null,null,null,null,null,null,null,null,null,null,null,null,null,null,null,0,null,null,null,null,null,"MSTF5"]
[null,null,null,null,null,null,null,null,null,null,null,null,"4.POTR.MSTF12","Ф-12","руб./тнт",null,null,null,null,null,null,null,null,null,null,null,null,null,null,null,null,null,null,null,null,null,null,0,null,null,null,null,null,"MSTF12"]
[null,null,null,null,null,null,null,null,null,null,null,null,"4.POTR.OIL","Нефть","руб./тнт",null,null,null,null,null,null,null,null,null,null,null,null,null,null,null,null,null,null,null,null,null,null,0,null,null,null,null,null,"OIL"]
[null,null,null,null,null,null,null,null,null,null,null,null,"4.POTR.COA","Уголь","руб./тнт",null,null,null,null,null,null,null,null,null,null,null,null,null,null,null,null,null,null,null,null,null,null,0,{"$f":"IF(AM1768=0,0,AM1812/AM1768*1000)","v":0},{"$f":"IF(AN1768=0,0,AN1812/AN1768*1000)","v":0},null,null,null,"COA"]
[null,null,null,null,null,null,null,null,null,null,null,null,"4.POTR.COAA","Уголь антрацит","руб./тнт",null,null,null,null,null,null,null,null,null,null,null,null,null,null,null,null,null,null,null,null,null,null,0,null,null,null,null,null,"COAA"]
[null,null,null,null,null,null,null,null,null,null,null,null,"4.POTR.COAB","Уголь бурый","руб./тнт",null,null,null,null,null,null,null,null,null,null,null,null,null,null,null,null,null,null,null,null,null,null,0,null,null,null,null,null,"COAB"]
[null,null,null,null,null,null,null,null,null,null,null,null,"4.POTR.COAG","Уголь газовый","руб./тнт",null,null,null,null,null,null,null,null,null,null,null,null,null,null,null,null,null,null,null,null,null,null,0,null,null,null,null,null,"COAG"]
[null,null,null,null,null,null,null,null,null,null,null,null,"4.POTR.COALF","Уголь длиннопламенный","руб./тнт",null,null,null,null,null,null,null,null,null,null,null,null,null,null,null,null,null,null,null,null,null,null,0,null,null,null,null,null,"COALF"]
[null,null,null,null,null,null,null,null,null,null,null,null,"4.POTR.COAF","Уголь жирный","руб./тнт",null,null,null,null,null,null,null,null,null,null,null,null,null,null,null,null,null,null,null,null,null,null,0,null,null,null,null,null,"COAF"]
[null,null,null,null,null,null,null,null,null,null,null,null,"4.POTR.COAC","Уголь коксовый","руб./тнт",null,null,null,null,null,null,null,null,null,null,null,null,null,null,null,null,null,null,null,null,null,null,0,null,null,null,null,null,"COAC"]
[null,null,null,null,null,null,null,null,null,null,null,null,"4.POTR.COASC","Уголь отощённо-спекающийся","руб./тнт",null,null,null,null,null,null,null,null,null,null,null,null,null,null,null,null,null,null,null,null,null,null,0,null,null,null,null,null,"COASC"]
[null,null,null,null,null,null,null,null,null,null,null,null,"4.POTR.COAWC","Уголь слабоспекающийся","руб./тнт",null,null,null,null,null,null,null,null,null,null,null,null,null,null,null,null,null,null,null,null,null,null,0,null,null,null,null,null,"COAWC"]
[null,null,null,null,null,null,null,null,null,null,null,null,"4.POTR.COAS","Уголь тощий","руб./тнт",null,null,null,null,null,null,null,null,null,null,null,null,null,null,null,null,null,null,null,null,null,null,0,null,null,null,null,null,"COAS"]
[]
[]
[null,null,null,null,null,null,null,null,null,null,null,null,"4.POTR.CWD","Уголь древесный","руб./тнт",null,null,null,null,null,null,null,null,null,null,null,null,null,null,null,null,null,null,null,null,null,null,{"$f":"IF(AL1780=0,0,AL1824/AL1780*1000)","v":0},null,null,null,null,null,"CWD"]
[null,null,null,null,null,null,null,null,null,null,null,null,"4.POTR.WDS","Дрова","руб./тнт",null,null,null,null,null,null,null,null,null,null,null,null,null,null,null,null,null,null,null,null,null,null,0,null,null,null,null,null,"WDS"]
[null,null,null,null,null,null,null,null,null,null,null,null,"4.POTR.PLT","Пеллеты","руб./тнт",null,null,null,null,null,null,null,null,null,null,null,null,null,null,null,null,null,null,null,null,null,null,0,null,null,null,null,null,"PLT"]
[null,null,null,null,null,null,null,null,null,null,null,null,"4.POTR.SAW","Опилки","руб./тнт",null,null,null,null,null,null,null,null,null,null,null,null,null,null,null,null,null,null,null,null,null,null,0,null,null,null,null,null,"SAW"]
[null,null,null,null,null,null,null,null,null,null,null,null,"4.POTR.PEA","Торф","руб./тнт",null,null,null,null,null,null,null,null,null,null,null,null,null,null,null,null,null,null,null,null,null,null,0,null,null,null,null,null,"PEA"]
[null,null,null,null,null,null,null,null,null,null,null,null,"4.POTR.SHL","Сланцы","руб./тнт",null,null,null,null,null,null,null,null,null,null,null,null,null,null,null,null,null,null,null,null,null,null,0,null,null,null,null,null,"SHL"]
[null,null,null,null,null,null,null,null,null,null,null,null,"4.POTR.STF","Печное бытовое топливо","руб./тнт",null,null,null,null,null,null,null,null,null,null,null,null,null,null,null,null,null,null,null,null,null,null,0,null,null,null,null,null,"STF"]
[]
[null,null,null,null,null,null,null,null,null,null,null,null,"4.VOTR","Иные виды транспортировки (перевозки). Объём транспортировки (перевозки) топлива"]
[]
[]
[]
[]
[]
[]
[]
[]
[null,null,null,null,null,null,null,null,null,null,null,null,"4.VOTR.GCN","Газовый конденсат","тнт",null,null,null,null,null,null,null,null,null,null,null,null,null,null,null,null,null,null,null,null,null,null,{"$f":"AM1753+AN1753","v":0},null,null,null,null,null,"GCN"]
[null,null,null,null,null,null,null,null,null,null,null,null,"4.VOTR.LNG","Газ сжиженный","тнт",null,null,null,null,null,null,null,null,null,null,null,null,null,null,null,null,null,null,null,null,null,null,0,null,null,null,null,null,"LNG"]
[null,null,null,null,null,null,null,null,null,null,null,null,"4.VOTR.DSL","Дизельное топливо","тнт",null,null,null,null,null,null,null,null,null,null,null,null,null,null,null,null,null,null,null,null,null,null,0,{"$f":"SUM(AM1756:AM1759)","v":0},{"$f":"SUM(AN1756:AN1759)","v":0},null,null,null,"DSL"]
[null,null,null,null,null,null,null,null,null,null,null,null,"4.VOTR.DSLA","А (арктическое)","тнт",null,null,null,null,null,null,null,null,null,null,null,null,null,null,null,null,null,null,null,null,null,null,0,null,null,null,null,null,"DSLA"]
[null,null,null,null,null,null,null,null,null,null,null,null,"4.VOTR.DSLW","З (зимнее)","тнт",null,null,null,null,null,null,null,null,null,null,null,null,null,null,null,null,null,null,null,null,null,null,0,null,null,null,null,null,"DSLW"]
[null,null,null,null,null,null,null,null,null,null,null,null,"4.VOTR.DSLS","Л (летнее)","тнт",null,null,null,null,null,null,null,null,null,null,null,null,null,null,null,null,null,null,null,null,null,null,0,null,null,null,null,null,"DSLS"]
[null,null,null,null,null,null,null,null,null,null,null,null,"4.VOTR.DSLO","Е (межсезонное)","тнт",null,null,null,null,null,null,null,null,null,null,null,null,null,null,null,null,null,null,null,null,null,null,0,null,null,null,null,null,"DSLO"]
[null,null,null,null,null,null,null,null,null,null,null,null,"4.VOTR.MST","Мазут","тнт",null,null,null,null,null,null,null,null,null,null,null,null,null,null,null,null,null,null,null,null,null,null,0,{"$f":"SUM(AM1761:AM1766)","v":0},{"$f":"SUM(AN1761:AN1766)","v":0},null,null,null,"MST"]
[null,null,null,null,null,null,null,null,null,null,null,null,"4.VOTR.MSTM40","М-40","тнт",null,null,null,null,null,null,null,null,null,null,null,null,null,null,null,null,null,null,null,null,null,null,0,null,null,null,null,null,"MSTM40"]
[null,null,null,null,null,null,null,null,null,null,null,null,"4.VOTR.MSTM100","М-100","тнт",null,null,null,null,null,null,null,null,null,null,null,null,null,null,null,null,null,null,null,null,null,null,0,null,null,null,null,null,"MSTM100"]
[null,null,null,null,null,null,null,null,null,null,null,null,"4.VOTR.MSTM200","М-200","тнт",null,null,null,null,null,null,null,null,null,null,null,null,null,null,null,null,null,null,null,null,null,null,0,null,null,null,null,null,"MSTM200"]
[null,null,null,null,null,null,null,null,null,null,null,null,"4.VOTR.MSTT","мазут марки \"Т\"","тнт",null,null,null,null,null,null,null,null,null,null,null,null,null,null,null,null,null,null,null,null,null,null,0,null,null,null,null,null,"MSTT"]
[null,null,null,null,null,null,null,null,null,null,null,null,"4.VOTR.MSTF5","Ф-5","тнт",null,null,null,null,null,null,null,null,null,null,null,null,null,null,null,null,null,null,null,null,null,null,0,null,null,null,null,null,"MSTF5"]
[null,null,null,null,null,null,null,null,null,null,null,null,"4.VOTR.MSTF12","Ф-12","тнт",null,null,null,null,null,null,null,null,null,null,null,null,null,null,null,null,null,null,null,null,null,null,0,null,null,null,null,null,"MSTF12"]
[null,null,null,null,null,null,null,null,null,null,null,null,"4.VOTR.OIL","Нефть","тнт",null,null,null,null,null,null,null,null,null,null,null,null,null,null,null,null,null,null,null,null,null,null,0,null,null,null,null,null,"OIL"]
[null,null,null,null,null,null,null,null,null,null,null,null,"4.VOTR.COA","Уголь","тнт",null,null,null,null,null,null,null,null,null,null,null,null,null,null,null,null,null,null,null,null,null,null,0,{"$f":"SUM(AM1769:AM1777)","v":0},{"$f":"SUM(AN1769:AN1777)","v":0},null,null,null,"COA"]
[null,null,null,null,null,null,null,null,null,null,null,null,"4.VOTR.COAA","Уголь антрацит","тнт",null,null,null,null,null,null,null,null,null,null,null,null,null,null,null,null,null,null,null,null,null,null,0,null,null,null,null,null,"COAA"]
[null,null,null,null,null,null,null,null,null,null,null,null,"4.VOTR.COAB","Уголь бурый","тнт",null,null,null,null,null,null,null,null,null,null,null,null,null,null,null,null,null,null,null,null,null,null,0,null,null,null,null,null,"COAB"]
[null,null,null,null,null,null,null,null,null,null,null,null,"4.VOTR.COAG","Уголь газовый","тнт",null,null,null,null,null,null,null,null,null,null,null,null,null,null,null,null,null,null,null,null,null,null,0,null,null,null,null,null,"COAG"]
[null,null,null,null,null,null,null,null,null,null,null,null,"4.VOTR.COALF","Уголь длиннопламенный","тнт",null,null,null,null,null,null,null,null,null,null,null,null,null,null,null,null,null,null,null,null,null,null,0,null,null,null,null,null,"COALF"]
[null,null,null,null,null,null,null,null,null,null,null,null,"4.VOTR.COAF","Уголь жирный","тнт",null,null,null,null,null,null,null,null,null,null,null,null,null,null,null,null,null,null,null,null,null,null,0,null,null,null,null,null,"COAF"]
[null,null,null,null,null,null,null,null,null,null,null,null,"4.VOTR.COAC","Уголь коксовый","тнт",null,null,null,null,null,null,null,null,null,null,null,null,null,null,null,null,null,null,null,null,null,null,0,null,null,null,null,null,"COAC"]
[null,null,null,null,null,null,null,null,null,null,null,null,"4.VOTR.COASC","Уголь отощённо-спекающийся","тнт",null,null,null,null,null,null,null,null,null,null,null,null,null,null,null,null,null,null,null,null,null,null,0,null,null,null,null,null,"COASC"]
[null,null,null,null,null,null,null,null,null,null,null,null,"4.VOTR.COAWC","Уголь слабоспекающийся","тнт",null,null,null,null,null,null,null,null,null,null,null,null,null,null,null,null,null,null,null,null,null,null,0,null,null,null,null,null,"COAWC"]
[null,null,null,null,null,null,null,null,null,null,null,null,"4.VOTR.COAS","Уголь тощий","тнт",null,null,null,null,null,null,null,null,null,null,null,null,null,null,null,null,null,null,null,null,null,null,0,null,null,null,null,null,"COAS"]
[]
[]
[null,null,null,null,null,null,null,null,null,null,null,null,"4.VOTR.CWD","Уголь древесный","тнт",null,null,null,null,null,null,null,null,null,null,null,null,null,null,null,null,null,null,null,null,null,null,{"$f":"AM1780+AN1780","v":0},null,null,null,null,null,"CWD"]
[null,null,null,null,null,null,null,null,null,null,null,null,"4.VOTR.WDS","Дрова","тнт",null,null,null,null,null,null,null,null,null,null,null,null,null,null,null,null,null,null,null,null,null,null,0,null,null,null,null,null,"WDS"]
[null,null,null,null,null,null,null,null,null,null,null,null,"4.VOTR.PLT","Пеллеты","тнт",null,null,null,null,null,null,null,null,null,null,null,null,null,null,null,null,null,null,null,null,null,null,0,null,null,null,null,null,"PLT"]
[null,null,null,null,null,null,null,null,null,null,null,null,"4.VOTR.SAW","Опилки","тнт",null,null,null,null,null,null,null,null,null,null,null,null,null,null,null,null,null,null,null,null,null,null,0,null,null,null,null,null,"SAW"]
[null,null,null,null,null,null,null,null,null,null,null,null,"4.VOTR.PEA","Торф","тнт",null,null,null,null,null,null,null,null,null,null,null,null,null,null,null,null,null,null,null,null,null,null,0,null,null,null,null,null,"PEA"]
[null,null,null,null,null,null,null,null,null,null,null,null,"4.VOTR.SHL","Сланцы","тнт",null,null,null,null,null,null,null,null,null,null,null,null,null,null,null,null,null,null,null,null,null,null,0,null,null,null,null,null,"SHL"]
[null,null,null,null,null,null,null,null,null,null,null,null,"4.VOTR.STF","Печное бытовое топливо","тнт",null,null,null,null,null,null,null,null,null,null,null,null,null,null,null,null,null,null,null,null,null,null,0,null,null,null,null,null,"STF"]
[]
[null,null,null,null,null,null,null,null,null,null,null,null,"4.COTR","Иные виды транспортировки (перевозки). Стоимость транспортировки (перевозки) топлива","тыс.руб.",null,null,null,null,null,null,null,null,null,null,null,null,null,null,null,null,{"$f":"SUM(AF1789,AF1793:AF1798,AF1799,AF1804,AF1811,AF1812,AF1824:AF1830)","v":0},{"$f":"SUM(AG1789,AG1793:AG1798,AG1799,AG1804,AG1811,AG1812,AG1824:AG1830)","v":0},{"$f":"SUM(AH1789,AH1793:AH1798,AH1799,AH1804,AH1811,AH1812,AH1824:AH1830)","v":0},null,null,null,{"$f":"SUM(AL1789,AL1793:AL1798,AL1799,AL1804,AL1811,AL1812,AL1824:AL1830)","v":0},{"$f":"SUM(AM1789,AM1793:AM1798,AM1799,AM1804,AM1811,AM1812,AM1824:AM1830)","v":0},{"$f":"SUM(AN1789,AN1793:AN1798,AN1799,AN1804,AN1811,AN1812,AN1824:AN1830)","v":0}]
[]
[]
[]
[]
[]
[]
[]
[]
[null,null,null,null,null,null,null,null,null,null,null,null,"4.COTR.GCN","Газовый конденсат","тыс.руб.",null,null,null,null,null,null,null,null,null,null,null,null,null,null,null,null,null,null,null,null,null,null,{"$f":"AM1797+AN1797","v":0},{"$f":"AM1709*AM1753/1000","v":0},0,null,null,null,"GCN"]
[null,null,null,null,null,null,null,null,null,null,null,null,"4.COTR.LNG","Газ сжиженный","тыс.руб.",null,null,null,null,null,null,null,null,null,null,null,null,null,null,null,null,null,null,null,null,null,null,0,0,0,null,null,null,"LNG"]
[null,null,null,null,null,null,null,null,null,null,null,null,"4.COTR.DSL","Дизельное топливо","тыс.руб.",null,null,null,null,null,null,null,null,null,null,null,null,null,null,null,null,null,null,null,null,null,null,0,{"$f":"SUM(AM1800:AM1803)","v":0},{"$f":"SUM(AN1800:AN1803)","v":0},null,null,null,"DSL"]
[null,null,null,null,null,null,null,null,null,null,null,null,"4.COTR.DSLA","А (арктическое)","тыс.руб.",null,null,null,null,null,null,null,null,null,null,null,null,null,null,null,null,null,null,null,null,null,null,0,0,0,null,null,null,"DSLA"]
[null,null,null,null,null,null,null,null,null,null,null,null,"4.COTR.DSLW","З (зимнее)","тыс.руб.",null,null,null,null,null,null,null,null,null,null,null,null,null,null,null,null,null,null,null,null,null,null,0,0,0,null,null,null,"DSLW"]
[null,null,null,null,null,null,null,null,null,null,null,null,"4.COTR.DSLS","Л (летнее)","тыс.руб.",null,null,null,null,null,null,null,null,null,null,null,null,null,null,null,null,null,null,null,null,null,null,0,0,0,null,null,null,"DSLS"]
[null,null,null,null,null,null,null,null,null,null,null,null,"4.COTR.DSLO","Е (межсезонное)","тыс.руб.",null,null,null,null,null,null,null,null,null,null,null,null,null,null,null,null,null,null,null,null,null,null,0,0,0,null,null,null,"DSLO"]
[null,null,null,null,null,null,null,null,null,null,null,null,"4.COTR.MST","Мазут","тыс.руб.",null,null,null,null,null,null,null,null,null,null,null,null,null,null,null,null,null,null,null,null,null,null,0,{"$f":"SUM(AM1805:AM1810)","v":0},{"$f":"SUM(AN1805:AN1810)","v":0},null,null,null,"MST"]
[null,null,null,null,null,null,null,null,null,null,null,null,"4.COTR.MSTM40","М-40","тыс.руб.",null,null,null,null,null,null,null,null,null,null,null,null,null,null,null,null,null,null,null,null,null,null,0,0,0,null,null,null,"MSTM40"]
[null,null,null,null,null,null,null,null,null,null,null,null,"4.COTR.MSTM100","М-100","тыс.руб.",null,null,null,null,null,null,null,null,null,null,null,null,null,null,null,null,null,null,null,null,null,null,0,0,0,null,null,null,"MSTM100"]
[null,null,null,null,null,null,null,null,null,null,null,null,"4.COTR.MSTM200","М-200","тыс.руб.",null,null,null,null,null,null,null,null,null,null,null,null,null,null,null,null,null,null,null,null,null,null,0,0,0,null,null,null,"MSTM200"]
[null,null,null,null,null,null,null,null,null,null,null,null,"4.COTR.MSTT","мазут марки \"Т\"","тыс.руб.",null,null,null,null,null,null,null,null,null,null,null,null,null,null,null,null,null,null,null,null,null,null,0,0,0,null,null,null,"MSTT"]
[null,null,null,null,null,null,null,null,null,null,null,null,"4.COTR.MSTF5","Ф-5","тыс.руб.",null,null,null,null,null,null,null,null,null,null,null,null,null,null,null,null,null,null,null,null,null,null,0,0,0,null,null,null,"MSTF5"]
[null,null,null,null,null,null,null,null,null,null,null,null,"4.COTR.MSTF12","Ф-12","тыс.руб.",null,null,null,null,null,null,null,null,null,null,null,null,null,null,null,null,null,null,null,null,null,null,0,0,0,null,null,null,"MSTF12"]
[null,null,null,null,null,null,null,null,null,null,null,null,"4.COTR.OIL","Нефть","тыс.руб.",null,null,null,null,null,null,null,null,null,null,null,null,null,null,null,null,null,null,null,null,null,null,0,0,0,null,null,null,"OIL"]
[null,null,null,null,null,null,null,null,null,null,null,null,"4.COTR.COA","Уголь","тыс.руб.",null,null,null,null,null,null,null,null,null,null,null,null,null,null,null,null,null,null,null,null,null,null,0,{"$f":"SUM(AM1813:AM1821)","v":0},{"$f":"SUM(AN1813:AN1821)","v":0},null,null,null,"COA"]
[null,null,null,null,null,null,null,null,null,null,null,null,"4.COTR.COAA","Уголь антрацит","тыс.руб.",null,null,null,null,null,null,null,null,null,null,null,null,null,null,null,null,null,null,null,null,null,null,0,{"$f":"AM1725*AM1769/1000","v":0},0,null,null,null,"COAA"]
[null,null,null,null,null,null,null,null,null,null,null,null,"4.COTR.COAB","Уголь бурый","тыс.руб.",null,null,null,null,null,null,null,null,null,null,null,null,null,null,null,null,null,null,null,null,null,null,0,0,0,null,null,null,"COAB"]
[null,null,null,null,null,null,null,null,null,null,null,null,"4.COTR.COAG","Уголь газовый","тыс.руб.",null,null,null,null,null,null,null,null,null,null,null,null,null,null,null,null,null,null,null,null,null,null,0,0,0,null,null,null,"COAG"]
[null,null,null,null,null,null,null,null,null,null,null,null,"4.COTR.COALF","Уголь длиннопламенный","тыс.руб.",null,null,null,null,null,null,null,null,null,null,null,null,null,null,null,null,null,null,null,null,null,null,0,0,0,null,null,null,"COALF"]
[null,null,null,null,null,null,null,null,null,null,null,null,"4.COTR.COAF","Уголь жирный","тыс.руб.",null,null,null,null,null,null,null,null,null,null,null,null,null,null,null,null,null,null,null,null,null,null,0,0,0,null,null,null,"COAF"]
[null,null,null,null,null,null,null,null,null,null,null,null,"4.COTR.COAC","Уголь коксовый","тыс.руб.",null,null,null,null,null,null,null,null,null,null,null,null,null,null,null,null,null,null,null,null,null,null,0,0,0,null,null,null,"COAC"]
[null,null,null,null,null,null,null,null,null,null,null,null,"4.COTR.COASC","Уголь отощённо-спекающийся","тыс.руб.",null,null,null,null,null,null,null,null,null,null,null,null,null,null,null,null,null,null,null,null,null,null,0,0,0,null,null,null,"COASC"]
[null,null,null,null,null,null,null,null,null,null,null,null,"4.COTR.COAWC","Уголь слабоспекающийся","тыс.руб.",null,null,null,null,null,null,null,null,null,null,null,null,null,null,null,null,null,null,null,null,null,null,0,0,0,null,null,null,"COAWC"]
[null,null,null,null,null,null,null,null,null,null,null,null,"4.COTR.COAS","Уголь тощий","тыс.руб.",null,null,null,null,null,null,null,null,null,null,null,null,null,null,null,null,null,null,null,null,null,null,0,0,0,null,null,null,"COAS"]
[]
[]
[null,null,null,null,null,null,null,null,null,null,null,null,"4.COTR.CWD","Уголь древесный","тыс.руб.",null,null,null,null,null,null,null,null,null,null,null,null,null,null,null,null,null,null,null,null,null,null,{"$f":"AM1824+AN1824","v":0},{"$f":"AM1736*AM1780/1000","v":0},0,null,null,null,"CWD"]
[null,null,null,null,null,null,null,null,null,null,null,null,"4.COTR.WDS","Дрова","тыс.руб.",null,null,null,null,null,null,null,null,null,null,null,null,null,null,null,null,null,null,null,null,null,null,0,0,0,null,null,null,"WDS"]
[null,null,null,null,null,null,null,null,null,null,null,null,"4.COTR.PLT","Пеллеты","тыс.руб.",null,null,null,null,null,null,null,null,null,null,null,null,null,null,null,null,null,null,null,null,null,null,0,0,0,null,null,null,"PLT"]
[null,null,null,null,null,null,null,null,null,null,null,null,"4.COTR.SAW","Опилки","тыс.руб.",null,null,null,null,null,null,null,null,null,null,null,null,null,null,null,null,null,null,null,null,null,null,0,0,0,null,null,null,"SAW"]
[null,null,null,null,null,null,null,null,null,null,null,null,"4.COTR.PEA","Торф","тыс.руб.",null,null,null,null,null,null,null,null,null,null,null,null,null,null,null,null,null,null,null,null,null,null,0,0,0,null,null,null,"PEA"]
[null,null,null,null,null,null,null,null,null,null,null,null,"4.COTR.SHL","Сланцы","тыс.руб.",null,null,null,null,null,null,null,null,null,null,null,null,null,null,null,null,null,null,null,null,null,null,0,0,0,null,null,null,"SHL"]
[null,null,null,null,null,null,null,null,null,null,null,null,"4.COTR.STF","Печное бытовое топливо","тыс.руб.",null,null,null,null,null,null,null,null,null,null,null,null,null,null,null,null,null,null,null,null,null,null,0,0,0,null,null,null,"STF"]
[]
[]
[null,null,null,null,null,null,null,null,null,null,null,null,null,"Показатели расхода электроэнергии по уровням напряжения"]
[]
[null,null,null,null,null,null,null,null,null,null,null,null,"4.13.0.1","объём энергии","тыс.кВтч",null,null,null,null,null,null,null,null,null,null,null,null,null,null,null,null,null,null,null,null,null,null,{"$f":"AM1835+AN1835","v":0},{"$f":"AM1839+AM1845+AM1851+AM1857","v":0},{"$f":"AN1839+AN1845+AN1851+AN1857","v":0},null,null,null,"ENR"]
[null,null,null,null,null,null,null,null,null,null,null,null,"4.13.0.2","объём заявленной мощности","МВт",null,null,null,null,null,null,null,null,null,null,null,null,null,null,null,null,null,null,null,null,null,null,{"$f":"AM1836+AN1836","v":0},{"$f":"AM1842+AM1848+AM1854+AM1860","v":0},{"$f":"AN1842+AN1848+AN1854+AN1860","v":0},null,null,null,"PWR"]
[null,null,null,null,null,null,null,null,null,null,null,null,"4.13.1.1","энергия НН (0,4 кВ и ниже)","тыс.руб.",null,null,null,null,null,null,null,null,null,null,null,null,null,null,null,null,null,null,null,null,null,null,{"$f":"AM1837+AN1837","v":0},{"$f":"AM1838*AM1839","v":0},{"$f":"AN1838*AN1839","v":0},null,null,null,"ENR"]
[null,null,null,null,null,null,null,null,null,null,null,null,{"$f":"M1837 & \".1\"","v":"4.13.1.1.1"},"тариф на энергию","руб./кВт*ч",null,null,null,null,null,null,null,null,null,null,null,null,null,null,null,null,null,null,null,null,null,null,{"$f":"IF(AL1839=0,0,AL1837/AL1839)","v":0},null,null,null,null,null,"ENR"]
[null,null,null,null,null,null,null,null,null,null,null,null,{"$f":"M1837 & \".2\"","v":"4.13.1.1.2"},"объём энергии","тыс.кВтч",null,null,null,null,null,null,null,null,null,null,null,null,null,null,null,null,null,null,null,null,null,null,{"$f":"AM1839+AN1839","v":0},null,null,null,null,null,"ENR"]
[null,null,null,null,null,null,null,null,null,null,null,null,"4.13.1.2","заявленная мощность по НН (0,4 кВ и ниже)","тыс.руб.",null,null,null,null,null,null,null,null,null,null,null,null,null,null,null,null,null,null,null,null,null,null,{"$f":"AM1840+AN1840","v":0},{"$f":"AM1841*AM1842","v":0},{"$f":"AN1841*AN1842","v":0},null,null,null,"PWR"]
[null,null,null,null,null,null,null,null,null,null,null,null,{"$f":"M1840 & \".1\"","v":"4.13.1.2.1"},"тариф на заявленную мощность","руб./кВт*мес",null,null,null,null,null,null,null,null,null,null,null,null,null,null,null,null,null,null,null,null,null,null,{"$f":"IF(AL1842=0,0,AL1840/AL1842)","v":0},null,null,null,null,null,"PWR"]
[null,null,null,null,null,null,null,null,null,null,null,null,{"$f":"M1840 & \".2\"","v":"4.13.1.2.2"},"годовой объём мощности","МВт",null,null,null,null,null,null,null,null,null,null,null,null,null,null,null,null,null,null,null,null,null,null,{"$f":"AM1842+AN1842","v":0},null,null,null,null,null,"PWR"]
[null,null,null,null,null,null,null,null,null,null,null,null,"4.13.2.1","энергия СН 2 (1-20 кВ)","тыс.руб.",null,null,null,null,null,null,null,null,null,null,null,null,null,null,null,null,null,null,null,null,null,null,{"$f":"AM1843+AN1843","v":0},{"$f":"AM1844*AM1845","v":0},{"$f":"AN1844*AN1845","v":0},null,null,null,"ENR"]
[null,null,null,null,null,null,null,null,null,null,null,null,{"$f":"M1843 & \".1\"","v":"4.13.2.1.1"},"тариф на энергию","руб./кВт*ч",null,null,null,null,null,null,null,null,null,null,null,null,null,null,null,null,null,null,null,null,null,null,{"$f":"IF(AL1845=0,0,AL1843/AL1845)","v":0},null,null,null,null,null,"ENR"]
[null,null,null,null,null,null,null,null,null,null,null,null,{"$f":"M1843 & \".2\"","v":"4.13.2.1.2"},"объём энергии","тыс.кВтч",null,null,null,null,null,null,null,null,null,null,null,null,null,null,null,null,null,null,null,null,null,null,{"$f":"AM1845+AN1845","v":0},null,null,null,null,null,"ENR"]
[null,null,null,null,null,null,null,null,null,null,null,null,"4.13.2.2","заявленная мощность по СН 2 (1-20 кВ)","тыс.руб.",null,null,null,null,null,null,null,null,null,null,null,null,null,null,null,null,null,null,null,null,null,null,{"$f":"AM1846+AN1846","v":0},{"$f":"AM1847*AM1848","v":0},{"$f":"AN1847*AN1848","v":0},null,null,null,"PWR"]
[null,null,null,null,null,null,null,null,null,null,null,null,{"$f":"M1846 & \".1\"","v":"4.13.2.2.1"},"тариф на заявленную мощность","руб./кВт*мес",null,null,null,null,null,null,null,null,null,null,null,null,null,null,null,null,null,null,null,null,null,null,{"$f":"IF(AL1848=0,0,AL1846/AL1848)","v":0},null,null,null,null,null,"PWR"]
[null,null,null,null,null,null,null,null,null,null,null,null,{"$f":"M1846 & \".2\"","v":"4.13.2.2.2"},"годовой объём мощности","МВт",null,null,null,null,null,null,null,null,null,null,null,null,null,null,null,null,null,null,null,null,null,null,{"$f":"AM1848+AN1848","v":0},null,null,null,null,null,"PWR"]
[null,null,null,null,null,null,null,null,null,null,null,null,"4.13.3.1","энергия СН 1 (35 кВ)","тыс.руб.",null,null,null,null,null,null,null,null,null,null,null,null,null,null,null,null,null,null,null,null,null,null,{"$f":"AM1849+AN1849","v":0},{"$f":"AM1850*AM1851","v":0},{"$f":"AN1850*AN1851","v":0},null,null,null,"ENR"]
[null,null,null,null,null,null,null,null,null,null,null,null,{"$f":"M1849 & \".1\"","v":"4.13.3.1.1"},"тариф на энергию","руб./кВт*ч",null,null,null,null,null,null,null,null,null,null,null,null,null,null,null,null,null,null,null,null,null,null,{"$f":"IF(AL1851=0,0,AL1849/AL1851)","v":0},null,null,null,null,null,"ENR"]
[null,null,null,null,null,null,null,null,null,null,null,null,{"$f":"M1849 & \".2\"","v":"4.13.3.1.2"},"объём энергии","тыс.кВтч",null,null,null,null,null,null,null,null,null,null,null,null,null,null,null,null,null,null,null,null,null,null,{"$f":"AM1851+AN1851","v":0},null,null,null,null,null,"ENR"]
[null,null,null,null,null,null,null,null,null,null,null,null,"4.13.3.2","заявленная мощность по СН 1 (35 кВ)","тыс.руб.",null,null,null,null,null,null,null,null,null,null,null,null,null,null,null,null,null,null,null,null,null,null,{"$f":"AM1852+AN1852","v":0},{"$f":"AM1853*AM1854","v":0},{"$f":"AN1853*AN1854","v":0},null,null,null,"PWR"]
[null,null,null,null,null,null,null,null,null,null,null,null,{"$f":"M1852 & \".1\"","v":"4.13.3.2.1"},"тариф на заявленную мощность","руб./кВт*мес",null,null,null,null,null,null,null,null,null,null,null,null,null,null,null,null,null,null,null,null,null,null,{"$f":"IF(AL1854=0,0,AL1852/AL1854)","v":0},null,null,null,null,null,"PWR"]
[null,null,null,null,null,null,null,null,null,null,null,null,{"$f":"M1852 & \".2\"","v":"4.13.3.2.2"},"годовой объём мощности","МВт",null,null,null,null,null,null,null,null,null,null,null,null,null,null,null,null,null,null,null,null,null,null,{"$f":"AM1854+AN1854","v":0},null,null,null,null,null,"PWR"]
[null,null,null,null,null,null,null,null,null,null,null,null,"4.13.4.1","энергия ВН (110 кВ и выше)","тыс.руб.",null,null,null,null,null,null,null,null,null,null,null,null,null,null,null,null,null,null,null,null,null,null,{"$f":"AM1855+AN1855","v":0},{"$f":"AM1856*AM1857","v":0},{"$f":"AN1856*AN1857","v":0},null,null,null,"ENR"]
[null,null,null,null,null,null,null,null,null,null,null,null,{"$f":"M1855 & \".1\"","v":"4.13.4.1.1"},"тариф на энергию","руб./кВт*ч",null,null,null,null,null,null,null,null,null,null,null,null,null,null,null,null,null,null,null,null,null,null,{"$f":"IF(AL1857=0,0,AL1855/AL1857)","v":0},null,null,null,null,null,"ENR"]
[null,null,null,null,null,null,null,null,null,null,null,null,{"$f":"M1855 & \".2\"","v":"4.13.4.1.2"},"объём энергии","тыс.кВтч",null,null,null,null,null,null,null,null,null,null,null,null,null,null,null,null,null,null,null,null,null,null,{"$f":"AM1857+AN1857","v":0},null,null,null,null,null,"ENR"]
[null,null,null,null,null,null,null,null,null,null,null,null,"4.13.4.2","заявленная мощность по ВН (110 кВ и выше)","тыс.руб.",null,null,null,null,null,null,null,null,null,null,null,null,null,null,null,null,null,null,null,null,null,null,{"$f":"AM1858+AN1858","v":0},{"$f":"AM1859*AM1860","v":0},{"$f":"AN1859*AN1860","v":0},null,null,null,"PWR"]
[null,null,null,null,null,null,null,null,null,null,null,null,{"$f":"M1858 & \".1\"","v":"4.13.4.2.1"},"тариф на заявленную мощность","руб./кВт*мес",null,null,null,null,null,null,null,null,null,null,null,null,null,null,null,null,null,null,null,null,null,null,{"$f":"IF(AL1860=0,0,AL1858/AL1860)","v":0},null,null,null,null,null,"PWR"]
[null,null,null,null,null,null,null,null,null,null,null,null,{"$f":"M1858 & \".2\"","v":"4.13.4.2.2"},"годовой объём мощности","МВт",null,null,null,null,null,null,null,null,null,null,null,null,null,null,null,null,null,null,null,null,null,null,{"$f":"AM1860+AN1860","v":0},null,null,null,null,null,"PWR"]
[]
[null,null,null,null,null,null,null,null,null,null,null,null,null,"Прочие виды топлива","тыс.руб.",null,null,null,null,null,null,null,null,null,null,null,null,null,null,null,null,null,null,null,null,null,null,{"$f":"AM1862+AN1862","v":0},{"$f":"SUM(AM1863,AM1866,AM1869)","v":0},{"$f":"SUM(AN1863,AN1866,AN1869)","v":0},null,null,null,"OTH"]
[null,null,null,null,null,null,null,null,null,null,null,null,"4.14.1","Биогаз","тыс.руб.",null,null,null,null,null,null,null,null,null,null,null,null,null,null,null,null,null,null,null,null,null,null,0,{"$f":"AM1864*AM1865/1000","v":0},{"$f":"AN1864*AN1865/1000","v":0},null,null,null,"OTH"]
[null,null,null,null,null,null,null,null,null,null,null,null,"4.14.1.1","Цена","руб./тыс.м3",null,null,null,null,null,null,null,null,null,null,null,null,null,null,null,null,null,null,null,null,null,null,0,null,null,null,null,null,"OTH"]
[null,null,null,null,null,null,null,null,null,null,null,null,"4.14.1.2","Объём","тыс.м3",null,null,null,null,null,null,null,null,null,null,null,null,null,null,null,null,null,null,null,null,null,null,0,null,null,null,null,null,"OTH"]
[null,null,null,null,null,null,null,null,null,null,null,null,"4.14.2","ТБО","тыс.руб.",null,null,null,null,null,null,null,null,null,null,null,null,null,null,null,null,null,null,null,null,null,null,0,{"$f":"AM1867*AM1868/1000","v":0},{"$f":"AN1867*AN1868/1000","v":0},null,null,null,"OTH"]
[null,null,null,null,null,null,null,null,null,null,null,null,"4.14.2.1","Цена","руб./тнт",null,null,null,null,null,null,null,null,null,null,null,null,null,null,null,null,null,null,null,null,null,null,0,null,null,null,null,null,"OTH"]
[null,null,null,null,null,null,null,null,null,null,null,null,"4.14.2.2","Объём","тнт",null,null,null,null,null,null,null,null,null,null,null,null,null,null,null,null,null,null,null,null,null,null,0,null,null,null,null,null,"OTH"]
[null,null,null,null,null,null,null,null,null,null,null,null,"4.14.3","Иные виды топлива","тыс.руб.",null,null,null,null,null,null,null,null,null,null,null,null,null,null,null,null,null,null,null,null,null,null,0,null,null,null,null,null,"OTH"]
[]
[null,null,null,null,null,null,null,null,null,null,null,null,"21","Полезный отпуск продукции всего","Гкал",null,null,null,null,null,null,null,null,null,null,null,null,null,null,null,null,{"$f":"SUMIF(РО!$AS$15:$AZ$15,AF$15,РО!$AS$370:$AZ$370)","v":0},{"$f":"SUMIF(РО!$AS$15:$AZ$15,AG$15,РО!$AS$370:$AZ$370)","v":0},{"$f":"SUMIF(РО!$AS$15:$AZ$15,AH$15,РО!$AS$370:$AZ$370)","v":0}]
[]
[]
[]
[]
[]
[]
[]
[]
[]
[]
[]
[]
[]
[]
[]
[]
[]
[]
[]
[]
[]
[]
[]
[]
[]
[]
[]
[]
[]
[]
[]
[]
[]
[]
[]
[]
[]
[]
[]
[]
[]
[]
[]
[]
[]
[]
[]
[]
[]
[]
[]
[]
[]
[]
[]
[]
[]
[]
[]
[]
[]
[]
[]
[]
[]
[]
[]
[]
[]
[]
[]
[]
[]
[]
[]
[]
[]
[]
[]
[]
[]
[]
[]
[null,null,null,null,null,null,null,null,null,null,null,null,null,null,null,null,null,null,null,null,null,null,null,null,null,null,null,null,"COLDVSNA_CALC_ADD_RANGE"]
[]
[]
[]
[null,null,null,null,null,null,null,null,null,null,null,null,null,null,null,null,null,null,null,null,null,null,null,null,null,null,null,null,12,6,6]
[]
[]
[null,null,null,null,null,null,null,null,null,null,null,null,null,null,null,null,null,null,null,null,null,null,null,null,null,null,null,null,"Y","I","II"]
[]
[]
[]
[null,null,null,null,null,null,null,null,null,null,null,null,null,null,null,null,null,null,null,null,null,null,null,null,null,null,null,null,"Год","I полугодие","II полугодие"]
[]
[null,null,null,null,null,null,null,null,null,null,null,null,null,null,null,null,null,null,null,null,null,null,null,null,null,null,null,null,{"$f":"AC1970 & \"_\" & AC1962","v":"0_Y"},{"$f":"AD1970 & \"_\" & AD1962","v":"0_I"},{"$f":"AE1970 & \"_\" & AE1962","v":"0_II"}]
[]
[null,null,null,null,null,null,null,null,null,null,null,null,null,null,null,null,null,null,null,null,null,null,null,null,null,null,null,null,{"$f":"AC1972","v":0},{"$f":"AC1972","v":0},{"$f":"AC1972","v":0}]
[null,null,null,null,null,null,null,null,null,null,null,null,null,null,null,null,null,null,null,null,null,null,null,null,null,null,null,null,"Удалить"]
[null,null,null,null,null,null,null,null,null,null,null,null,"№ п/п","Наименование показателя","Единица измерения"]
[]
[null,null,null,null,null,null,null,null,null,null,null,null,null,"Является ли организация плательщиком НДС",null,null,null,null,null,null,null,null,null,null,null,null,null,null,null,null,null,null,null,null,"COLDVSNA_CALC_EMPTY_BASE_RANGE"]
[null,null,null,null,null,null,null,null,null,null,null,null,null,{"$f":"IF(CALC_IDENTIFIER=\"\",\"\",CALC_IDENTIFIER)","v":""},null,null,null,null,null,null,null,null,null,null,null,null,null,null,null,null,null,null,null,null,"COLDVSNA_CALC_SINGLE_BASE_RANGE"]
[null,null,null,null,null,null,null,null,null,null,null,null,"1","Производственные расходы","тыс.руб.",null,null,null,null,null,null,null,null,null,null,null,null,null,null,null,null,{"$f":"AG1976+AH1976","v":0},{"$f":"SUM(AG1977,AG1981,AG2059,AG2060,AG2073,AG2074,AG2075,AG2080)","v":0},{"$f":"SUM(AH1977,AH1981,AH2059,AH2060,AH2073,AH2074,AH2075,AH2080)","v":0}]
[null,null,null,null,null,null,null,null,null,null,null,null,"1.1","Расходы на приобретение сырья и материалов и их хранение","тыс.руб.",null,null,null,null,null,null,null,null,null,null,null,null,null,null,null,null,0,{"$f":"SUM(AG1978,AG1979,AG1980)","v":0},{"$f":"SUM(AH1978,AH1979,AH1980)","v":0}]
[null,null,null,null,null,null,null,null,null,null,null,null,"1.1.1","Реагенты ","тыс.руб.",null,null,null,null,null,null,null,null,null,null,null,null,null,null,null,null,0,{"$f":"ХВС.Р!AG$25","v":0},{"$f":"ХВС.Р!AH$25","v":0}]
[null,null,null,null,null,null,null,null,null,null,null,null,"1.1.2","Горюче-смазочные материалы","тыс.руб.",null,null,null,null,null,null,null,null,null,null,null,null,null,null,null,null,0]
[null,null,null,null,null,null,null,null,null,null,null,null,"1.1.3","Материалы и малоценные основные средства","тыс.руб.",null,null,null,null,null,null,null,null,null,null,null,null,null,null,null,null,0]
[null,null,null,null,null,null,null,null,null,null,null,null,"1.2","Расходы на энергетические ресурсы и холодную воду","тыс.руб.",null,null,null,null,null,null,null,null,null,null,null,null,null,null,null,null,0,{"$f":"SUM(AG1982,AG2042,AG2043,AG2044,AG2049)","v":0},{"$f":"SUM(AH1982,AH2042,AH2043,AH2044,AH2049)","v":0}]
[null,null,null,null,null,null,null,null,null,null,null,null,"1.2.1","электроэнергия ","тыс.руб.",null,null,null,null,null,null,null,null,null,null,null,null,null,null,null,null,0,{"$f":"SUM(AG2024,AG2036,AG2030)","v":0},{"$f":"SUM(AH2024,AH2036,AH2030)","v":0}]
[null,null,null,null,null,null,null,null,null,null,null,null,"1.2.1.1","Объём покупной энергии"]
[null,null,null,null,null,null,null,null,null,null,null,null,"1.2.1.1.1","Объём покупной энергии по одноставочному тарифу","тыс.кВт*ч",null,null,null,null,null,null,null,null,null,null,null,null,null,null,null,null,{"$f":"SUM(AF1985:AF1989)","v":0},{"$f":"SUM(AG1985:AG1989)","v":0},{"$f":"SUM(AH1985:AH1989)","v":0}]
[null,null,null,null,null,null,null,null,null,null,null,null,"1.2.1.1.1.1","НН","тыс.кВт*ч",null,null,null,null,null,null,null,null,null,null,null,null,null,null,null,null,{"$f":"AG1985+AH1985","v":0}]
[null,null,null,null,null,null,null,null,null,null,null,null,"1.2.1.1.1.2","СН1","тыс.кВт*ч",null,null,null,null,null,null,null,null,null,null,null,null,null,null,null,null,{"$f":"AG1986+AH1986","v":0}]
[null,null,null,null,null,null,null,null,null,null,null,null,"1.2.1.1.1.3","СН2","тыс.кВт*ч",null,null,null,null,null,null,null,null,null,null,null,null,null,null,null,null,{"$f":"AG1987+AH1987","v":0}]
[null,null,null,null,null,null,null,null,null,null,null,null,"1.2.1.1.1.4","ВН","тыс.кВт*ч",null,null,null,null,null,null,null,null,null,null,null,null,null,null,null,null,{"$f":"AG1988+AH1988","v":0}]
[null,null,null,null,null,null,null,null,null,null,null,null,"1.2.1.1.1.5","без разбивки по напряжению","тыс.кВт*ч",null,null,null,null,null,null,null,null,null,null,null,null,null,null,null,null,{"$f":"AG1989+AH1989","v":0}]
[null,null,null,null,null,null,null,null,null,null,null,null,"1.2.1.1.2","Объём покупной электроэнергии по двухставочному тарифу"]
[null,null,null,null,null,null,null,null,null,null,null,null,"1.2.1.1.2.1","Мощность","МВт*мес",null,null,null,null,null,null,null,null,null,null,null,null,null,null,null,null,{"$f":"SUM(AF1992:AF1996)","v":0},{"$f":"SUM(AG1992:AG1996)","v":0},{"$f":"SUM(AH1992:AH1996)","v":0}]
[null,null,null,null,null,null,null,null,null,null,null,null,"1.2.1.1.2.1.1","НН","МВт*мес",null,null,null,null,null,null,null,null,null,null,null,null,null,null,null,null,{"$f":"AG1992+AH1992","v":0}]
[null,null,null,null,null,null,null,null,null,null,null,null,"1.2.1.1.2.1.2","СН1","МВт*мес",null,null,null,null,null,null,null,null,null,null,null,null,null,null,null,null,{"$f":"AG1993+AH1993","v":0}]
[null,null,null,null,null,null,null,null,null,null,null,null,"1.2.1.1.2.1.3","СН2","МВт*мес",null,null,null,null,null,null,null,null,null,null,null,null,null,null,null,null,{"$f":"AG1994+AH1994","v":0}]
[null,null,null,null,null,null,null,null,null,null,null,null,"1.2.1.1.2.1.4","ВН","МВт*мес",null,null,null,null,null,null,null,null,null,null,null,null,null,null,null,null,{"$f":"AG1995+AH1995","v":0}]
[null,null,null,null,null,null,null,null,null,null,null,null,"1.2.1.1.2.1.5","ГН","МВт*мес",null,null,null,null,null,null,null,null,null,null,null,null,null,null,null,null,{"$f":"AG1996+AH1996","v":0}]
[null,null,null,null,null,null,null,null,null,null,null,null,"1.2.1.1.2.2","Активная электроэнергия","тыс.кВт*ч",null,null,null,null,null,null,null,null,null,null,null,null,null,null,null,null,{"$f":"SUM(AF1998:AF2002)","v":0},{"$f":"SUM(AG1998:AG2002)","v":0},{"$f":"SUM(AH1998:AH2002)","v":0}]
[null,null,null,null,null,null,null,null,null,null,null,null,"1.2.1.1.2.2.1","НН","тыс.кВт*ч",null,null,null,null,null,null,null,null,null,null,null,null,null,null,null,null,{"$f":"AG1998+AH1998","v":0}]
[null,null,null,null,null,null,null,null,null,null,null,null,"1.2.1.1.2.2.2","СН1","тыс.кВт*ч",null,null,null,null,null,null,null,null,null,null,null,null,null,null,null,null,{"$f":"AG1999+AH1999","v":0}]
[null,null,null,null,null,null,null,null,null,null,null,null,"1.2.1.1.2.2.3","СН2","тыс.кВт*ч",null,null,null,null,null,null,null,null,null,null,null,null,null,null,null,null,{"$f":"AG2000+AH2000","v":0}]
[null,null,null,null,null,null,null,null,null,null,null,null,"1.2.1.1.2.2.4","ВН","тыс.кВт*ч",null,null,null,null,null,null,null,null,null,null,null,null,null,null,null,null,{"$f":"AG2001+AH2001","v":0}]
[null,null,null,null,null,null,null,null,null,null,null,null,"1.2.1.1.2.2.5","ГН","тыс.кВт*ч",null,null,null,null,null,null,null,null,null,null,null,null,null,null,null,null,{"$f":"AG2002+AH2002","v":0}]
[null,null,null,null,null,null,null,null,null,null,null,null,"1.2.1.2","Тариф на электроэнергию и мощность"]
[null,null,null,null,null,null,null,null,null,null,null,null,"1.2.1.2.1","по одноставочному тарифу"]
[null,null,null,null,null,null,null,null,null,null,null,null,"1.2.1.2.1.1","НН","руб./кВт*ч",null,null,null,null,null,null,null,null,null,null,null,null,null,null,null,null,{"$f":"IF(AF1985=0,0,AF2025/AF1985)","v":0}]
[null,null,null,null,null,null,null,null,null,null,null,null,"1.2.1.2.1.2","СН1","руб./кВт*ч",null,null,null,null,null,null,null,null,null,null,null,null,null,null,null,null,{"$f":"IF(AF1986=0,0,AF2026/AF1986)","v":0}]
[null,null,null,null,null,null,null,null,null,null,null,null,"1.2.1.2.1.3","СН2","руб./кВт*ч",null,null,null,null,null,null,null,null,null,null,null,null,null,null,null,null,{"$f":"IF(AF1987=0,0,AF2027/AF1987)","v":0}]
[null,null,null,null,null,null,null,null,null,null,null,null,"1.2.1.2.1.4","ВН","руб./кВт*ч",null,null,null,null,null,null,null,null,null,null,null,null,null,null,null,null,{"$f":"IF(AF1988=0,0,AF2028/AF1988)","v":0}]
[null,null,null,null,null,null,null,null,null,null,null,null,"1.2.1.2.1.5","без разбивки по напряжению","руб./кВт*ч",null,null,null,null,null,null,null,null,null,null,null,null,null,null,null,null,{"$f":"IF(AF1989=0,0,AF2029/AF1989)","v":0}]
[null,null,null,null,null,null,null,null,null,null,null,null,"1.2.1.2.1.6","Средний одноставочный тариф на электрическую энергию","руб./кВт*ч",null,null,null,null,null,null,null,null,null,null,null,null,null,null,null,null,{"$f":"IF(AF1984=0,0,AF2024/AF1984)","v":0},{"$f":"IF(AG1984=0,0,AG2024/AG1984)","v":0},{"$f":"IF(AH1984=0,0,AH2024/AH1984)","v":0}]
[null,null,null,null,null,null,null,null,null,null,null,null,"1.2.1.2.2","по двухставочному тарифу"]
[null,null,null,null,null,null,null,null,null,null,null,null,"1.2.1.2.2.1","ставка за мощность","руб./МВт*мес",null,null,null,null,null,null,null,null,null,null,null,null,null,null,null,null,{"$f":"IF(AF1991=0,0,(AF2013*AF1992+AF2014*AF1993+AF2015*AF1994+AF2016*AF1995+AF2017*AF1996)/AF1991)","v":0},{"$f":"IF(AG1991=0,0,(AG2013*AG1992+AG2014*AG1993+AG2015*AG1994+AG2016*AG1995+AG2017*AG1996)/AG1991)","v":0},{"$f":"IF(AH1991=0,0,(AH2013*AH1992+AH2014*AH1993+AH2015*AH1994+AH2016*AH1995+AH2017*AH1996)/AH1991)","v":0}]
[null,null,null,null,null,null,null,null,null,null,null,null,"1.2.1.2.2.1.1","НН","руб./МВт*мес",null,null,null,null,null,null,null,null,null,null,null,null,null,null,null,null,{"$f":"IF(AF1992=0,0,AF2031*1000/AF1992)","v":0}]
[null,null,null,null,null,null,null,null,null,null,null,null,"1.2.1.2.2.1.2","СН1","руб./МВт*мес",null,null,null,null,null,null,null,null,null,null,null,null,null,null,null,null,{"$f":"IF(AF1993=0,0,AF2032*1000/AF1993)","v":0}]
[null,null,null,null,null,null,null,null,null,null,null,null,"1.2.1.2.2.1.3","СН2","руб./МВт*мес",null,null,null,null,null,null,null,null,null,null,null,null,null,null,null,null,{"$f":"IF(AF1994=0,0,AF2033*1000/AF1994)","v":0}]
[null,null,null,null,null,null,null,null,null,null,null,null,"1.2.1.2.2.1.4","ВН","руб./МВт*мес",null,null,null,null,null,null,null,null,null,null,null,null,null,null,null,null,{"$f":"IF(AF1995=0,0,AF2034*1000/AF1995)","v":0}]
[null,null,null,null,null,null,null,null,null,null,null,null,"1.2.1.2.2.1.5","ГН","руб./МВт*мес",null,null,null,null,null,null,null,null,null,null,null,null,null,null,null,null,{"$f":"IF(AF1996=0,0,AF2035*1000/AF1996)","v":0}]
[null,null,null,null,null,null,null,null,null,null,null,null,"1.2.1.2.2.2","ставка за электроэнергию","руб./кВт*ч",null,null,null,null,null,null,null,null,null,null,null,null,null,null,null,null,{"$f":"IF(AF1997=0,0,(AF2019*AF1998+AF2020*AF1999+AF2021*AF2000+AF2022*AF2001+AF2023*AF2002)/AF1997)","v":0},{"$f":"IF(AG1997=0,0,(AG2019*AG1998+AG2020*AG1999+AG2021*AG2000+AG2022*AG2001+AG2023*AG2002)/AG1997)","v":0},{"$f":"IF(AH1997=0,0,(AH2019*AH1998+AH2020*AH1999+AH2021*AH2000+AH2022*AH2001+AH2023*AH2002)/AH1997)","v":0}]
[null,null,null,null,null,null,null,null,null,null,null,null,"1.2.1.2.2.2.1","НН","руб./кВт*ч",null,null,null,null,null,null,null,null,null,null,null,null,null,null,null,null,{"$f":"IF(AF1998=0,0,AF2037/AF1998)","v":0}]
[null,null,null,null,null,null,null,null,null,null,null,null,"1.2.1.2.2.2.2","СН1","руб./кВт*ч",null,null,null,null,null,null,null,null,null,null,null,null,null,null,null,null,{"$f":"IF(AF1999=0,0,AF2038/AF1999)","v":0}]
[null,null,null,null,null,null,null,null,null,null,null,null,"1.2.1.2.2.2.3","СН2","руб./кВт*ч",null,null,null,null,null,null,null,null,null,null,null,null,null,null,null,null,{"$f":"IF(AF2000=0,0,AF2039/AF2000)","v":0}]
[null,null,null,null,null,null,null,null,null,null,null,null,"1.2.1.2.2.2.4","ВН","руб./кВт*ч",null,null,null,null,null,null,null,null,null,null,null,null,null,null,null,null,{"$f":"IF(AF2001=0,0,AF2040/AF2001)","v":0}]
[null,null,null,null,null,null,null,null,null,null,null,null,"1.2.1.2.2.2.5","ГН","руб./кВт*ч",null,null,null,null,null,null,null,null,null,null,null,null,null,null,null,null,{"$f":"IF(AF2002=0,0,AF2041/AF2002)","v":0}]
[null,null,null,null,null,null,null,null,null,null,null,null,"1.2.1.3","Затраты на покупку энергии по одноставочному тарифу","тыс.руб.",null,null,null,null,null,null,null,null,null,null,null,null,null,null,null,null,{"$f":"AG2024+AH2024","v":0},{"$f":"SUM(AG2025:AG2029)","v":0},{"$f":"SUM(AH2025:AH2029)","v":0}]
[null,null,null,null,null,null,null,null,null,null,null,null,"1.2.1.3.1","НН","тыс.руб.",null,null,null,null,null,null,null,null,null,null,null,null,null,null,null,null,0,{"$f":"AG1985*AG2005","v":0},{"$f":"AH1985*AH2005","v":0}]
[null,null,null,null,null,null,null,null,null,null,null,null,"1.2.1.3.2","СН1","тыс.руб.",null,null,null,null,null,null,null,null,null,null,null,null,null,null,null,null,0,{"$f":"AG1986*AG2006","v":0},0]
[null,null,null,null,null,null,null,null,null,null,null,null,"1.2.1.3.3","СН2","тыс.руб.",null,null,null,null,null,null,null,null,null,null,null,null,null,null,null,null,0,0,0]
[null,null,null,null,null,null,null,null,null,null,null,null,"1.2.1.3.4","ВН","тыс.руб.",null,null,null,null,null,null,null,null,null,null,null,null,null,null,null,null,0,0,0]
[null,null,null,null,null,null,null,null,null,null,null,null,"1.2.1.3.5","без разбивки по напряжению","тыс.руб.",null,null,null,null,null,null,null,null,null,null,null,null,null,null,null,null,0,0,0]
[null,null,null,null,null,null,null,null,null,null,null,null,"1.2.1.4","Затраты на покупку мощности по двухставочному тарифу","тыс.руб.",null,null,null,null,null,null,null,null,null,null,null,null,null,null,null,null,0,{"$f":"SUM(AG2031:AG2035)","v":0},{"$f":"SUM(AH2031:AH2035)","v":0}]
[null,null,null,null,null,null,null,null,null,null,null,null,"1.2.1.4.1","НН","тыс.руб.",null,null,null,null,null,null,null,null,null,null,null,null,null,null,null,null,0,{"$f":"AG1992*AG2013/1000","v":0},{"$f":"AH1992*AH2013/1000","v":0}]
[null,null,null,null,null,null,null,null,null,null,null,null,"1.2.1.4.2","СН1","тыс.руб.",null,null,null,null,null,null,null,null,null,null,null,null,null,null,null,null,0,{"$f":"AG1993*AG2014/1000","v":0},0]
[null,null,null,null,null,null,null,null,null,null,null,null,"1.2.1.4.3","СН2","тыс.руб.",null,null,null,null,null,null,null,null,null,null,null,null,null,null,null,null,0,0,0]
[null,null,null,null,null,null,null,null,null,null,null,null,"1.2.1.4.4","ВН","тыс.руб.",null,null,null,null,null,null,null,null,null,null,null,null,null,null,null,null,0,0,0]
[null,null,null,null,null,null,null,null,null,null,null,null,"1.2.1.4.5","ГН","тыс.руб.",null,null,null,null,null,null,null,null,null,null,null,null,null,null,null,null,0,0,0]
[null,null,null,null,null,null,null,null,null,null,null,null,"1.2.1.5","Затраты на покупку энергии по двухставочному тарифу","тыс.руб.",null,null,null,null,null,null,null,null,null,null,null,null,null,null,null,null,0,{"$f":"SUM(AG2037:AG2041)","v":0},{"$f":"SUM(AH2037:AH2041)","v":0}]
[null,null,null,null,null,null,null,null,null,null,null,null,"1.2.1.5.1","НН","тыс.руб.",null,null,null,null,null,null,null,null,null,null,null,null,null,null,null,null,0,{"$f":"AG1998*AG2019","v":0},0]
[null,null,null,null,null,null,null,null,null,null,null,null,"1.2.1.5.2","СН1","тыс.руб.",null,null,null,null,null,null,null,null,null,null,null,null,null,null,null,null,0,0,0]
[null,null,null,null,null,null,null,null,null,null,null,null,"1.2.1.5.3","СН2","тыс.руб.",null,null,null,null,null,null,null,null,null,null,null,null,null,null,null,null,0,0,0]
[null,null,null,null,null,null,null,null,null,null,null,null,"1.2.1.5.4","ВН","тыс.руб.",null,null,null,null,null,null,null,null,null,null,null,null,null,null,null,null,0,0,0]
[null,null,null,null,null,null,null,null,null,null,null,null,"1.2.1.5.5","ГН","тыс.руб.",null,null,null,null,null,null,null,null,null,null,null,null,null,null,null,null,0,0,0]
[null,null,null,null,null,null,null,null,null,null,null,null,"1.2.2","теплоэнергия","тыс.руб.",null,null,null,null,null,null,null,null,null,null,null,null,null,null,null,null,0]
[null,null,null,null,null,null,null,null,null,null,null,null,"1.2.3","теплоноситель","тыс.руб.",null,null,null,null,null,null,null,null,null,null,null,null,null,null,null,null,0]
[null,null,null,null,null,null,null,null,null,null,null,null,"1.2.4","топливо","тыс.руб.",null,null,null,null,null,null,null,null,null,null,null,null,null,null,null,null,0]
[]
[]
[]
[]
[null,null,null,null,null,null,null,null,null,null,null,null,"1.2.5","холодная вода","тыс.руб.",null,null,null,null,null,null,null,null,null,null,null,null,null,null,null,null,{"$f":"AG2049+AH2049","v":0},{"$f":"AG2050*AG2051","v":0},{"$f":"AH2050*AH2051","v":0}]
[null,null,null,null,null,null,null,null,null,null,null,null,"1.2.5.1","цена","руб./куб.м",null,null,null,null,null,null,null,null,null,null,null,null,null,null,null,null,{"$f":"IF(AF2051=0,0,AF2049/AF2051)","v":0}]
[null,null,null,null,null,null,null,null,null,null,null,null,"1.2.5.2","объём","тыс.куб.м",null,null,null,null,null,null,null,null,null,null,null,null,null,null,null,null,{"$f":"AG2051+AH2051","v":0}]
[]
[]
[]
[]
[]
[]
[]
[null,null,null,null,null,null,null,null,null,null,null,null,"1.3","Расходы на оплату работ и услуг, выполняемые сторонними организациями и индивидуальными предпринимателями, связанные с эксплуатацией централизованных систем либо объектов в составе таких систем","тыс.руб.",null,null,null,null,null,null,null,null,null,null,null,null,null,null,null,null,{"$f":"AG2059+AH2059","v":0}]
[null,null,null,null,null,null,null,null,null,null,null,null,"1.4","Расходы на оплату труда и отчисления на социальные нужды основного производственного персонала, в том числе налоги и сборы ","тыс.руб.",null,null,null,null,null,null,null,null,null,null,null,null,null,null,null,null,{"$f":"AG2060+AH2060","v":0},{"$f":"SUM(AG2061,AG2072)","v":0},{"$f":"SUM(AH2061,AH2072)","v":0}]
[null,null,null,null,null,null,null,null,null,null,null,null,"1.4.1","Расходы на оплату труда производственного персонала","тыс.руб.",null,null,null,null,null,null,null,null,null,null,null,null,null,null,null,null,{"$f":"AG2061+AH2061","v":0}]
[null,null,null,null,null,null,null,null,null,null,null,null,"1.4.1.1","Численность (среднесписочная), принятая для расчёта","ед."]
[null,null,null,null,null,null,null,null,null,null,null,null,"1.4.1.2","Среднемесячная оплата труда основного производственного персонала","руб./мес.",null,null,null,null,null,null,null,null,null,null,null,null,null,null,null,null,{"$f":"IF(AF2062=0,0,AF2061/AF2062*1000/AF$6)","v":0},{"$f":"IF(AG2062=0,0,AG2061/AG2062*1000/AG$6)","v":0},{"$f":"IF(AH2062=0,0,AH2061/AH2062*1000/AH$6)","v":0}]
[null,null,null,null,null,null,null,null,null,null,null,null,"1.4.1.3","Фактическая численность основного производственного персонала, относимого на регулируемый вид деятельности","ед."]
[null,null,null,null,null,null,null,null,null,null,null,null,"1.4.1.4","Справочно: нормативная численность основного производственного персонала, относимого на регулируемый вид деятельности","ед."]
[null,null,null,null,null,null,null,null,null,null,null,null,"1.4.1.5","Тарифная ставка рабочего 1-го разряда","руб./мес."]
[null,null,null,null,null,null,null,null,null,null,null,null,"1.4.1.6","Индекс роста номинальной заработной платы"]
[null,null,null,null,null,null,null,null,null,null,null,null,"1.4.1.7","Тарифная ставка рабочего 1-го разряда с учётом дефлятора","руб./мес."]
[null,null,null,null,null,null,null,null,null,null,null,null,"1.4.1.8","Средний тарифный коэффициент"]
[null,null,null,null,null,null,null,null,null,null,null,null,"1.4.1.9","Среднемесячная тарифная ставка","руб./мес."]
[null,null,null,null,null,null,null,null,null,null,null,null,"1.4.1.10","Минимальный размер оплаты труда по отраслевому тарифному соглашению","руб./мес."]
[null,null,null,null,null,null,null,null,null,null,null,null,"1.4.2","Отчисления на социальные нужды производственного персонала, в том числе налоги и сборы","тыс.руб.",null,null,null,null,null,null,null,null,null,null,null,null,null,null,null,null,{"$f":"AG2072+AH2072","v":0}]
[null,null,null,null,null,null,null,null,null,null,null,null,"1.5","Расходы на уплату процентов по займам и кредитам, не учитываемые при определении налогооблагаемой базы налога на прибыль","тыс.руб.",null,null,null,null,null,null,null,null,null,null,null,null,null,null,null,null,0]
[null,null,null,null,null,null,null,null,null,null,null,null,"1.6","Общехозяйственные расходы","тыс.руб.",null,null,null,null,null,null,null,null,null,null,null,null,null,null,null,null,0]
[null,null,null,null,null,null,null,null,null,null,null,null,"1.7","Прочие производственные расходы","тыс.руб.",null,null,null,null,null,null,null,null,null,null,null,null,null,null,null,null,0,{"$f":"SUM(AG2076:AG2079)","v":0},{"$f":"SUM(AH2076:AH2079)","v":0}]
[null,null,null,null,null,null,null,null,null,null,null,null,"1.7.1","Расходы на амортизацию транспорта","тыс.руб.",null,null,null,null,null,null,null,null,null,null,null,null,null,null,null,null,0]
[null,null,null,null,null,null,null,null,null,null,null,null,{"$f":"IF(TEMPLATE_SPHERE_CODE=\"COLDVSNA\",\"1.7.2\",IF(TEMPLATE_SPHERE_CODE=\"VOTV\",\"1.7.2\",\"\"))","v":""},{"$f":"IF(TEMPLATE_SPHERE_CODE=\"COLDVSNA\",\"Контроль качества воды\",IF(TEMPLATE_SPHERE_CODE=\"VOTV\",\"Контроль сточных вод\",\"\"))","v":""},"тыс.руб.",null,null,null,null,null,null,null,null,null,null,null,null,null,null,null,null,0]
[null,null,null,null,null,null,null,null,null,null,null,null,"1.7.3","Расходы на аварийно-диспетчерское обслуживание","тыс.руб.",null,null,null,null,null,null,null,null,null,null,null,null,null,null,null,null,0]
[null,null,null,null,null,null,null,null,null,null,null,null,{"$f":"IF(TEMPLATE_SPHERE_CODE=\"COLDVSNA\",\"\",IF(TEMPLATE_SPHERE_CODE=\"VOTV\",\"1.7.4\",\"\"))","v":""},{"$f":"IF(TEMPLATE_SPHERE_CODE=\"COLDVSNA\",\"\",IF(TEMPLATE_SPHERE_CODE=\"VOTV\",\"Услуги по обращению с осадком сточных вод\",\"\"))","v":""},{"$f":"IF(TEMPLATE_SPHERE_CODE=\"COLDVSNA\",\"\",IF(TEMPLATE_SPHERE_CODE=\"VOTV\",\"тыс.руб.\",\"\"))","v":""}]
[null,null,null,null,null,null,null,null,null,null,null,null,"1.8","Цеховые расходы","тыс.руб.",null,null,null,null,null,null,null,null,null,null,null,null,null,null,null,null,{"$f":"AG2080+AH2080","v":0},{"$f":"SUM(AG2081:AG2084)","v":0},{"$f":"SUM(AH2081:AH2084)","v":0}]
[null,null,null,null,null,null,null,null,null,null,null,null,"1.8.1","Расходы на оплату труда цехового персонала","тыс.руб.",null,null,null,null,null,null,null,null,null,null,null,null,null,null,null,null,0]
[null,null,null,null,null,null,null,null,null,null,null,null,"1.8.2","Отчисления на социальные нужды цехового персонала, в том числе налоги и сборы","тыс.руб.",null,null,null,null,null,null,null,null,null,null,null,null,null,null,null,null,0]
[null,null,null,null,null,null,null,null,null,null,null,null,"1.8.3","Расходы на охрану труда","тыс.руб.",null,null,null,null,null,null,null,null,null,null,null,null,null,null,null,null,0]
[null,null,null,null,null,null,null,null,null,null,null,null,"1.8.4","Прочие","тыс.руб.",null,null,null,null,null,null,null,null,null,null,null,null,null,null,null,null,0]
[null,null,null,null,null,null,null,null,null,null,null,null,"2","Ремонтные расходы","тыс.руб.",null,null,null,null,null,null,null,null,null,null,null,null,null,null,null,null,0,{"$f":"SUM(AG2086,AG2088,AG2090)","v":0},{"$f":"SUM(AH2086,AH2088,AH2090)","v":0}]
[null,null,null,null,null,null,null,null,null,null,null,null,"2.1","Расходы на текущий ремонт централизованных систем водоснабжения и (или) водоотведения либо объектов, входящих в состав таких систем","тыс.руб.",null,null,null,null,null,null,null,null,null,null,null,null,null,null,null,null,0]
[null,null,null,null,null,null,null,null,null,null,null,null,"2.1.1","Справочно: расходы на текущий ремонт, предусмотренные производственной программой регулируемой организации","тыс.руб.",null,null,null,null,null,null,null,null,null,null,null,null,null,null,null,null,0]
[null,null,null,null,null,null,null,null,null,null,null,null,"2.2","Расходы на капитальный ремонт централизованных систем водоснабжения и (или водоотведения) либо объектов, входящих в состав таких систем","тыс.руб.",null,null,null,null,null,null,null,null,null,null,null,null,null,null,null,null,0]
[null,null,null,null,null,null,null,null,null,null,null,null,"2.2.1","Справочно: расходы на капитальный ремонт, предусмотренные производственной программой регулируемой организации","тыс.руб.",null,null,null,null,null,null,null,null,null,null,null,null,null,null,null,null,0]
[null,null,null,null,null,null,null,null,null,null,null,null,"2.3","Расходы на оплату труда и отчисления на социальные нужды ремонтного персонала, в том числе налоги и сборы","тыс.руб.",null,null,null,null,null,null,null,null,null,null,null,null,null,null,null,null,0,{"$f":"SUM(AG2091,AG2102)","v":0},{"$f":"SUM(AH2091,AH2102)","v":0}]
[null,null,null,null,null,null,null,null,null,null,null,null,"2.3.1","Расходы на оплату труда ремонтного персонала","тыс.руб.",null,null,null,null,null,null,null,null,null,null,null,null,null,null,null,null,0]
[null,null,null,null,null,null,null,null,null,null,null,null,"2.3.1.1","Численность (среднесписочная), принятая для расчёта","ед."]
[null,null,null,null,null,null,null,null,null,null,null,null,"2.3.1.2","Среднемесячная оплата труда ремонтного персонала","руб./мес.",null,null,null,null,null,null,null,null,null,null,null,null,null,null,null,null,{"$f":"IF(AF2092=0,0,AF2091/AF2092*1000/AF$6)","v":0},{"$f":"IF(AG2092=0,0,AG2091/AG2092*1000/AG$6)","v":0},{"$f":"IF(AH2092=0,0,AH2091/AH2092*1000/AH$6)","v":0}]
[null,null,null,null,null,null,null,null,null,null,null,null,"2.3.1.3","Фактическая численность ремонтного персонала, относимого на регулируемый вид деятельности","ед."]
[null,null,null,null,null,null,null,null,null,null,null,null,"2.3.1.4","Справочно: нормативная численность ремонтного персонала, относимого на регулируемый вид деятельности","ед."]
[null,null,null,null,null,null,null,null,null,null,null,null,"2.3.1.5","Тарифная ставка рабочего 1-го разряда","руб./мес."]
[null,null,null,null,null,null,null,null,null,null,null,null,"2.3.1.6","Индекс роста номинальной заработной платы"]
[null,null,null,null,null,null,null,null,null,null,null,null,"2.3.1.7","Тарифная ставка рабочего 1-го разряда с учётом дефлятора","руб./мес."]
[null,null,null,null,null,null,null,null,null,null,null,null,"2.3.1.8","Средний тарифный коэффициент"]
[null,null,null,null,null,null,null,null,null,null,null,null,"2.3.1.9","Среднемесячная тарифная ставка","руб./мес."]
[null,null,null,null,null,null,null,null,null,null,null,null,"2.3.1.10","Минимальный размер оплаты труда по отраслевому тарифному соглашению","руб./мес."]
[null,null,null,null,null,null,null,null,null,null,null,null,"2.3.2","Отчисления на социальные нужды ремонтного персонала, в том числе налоги и сборы","тыс.руб.",null,null,null,null,null,null,null,null,null,null,null,null,null,null,null,null,{"$f":"AG2102+AH2102","v":0}]
[null,null,null,null,null,null,null,null,null,null,null,null,3,"Административные расходы","тыс.руб.",null,null,null,null,null,null,null,null,null,null,null,null,null,null,null,null,0,{"$f":"SUM(AG2104,AG2111,AG2124,AG2125,AG2126,AG2127,AG2128)","v":0},{"$f":"SUM(AH2104,AH2111,AH2124,AH2125,AH2126,AH2127,AH2128)","v":0}]
[null,null,null,null,null,null,null,null,null,null,null,null,"3.1","Расходы на оплату работ и услуг, выполняемых сторонними организациями","тыс.руб.",null,null,null,null,null,null,null,null,null,null,null,null,null,null,null,null,0,{"$f":"SUM(AG2105:AG2110)","v":0},{"$f":"SUM(AH2105:AH2110)","v":0}]
[null,null,null,null,null,null,null,null,null,null,null,null,"3.1.1","услуги связи и интернет","тыс.руб.",null,null,null,null,null,null,null,null,null,null,null,null,null,null,null,null,0]
[null,null,null,null,null,null,null,null,null,null,null,null,"3.1.2","юридические услуги","тыс.руб.",null,null,null,null,null,null,null,null,null,null,null,null,null,null,null,null,0]
[null,null,null,null,null,null,null,null,null,null,null,null,"3.1.3","аудиторские услуги","тыс.руб.",null,null,null,null,null,null,null,null,null,null,null,null,null,null,null,null,0]
[null,null,null,null,null,null,null,null,null,null,null,null,"3.1.4","консультационные услуги","тыс.руб.",null,null,null,null,null,null,null,null,null,null,null,null,null,null,null,null,0]
[null,null,null,null,null,null,null,null,null,null,null,null,"3.1.5","услуги по вневедомственной охране объектов и территорий","тыс.руб.",null,null,null,null,null,null,null,null,null,null,null,null,null,null,null,null,0]
[null,null,null,null,null,null,null,null,null,null,null,null,"3.1.6","информационные услуги","тыс.руб.",null,null,null,null,null,null,null,null,null,null,null,null,null,null,null,null,0]
[null,null,null,null,null,null,null,null,null,null,null,null,"3.2","Расходы на оплату труда и отчисления на социальные нужды административно-управленческого персонала, в том числе налоги и сборы","тыс.руб.",null,null,null,null,null,null,null,null,null,null,null,null,null,null,null,null,0,{"$f":"SUM(AG2112,AG2123)","v":0},{"$f":"SUM(AH2112,AH2123)","v":0}]
[null,null,null,null,null,null,null,null,null,null,null,null,"3.2.1","Расходы на оплату труда административно-управленческого персонала","тыс.руб.",null,null,null,null,null,null,null,null,null,null,null,null,null,null,null,null,0]
[null,null,null,null,null,null,null,null,null,null,null,null,"3.2.1.1","Численность (среднесписочная), принятая для расчёта","ед."]
[null,null,null,null,null,null,null,null,null,null,null,null,"3.2.1.2","Среднемесячная оплата труда административно-управленческого персонала","руб./мес.",null,null,null,null,null,null,null,null,null,null,null,null,null,null,null,null,{"$f":"IF(AF2113=0,0,AF2112/AF2113*1000/AF$6)","v":0},{"$f":"IF(AG2113=0,0,AG2112/AG2113*1000/AG$6)","v":0},{"$f":"IF(AH2113=0,0,AH2112/AH2113*1000/AH$6)","v":0}]
[null,null,null,null,null,null,null,null,null,null,null,null,"3.2.1.3","Фактическая численность административно-управленческого персонала, относимого на регулируемый вид деятельности","ед."]
[null,null,null,null,null,null,null,null,null,null,null,null,"3.2.1.4","Справочно: нормативная численность административно-управленческого персонала, относимого на регулируемый вид деятельности","ед."]
[null,null,null,null,null,null,null,null,null,null,null,null,"3.2.1.5","Тарифная ставка рабочего 1-го разряда","руб./мес."]
[null,null,null,null,null,null,null,null,null,null,null,null,"3.2.1.6","Индекс роста номинальной заработной платы"]
[null,null,null,null,null,null,null,null,null,null,null,null,"3.2.1.7","Тарифная ставка рабочего 1-го разряда с учётом дефлятора","руб./мес."]
[null,null,null,null,null,null,null,null,null,null,null,null,"3.2.1.8","Средний тарифный коэффициент"]
[null,null,null,null,null,null,null,null,null,null,null,null,"3.2.1.9","Среднемесячная тарифная ставка","руб./мес."]
[null,null,null,null,null,null,null,null,null,null,null,null,"3.2.1.10","Минимальный размер оплаты труда по отраслевому тарифному соглашению","руб./мес."]
[null,null,null,null,null,null,null,null,null,null,null,null,"3.2.2","Отчисления на социальные нужды административно-управленческого персонала, в том числе налоги и сборы","тыс.руб.",null,null,null,null,null,null,null,null,null,null,null,null,null,null,null,null,{"$f":"AG2123+AH2123","v":0}]
[null,null,null,null,null,null,null,null,null,null,null,null,"3.3","Арендная плата, лизинговые платежи, не связанные с арендой (лизингом) централизованных систем водоснабжения и (или) водоотведения либо объектов, входящих в состав таких систем","тыс.руб.",null,null,null,null,null,null,null,null,null,null,null,null,null,null,null,null,0]
[null,null,null,null,null,null,null,null,null,null,null,null,"3.4","Служебные командировки","тыс.руб.",null,null,null,null,null,null,null,null,null,null,null,null,null,null,null,null,0]
[null,null,null,null,null,null,null,null,null,null,null,null,"3.5","Обучение персонала","тыс.руб.",null,null,null,null,null,null,null,null,null,null,null,null,null,null,null,null,0]
[null,null,null,null,null,null,null,null,null,null,null,null,"3.6","Страхование производственных объектов","тыс.руб.",null,null,null,null,null,null,null,null,null,null,null,null,null,null,null,null,0]
[null,null,null,null,null,null,null,null,null,null,null,null,"3.7","Прочие административные расходы","тыс.руб.",null,null,null,null,null,null,null,null,null,null,null,null,null,null,null,null,0]
[null,null,null,null,null,null,null,null,null,null,null,null,"3.7.1","Расходы на амортизацию непроизводственных активов","тыс.руб.",null,null,null,null,null,null,null,null,null,null,null,null,null,null,null,null,0]
[null,null,null,null,null,null,null,null,null,null,null,null,"3.7.2","Расходы по охране объектов и территорий","тыс.руб.",null,null,null,null,null,null,null,null,null,null,null,null,null,null,null,null,0]
[null,null,null,null,null,null,null,null,null,null,null,null,4,"Сбытовые расходы гарантирующих организаций","тыс.руб.",null,null,null,null,null,null,null,null,null,null,null,null,null,null,null,null,0]
[null,null,null,null,null,null,null,null,null,null,null,null,"4.1","Расходы по сомнительным долгам, в размере не более 2% НВВ","тыс.руб.",null,null,null,null,null,null,null,null,null,null,null,null,null,null,null,null,0]
[null,null,null,null,null,null,null,null,null,null,null,null,5,"Амортизация","тыс.руб.",null,null,null,null,null,null,null,null,null,null,null,null,null,null,null,null,0]
[null,null,null,null,null,null,null,null,null,null,null,null,"5.1","Амортизация основных средств и нематериальных активов, относимых к объектам централизованной системы водоснабжения и водоотведения","тыс.руб.",null,null,null,null,null,null,null,null,null,null,null,null,null,null,null,null,0]
[null,null,null,null,null,null,null,null,null,null,null,null,6,"Расходы на арендную плату, лизинговые платежи, концессионную плату, связанные с арендой (лизингом) централизованных систем водоснабжения и (или) водоотведения либо объектов, входящих в состав таких систем","тыс.руб.",null,null,null,null,null,null,null,null,null,null,null,null,null,null,null,null,0,{"$f":"SUM(AG2136,AG2140:AG2143)","v":0},{"$f":"SUM(AH2136,AH2140:AH2143)","v":0}]
[null,null,null,null,null,null,null,null,null,null,null,null,"6.1","Аренда имущества","тыс.руб.",null,null,null,null,null,null,null,null,null,null,null,null,null,null,null,null,0,{"$f":"SUM(AG2137:AG2139)","v":0},{"$f":"SUM(AH2137:AH2139)","v":0}]
[null,null,null,null,null,null,null,null,null,null,null,null,"6.1.1","Аренда объектов в государственной собственности","тыс.руб.",null,null,null,null,null,null,null,null,null,null,null,null,null,null,null,null,0]
[null,null,null,null,null,null,null,null,null,null,null,null,"6.1.2","Аренда объектов в муниципальной собственности","тыс.руб.",null,null,null,null,null,null,null,null,null,null,null,null,null,null,null,null,0]
[null,null,null,null,null,null,null,null,null,null,null,null,"6.1.3","Прочее","тыс.руб.",null,null,null,null,null,null,null,null,null,null,null,null,null,null,null,null,0]
[null,null,null,null,null,null,null,null,null,null,null,null,"6.2","Концессионная плата","тыс.руб.",null,null,null,null,null,null,null,null,null,null,null,null,null,null,null,null,0]
[null,null,null,null,null,null,null,null,null,null,null,null,"6.3","Лизинговые платежи","тыс.руб.",null,null,null,null,null,null,null,null,null,null,null,null,null,null,null,null,0]
[null,null,null,null,null,null,null,null,null,null,null,null,"6.4","Аренда земельных участков","тыс.руб.",null,null,null,null,null,null,null,null,null,null,null,null,null,null,null,null,0]
[null,null,null,null,null,null,null,null,null,null,null,null,"6.5","Иное","тыс.руб.",null,null,null,null,null,null,null,null,null,null,null,null,null,null,null,null,0]
[null,null,null,null,null,null,null,null,null,null,null,null,7,"Расходы, связанные с уплатой налогов и сборов, связанные с арендой (лизингом) централизованных систем водоснабжения и (или) водоотведения либо объектов, входящих в состав таких систем","тыс.руб.",null,null,null,null,null,null,null,null,null,null,null,null,null,null,null,null,0,{"$f":"SUM(AG2145:AG2151)","v":0},{"$f":"SUM(AH2145:AH2151)","v":0}]
[null,null,null,null,null,null,null,null,null,null,null,null,"7.1","Налог на прибыль","тыс.руб.",null,null,null,null,null,null,null,null,null,null,null,null,null,null,null,null,0]
[null,null,null,null,null,null,null,null,null,null,null,null,"7.2","Налог на имущество организаций","тыс.руб.",null,null,null,null,null,null,null,null,null,null,null,null,null,null,null,null,0]
[null,null,null,null,null,null,null,null,null,null,null,null,"7.3","Плата за негативное воздействие на окружающую среду","тыс.руб.",null,null,null,null,null,null,null,null,null,null,null,null,null,null,null,null,0]
[null,null,null,null,null,null,null,null,null,null,null,null,"7.4","Водный налог и плата за пользование водным объектом","тыс.руб.",null,null,null,null,null,null,null,null,null,null,null,null,null,null,null,null,0]
[null,null,null,null,null,null,null,null,null,null,null,null,"7.5","Земельный налог","тыс.руб.",null,null,null,null,null,null,null,null,null,null,null,null,null,null,null,null,0]
[null,null,null,null,null,null,null,null,null,null,null,null,"7.6","Транспортный налог","тыс.руб.",null,null,null,null,null,null,null,null,null,null,null,null,null,null,null,null,0]
[null,null,null,null,null,null,null,null,null,null,null,null,"7.7","Прочие налоги и сборы, за исключением налогов и сборов с фонда оплаты труда, учитываемых в составе производственных, ремонтных и административных расходов","тыс.руб.",null,null,null,null,null,null,null,null,null,null,null,null,null,null,null,null,0]
[null,null,null,null,null,null,null,null,null,null,null,null,"8","Расходы на оплату товаров (услуг, работ), приобретаемых у других организаций, осуществляющих регулируемые виды деятельности","тыс.руб.",null,null,null,null,null,null,null,null,null,null,null,null,null,null,null,null,0]
[null,null,null,null,null,null,null,null,null,null,null,null,"9","Расходы на обслуживание бесхозяйных сетей","тыс.руб.",null,null,null,null,null,null,null,null,null,null,null,null,null,null,null,null,0]
[null,null,null,null,null,null,null,null,null,null,null,null,"10","Прочие неподконтрольные расходы","тыс.руб.",null,null,null,null,null,null,null,null,null,null,null,null,null,null,null,null,0]
[]
[null,null,null,null,null,null,null,null,null,null,null,null,"РО","Итого расходы","тыс.руб.",null,null,null,null,null,null,null,null,null,null,null,null,null,null,null,null,{"$f":"SUM(AF1976,AF2085,AF2103,AF2131,AF2133,AF2135,AF2144,AF2152,AF2153,AF2154)","v":0},{"$f":"SUM(AG1976,AG2085,AG2103,AG2131,AG2133,AG2135,AG2144,AG2152,AG2153,AG2154)","v":0},{"$f":"SUM(AH1976,AH2085,AH2103,AH2131,AH2133,AH2135,AH2144,AH2152,AH2153,AH2154)","v":0}]
[]
[null,null,null,null,null,null,null,null,null,null,null,null,"РР","Итого расходы на реализацию","тыс.руб.",null,null,null,null,null,null,null,null,null,null,null,null,null,null,null,null,{"$f":"AG2158+AH2158","v":0},{"$f":"AG2156*AG$242","v":0},{"$f":"AH2156*AH$242","v":0}]
[]
[null,null,null,null,null,null,null,null,null,null,null,null,"У","Убыток","тыс.руб.",null,null,null,null,null,null,null,null,null,null,null,null,null,null,null,null,{"$f":"AG2160+AH2160","v":0}]
[null,null,null,null,null,null,null,null,null,null,null,null,"П","Прибыль","тыс.руб.",null,null,null,null,null,null,null,null,null,null,null,null,null,null,null,null,{"$f":"AG2161+AH2161","v":0},{"$f":"SUM(AG2163:AG2166)","v":0},{"$f":"SUM(AH2163:AH2166)","v":0}]
[]
[null,null,null,null,null,null,null,null,null,null,null,null,"П.1","Прибыль на развитие производства (капитальные вложения)","тыс.руб.",null,null,null,null,null,null,null,null,null,null,null,null,null,null,null,null,{"$f":"AG2163+AH2163","v":0}]
[null,null,null,null,null,null,null,null,null,null,null,null,"П.2","Прибыль на социальное развитие","тыс.руб.",null,null,null,null,null,null,null,null,null,null,null,null,null,null,null,null,{"$f":"AG2164+AH2164","v":0}]
[null,null,null,null,null,null,null,null,null,null,null,null,"П.3","Прибыль на поощрение","тыс.руб.",null,null,null,null,null,null,null,null,null,null,null,null,null,null,null,null,{"$f":"AG2165+AH2165","v":0}]
[null,null,null,null,null,null,null,null,null,null,null,null,"П.4","Прибыль на прочие цели","тыс.руб.",null,null,null,null,null,null,null,null,null,null,null,null,null,null,null,null,{"$f":"AG2166+AH2166","v":0}]
[]
[]
[]
[]
[]
[]
[]
[]
[null,null,null,null,null,null,null,null,null,null,null,null,"РП","Итого расходы с учётом расходов из прибыли","тыс.руб.",null,null,null,null,null,null,null,null,null,null,null,null,null,null,null,null,{"$f":"AG2175+AH2175","v":0},{"$f":"AG2156+AG2161","v":0},{"$f":"AH2156+AH2161","v":0}]
[]
[]
[]
[]
[]
[]
[]
[]
[]
[]
[]
[]
[]
[]
[]
[]
[]
[null,null,null,null,null,null,null,null,null,null,null,null,"UI.TOTAL","Полезный отпуск продукции всего:\n[БТр!п.3] - транспортировка\n[БПр!п.5.2] - производство","тыс.куб.м",null,null,null,null,null,null,null,null,null,null,null,null,null,null,null,null,{"$f":"AG2193+AH2193","v":0},{"$f":"SUMIF(ХВС.БПр!$BA$131:$BA$132,AG$17 & \".0-\" & AG$9,ХВС.БПр!$X$131:$X$132)/1000+SUMIF(ХВС.БТр!$BA$131:$BA$132,AG$17 & \".0-\" & AG$9,ХВС.БТр!$P$131:$P$132)/1000","v":0},{"$f":"SUMIF(ХВС.БПр!$BA$131:$BA$132,AH$17 & \".0-\" & AH$9,ХВС.БПр!$X$131:$X$132)/1000+SUMIF(ХВС.БТр!$BA$131:$BA$132,AH$17 & \".0-\" & AH$9,ХВС.БТр!$P$131:$P$132)/1000","v":0}]
[null,null,null,null,null,null,null,null,null,null,null,null,"UI.EC","Полезный отпуск на реализацию потребителям:\n[БТр!п.3.2:3.5] - транспортировка\n[БПр!п.5.2.2 + БПр!п.5.2.3] - производство","тыс.куб.м",null,null,null,null,null,null,null,null,null,null,null,null,null,null,null,null,{"$f":"AG2194+AH2194","v":0},{"$f":"SUMIF(ХВС.БПр!$BA$131:$BA$132,AG$17 & \".0-\" & AG$9,ХВС.БПр!$AC$131:$AC$132)/1000+SUMIF(ХВС.БПр!$BA$131:$BA$132,AG$17 & \".0-\" & AG$9,ХВС.БПр!$AF$131:$AF$132)/1000+SUMIF(ХВС.БТр!$BA$131:$BA$132,AG$17 & \".0-\" & AG$9,ХВС.БТр!$R$131:$R$132)/1000+SUMIF(ХВС.БТр!$BA$131:$BA$132,AG$17 & \".0-\" & AG$9,ХВС.БТр!$U$131:$U$132)/1000+SUMIF(ХВС.БТр!$BA$131:$BA$132,AG$17 & \".0-\" & AG$9,ХВС.БТр!$X$131:$X$132)/1000+SUMIF(ХВС.БТр!$BA$131:$BA$132,AG$17 & \".0-\" & AG$9,ХВС.БТр!$AA$131:$AA$132)/1000","v":0},{"$f":"SUMIF(ХВС.БПр!$BA$131:$BA$132,AH$17 & \".0-\" & AH$9,ХВС.БПр!$AC$131:$AC$132)/1000+SUMIF(ХВС.БПр!$BA$131:$BA$132,AH$17 & \".0-\" & AH$9,ХВС.БПр!$AF$131:$AF$132)/1000+SUMIF(ХВС.БТр!$BA$131:$BA$132,AH$17 & \".0-\" & AH$9,ХВС.БТр!$R$131:$R$132)/1000+SUMIF(ХВС.БТр!$BA$131:$BA$132,AH$17 & \".0-\" & AH$9,ХВС.БТр!$U$131:$U$132)/1000+SUMIF(ХВС.БТр!$BA$131:$BA$132,AH$17 & \".0-\" & AH$9,ХВС.БТр!$X$131:$X$132)/1000+SUMIF(ХВС.БТр!$BA$131:$BA$132,AH$17 & \".0-\" & AH$9,ХВС.БТр!$AA$131:$AA$132)/1000","v":0}]
[null,null,null,null,null,null,null,null,null,null,null,null,"UI.COEF","Коэффициент (доля) на реализацию потребителям",null,null,null,null,null,null,null,null,null,null,null,null,null,null,null,null,null,{"$f":"IF(AF2193=0,0,AF2194/AF2193)","v":0},{"$f":"IF(AG2193=0,0,AG2194/AG2193)","v":0},{"$f":"IF(AH2193=0,0,AH2194/AH2193)","v":0}]
[null,null,null,null,null,null,null,null,null,null,null,null,"UI.PURE.EC","Полезный отпуск на реализацию потребителям:\n[БТр!п.3.3:3.5] - транспортировка\n[БПр!п.5.2.3] - производство","тыс.куб.м",null,null,null,null,null,null,null,null,null,null,null,null,null,null,null,null,{"$f":"AG2196+AH2196","v":0},{"$f":"SUMIF(ХВС.БПр!$BA$131:$BA$132,AG$17 & \".0-\" & AG$9,ХВС.БПр!$AF$131:$AF$132)/1000+SUMIF(ХВС.БТр!$BA$131:$BA$132,AG$17 & \".0-\" & AG$9,ХВС.БТр!$U$131:$U$132)/1000+SUMIF(ХВС.БТр!$BA$131:$BA$132,AG$17 & \".0-\" & AG$9,ХВС.БТр!$X$131:$X$132)/1000+SUMIF(ХВС.БТр!$BA$131:$BA$132,AG$17 & \".0-\" & AG$9,ХВС.БТр!$AA$131:$AA$132)/1000","v":0},{"$f":"SUMIF(ХВС.БПр!$BA$131:$BA$132,AH$17 & \".0-\" & AH$9,ХВС.БПр!$AF$131:$AF$132)/1000+SUMIF(ХВС.БТр!$BA$131:$BA$132,AH$17 & \".0-\" & AH$9,ХВС.БТр!$U$131:$U$132)/1000+SUMIF(ХВС.БТр!$BA$131:$BA$132,AH$17 & \".0-\" & AH$9,ХВС.БТр!$X$131:$X$132)/1000+SUMIF(ХВС.БТр!$BA$131:$BA$132,AH$17 & \".0-\" & AH$9,ХВС.БТр!$AA$131:$AA$132)/1000","v":0}]
[]
[null,null,null,null,null,null,null,null,null,null,null,null,"UI.TTL",{"$f":"IF(TEMPLATE_SPHERE_CODE=\"COLDVSNA\",\"Объём отпуска воды\",IF(TEMPLATE_SPHERE_CODE=\"VOTV\",\"Объём сточных вод\",\"\"))","v":""},"тыс.куб.м",null,null,null,null,null,null,null,null,null,null,null,null,null,null,null,null,null,{"$f":"AG2193","v":0},{"$f":"AH2193","v":0}]
[]
[null,null,null,null,null,null,null,null,null,null,null,null,"PROFITABILITY","Рентабельность","%",null,null,null,null,null,null,null,null,null,null,null,null,null,null,null,null,{"$f":"IF(AF2156=0,0,(AF2161-AF2160)/AF2156*100)","v":0},{"$f":"IF(AG2156=0,0,(AG2161-AG2160)/AG2156*100)","v":0},{"$f":"IF(AH2156=0,0,(AH2161-AH2160)/AH2156*100)","v":0}]
[]
[null,null,null,null,null,null,null,null,null,null,null,null,"D","Справочно: результат деятельности в периоде регулирования","тыс.руб.",null,null,null,null,null,null,null,null,null,null,null,null,null,null,null,null,{"$f":"AG2202+AH2202","v":0},{"$f":"AG2203-(AG2158+AG2161-AG2160)","v":0},{"$f":"AH2203-(AH2158+AH2161-AH2160)","v":0}]
[null,null,null,null,null,null,null,null,null,null,null,null,{"$f":"M2202 & \".0.1\"","v":"D.0.1"},"Общий доход от реализации потребителям без учёта НДС, исходя из утверждённых тарифов","тыс.руб.",null,null,null,null,null,null,null,null,null,null,null,null,null,null,null,null,{"$f":"AG2203+AH2203","v":0},{"$f":"AG2205+AG2208+AG2211+AG2214+AG2217+AG2218","v":0},{"$f":"AH2205+AH2208+AH2211+AH2214+AH2217+AH2218","v":0}]
[null,null,null,null,null,null,null,null,null,null,null,null,{"$f":"M2202 & \".0.2\"","v":"D.0.2"},"Полезный отпуск продукции на реализацию потребителям","тыс.куб.м",null,null,null,null,null,null,null,null,null,null,null,null,null,null,null,null,{"$f":"AG2204+AH2204","v":0},{"$f":"AG2207+AG2210+AG2213+AG2216","v":0},{"$f":"AH2207+AH2210+AH2213+AH2216","v":0}]
[null,null,null,null,null,null,null,null,null,null,null,null,{"$f":"M2202 & \".1\"","v":"D.1"},"Организации-перепродавцы","тыс.руб.",null,null,null,null,null,null,null,null,null,null,null,null,null,null,null,null,{"$f":"AG2205+AH2205","v":0},{"$f":"AG2206*AG2207","v":0},{"$f":"AH2206*AH2207","v":0}]
[null,null,null,null,null,null,null,null,null,null,null,null,{"$f":"M2205 & \".1\"","v":"D.1.1"},"средневзвешенный тариф","руб./куб.м",null,null,null,null,null,null,null,null,null,null,null,null,null,null,null,null,{"$f":"IF(AF2207=0,0,AF2205/AF2207)","v":0}]
[null,null,null,null,null,null,null,null,null,null,null,null,{"$f":"M2205 & \".2\"","v":"D.1.2"},"объём","тыс.куб.м",null,null,null,null,null,null,null,null,null,null,null,null,null,null,null,null,{"$f":"AG2207+AH2207","v":0},{"$f":"SUMIF(ХВС.БПр!$BA$131:$BA$132,AG$17 & \".0-\" & AG$9,ХВС.БПр!$AC$131:$AC$132)/1000+SUMIF(ХВС.БТр!$BA$131:$BA$132,AG$17 & \".0-\" & AG$9,ХВС.БТр!$R$131:$R$132)/1000","v":0},{"$f":"SUMIF(ХВС.БПр!$BA$131:$BA$132,AH$17 & \".0-\" & AH$9,ХВС.БПр!$AC$131:$AC$132)/1000+SUMIF(ХВС.БТр!$BA$131:$BA$132,AH$17 & \".0-\" & AH$9,ХВС.БТр!$R$131:$R$132)/1000","v":0}]
[null,null,null,null,null,null,null,null,null,null,null,null,{"$f":"M2202 & \".2\"","v":"D.2"},"Бюджетные потребители","тыс.руб.",null,null,null,null,null,null,null,null,null,null,null,null,null,null,null,null,{"$f":"AG2208+AH2208","v":0},{"$f":"AG2209*AG2210","v":0},{"$f":"AH2209*AH2210","v":0}]
[null,null,null,null,null,null,null,null,null,null,null,null,{"$f":"M2208 & \".1\"","v":"D.2.1"},"средневзвешенный тариф","руб./куб.м",null,null,null,null,null,null,null,null,null,null,null,null,null,null,null,null,{"$f":"IF(AF2210=0,0,AF2208/AF2210)","v":0}]
[null,null,null,null,null,null,null,null,null,null,null,null,{"$f":"M2208 & \".2\"","v":"D.2.2"},"объём","тыс.куб.м",null,null,null,null,null,null,null,null,null,null,null,null,null,null,null,null,{"$f":"AG2210+AH2210","v":0},{"$f":"SUMIF(ХВС.БПр!$BA$131:$BA$132,AG$17 & \".0-\" & AG$9,ХВС.БПр!$AG$131:$AG$132)/1000+SUMIF(ХВС.БТр!$BA$131:$BA$132,AG$17 & \".0-\" & AG$9,ХВС.БТр!$U$131:$U$132)/1000","v":0},{"$f":"SUMIF(ХВС.БПр!$BA$131:$BA$132,AH$17 & \".0-\" & AH$9,ХВС.БПр!$AG$131:$AG$132)/1000+SUMIF(ХВС.БТр!$BA$131:$BA$132,AH$17 & \".0-\" & AH$9,ХВС.БТр!$U$131:$U$132)/1000","v":0}]
[null,null,null,null,null,null,null,null,null,null,null,null,{"$f":"M2202 & \".3\"","v":"D.3"},"Население","тыс.руб.",null,null,null,null,null,null,null,null,null,null,null,null,null,null,null,null,{"$f":"AG2211+AH2211","v":0},{"$f":"AG2212*AG2213","v":0},{"$f":"AH2212*AH2213","v":0}]
[null,null,null,null,null,null,null,null,null,null,null,null,{"$f":"M2211 & \".1\"","v":"D.3.1"},"средневзвешенный тариф","руб./куб.м",null,null,null,null,null,null,null,null,null,null,null,null,null,null,null,null,{"$f":"IF(AF2213=0,0,AF2211/AF2213)","v":0}]
[null,null,null,null,null,null,null,null,null,null,null,null,{"$f":"M2211 & \".2\"","v":"D.3.2"},"объём","тыс.куб.м",null,null,null,null,null,null,null,null,null,null,null,null,null,null,null,null,{"$f":"AG2213+AH2213","v":0},{"$f":"SUMIF(ХВС.БПр!$BA$131:$BA$132,AG$17 & \".0-\" & AG$9,ХВС.БПр!$AJ$131:$AJ$132)/1000+SUMIF(ХВС.БТр!$BA$131:$BA$132,AG$17 & \".0-\" & AG$9,ХВС.БТр!$X$131:$X$132)/1000","v":0},{"$f":"SUMIF(ХВС.БПр!$BA$131:$BA$132,AH$17 & \".0-\" & AH$9,ХВС.БПр!$AJ$131:$AJ$132)/1000+SUMIF(ХВС.БТр!$BA$131:$BA$132,AH$17 & \".0-\" & AH$9,ХВС.БТр!$X$131:$X$132)/1000","v":0}]
[null,null,null,null,null,null,null,null,null,null,null,null,{"$f":"M2202 & \".4\"","v":"D.4"},"Прочие","тыс.руб.",null,null,null,null,null,null,null,null,null,null,null,null,null,null,null,null,{"$f":"AG2214+AH2214","v":0},{"$f":"AG2215*AG2216","v":0},{"$f":"AH2215*AH2216","v":0}]
[null,null,null,null,null,null,null,null,null,null,null,null,{"$f":"M2214 & \".1\"","v":"D.4.1"},"средневзвешенный тариф","руб./куб.м",null,null,null,null,null,null,null,null,null,null,null,null,null,null,null,null,{"$f":"IF(AF2216=0,0,AF2214/AF2216)","v":0}]
[null,null,null,null,null,null,null,null,null,null,null,null,{"$f":"M2214 & \".2\"","v":"D.4.2"},"объём","тыс.куб.м",null,null,null,null,null,null,null,null,null,null,null,null,null,null,null,null,{"$f":"AG2216+AH2216","v":0},{"$f":"SUMIF(ХВС.БПр!$BA$131:$BA$132,AG$17 & \".0-\" & AG$9,ХВС.БПр!$AM$131:$AM$132)/1000+SUMIF(ХВС.БТр!$BA$131:$BA$132,AG$17 & \".0-\" & AG$9,ХВС.БТр!$AA$131:$AA$132)/1000","v":0},{"$f":"SUMIF(ХВС.БПр!$BA$131:$BA$132,AH$17 & \".0-\" & AH$9,ХВС.БПр!$AM$131:$AM$132)/1000+SUMIF(ХВС.БТр!$BA$131:$BA$132,AH$17 & \".0-\" & AH$9,ХВС.БТр!$AA$131:$AA$132)/1000","v":0}]
[null,null,null,null,null,null,null,null,null,null,null,null,{"$f":"M2202 & \".5\"","v":"D.5"},"Объём дотаций из всех уровней бюджета","тыс.руб.",null,null,null,null,null,null,null,null,null,null,null,null,null,null,null,null,{"$f":"AG2217+AH2217","v":0}]
[null,null,null,null,null,null,null,null,null,null,null,null,{"$f":"M2202 & \".6\"","v":"D.6"},"Доходы, полученные сверх реализации по утверждённым тарифам","тыс.руб.",null,null,null,null,null,null,null,null,null,null,null,null,null,null,null,null,{"$f":"AG2218+AH2218","v":0}]
[]
[]
[]
[]
[]
[]
[null,null,null,null,null,null,null,null,null,null,null,null,null,"Дополнительные показатели"]
[null,null,null,null,null,null,null,null,null,null,null,null,null,"Производство"]
[null,null,null,null,null,null,null,null,null,null,null,null,null,{"$f":"\"Стоимость основных средств, относимых на источники производства (подъём / добыча) \" & RESOURCE_IDENTIFIER","v":"Стоимость основных средств, относимых на источники производства (подъём / добыча) ТЭ"},"тыс.руб."]
[null,null,null,null,null,null,null,null,null,null,null,null,null,{"$f":"\"Количество \" & TEMPLATE_SPHERE_OKK_SOURCE","v":"Количество ТИ"},"ед."]
[null,null,null,null,null,null,null,null,null,null,null,null,null,"Износ основных средств","%"]
[null,null,null,null,null,null,null,null,null,null,null,null,null,"Очистка"]
[null,null,null,null,null,null,null,null,null,null,null,null,null,{"$f":"\"Стоимость основных средств, относимых на системы / сооружения для очистки \" & RESOURCE_IDENTIFIER","v":"Стоимость основных средств, относимых на системы / сооружения для очистки ТЭ"},"тыс.руб."]
[]
[]
[null,null,null,null,null,null,null,null,null,null,null,null,null,"Износ основных средств","%"]
[null,null,null,null,null,null,null,null,null,null,null,null,null,"Транспортировка"]
[null,null,null,null,null,null,null,null,null,null,null,null,null,{"$f":"\"Стоимость основных средств, относимых на транспортировку \" & RESOURCE_IDENTIFIER","v":"Стоимость основных средств, относимых на транспортировку ТЭ"},"тыс.руб."]
[null,null,null,null,null,null,null,null,null,null,null,null,null,"Протяженность сетей","км"]
[null,null,null,null,null,null,null,null,null,null,null,null,null,"Протяженность сетей, подлежащих замене (износ 100%)","км"]
[null,null,null,null,null,null,null,null,null,null,null,null,null,"Сбыт"]
[null,null,null,null,null,null,null,null,null,null,null,null,null,"Полезный отпуск наиболее крупному единичному потребителю","тыс.куб.м"]
[null,null,null,null,null,null,null,null,null,null,null,null,null,"Численность обслуживаемого населения","чел."]
[null,null,null,null,null,null,null,null,null,null,null,null,null,"Количество абонентов","тыс.ед."]
[null,null,null,null,null,null,null,null,null,null,null,null,null,"Высота подъёма воды","м"]
[]
[]
[]
[]
[]
[]
[]
[null,null,null,null,null,null,null,null,null,null,null,null,null,null,null,null,null,null,null,null,null,null,null,null,null,null,null,null,"COLDVSNA_REAGENT_ADD_RANGE"]
[]
[]
[]
[null,null,null,null,null,null,null,null,null,null,null,null,null,null,null,null,null,null,null,null,null,null,null,null,null,null,null,null,12,6,6]
[]
[]
[null,null,null,null,null,null,null,null,null,null,null,null,null,null,null,null,null,null,null,null,null,null,null,null,null,null,null,null,"Y","I","II"]
[]
[]
[]
[null,null,null,null,null,null,null,null,null,null,null,null,null,null,null,null,null,null,null,null,null,null,null,null,null,null,null,null,"Год","I полугодие","II полугодие"]
[]
[null,null,null,null,null,null,null,null,null,null,null,null,null,null,null,null,null,null,null,null,null,null,null,null,null,null,null,null,{"$f":"AC2266 & \"_\" & AC2258","v":"0_Y"},{"$f":"AD2266 & \"_\" & AD2258","v":"0_I"},{"$f":"AE2266 & \"_\" & AE2258","v":"0_II"}]
[]
[null,null,null,null,null,null,null,null,null,null,null,null,null,null,null,null,null,null,null,null,null,null,null,null,null,null,null,null,{"$f":"AC2268","v":0},{"$f":"AC2268","v":0},{"$f":"AC2268","v":0}]
[null,null,null,null,null,null,null,null,null,null,null,null,null,null,null,null,null,null,null,null,null,null,null,null,null,null,null,null,"Удалить"]
[null,null,null,null,null,null,null,null,null,null,null,null,"№ п/п","Наименование показателя","Единица измерения",null,null,null,null,null,null,null,null,null,null,null,null,null,null,null,null,null,null,null,null,null,null,null,null,null,null,null,null,null,null,null,null,null,null,null,null,null,null,null,null,null,null,null,null,null,null,null,null,null,null,null,null,null,null,null,null,null,null,null,null,null,"COLDVSNA_REAGENT_ONE_RANGE"]
[null,null,null,null,null,null,null,null,null,null,null,null,null,null,null,null,null,null,null,null,null,null,null,null,null,null,null,null,null,null,null,null,null,null,null,null,null,null,null,null,null,null,null,null,null,null,"COLDVSNA_REAGENT_EMPTY_BASE_RANGE",null,null,null,null,null,null,null,null,null,null,null,null,null,null,null,null,null,null,null,null,null,null,null,null,null,null,null,null,null,"COLDVSNA_REAGENT_NO_ONE_RANGE"]
[null,null,null,null,null,null,null,null,null,null,null,null,null,"Является ли организация плательщиком НДС",null,null,null,null,null,null,null,null,null,null,null,null,null,null,null,null,null,null,null,null,null,null,null,null,null,null,null,null,null,null,null,null,"COLDVSNA_REAGENT_SINGLE_BASE_RANGE",null,null,null,null,null,null,null,null,null,null,null,null,null,null,null,null,null,null,null,null,null,null,null,null,null,null,null,null,null,"COLDVSNA_REAGENT_OTH_RANGE"]
[null,null,null,null,null,null,null,null,null,null,null,null,null,{"$f":"IF(CALC_IDENTIFIER=\"\",\"\",CALC_IDENTIFIER)","v":""},null,null,null,null,null,null,null,null,null,null,null,null,null,null,null,null,null,null,null,null,null,null,null,null,null,null,null,null,null,null,null,null,"COLDVSNA_REAGENT_TEMPLATE_RANGE",null,null,null,null,null,null,null,null,null,null,null,null,null,null,"COLDVSNA_REAGENT_EMPTY_TEMPLATE_RANGE",null,null,null,null,null,null,null,null,null,null,null,null,null,null,"COLDVSNA_REAGENT_NO_OTH_RANGE"]
[]
[]
[null,null,null,null,null,null,null,null,null,null,null,null,"1.1.1","Итого","тыс.руб.",null,null,null,null,null,null,null,null,null,null,null,null,null,null,null,null,{"$f":"AG2274+AH2274","v":0},{"$f":"SUM(AG2276,AG2313,AG2341,AG2595)","v":0},{"$f":"SUM(AH2276,AH2313,AH2341,AH2595)","v":0}]
[]
[null,null,null,null,null,null,null,null,null,null,null,null,"COAG","Коагулянты","тыс.руб.",null,null,null,null,null,null,null,null,null,null,null,null,null,null,null,null,{"$f":"AG2276+AH2276","v":0},{"$f":"SUMIF(ХВС.Р!$AO$28:$AO$63,ХВС.Р!$AO$27,ХВС.Р!AG$28:AG$63)","v":0},{"$f":"SUMIF(ХВС.Р!$AO$28:$AO$63,ХВС.Р!$AO$27,ХВС.Р!AH$28:AH$63)","v":0}]
[]
[null,null,null,null,null,null,null,null,null,null,null,null,"HDSFAL","гидроксохлоросульфат алюминия (коагулянт смешанного типа)","тыс.руб.",null,null,null,null,null,null,null,null,null,null,null,null,null,null,null,null,null,null,null,null,null,null,{"$f":"AM2278+AN2278","v":0},{"$f":"AM2279*AM2280/1000","v":0},{"$f":"AN2279*AN2280/1000","v":0}]
[null,null,null,null,null,null,null,null,null,null,null,null,{"$f":"M2278 & \".P\"","v":"HDSFAL.P"},"Цена за единицу","руб./ед.",null,null,null,null,null,null,null,null,null,null,null,null,null,null,null,null,null,null,null,null,null,null,{"$f":"IF(AL2280=0,0,AL2278*1000/AL2280)","v":0}]
[null,null,null,null,null,null,null,null,null,null,null,null,{"$f":"M2278 & \".V\"","v":"HDSFAL.V"},"Объём","ед.",null,null,null,null,null,null,null,null,null,null,null,null,null,null,null,null,null,null,null,null,null,null,{"$f":"AM2280+AN2280","v":0}]
[null,null,null,null,null,null,null,null,null,null,null,null,"FES","железный купорос","тыс.руб.",null,null,null,null,null,null,null,null,null,null,null,null,null,null,null,null,null,null,null,null,null,null,{"$f":"AM2281+AN2281","v":0},{"$f":"AM2282*AM2283/1000","v":0},{"$f":"AN2282*AN2283/1000","v":0}]
[null,null,null,null,null,null,null,null,null,null,null,null,{"$f":"M2281 & \".P\"","v":"FES.P"},"Цена за единицу","руб./ед.",null,null,null,null,null,null,null,null,null,null,null,null,null,null,null,null,null,null,null,null,null,null,{"$f":"IF(AL2283=0,0,AL2281*1000/AL2283)","v":0}]
[null,null,null,null,null,null,null,null,null,null,null,null,{"$f":"M2281 & \".V\"","v":"FES.V"},"Объём","ед.",null,null,null,null,null,null,null,null,null,null,null,null,null,null,null,null,null,null,null,null,null,null,{"$f":"AM2283+AN2283","v":0}]
[null,null,null,null,null,null,null,null,null,null,null,null,"OXCLAL","оксихлорид алюминия","тыс.руб.",null,null,null,null,null,null,null,null,null,null,null,null,null,null,null,null,null,null,null,null,null,null,{"$f":"AM2284+AN2284","v":0},{"$f":"AM2285*AM2286/1000","v":0},{"$f":"AN2285*AN2286/1000","v":0}]
[null,null,null,null,null,null,null,null,null,null,null,null,{"$f":"M2284 & \".P\"","v":"OXCLAL.P"},"Цена за единицу","руб./ед.",null,null,null,null,null,null,null,null,null,null,null,null,null,null,null,null,null,null,null,null,null,null,{"$f":"IF(AL2286=0,0,AL2284*1000/AL2286)","v":0}]
[null,null,null,null,null,null,null,null,null,null,null,null,{"$f":"M2284 & \".V\"","v":"OXCLAL.V"},"Объём","ед.",null,null,null,null,null,null,null,null,null,null,null,null,null,null,null,null,null,null,null,null,null,null,{"$f":"AM2286+AN2286","v":0}]
[null,null,null,null,null,null,null,null,null,null,null,null,"OXCLAL10","оксихлорид алюминия 10 %","тыс.руб.",null,null,null,null,null,null,null,null,null,null,null,null,null,null,null,null,null,null,null,null,null,null,{"$f":"AM2287+AN2287","v":0},{"$f":"AM2288*AM2289/1000","v":0},{"$f":"AN2288*AN2289/1000","v":0}]
[null,null,null,null,null,null,null,null,null,null,null,null,{"$f":"M2287 & \".P\"","v":"OXCLAL10.P"},"Цена за единицу","руб./ед.",null,null,null,null,null,null,null,null,null,null,null,null,null,null,null,null,null,null,null,null,null,null,{"$f":"IF(AL2289=0,0,AL2287*1000/AL2289)","v":0}]
[null,null,null,null,null,null,null,null,null,null,null,null,{"$f":"M2287 & \".V\"","v":"OXCLAL10.V"},"Объём","ед.",null,null,null,null,null,null,null,null,null,null,null,null,null,null,null,null,null,null,null,null,null,null,{"$f":"AM2289+AN2289","v":0}]
[null,null,null,null,null,null,null,null,null,null,null,null,"OXCLAL18","оксихлорид алюминия 18 %","тыс.руб.",null,null,null,null,null,null,null,null,null,null,null,null,null,null,null,null,null,null,null,null,null,null,{"$f":"AM2290+AN2290","v":0},{"$f":"AM2291*AM2292/1000","v":0},{"$f":"AN2291*AN2292/1000","v":0}]
[null,null,null,null,null,null,null,null,null,null,null,null,{"$f":"M2290 & \".P\"","v":"OXCLAL18.P"},"Цена за единицу","руб./ед.",null,null,null,null,null,null,null,null,null,null,null,null,null,null,null,null,null,null,null,null,null,null,{"$f":"IF(AL2292=0,0,AL2290*1000/AL2292)","v":0}]
[null,null,null,null,null,null,null,null,null,null,null,null,{"$f":"M2290 & \".V\"","v":"OXCLAL18.V"},"Объём","ед.",null,null,null,null,null,null,null,null,null,null,null,null,null,null,null,null,null,null,null,null,null,null,{"$f":"AM2292+AN2292","v":0}]
[null,null,null,null,null,null,null,null,null,null,null,null,"OXCLAL30","оксихлорид алюминия 30 %","тыс.руб.",null,null,null,null,null,null,null,null,null,null,null,null,null,null,null,null,null,null,null,null,null,null,{"$f":"AM2293+AN2293","v":0},{"$f":"AM2294*AM2295/1000","v":0},{"$f":"AN2294*AN2295/1000","v":0}]
[null,null,null,null,null,null,null,null,null,null,null,null,{"$f":"M2293 & \".P\"","v":"OXCLAL30.P"},"Цена за единицу","руб./ед.",null,null,null,null,null,null,null,null,null,null,null,null,null,null,null,null,null,null,null,null,null,null,{"$f":"IF(AL2295=0,0,AL2293*1000/AL2295)","v":0}]
[null,null,null,null,null,null,null,null,null,null,null,null,{"$f":"M2293 & \".V\"","v":"OXCLAL30.V"},"Объём","ед.",null,null,null,null,null,null,null,null,null,null,null,null,null,null,null,null,null,null,null,null,null,null,{"$f":"AM2295+AN2295","v":0}]
[null,null,null,null,null,null,null,null,null,null,null,null,"PLOXCLAL","полиоксихлорид алюминия ","тыс.руб.",null,null,null,null,null,null,null,null,null,null,null,null,null,null,null,null,null,null,null,null,null,null,{"$f":"AM2296+AN2296","v":0},{"$f":"AM2297*AM2298/1000","v":0},{"$f":"AN2297*AN2298/1000","v":0}]
[null,null,null,null,null,null,null,null,null,null,null,null,{"$f":"M2296 & \".P\"","v":"PLOXCLAL.P"},"Цена за единицу","руб./ед.",null,null,null,null,null,null,null,null,null,null,null,null,null,null,null,null,null,null,null,null,null,null,{"$f":"IF(AL2298=0,0,AL2296*1000/AL2298)","v":0}]
[null,null,null,null,null,null,null,null,null,null,null,null,{"$f":"M2296 & \".V\"","v":"PLOXCLAL.V"},"Объём","ед.",null,null,null,null,null,null,null,null,null,null,null,null,null,null,null,null,null,null,null,null,null,null,{"$f":"AM2298+AN2298","v":0}]
[null,null,null,null,null,null,null,null,null,null,null,null,"PLOXCLAL10","полиоксихлорид алюминия 10 %","тыс.руб.",null,null,null,null,null,null,null,null,null,null,null,null,null,null,null,null,null,null,null,null,null,null,{"$f":"AM2299+AN2299","v":0},{"$f":"AM2300*AM2301/1000","v":0},{"$f":"AN2300*AN2301/1000","v":0}]
[null,null,null,null,null,null,null,null,null,null,null,null,{"$f":"M2299 & \".P\"","v":"PLOXCLAL10.P"},"Цена за единицу","руб./ед.",null,null,null,null,null,null,null,null,null,null,null,null,null,null,null,null,null,null,null,null,null,null,{"$f":"IF(AL2301=0,0,AL2299*1000/AL2301)","v":0}]
[null,null,null,null,null,null,null,null,null,null,null,null,{"$f":"M2299 & \".V\"","v":"PLOXCLAL10.V"},"Объём","ед.",null,null,null,null,null,null,null,null,null,null,null,null,null,null,null,null,null,null,null,null,null,null,{"$f":"AM2301+AN2301","v":0}]
[null,null,null,null,null,null,null,null,null,null,null,null,"PLOXCLAL18","полиоксихлорид алюминия 18 %","тыс.руб.",null,null,null,null,null,null,null,null,null,null,null,null,null,null,null,null,null,null,null,null,null,null,{"$f":"AM2302+AN2302","v":0},{"$f":"AM2303*AM2304/1000","v":0},{"$f":"AN2303*AN2304/1000","v":0}]
[null,null,null,null,null,null,null,null,null,null,null,null,{"$f":"M2302 & \".P\"","v":"PLOXCLAL18.P"},"Цена за единицу","руб./ед.",null,null,null,null,null,null,null,null,null,null,null,null,null,null,null,null,null,null,null,null,null,null,{"$f":"IF(AL2304=0,0,AL2302*1000/AL2304)","v":0}]
[null,null,null,null,null,null,null,null,null,null,null,null,{"$f":"M2302 & \".V\"","v":"PLOXCLAL18.V"},"Объём","ед.",null,null,null,null,null,null,null,null,null,null,null,null,null,null,null,null,null,null,null,null,null,null,{"$f":"AM2304+AN2304","v":0}]
[null,null,null,null,null,null,null,null,null,null,null,null,"PLOXCLAL30","полиоксихлорид алюминия 30 %","тыс.руб.",null,null,null,null,null,null,null,null,null,null,null,null,null,null,null,null,null,null,null,null,null,null,{"$f":"AM2305+AN2305","v":0},{"$f":"AM2306*AM2307/1000","v":0},{"$f":"AN2306*AN2307/1000","v":0}]
[null,null,null,null,null,null,null,null,null,null,null,null,{"$f":"M2305 & \".P\"","v":"PLOXCLAL30.P"},"Цена за единицу","руб./ед.",null,null,null,null,null,null,null,null,null,null,null,null,null,null,null,null,null,null,null,null,null,null,{"$f":"IF(AL2307=0,0,AL2305*1000/AL2307)","v":0}]
[null,null,null,null,null,null,null,null,null,null,null,null,{"$f":"M2305 & \".V\"","v":"PLOXCLAL30.V"},"Объём","ед.",null,null,null,null,null,null,null,null,null,null,null,null,null,null,null,null,null,null,null,null,null,null,{"$f":"AM2307+AN2307","v":0}]
[null,null,null,null,null,null,null,null,null,null,null,null,"SFAL","сульфат алюминия ","тыс.руб.",null,null,null,null,null,null,null,null,null,null,null,null,null,null,null,null,null,null,null,null,null,null,{"$f":"AM2308+AN2308","v":0},{"$f":"AM2309*AM2310/1000","v":0},{"$f":"AN2309*AN2310/1000","v":0}]
[null,null,null,null,null,null,null,null,null,null,null,null,{"$f":"M2308 & \".P\"","v":"SFAL.P"},"Цена за единицу","руб./ед.",null,null,null,null,null,null,null,null,null,null,null,null,null,null,null,null,null,null,null,null,null,null,{"$f":"IF(AL2310=0,0,AL2308*1000/AL2310)","v":0}]
[null,null,null,null,null,null,null,null,null,null,null,null,{"$f":"M2308 & \".V\"","v":"SFAL.V"},"Объём","ед.",null,null,null,null,null,null,null,null,null,null,null,null,null,null,null,null,null,null,null,null,null,null,{"$f":"AM2310+AN2310","v":0}]
[null,null,null,null,null,null,null,null,null,null,null,null,"OTH","прочие","тыс.руб.",null,null,null,null,null,null,null,null,null,null,null,null,null,null,null,null,null,null,null,null,null,null,{"$f":"AM2311+AN2311","v":0}]
[]
[null,null,null,null,null,null,null,null,null,null,null,null,"FLOC","Флокулянты","тыс.руб.",null,null,null,null,null,null,null,null,null,null,null,null,null,null,null,null,{"$f":"AG2313+AH2313","v":0},{"$f":"SUMIF(ХВС.Р!$AO$65:$AO$91,ХВС.Р!$AO$64,ХВС.Р!AG$65:AG$91)","v":0},{"$f":"SUMIF(ХВС.Р!$AO$65:$AO$91,ХВС.Р!$AO$64,ХВС.Р!AH$65:AH$91)","v":0}]
[]
[null,null,null,null,null,null,null,null,null,null,null,null,"MGFLK","Магнафлок","тыс.руб.",null,null,null,null,null,null,null,null,null,null,null,null,null,null,null,null,null,null,null,null,null,null,{"$f":"AM2315+AN2315","v":0},{"$f":"AM2316*AM2317/1000","v":0},{"$f":"AN2316*AN2317/1000","v":0}]
[null,null,null,null,null,null,null,null,null,null,null,null,{"$f":"M2315 & \".P\"","v":"MGFLK.P"},"Цена за единицу","руб./ед.",null,null,null,null,null,null,null,null,null,null,null,null,null,null,null,null,null,null,null,null,null,null,{"$f":"IF(AL2317=0,0,AL2315*1000/AL2317)","v":0}]
[null,null,null,null,null,null,null,null,null,null,null,null,{"$f":"M2315 & \".V\"","v":"MGFLK.V"},"Объём","ед.",null,null,null,null,null,null,null,null,null,null,null,null,null,null,null,null,null,null,null,null,null,null,{"$f":"AM2317+AN2317","v":0}]
[null,null,null,null,null,null,null,null,null,null,null,null,"PRSTL","Праестол","тыс.руб.",null,null,null,null,null,null,null,null,null,null,null,null,null,null,null,null,null,null,null,null,null,null,{"$f":"AM2318+AN2318","v":0},{"$f":"AM2319*AM2320/1000","v":0},{"$f":"AN2319*AN2320/1000","v":0}]
[null,null,null,null,null,null,null,null,null,null,null,null,{"$f":"M2318 & \".P\"","v":"PRSTL.P"},"Цена за единицу","руб./ед.",null,null,null,null,null,null,null,null,null,null,null,null,null,null,null,null,null,null,null,null,null,null,{"$f":"IF(AL2320=0,0,AL2318*1000/AL2320)","v":0}]
[null,null,null,null,null,null,null,null,null,null,null,null,{"$f":"M2318 & \".V\"","v":"PRSTL.V"},"Объём","ед.",null,null,null,null,null,null,null,null,null,null,null,null,null,null,null,null,null,null,null,null,null,null,{"$f":"AM2320+AN2320","v":0}]
[null,null,null,null,null,null,null,null,null,null,null,null,"PRSTL853","Праестол 853 BC","тыс.руб.",null,null,null,null,null,null,null,null,null,null,null,null,null,null,null,null,null,null,null,null,null,null,{"$f":"AM2321+AN2321","v":0},{"$f":"AM2322*AM2323/1000","v":0},{"$f":"AN2322*AN2323/1000","v":0}]
[null,null,null,null,null,null,null,null,null,null,null,null,{"$f":"M2321 & \".P\"","v":"PRSTL853.P"},"Цена за единицу","руб./ед.",null,null,null,null,null,null,null,null,null,null,null,null,null,null,null,null,null,null,null,null,null,null,{"$f":"IF(AL2323=0,0,AL2321*1000/AL2323)","v":0}]
[null,null,null,null,null,null,null,null,null,null,null,null,{"$f":"M2321 & \".V\"","v":"PRSTL853.V"},"Объём","ед.",null,null,null,null,null,null,null,null,null,null,null,null,null,null,null,null,null,null,null,null,null,null,{"$f":"AM2323+AN2323","v":0}]
[null,null,null,null,null,null,null,null,null,null,null,null,"PRSTL650","Праестол 650 BC","тыс.руб.",null,null,null,null,null,null,null,null,null,null,null,null,null,null,null,null,null,null,null,null,null,null,{"$f":"AM2324+AN2324","v":0},{"$f":"AM2325*AM2326/1000","v":0},{"$f":"AN2325*AN2326/1000","v":0}]
[null,null,null,null,null,null,null,null,null,null,null,null,{"$f":"M2324 & \".P\"","v":"PRSTL650.P"},"Цена за единицу","руб./ед.",null,null,null,null,null,null,null,null,null,null,null,null,null,null,null,null,null,null,null,null,null,null,{"$f":"IF(AL2326=0,0,AL2324*1000/AL2326)","v":0}]
[null,null,null,null,null,null,null,null,null,null,null,null,{"$f":"M2324 & \".V\"","v":"PRSTL650.V"},"Объём","ед.",null,null,null,null,null,null,null,null,null,null,null,null,null,null,null,null,null,null,null,null,null,null,{"$f":"AM2326+AN2326","v":0}]
[null,null,null,null,null,null,null,null,null,null,null,null,"PRSTL2515","Праестол 2515 TR","тыс.руб.",null,null,null,null,null,null,null,null,null,null,null,null,null,null,null,null,null,null,null,null,null,null,{"$f":"AM2327+AN2327","v":0},{"$f":"AM2328*AM2329/1000","v":0},{"$f":"AN2328*AN2329/1000","v":0}]
[null,null,null,null,null,null,null,null,null,null,null,null,{"$f":"M2327 & \".P\"","v":"PRSTL2515.P"},"Цена за единицу","руб./ед.",null,null,null,null,null,null,null,null,null,null,null,null,null,null,null,null,null,null,null,null,null,null,{"$f":"IF(AL2329=0,0,AL2327*1000/AL2329)","v":0}]
[null,null,null,null,null,null,null,null,null,null,null,null,{"$f":"M2327 & \".V\"","v":"PRSTL2515.V"},"Объём","ед.",null,null,null,null,null,null,null,null,null,null,null,null,null,null,null,null,null,null,null,null,null,null,{"$f":"AM2329+AN2329","v":0}]
[null,null,null,null,null,null,null,null,null,null,null,null,"GRLIFEK47","Гринлайф К 47","тыс.руб.",null,null,null,null,null,null,null,null,null,null,null,null,null,null,null,null,null,null,null,null,null,null,{"$f":"AM2330+AN2330","v":0},{"$f":"AM2331*AM2332/1000","v":0},{"$f":"AN2331*AN2332/1000","v":0}]
[null,null,null,null,null,null,null,null,null,null,null,null,{"$f":"M2330 & \".P\"","v":"GRLIFEK47.P"},"Цена за единицу","руб./ед.",null,null,null,null,null,null,null,null,null,null,null,null,null,null,null,null,null,null,null,null,null,null,{"$f":"IF(AL2332=0,0,AL2330*1000/AL2332)","v":0}]
[null,null,null,null,null,null,null,null,null,null,null,null,{"$f":"M2330 & \".V\"","v":"GRLIFEK47.V"},"Объём","ед.",null,null,null,null,null,null,null,null,null,null,null,null,null,null,null,null,null,null,null,null,null,null,{"$f":"AM2332+AN2332","v":0}]
[null,null,null,null,null,null,null,null,null,null,null,null,"GRLIFEK41","Гринлайф К 41","тыс.руб.",null,null,null,null,null,null,null,null,null,null,null,null,null,null,null,null,null,null,null,null,null,null,{"$f":"AM2333+AN2333","v":0},{"$f":"AM2334*AM2335/1000","v":0},{"$f":"AN2334*AN2335/1000","v":0}]
[null,null,null,null,null,null,null,null,null,null,null,null,{"$f":"M2333 & \".P\"","v":"GRLIFEK41.P"},"Цена за единицу","руб./ед.",null,null,null,null,null,null,null,null,null,null,null,null,null,null,null,null,null,null,null,null,null,null,{"$f":"IF(AL2335=0,0,AL2333*1000/AL2335)","v":0}]
[null,null,null,null,null,null,null,null,null,null,null,null,{"$f":"M2333 & \".V\"","v":"GRLIFEK41.V"},"Объём","ед.",null,null,null,null,null,null,null,null,null,null,null,null,null,null,null,null,null,null,null,null,null,null,{"$f":"AM2335+AN2335","v":0}]
[null,null,null,null,null,null,null,null,null,null,null,null,"GRLIFEA10PV","Гринлайф А 10 ПВ","тыс.руб.",null,null,null,null,null,null,null,null,null,null,null,null,null,null,null,null,null,null,null,null,null,null,{"$f":"AM2336+AN2336","v":0},{"$f":"AM2337*AM2338/1000","v":0},{"$f":"AN2337*AN2338/1000","v":0}]
[null,null,null,null,null,null,null,null,null,null,null,null,{"$f":"M2336 & \".P\"","v":"GRLIFEA10PV.P"},"Цена за единицу","руб./ед.",null,null,null,null,null,null,null,null,null,null,null,null,null,null,null,null,null,null,null,null,null,null,{"$f":"IF(AL2338=0,0,AL2336*1000/AL2338)","v":0}]
[null,null,null,null,null,null,null,null,null,null,null,null,{"$f":"M2336 & \".V\"","v":"GRLIFEA10PV.V"},"Объём","ед.",null,null,null,null,null,null,null,null,null,null,null,null,null,null,null,null,null,null,null,null,null,null,{"$f":"AM2338+AN2338","v":0}]
[null,null,null,null,null,null,null,null,null,null,null,null,"OTH","прочие","тыс.руб.",null,null,null,null,null,null,null,null,null,null,null,null,null,null,null,null,null,null,null,null,null,null,{"$f":"AM2339+AN2339","v":0}]
[]
[null,null,null,null,null,null,null,null,null,null,null,null,"REAG","Реагенты","тыс.руб.",null,null,null,null,null,null,null,null,null,null,null,null,null,null,null,null,{"$f":"AG2341+AH2341","v":0},{"$f":"SUMIF(ХВС.Р!$AO$93:$AO$344,ХВС.Р!$AO$92,ХВС.Р!AG$93:AG$344)","v":0},{"$f":"SUMIF(ХВС.Р!$AO$93:$AO$344,ХВС.Р!$AO$92,ХВС.Р!AH$93:AH$344)","v":0}]
[]
[null,null,null,null,null,null,null,null,null,null,null,null,"AGRP","агар питательный","тыс.руб.",null,null,null,null,null,null,null,null,null,null,null,null,null,null,null,null,null,null,null,null,null,null,{"$f":"AM2343+AN2343","v":0},{"$f":"AM2344*AM2345/1000","v":0},{"$f":"AN2344*AN2345/1000","v":0}]
[null,null,null,null,null,null,null,null,null,null,null,null,{"$f":"M2343 & \".P\"","v":"AGRP.P"},"Цена за единицу","руб./ед.",null,null,null,null,null,null,null,null,null,null,null,null,null,null,null,null,null,null,null,null,null,null,{"$f":"IF(AL2345=0,0,AL2343*1000/AL2345)","v":0}]
[null,null,null,null,null,null,null,null,null,null,null,null,{"$f":"M2343 & \".V\"","v":"AGRP.V"},"Объём","ед.",null,null,null,null,null,null,null,null,null,null,null,null,null,null,null,null,null,null,null,null,null,null,{"$f":"AM2345+AN2345","v":0}]
[null,null,null,null,null,null,null,null,null,null,null,null,"AGRE","агар Эндо","тыс.руб.",null,null,null,null,null,null,null,null,null,null,null,null,null,null,null,null,null,null,null,null,null,null,{"$f":"AM2346+AN2346","v":0},{"$f":"AM2347*AM2348/1000","v":0},{"$f":"AN2347*AN2348/1000","v":0}]
[null,null,null,null,null,null,null,null,null,null,null,null,{"$f":"M2346 & \".P\"","v":"AGRE.P"},"Цена за единицу","руб./ед.",null,null,null,null,null,null,null,null,null,null,null,null,null,null,null,null,null,null,null,null,null,null,{"$f":"IF(AL2348=0,0,AL2346*1000/AL2348)","v":0}]
[null,null,null,null,null,null,null,null,null,null,null,null,{"$f":"M2346 & \".V\"","v":"AGRE.V"},"Объём","ед.",null,null,null,null,null,null,null,null,null,null,null,null,null,null,null,null,null,null,null,null,null,null,{"$f":"AM2348+AN2348","v":0}]
[null,null,null,null,null,null,null,null,null,null,null,null,"ALOX","алюминий окись","тыс.руб.",null,null,null,null,null,null,null,null,null,null,null,null,null,null,null,null,null,null,null,null,null,null,{"$f":"AM2349+AN2349","v":0},{"$f":"AM2350*AM2351/1000","v":0},{"$f":"AN2350*AN2351/1000","v":0}]
[null,null,null,null,null,null,null,null,null,null,null,null,{"$f":"M2349 & \".P\"","v":"ALOX.P"},"Цена за единицу","руб./ед.",null,null,null,null,null,null,null,null,null,null,null,null,null,null,null,null,null,null,null,null,null,null,{"$f":"IF(AL2351=0,0,AL2349*1000/AL2351)","v":0}]
[null,null,null,null,null,null,null,null,null,null,null,null,{"$f":"M2349 & \".V\"","v":"ALOX.V"},"Объём","ед.",null,null,null,null,null,null,null,null,null,null,null,null,null,null,null,null,null,null,null,null,null,null,{"$f":"AM2351+AN2351","v":0}]
[null,null,null,null,null,null,null,null,null,null,null,null,"ALS","алюминий сернокислый","тыс.руб.",null,null,null,null,null,null,null,null,null,null,null,null,null,null,null,null,null,null,null,null,null,null,{"$f":"AM2352+AN2352","v":0},{"$f":"AM2353*AM2354/1000","v":0},{"$f":"AN2353*AN2354/1000","v":0}]
[null,null,null,null,null,null,null,null,null,null,null,null,{"$f":"M2352 & \".P\"","v":"ALS.P"},"Цена за единицу","руб./ед.",null,null,null,null,null,null,null,null,null,null,null,null,null,null,null,null,null,null,null,null,null,null,{"$f":"IF(AL2354=0,0,AL2352*1000/AL2354)","v":0}]
[null,null,null,null,null,null,null,null,null,null,null,null,{"$f":"M2352 & \".V\"","v":"ALS.V"},"Объём","ед.",null,null,null,null,null,null,null,null,null,null,null,null,null,null,null,null,null,null,null,null,null,null,{"$f":"AM2354+AN2354","v":0}]
[null,null,null,null,null,null,null,null,null,null,null,null,"AM","аммиак","тыс.руб.",null,null,null,null,null,null,null,null,null,null,null,null,null,null,null,null,null,null,null,null,null,null,{"$f":"AM2355+AN2355","v":0},{"$f":"AM2356*AM2357/1000","v":0},{"$f":"AN2356*AN2357/1000","v":0}]
[null,null,null,null,null,null,null,null,null,null,null,null,{"$f":"M2355 & \".P\"","v":"AM.P"},"Цена за единицу","руб./ед.",null,null,null,null,null,null,null,null,null,null,null,null,null,null,null,null,null,null,null,null,null,null,{"$f":"IF(AL2357=0,0,AL2355*1000/AL2357)","v":0}]
[null,null,null,null,null,null,null,null,null,null,null,null,{"$f":"M2355 & \".V\"","v":"AM.V"},"Объём","ед.",null,null,null,null,null,null,null,null,null,null,null,null,null,null,null,null,null,null,null,null,null,null,{"$f":"AM2357+AN2357","v":0}]
[null,null,null,null,null,null,null,null,null,null,null,null,"AMW","аммиачная вода","тыс.руб.",null,null,null,null,null,null,null,null,null,null,null,null,null,null,null,null,null,null,null,null,null,null,{"$f":"AM2358+AN2358","v":0},{"$f":"AM2359*AM2360/1000","v":0},{"$f":"AN2359*AN2360/1000","v":0}]
[null,null,null,null,null,null,null,null,null,null,null,null,{"$f":"M2358 & \".P\"","v":"AMW.P"},"Цена за единицу","руб./ед.",null,null,null,null,null,null,null,null,null,null,null,null,null,null,null,null,null,null,null,null,null,null,{"$f":"IF(AL2360=0,0,AL2358*1000/AL2360)","v":0}]
[null,null,null,null,null,null,null,null,null,null,null,null,{"$f":"M2358 & \".V\"","v":"AMW.V"},"Объём","ед.",null,null,null,null,null,null,null,null,null,null,null,null,null,null,null,null,null,null,null,null,null,null,{"$f":"AM2360+AN2360","v":0}]
[null,null,null,null,null,null,null,null,null,null,null,null,"AMN","аммоний","тыс.руб.",null,null,null,null,null,null,null,null,null,null,null,null,null,null,null,null,null,null,null,null,null,null,{"$f":"AM2361+AN2361","v":0},{"$f":"AM2362*AM2363/1000","v":0},{"$f":"AN2362*AN2363/1000","v":0}]
[null,null,null,null,null,null,null,null,null,null,null,null,{"$f":"M2361 & \".P\"","v":"AMN.P"},"Цена за единицу","руб./ед.",null,null,null,null,null,null,null,null,null,null,null,null,null,null,null,null,null,null,null,null,null,null,{"$f":"IF(AL2363=0,0,AL2361*1000/AL2363)","v":0}]
[null,null,null,null,null,null,null,null,null,null,null,null,{"$f":"M2361 & \".V\"","v":"AMN.V"},"Объём","ед.",null,null,null,null,null,null,null,null,null,null,null,null,null,null,null,null,null,null,null,null,null,null,{"$f":"AM2363+AN2363","v":0}]
[null,null,null,null,null,null,null,null,null,null,null,null,"AMNCL","аммоний хлористый","тыс.руб.",null,null,null,null,null,null,null,null,null,null,null,null,null,null,null,null,null,null,null,null,null,null,{"$f":"AM2364+AN2364","v":0},{"$f":"AM2365*AM2366/1000","v":0},{"$f":"AN2365*AN2366/1000","v":0}]
[null,null,null,null,null,null,null,null,null,null,null,null,{"$f":"M2364 & \".P\"","v":"AMNCL.P"},"Цена за единицу","руб./ед.",null,null,null,null,null,null,null,null,null,null,null,null,null,null,null,null,null,null,null,null,null,null,{"$f":"IF(AL2366=0,0,AL2364*1000/AL2366)","v":0}]
[null,null,null,null,null,null,null,null,null,null,null,null,{"$f":"M2364 & \".V\"","v":"AMNCL.V"},"Объём","ед.",null,null,null,null,null,null,null,null,null,null,null,null,null,null,null,null,null,null,null,null,null,null,{"$f":"AM2366+AN2366","v":0}]
[null,null,null,null,null,null,null,null,null,null,null,null,"BACL","барий хлористый","тыс.руб.",null,null,null,null,null,null,null,null,null,null,null,null,null,null,null,null,null,null,null,null,null,null,{"$f":"AM2367+AN2367","v":0},{"$f":"AM2368*AM2369/1000","v":0},{"$f":"AN2368*AN2369/1000","v":0}]
[null,null,null,null,null,null,null,null,null,null,null,null,{"$f":"M2367 & \".P\"","v":"BACL.P"},"Цена за единицу","руб./ед.",null,null,null,null,null,null,null,null,null,null,null,null,null,null,null,null,null,null,null,null,null,null,{"$f":"IF(AL2369=0,0,AL2367*1000/AL2369)","v":0}]
[null,null,null,null,null,null,null,null,null,null,null,null,{"$f":"M2367 & \".V\"","v":"BACL.V"},"Объём","ед.",null,null,null,null,null,null,null,null,null,null,null,null,null,null,null,null,null,null,null,null,null,null,{"$f":"AM2369+AN2369","v":0}]
[null,null,null,null,null,null,null,null,null,null,null,null,"BIOX","биоксимин","тыс.руб.",null,null,null,null,null,null,null,null,null,null,null,null,null,null,null,null,null,null,null,null,null,null,{"$f":"AM2370+AN2370","v":0},{"$f":"AM2371*AM2372/1000","v":0},{"$f":"AN2371*AN2372/1000","v":0}]
[null,null,null,null,null,null,null,null,null,null,null,null,{"$f":"M2370 & \".P\"","v":"BIOX.P"},"Цена за единицу","руб./ед.",null,null,null,null,null,null,null,null,null,null,null,null,null,null,null,null,null,null,null,null,null,null,{"$f":"IF(AL2372=0,0,AL2370*1000/AL2372)","v":0}]
[null,null,null,null,null,null,null,null,null,null,null,null,{"$f":"M2370 & \".V\"","v":"BIOX.V"},"Объём","ед.",null,null,null,null,null,null,null,null,null,null,null,null,null,null,null,null,null,null,null,null,null,null,{"$f":"AM2372+AN2372","v":0}]
[null,null,null,null,null,null,null,null,null,null,null,null,"BRFNL","бромфеноловый синий","тыс.руб.",null,null,null,null,null,null,null,null,null,null,null,null,null,null,null,null,null,null,null,null,null,null,{"$f":"AM2373+AN2373","v":0},{"$f":"AM2374*AM2375/1000","v":0},{"$f":"AN2374*AN2375/1000","v":0}]
[null,null,null,null,null,null,null,null,null,null,null,null,{"$f":"M2373 & \".P\"","v":"BRFNL.P"},"Цена за единицу","руб./ед.",null,null,null,null,null,null,null,null,null,null,null,null,null,null,null,null,null,null,null,null,null,null,{"$f":"IF(AL2375=0,0,AL2373*1000/AL2375)","v":0}]
[null,null,null,null,null,null,null,null,null,null,null,null,{"$f":"M2373 & \".V\"","v":"BRFNL.V"},"Объём","ед.",null,null,null,null,null,null,null,null,null,null,null,null,null,null,null,null,null,null,null,null,null,null,{"$f":"AM2375+AN2375","v":0}]
[null,null,null,null,null,null,null,null,null,null,null,null,"HDOX","водорода перекись","тыс.руб.",null,null,null,null,null,null,null,null,null,null,null,null,null,null,null,null,null,null,null,null,null,null,{"$f":"AM2376+AN2376","v":0},{"$f":"AM2377*AM2378/1000","v":0},{"$f":"AN2377*AN2378/1000","v":0}]
[null,null,null,null,null,null,null,null,null,null,null,null,{"$f":"M2376 & \".P\"","v":"HDOX.P"},"Цена за единицу","руб./ед.",null,null,null,null,null,null,null,null,null,null,null,null,null,null,null,null,null,null,null,null,null,null,{"$f":"IF(AL2378=0,0,AL2376*1000/AL2378)","v":0}]
[null,null,null,null,null,null,null,null,null,null,null,null,{"$f":"M2376 & \".V\"","v":"HDOX.V"},"Объём","ед.",null,null,null,null,null,null,null,null,null,null,null,null,null,null,null,null,null,null,null,null,null,null,{"$f":"AM2378+AN2378","v":0}]
[null,null,null,null,null,null,null,null,null,null,null,null,"GEXN","гексан","тыс.руб.",null,null,null,null,null,null,null,null,null,null,null,null,null,null,null,null,null,null,null,null,null,null,{"$f":"AM2379+AN2379","v":0},{"$f":"AM2380*AM2381/1000","v":0},{"$f":"AN2380*AN2381/1000","v":0}]
[null,null,null,null,null,null,null,null,null,null,null,null,{"$f":"M2379 & \".P\"","v":"GEXN.P"},"Цена за единицу","руб./ед.",null,null,null,null,null,null,null,null,null,null,null,null,null,null,null,null,null,null,null,null,null,null,{"$f":"IF(AL2381=0,0,AL2379*1000/AL2381)","v":0}]
[null,null,null,null,null,null,null,null,null,null,null,null,{"$f":"M2379 & \".V\"","v":"GEXN.V"},"Объём","ед.",null,null,null,null,null,null,null,null,null,null,null,null,null,null,null,null,null,null,null,null,null,null,{"$f":"AM2381+AN2381","v":0}]
[null,null,null,null,null,null,null,null,null,null,null,null,"HDOXCL","гидроксиламин солянокислый","тыс.руб.",null,null,null,null,null,null,null,null,null,null,null,null,null,null,null,null,null,null,null,null,null,null,{"$f":"AM2382+AN2382","v":0},{"$f":"AM2383*AM2384/1000","v":0},{"$f":"AN2383*AN2384/1000","v":0}]
[null,null,null,null,null,null,null,null,null,null,null,null,{"$f":"M2382 & \".P\"","v":"HDOXCL.P"},"Цена за единицу","руб./ед.",null,null,null,null,null,null,null,null,null,null,null,null,null,null,null,null,null,null,null,null,null,null,{"$f":"IF(AL2384=0,0,AL2382*1000/AL2384)","v":0}]
[null,null,null,null,null,null,null,null,null,null,null,null,{"$f":"M2382 & \".V\"","v":"HDOXCL.V"},"Объём","ед.",null,null,null,null,null,null,null,null,null,null,null,null,null,null,null,null,null,null,null,null,null,null,{"$f":"AM2384+AN2384","v":0}]
[null,null,null,null,null,null,null,null,null,null,null,null,"HDCLCA","гидрохлорид кальция","тыс.руб.",null,null,null,null,null,null,null,null,null,null,null,null,null,null,null,null,null,null,null,null,null,null,{"$f":"AM2385+AN2385","v":0},{"$f":"AM2386*AM2387/1000","v":0},{"$f":"AN2386*AN2387/1000","v":0}]
[null,null,null,null,null,null,null,null,null,null,null,null,{"$f":"M2385 & \".P\"","v":"HDCLCA.P"},"Цена за единицу","руб./ед.",null,null,null,null,null,null,null,null,null,null,null,null,null,null,null,null,null,null,null,null,null,null,{"$f":"IF(AL2387=0,0,AL2385*1000/AL2387)","v":0}]
[null,null,null,null,null,null,null,null,null,null,null,null,{"$f":"M2385 & \".V\"","v":"HDCLCA.V"},"Объём","ед.",null,null,null,null,null,null,null,null,null,null,null,null,null,null,null,null,null,null,null,null,null,null,{"$f":"AM2387+AN2387","v":0}]
[null,null,null,null,null,null,null,null,null,null,null,null,"HPCLCA","гипохлорит кальция","тыс.руб.",null,null,null,null,null,null,null,null,null,null,null,null,null,null,null,null,null,null,null,null,null,null,{"$f":"AM2388+AN2388","v":0},{"$f":"AM2389*AM2390/1000","v":0},{"$f":"AN2389*AN2390/1000","v":0}]
[null,null,null,null,null,null,null,null,null,null,null,null,{"$f":"M2388 & \".P\"","v":"HPCLCA.P"},"Цена за единицу","руб./ед.",null,null,null,null,null,null,null,null,null,null,null,null,null,null,null,null,null,null,null,null,null,null,{"$f":"IF(AL2390=0,0,AL2388*1000/AL2390)","v":0}]
[null,null,null,null,null,null,null,null,null,null,null,null,{"$f":"M2388 & \".V\"","v":"HPCLCA.V"},"Объём","ед.",null,null,null,null,null,null,null,null,null,null,null,null,null,null,null,null,null,null,null,null,null,null,{"$f":"AM2390+AN2390","v":0}]
[null,null,null,null,null,null,null,null,null,null,null,null,"HPCLNA","гипохлорит натрия","тыс.руб.",null,null,null,null,null,null,null,null,null,null,null,null,null,null,null,null,null,null,null,null,null,null,{"$f":"AM2391+AN2391","v":0},{"$f":"AM2392*AM2393/1000","v":0},{"$f":"AN2392*AN2393/1000","v":0}]
[null,null,null,null,null,null,null,null,null,null,null,null,{"$f":"M2391 & \".P\"","v":"HPCLNA.P"},"Цена за единицу","руб./ед.",null,null,null,null,null,null,null,null,null,null,null,null,null,null,null,null,null,null,null,null,null,null,{"$f":"IF(AL2393=0,0,AL2391*1000/AL2393)","v":0}]
[null,null,null,null,null,null,null,null,null,null,null,null,{"$f":"M2391 & \".V\"","v":"HPCLNA.V"},"Объём","ед.",null,null,null,null,null,null,null,null,null,null,null,null,null,null,null,null,null,null,null,null,null,null,{"$f":"AM2393+AN2393","v":0}]
[null,null,null,null,null,null,null,null,null,null,null,null,"GLC","глицерин","тыс.руб.",null,null,null,null,null,null,null,null,null,null,null,null,null,null,null,null,null,null,null,null,null,null,{"$f":"AM2394+AN2394","v":0},{"$f":"AM2395*AM2396/1000","v":0},{"$f":"AN2395*AN2396/1000","v":0}]
[null,null,null,null,null,null,null,null,null,null,null,null,{"$f":"M2394 & \".P\"","v":"GLC.P"},"Цена за единицу","руб./ед.",null,null,null,null,null,null,null,null,null,null,null,null,null,null,null,null,null,null,null,null,null,null,{"$f":"IF(AL2396=0,0,AL2394*1000/AL2396)","v":0}]
[null,null,null,null,null,null,null,null,null,null,null,null,{"$f":"M2394 & \".V\"","v":"GLC.V"},"Объём","ед.",null,null,null,null,null,null,null,null,null,null,null,null,null,null,null,null,null,null,null,null,null,null,{"$f":"AM2396+AN2396","v":0}]
[null,null,null,null,null,null,null,null,null,null,null,null,"DFNLCD","дифенилкарбазид","тыс.руб.",null,null,null,null,null,null,null,null,null,null,null,null,null,null,null,null,null,null,null,null,null,null,{"$f":"AM2397+AN2397","v":0},{"$f":"AM2398*AM2399/1000","v":0},{"$f":"AN2398*AN2399/1000","v":0}]
[null,null,null,null,null,null,null,null,null,null,null,null,{"$f":"M2397 & \".P\"","v":"DFNLCD.P"},"Цена за единицу","руб./ед.",null,null,null,null,null,null,null,null,null,null,null,null,null,null,null,null,null,null,null,null,null,null,{"$f":"IF(AL2399=0,0,AL2397*1000/AL2399)","v":0}]
[null,null,null,null,null,null,null,null,null,null,null,null,{"$f":"M2397 & \".V\"","v":"DFNLCD.V"},"Объём","ед.",null,null,null,null,null,null,null,null,null,null,null,null,null,null,null,null,null,null,null,null,null,null,{"$f":"AM2399+AN2399","v":0}]
[null,null,null,null,null,null,null,null,null,null,null,null,"DFNLCN","дифенилкарбазон","тыс.руб.",null,null,null,null,null,null,null,null,null,null,null,null,null,null,null,null,null,null,null,null,null,null,{"$f":"AM2400+AN2400","v":0},{"$f":"AM2401*AM2402/1000","v":0},{"$f":"AN2401*AN2402/1000","v":0}]
[null,null,null,null,null,null,null,null,null,null,null,null,{"$f":"M2400 & \".P\"","v":"DFNLCN.P"},"Цена за единицу","руб./ед.",null,null,null,null,null,null,null,null,null,null,null,null,null,null,null,null,null,null,null,null,null,null,{"$f":"IF(AL2402=0,0,AL2400*1000/AL2402)","v":0}]
[null,null,null,null,null,null,null,null,null,null,null,null,{"$f":"M2400 & \".V\"","v":"DFNLCN.V"},"Объём","ед.",null,null,null,null,null,null,null,null,null,null,null,null,null,null,null,null,null,null,null,null,null,null,{"$f":"AM2402+AN2402","v":0}]
[null,null,null,null,null,null,null,null,null,null,null,null,"FES","железо сернокислое","тыс.руб.",null,null,null,null,null,null,null,null,null,null,null,null,null,null,null,null,null,null,null,null,null,null,{"$f":"AM2403+AN2403","v":0},{"$f":"AM2404*AM2405/1000","v":0},{"$f":"AN2404*AN2405/1000","v":0}]
[null,null,null,null,null,null,null,null,null,null,null,null,{"$f":"M2403 & \".P\"","v":"FES.P"},"Цена за единицу","руб./ед.",null,null,null,null,null,null,null,null,null,null,null,null,null,null,null,null,null,null,null,null,null,null,{"$f":"IF(AL2405=0,0,AL2403*1000/AL2405)","v":0}]
[null,null,null,null,null,null,null,null,null,null,null,null,{"$f":"M2403 & \".V\"","v":"FES.V"},"Объём","ед.",null,null,null,null,null,null,null,null,null,null,null,null,null,null,null,null,null,null,null,null,null,null,{"$f":"AM2405+AN2405","v":0}]
[null,null,null,null,null,null,null,null,null,null,null,null,"FECL","железо трёххлористое","тыс.руб.",null,null,null,null,null,null,null,null,null,null,null,null,null,null,null,null,null,null,null,null,null,null,{"$f":"AM2406+AN2406","v":0},{"$f":"AM2407*AM2408/1000","v":0},{"$f":"AN2407*AN2408/1000","v":0}]
[null,null,null,null,null,null,null,null,null,null,null,null,{"$f":"M2406 & \".P\"","v":"FECL.P"},"Цена за единицу","руб./ед.",null,null,null,null,null,null,null,null,null,null,null,null,null,null,null,null,null,null,null,null,null,null,{"$f":"IF(AL2408=0,0,AL2406*1000/AL2408)","v":0}]
[null,null,null,null,null,null,null,null,null,null,null,null,{"$f":"M2406 & \".V\"","v":"FECL.V"},"Объём","ед.",null,null,null,null,null,null,null,null,null,null,null,null,null,null,null,null,null,null,null,null,null,null,{"$f":"AM2408+AN2408","v":0}]
[null,null,null,null,null,null,null,null,null,null,null,null,"LIMENP","известь негашёная (порошок)","тыс.руб.",null,null,null,null,null,null,null,null,null,null,null,null,null,null,null,null,null,null,null,null,null,null,{"$f":"AM2409+AN2409","v":0},{"$f":"AM2410*AM2411/1000","v":0},{"$f":"AN2410*AN2411/1000","v":0}]
[null,null,null,null,null,null,null,null,null,null,null,null,{"$f":"M2409 & \".P\"","v":"LIMENP.P"},"Цена за единицу","руб./ед.",null,null,null,null,null,null,null,null,null,null,null,null,null,null,null,null,null,null,null,null,null,null,{"$f":"IF(AL2411=0,0,AL2409*1000/AL2411)","v":0}]
[null,null,null,null,null,null,null,null,null,null,null,null,{"$f":"M2409 & \".V\"","v":"LIMENP.V"},"Объём","ед.",null,null,null,null,null,null,null,null,null,null,null,null,null,null,null,null,null,null,null,null,null,null,{"$f":"AM2411+AN2411","v":0}]
[null,null,null,null,null,null,null,null,null,null,null,null,"LIMENH","известь негашёная гидратная","тыс.руб.",null,null,null,null,null,null,null,null,null,null,null,null,null,null,null,null,null,null,null,null,null,null,{"$f":"AM2412+AN2412","v":0},{"$f":"AM2413*AM2414/1000","v":0},{"$f":"AN2413*AN2414/1000","v":0}]
[null,null,null,null,null,null,null,null,null,null,null,null,{"$f":"M2412 & \".P\"","v":"LIMENH.P"},"Цена за единицу","руб./ед.",null,null,null,null,null,null,null,null,null,null,null,null,null,null,null,null,null,null,null,null,null,null,{"$f":"IF(AL2414=0,0,AL2412*1000/AL2414)","v":0}]
[null,null,null,null,null,null,null,null,null,null,null,null,{"$f":"M2412 & \".V\"","v":"LIMENH.V"},"Объём","ед.",null,null,null,null,null,null,null,null,null,null,null,null,null,null,null,null,null,null,null,null,null,null,{"$f":"AM2414+AN2414","v":0}]
[null,null,null,null,null,null,null,null,null,null,null,null,"LIMECL","известь хлорная","тыс.руб.",null,null,null,null,null,null,null,null,null,null,null,null,null,null,null,null,null,null,null,null,null,null,{"$f":"AM2415+AN2415","v":0},{"$f":"AM2416*AM2417/1000","v":0},{"$f":"AN2416*AN2417/1000","v":0}]
[null,null,null,null,null,null,null,null,null,null,null,null,{"$f":"M2415 & \".P\"","v":"LIMECL.P"},"Цена за единицу","руб./ед.",null,null,null,null,null,null,null,null,null,null,null,null,null,null,null,null,null,null,null,null,null,null,{"$f":"IF(AL2417=0,0,AL2415*1000/AL2417)","v":0}]
[null,null,null,null,null,null,null,null,null,null,null,null,{"$f":"M2415 & \".V\"","v":"LIMECL.V"},"Объём","ед.",null,null,null,null,null,null,null,null,null,null,null,null,null,null,null,null,null,null,null,null,null,null,{"$f":"AM2417+AN2417","v":0}]
[null,null,null,null,null,null,null,null,null,null,null,null,"KN","калий азотнокислый","тыс.руб.",null,null,null,null,null,null,null,null,null,null,null,null,null,null,null,null,null,null,null,null,null,null,{"$f":"AM2418+AN2418","v":0},{"$f":"AM2419*AM2420/1000","v":0},{"$f":"AN2419*AN2420/1000","v":0}]
[null,null,null,null,null,null,null,null,null,null,null,null,{"$f":"M2418 & \".P\"","v":"KN.P"},"Цена за единицу","руб./ед.",null,null,null,null,null,null,null,null,null,null,null,null,null,null,null,null,null,null,null,null,null,null,{"$f":"IF(AL2420=0,0,AL2418*1000/AL2420)","v":0}]
[null,null,null,null,null,null,null,null,null,null,null,null,{"$f":"M2418 & \".V\"","v":"KN.V"},"Объём","ед.",null,null,null,null,null,null,null,null,null,null,null,null,null,null,null,null,null,null,null,null,null,null,{"$f":"AM2420+AN2420","v":0}]
[null,null,null,null,null,null,null,null,null,null,null,null,"KCR","калий двухромовокислый","тыс.руб.",null,null,null,null,null,null,null,null,null,null,null,null,null,null,null,null,null,null,null,null,null,null,{"$f":"AM2421+AN2421","v":0},{"$f":"AM2422*AM2423/1000","v":0},{"$f":"AN2422*AN2423/1000","v":0}]
[null,null,null,null,null,null,null,null,null,null,null,null,{"$f":"M2421 & \".P\"","v":"KCR.P"},"Цена за единицу","руб./ед.",null,null,null,null,null,null,null,null,null,null,null,null,null,null,null,null,null,null,null,null,null,null,{"$f":"IF(AL2423=0,0,AL2421*1000/AL2423)","v":0}]
[null,null,null,null,null,null,null,null,null,null,null,null,{"$f":"M2421 & \".V\"","v":"KCR.V"},"Объём","ед.",null,null,null,null,null,null,null,null,null,null,null,null,null,null,null,null,null,null,null,null,null,null,{"$f":"AM2423+AN2423","v":0}]
[null,null,null,null,null,null,null,null,null,null,null,null,"KI","калий йодистый","тыс.руб.",null,null,null,null,null,null,null,null,null,null,null,null,null,null,null,null,null,null,null,null,null,null,{"$f":"AM2424+AN2424","v":0},{"$f":"AM2425*AM2426/1000","v":0},{"$f":"AN2425*AN2426/1000","v":0}]
[null,null,null,null,null,null,null,null,null,null,null,null,{"$f":"M2424 & \".P\"","v":"KI.P"},"Цена за единицу","руб./ед.",null,null,null,null,null,null,null,null,null,null,null,null,null,null,null,null,null,null,null,null,null,null,{"$f":"IF(AL2426=0,0,AL2424*1000/AL2426)","v":0}]
[null,null,null,null,null,null,null,null,null,null,null,null,{"$f":"M2424 & \".V\"","v":"KI.V"},"Объём","ед.",null,null,null,null,null,null,null,null,null,null,null,null,null,null,null,null,null,null,null,null,null,null,{"$f":"AM2426+AN2426","v":0}]
[null,null,null,null,null,null,null,null,null,null,null,null,"KMN","калий марганцевокислый","тыс.руб.",null,null,null,null,null,null,null,null,null,null,null,null,null,null,null,null,null,null,null,null,null,null,{"$f":"AM2427+AN2427","v":0},{"$f":"AM2428*AM2429/1000","v":0},{"$f":"AN2428*AN2429/1000","v":0}]
[null,null,null,null,null,null,null,null,null,null,null,null,{"$f":"M2427 & \".P\"","v":"KMN.P"},"Цена за единицу","руб./ед.",null,null,null,null,null,null,null,null,null,null,null,null,null,null,null,null,null,null,null,null,null,null,{"$f":"IF(AL2429=0,0,AL2427*1000/AL2429)","v":0}]
[null,null,null,null,null,null,null,null,null,null,null,null,{"$f":"M2427 & \".V\"","v":"KMN.V"},"Объём","ед.",null,null,null,null,null,null,null,null,null,null,null,null,null,null,null,null,null,null,null,null,null,null,{"$f":"AM2429+AN2429","v":0}]
[null,null,null,null,null,null,null,null,null,null,null,null,"KP","калий фосфорнокислый","тыс.руб.",null,null,null,null,null,null,null,null,null,null,null,null,null,null,null,null,null,null,null,null,null,null,{"$f":"AM2430+AN2430","v":0},{"$f":"AM2431*AM2432/1000","v":0},{"$f":"AN2431*AN2432/1000","v":0}]
[null,null,null,null,null,null,null,null,null,null,null,null,{"$f":"M2430 & \".P\"","v":"KP.P"},"Цена за единицу","руб./ед.",null,null,null,null,null,null,null,null,null,null,null,null,null,null,null,null,null,null,null,null,null,null,{"$f":"IF(AL2432=0,0,AL2430*1000/AL2432)","v":0}]
[null,null,null,null,null,null,null,null,null,null,null,null,{"$f":"M2430 & \".V\"","v":"KP.V"},"Объём","ед.",null,null,null,null,null,null,null,null,null,null,null,null,null,null,null,null,null,null,null,null,null,null,{"$f":"AM2432+AN2432","v":0}]
[null,null,null,null,null,null,null,null,null,null,null,null,"HCL","калий хлористый","тыс.руб.",null,null,null,null,null,null,null,null,null,null,null,null,null,null,null,null,null,null,null,null,null,null,{"$f":"AM2433+AN2433","v":0},{"$f":"AM2434*AM2435/1000","v":0},{"$f":"AN2434*AN2435/1000","v":0}]
[null,null,null,null,null,null,null,null,null,null,null,null,{"$f":"M2433 & \".P\"","v":"HCL.P"},"Цена за единицу","руб./ед.",null,null,null,null,null,null,null,null,null,null,null,null,null,null,null,null,null,null,null,null,null,null,{"$f":"IF(AL2435=0,0,AL2433*1000/AL2435)","v":0}]
[null,null,null,null,null,null,null,null,null,null,null,null,{"$f":"M2433 & \".V\"","v":"HCL.V"},"Объём","ед.",null,null,null,null,null,null,null,null,null,null,null,null,null,null,null,null,null,null,null,null,null,null,{"$f":"AM2435+AN2435","v":0}]
[null,null,null,null,null,null,null,null,null,null,null,null,"KNA","калий-натрий виннокислый","тыс.руб.",null,null,null,null,null,null,null,null,null,null,null,null,null,null,null,null,null,null,null,null,null,null,{"$f":"AM2436+AN2436","v":0},{"$f":"AM2437*AM2438/1000","v":0},{"$f":"AN2437*AN2438/1000","v":0}]
[null,null,null,null,null,null,null,null,null,null,null,null,{"$f":"M2436 & \".P\"","v":"KNA.P"},"Цена за единицу","руб./ед.",null,null,null,null,null,null,null,null,null,null,null,null,null,null,null,null,null,null,null,null,null,null,{"$f":"IF(AL2438=0,0,AL2436*1000/AL2438)","v":0}]
[null,null,null,null,null,null,null,null,null,null,null,null,{"$f":"M2436 & \".V\"","v":"KNA.V"},"Объём","ед.",null,null,null,null,null,null,null,null,null,null,null,null,null,null,null,null,null,null,null,null,null,null,{"$f":"AM2438+AN2438","v":0}]
[null,null,null,null,null,null,null,null,null,null,null,null,"CAC","кальций углекислый","тыс.руб.",null,null,null,null,null,null,null,null,null,null,null,null,null,null,null,null,null,null,null,null,null,null,{"$f":"AM2439+AN2439","v":0},{"$f":"AM2440*AM2441/1000","v":0},{"$f":"AN2440*AN2441/1000","v":0}]
[null,null,null,null,null,null,null,null,null,null,null,null,{"$f":"M2439 & \".P\"","v":"CAC.P"},"Цена за единицу","руб./ед.",null,null,null,null,null,null,null,null,null,null,null,null,null,null,null,null,null,null,null,null,null,null,{"$f":"IF(AL2441=0,0,AL2439*1000/AL2441)","v":0}]
[null,null,null,null,null,null,null,null,null,null,null,null,{"$f":"M2439 & \".V\"","v":"CAC.V"},"Объём","ед.",null,null,null,null,null,null,null,null,null,null,null,null,null,null,null,null,null,null,null,null,null,null,{"$f":"AM2441+AN2441","v":0}]
[null,null,null,null,null,null,null,null,null,null,null,null,"CACL","кальций хлористый","тыс.руб.",null,null,null,null,null,null,null,null,null,null,null,null,null,null,null,null,null,null,null,null,null,null,{"$f":"AM2442+AN2442","v":0},{"$f":"AM2443*AM2444/1000","v":0},{"$f":"AN2443*AN2444/1000","v":0}]
[null,null,null,null,null,null,null,null,null,null,null,null,{"$f":"M2442 & \".P\"","v":"CACL.P"},"Цена за единицу","руб./ед.",null,null,null,null,null,null,null,null,null,null,null,null,null,null,null,null,null,null,null,null,null,null,{"$f":"IF(AL2444=0,0,AL2442*1000/AL2444)","v":0}]
[null,null,null,null,null,null,null,null,null,null,null,null,{"$f":"M2442 & \".V\"","v":"CACL.V"},"Объём","ед.",null,null,null,null,null,null,null,null,null,null,null,null,null,null,null,null,null,null,null,null,null,null,{"$f":"AM2444+AN2444","v":0}]
[null,null,null,null,null,null,null,null,null,null,null,null,"CAHPCL","кальция гипохлорит","тыс.руб.",null,null,null,null,null,null,null,null,null,null,null,null,null,null,null,null,null,null,null,null,null,null,{"$f":"AM2445+AN2445","v":0},{"$f":"AM2446*AM2447/1000","v":0},{"$f":"AN2446*AN2447/1000","v":0}]
[null,null,null,null,null,null,null,null,null,null,null,null,{"$f":"M2445 & \".P\"","v":"CAHPCL.P"},"Цена за единицу","руб./ед.",null,null,null,null,null,null,null,null,null,null,null,null,null,null,null,null,null,null,null,null,null,null,{"$f":"IF(AL2447=0,0,AL2445*1000/AL2447)","v":0}]
[null,null,null,null,null,null,null,null,null,null,null,null,{"$f":"M2445 & \".V\"","v":"CAHPCL.V"},"Объём","ед.",null,null,null,null,null,null,null,null,null,null,null,null,null,null,null,null,null,null,null,null,null,null,{"$f":"AM2447+AN2447","v":0}]
[null,null,null,null,null,null,null,null,null,null,null,null,"SAND","кварцевый песок","тыс.руб.",null,null,null,null,null,null,null,null,null,null,null,null,null,null,null,null,null,null,null,null,null,null,{"$f":"AM2448+AN2448","v":0},{"$f":"AM2449*AM2450/1000","v":0},{"$f":"AN2449*AN2450/1000","v":0}]
[null,null,null,null,null,null,null,null,null,null,null,null,{"$f":"M2448 & \".P\"","v":"SAND.P"},"Цена за единицу","руб./ед.",null,null,null,null,null,null,null,null,null,null,null,null,null,null,null,null,null,null,null,null,null,null,{"$f":"IF(AL2450=0,0,AL2448*1000/AL2450)","v":0}]
[null,null,null,null,null,null,null,null,null,null,null,null,{"$f":"M2448 & \".V\"","v":"SAND.V"},"Объём","ед.",null,null,null,null,null,null,null,null,null,null,null,null,null,null,null,null,null,null,null,null,null,null,{"$f":"AM2450+AN2450","v":0}]
[null,null,null,null,null,null,null,null,null,null,null,null,"ACIDN","кислота азотная","тыс.руб.",null,null,null,null,null,null,null,null,null,null,null,null,null,null,null,null,null,null,null,null,null,null,{"$f":"AM2451+AN2451","v":0},{"$f":"AM2452*AM2453/1000","v":0},{"$f":"AN2452*AN2453/1000","v":0}]
[null,null,null,null,null,null,null,null,null,null,null,null,{"$f":"M2451 & \".P\"","v":"ACIDN.P"},"Цена за единицу","руб./ед.",null,null,null,null,null,null,null,null,null,null,null,null,null,null,null,null,null,null,null,null,null,null,{"$f":"IF(AL2453=0,0,AL2451*1000/AL2453)","v":0}]
[null,null,null,null,null,null,null,null,null,null,null,null,{"$f":"M2451 & \".V\"","v":"ACIDN.V"},"Объём","ед.",null,null,null,null,null,null,null,null,null,null,null,null,null,null,null,null,null,null,null,null,null,null,{"$f":"AM2453+AN2453","v":0}]
[null,null,null,null,null,null,null,null,null,null,null,null,"ACIDA","кислота аскорбиновая","тыс.руб.",null,null,null,null,null,null,null,null,null,null,null,null,null,null,null,null,null,null,null,null,null,null,{"$f":"AM2454+AN2454","v":0},{"$f":"AM2455*AM2456/1000","v":0},{"$f":"AN2455*AN2456/1000","v":0}]
[null,null,null,null,null,null,null,null,null,null,null,null,{"$f":"M2454 & \".P\"","v":"ACIDA.P"},"Цена за единицу","руб./ед.",null,null,null,null,null,null,null,null,null,null,null,null,null,null,null,null,null,null,null,null,null,null,{"$f":"IF(AL2456=0,0,AL2454*1000/AL2456)","v":0}]
[null,null,null,null,null,null,null,null,null,null,null,null,{"$f":"M2454 & \".V\"","v":"ACIDA.V"},"Объём","ед.",null,null,null,null,null,null,null,null,null,null,null,null,null,null,null,null,null,null,null,null,null,null,{"$f":"AM2456+AN2456","v":0}]
[null,null,null,null,null,null,null,null,null,null,null,null,"ACIDL","кислота лимонная","тыс.руб.",null,null,null,null,null,null,null,null,null,null,null,null,null,null,null,null,null,null,null,null,null,null,{"$f":"AM2457+AN2457","v":0},{"$f":"AM2458*AM2459/1000","v":0},{"$f":"AN2458*AN2459/1000","v":0}]
[null,null,null,null,null,null,null,null,null,null,null,null,{"$f":"M2457 & \".P\"","v":"ACIDL.P"},"Цена за единицу","руб./ед.",null,null,null,null,null,null,null,null,null,null,null,null,null,null,null,null,null,null,null,null,null,null,{"$f":"IF(AL2459=0,0,AL2457*1000/AL2459)","v":0}]
[null,null,null,null,null,null,null,null,null,null,null,null,{"$f":"M2457 & \".V\"","v":"ACIDL.V"},"Объём","ед.",null,null,null,null,null,null,null,null,null,null,null,null,null,null,null,null,null,null,null,null,null,null,{"$f":"AM2459+AN2459","v":0}]
[null,null,null,null,null,null,null,null,null,null,null,null,"AURIN","кислота розоловая (аурин)","тыс.руб.",null,null,null,null,null,null,null,null,null,null,null,null,null,null,null,null,null,null,null,null,null,null,{"$f":"AM2460+AN2460","v":0},{"$f":"AM2461*AM2462/1000","v":0},{"$f":"AN2461*AN2462/1000","v":0}]
[null,null,null,null,null,null,null,null,null,null,null,null,{"$f":"M2460 & \".P\"","v":"AURIN.P"},"Цена за единицу","руб./ед.",null,null,null,null,null,null,null,null,null,null,null,null,null,null,null,null,null,null,null,null,null,null,{"$f":"IF(AL2462=0,0,AL2460*1000/AL2462)","v":0}]
[null,null,null,null,null,null,null,null,null,null,null,null,{"$f":"M2460 & \".V\"","v":"AURIN.V"},"Объём","ед.",null,null,null,null,null,null,null,null,null,null,null,null,null,null,null,null,null,null,null,null,null,null,{"$f":"AM2462+AN2462","v":0}]
[null,null,null,null,null,null,null,null,null,null,null,null,"ACIDS","кислота серная","тыс.руб.",null,null,null,null,null,null,null,null,null,null,null,null,null,null,null,null,null,null,null,null,null,null,{"$f":"AM2463+AN2463","v":0},{"$f":"AM2464*AM2465/1000","v":0},{"$f":"AN2464*AN2465/1000","v":0}]
[null,null,null,null,null,null,null,null,null,null,null,null,{"$f":"M2463 & \".P\"","v":"ACIDS.P"},"Цена за единицу","руб./ед.",null,null,null,null,null,null,null,null,null,null,null,null,null,null,null,null,null,null,null,null,null,null,{"$f":"IF(AL2465=0,0,AL2463*1000/AL2465)","v":0}]
[null,null,null,null,null,null,null,null,null,null,null,null,{"$f":"M2463 & \".V\"","v":"ACIDS.V"},"Объём","ед.",null,null,null,null,null,null,null,null,null,null,null,null,null,null,null,null,null,null,null,null,null,null,{"$f":"AM2465+AN2465","v":0}]
[null,null,null,null,null,null,null,null,null,null,null,null,"ADIDCL","кислота соляная","тыс.руб.",null,null,null,null,null,null,null,null,null,null,null,null,null,null,null,null,null,null,null,null,null,null,{"$f":"AM2466+AN2466","v":0},{"$f":"AM2467*AM2468/1000","v":0},{"$f":"AN2467*AN2468/1000","v":0}]
[null,null,null,null,null,null,null,null,null,null,null,null,{"$f":"M2466 & \".P\"","v":"ADIDCL.P"},"Цена за единицу","руб./ед.",null,null,null,null,null,null,null,null,null,null,null,null,null,null,null,null,null,null,null,null,null,null,{"$f":"IF(AL2468=0,0,AL2466*1000/AL2468)","v":0}]
[null,null,null,null,null,null,null,null,null,null,null,null,{"$f":"M2466 & \".V\"","v":"ADIDCL.V"},"Объём","ед.",null,null,null,null,null,null,null,null,null,null,null,null,null,null,null,null,null,null,null,null,null,null,{"$f":"AM2468+AN2468","v":0}]
[null,null,null,null,null,null,null,null,null,null,null,null,"ACIDAC","кислота уксусная","тыс.руб.",null,null,null,null,null,null,null,null,null,null,null,null,null,null,null,null,null,null,null,null,null,null,{"$f":"AM2469+AN2469","v":0},{"$f":"AM2470*AM2471/1000","v":0},{"$f":"AN2470*AN2471/1000","v":0}]
[null,null,null,null,null,null,null,null,null,null,null,null,{"$f":"M2469 & \".P\"","v":"ACIDAC.P"},"Цена за единицу","руб./ед.",null,null,null,null,null,null,null,null,null,null,null,null,null,null,null,null,null,null,null,null,null,null,{"$f":"IF(AL2471=0,0,AL2469*1000/AL2471)","v":0}]
[null,null,null,null,null,null,null,null,null,null,null,null,{"$f":"M2469 & \".V\"","v":"ACIDAC.V"},"Объём","ед.",null,null,null,null,null,null,null,null,null,null,null,null,null,null,null,null,null,null,null,null,null,null,{"$f":"AM2471+AN2471","v":0}]
[null,null,null,null,null,null,null,null,null,null,null,null,"ACIDOX","кислота щавелевая","тыс.руб.",null,null,null,null,null,null,null,null,null,null,null,null,null,null,null,null,null,null,null,null,null,null,{"$f":"AM2472+AN2472","v":0},{"$f":"AM2473*AM2474/1000","v":0},{"$f":"AN2473*AN2474/1000","v":0}]
[null,null,null,null,null,null,null,null,null,null,null,null,{"$f":"M2472 & \".P\"","v":"ACIDOX.P"},"Цена за единицу","руб./ед.",null,null,null,null,null,null,null,null,null,null,null,null,null,null,null,null,null,null,null,null,null,null,{"$f":"IF(AL2474=0,0,AL2472*1000/AL2474)","v":0}]
[null,null,null,null,null,null,null,null,null,null,null,null,{"$f":"M2472 & \".V\"","v":"ACIDOX.V"},"Объём","ед.",null,null,null,null,null,null,null,null,null,null,null,null,null,null,null,null,null,null,null,null,null,null,{"$f":"AM2474+AN2474","v":0}]
[null,null,null,null,null,null,null,null,null,null,null,null,"STARCH","крахмал","тыс.руб.",null,null,null,null,null,null,null,null,null,null,null,null,null,null,null,null,null,null,null,null,null,null,{"$f":"AM2475+AN2475","v":0},{"$f":"AM2476*AM2477/1000","v":0},{"$f":"AN2476*AN2477/1000","v":0}]
[null,null,null,null,null,null,null,null,null,null,null,null,{"$f":"M2475 & \".P\"","v":"STARCH.P"},"Цена за единицу","руб./ед.",null,null,null,null,null,null,null,null,null,null,null,null,null,null,null,null,null,null,null,null,null,null,{"$f":"IF(AL2477=0,0,AL2475*1000/AL2477)","v":0}]
[null,null,null,null,null,null,null,null,null,null,null,null,{"$f":"M2475 & \".V\"","v":"STARCH.V"},"Объём","ед.",null,null,null,null,null,null,null,null,null,null,null,null,null,null,null,null,null,null,null,null,null,null,{"$f":"AM2477+AN2477","v":0}]
[null,null,null,null,null,null,null,null,null,null,null,null,"LANTN","лантан азотнокислый","тыс.руб.",null,null,null,null,null,null,null,null,null,null,null,null,null,null,null,null,null,null,null,null,null,null,{"$f":"AM2478+AN2478","v":0},{"$f":"AM2479*AM2480/1000","v":0},{"$f":"AN2479*AN2480/1000","v":0}]
[null,null,null,null,null,null,null,null,null,null,null,null,{"$f":"M2478 & \".P\"","v":"LANTN.P"},"Цена за единицу","руб./ед.",null,null,null,null,null,null,null,null,null,null,null,null,null,null,null,null,null,null,null,null,null,null,{"$f":"IF(AL2480=0,0,AL2478*1000/AL2480)","v":0}]
[null,null,null,null,null,null,null,null,null,null,null,null,{"$f":"M2478 & \".V\"","v":"LANTN.V"},"Объём","ед.",null,null,null,null,null,null,null,null,null,null,null,null,null,null,null,null,null,null,null,null,null,null,{"$f":"AM2480+AN2480","v":0}]
[null,null,null,null,null,null,null,null,null,null,null,null,"MGS","магний сернокислый","тыс.руб.",null,null,null,null,null,null,null,null,null,null,null,null,null,null,null,null,null,null,null,null,null,null,{"$f":"AM2481+AN2481","v":0},{"$f":"AM2482*AM2483/1000","v":0},{"$f":"AN2482*AN2483/1000","v":0}]
[null,null,null,null,null,null,null,null,null,null,null,null,{"$f":"M2481 & \".P\"","v":"MGS.P"},"Цена за единицу","руб./ед.",null,null,null,null,null,null,null,null,null,null,null,null,null,null,null,null,null,null,null,null,null,null,{"$f":"IF(AL2483=0,0,AL2481*1000/AL2483)","v":0}]
[null,null,null,null,null,null,null,null,null,null,null,null,{"$f":"M2481 & \".V\"","v":"MGS.V"},"Объём","ед.",null,null,null,null,null,null,null,null,null,null,null,null,null,null,null,null,null,null,null,null,null,null,{"$f":"AM2483+AN2483","v":0}]
[null,null,null,null,null,null,null,null,null,null,null,null,"FLOSPERSE","модифицированные аминофосфоновые кислоты и фосфонаты (FLOSPERSE)","тыс.руб.",null,null,null,null,null,null,null,null,null,null,null,null,null,null,null,null,null,null,null,null,null,null,{"$f":"AM2484+AN2484","v":0},{"$f":"AM2485*AM2486/1000","v":0},{"$f":"AN2485*AN2486/1000","v":0}]
[null,null,null,null,null,null,null,null,null,null,null,null,{"$f":"M2484 & \".P\"","v":"FLOSPERSE.P"},"Цена за единицу","руб./ед.",null,null,null,null,null,null,null,null,null,null,null,null,null,null,null,null,null,null,null,null,null,null,{"$f":"IF(AL2486=0,0,AL2484*1000/AL2486)","v":0}]
[null,null,null,null,null,null,null,null,null,null,null,null,{"$f":"M2484 & \".V\"","v":"FLOSPERSE.V"},"Объём","ед.",null,null,null,null,null,null,null,null,null,null,null,null,null,null,null,null,null,null,null,null,null,null,{"$f":"AM2486+AN2486","v":0}]
[null,null,null,null,null,null,null,null,null,null,null,null,"NATR","натр едкий","тыс.руб.",null,null,null,null,null,null,null,null,null,null,null,null,null,null,null,null,null,null,null,null,null,null,{"$f":"AM2487+AN2487","v":0},{"$f":"AM2488*AM2489/1000","v":0},{"$f":"AN2488*AN2489/1000","v":0}]
[null,null,null,null,null,null,null,null,null,null,null,null,{"$f":"M2487 & \".P\"","v":"NATR.P"},"Цена за единицу","руб./ед.",null,null,null,null,null,null,null,null,null,null,null,null,null,null,null,null,null,null,null,null,null,null,{"$f":"IF(AL2489=0,0,AL2487*1000/AL2489)","v":0}]
[null,null,null,null,null,null,null,null,null,null,null,null,{"$f":"M2487 & \".V\"","v":"NATR.V"},"Объём","ед.",null,null,null,null,null,null,null,null,null,null,null,null,null,null,null,null,null,null,null,null,null,null,{"$f":"AM2489+AN2489","v":0}]
[null,null,null,null,null,null,null,null,null,null,null,null,"NAHDOX","натрий гидроокись","тыс.руб.",null,null,null,null,null,null,null,null,null,null,null,null,null,null,null,null,null,null,null,null,null,null,{"$f":"AM2490+AN2490","v":0},{"$f":"AM2491*AM2492/1000","v":0},{"$f":"AN2491*AN2492/1000","v":0}]
[null,null,null,null,null,null,null,null,null,null,null,null,{"$f":"M2490 & \".P\"","v":"NAHDOX.P"},"Цена за единицу","руб./ед.",null,null,null,null,null,null,null,null,null,null,null,null,null,null,null,null,null,null,null,null,null,null,{"$f":"IF(AL2492=0,0,AL2490*1000/AL2492)","v":0}]
[null,null,null,null,null,null,null,null,null,null,null,null,{"$f":"M2490 & \".V\"","v":"NAHDOX.V"},"Объём","ед.",null,null,null,null,null,null,null,null,null,null,null,null,null,null,null,null,null,null,null,null,null,null,{"$f":"AM2492+AN2492","v":0}]
[null,null,null,null,null,null,null,null,null,null,null,null,"NASLC","натрий салициловокислый","тыс.руб.",null,null,null,null,null,null,null,null,null,null,null,null,null,null,null,null,null,null,null,null,null,null,{"$f":"AM2493+AN2493","v":0},{"$f":"AM2494*AM2495/1000","v":0},{"$f":"AN2494*AN2495/1000","v":0}]
[null,null,null,null,null,null,null,null,null,null,null,null,{"$f":"M2493 & \".P\"","v":"NASLC.P"},"Цена за единицу","руб./ед.",null,null,null,null,null,null,null,null,null,null,null,null,null,null,null,null,null,null,null,null,null,null,{"$f":"IF(AL2495=0,0,AL2493*1000/AL2495)","v":0}]
[null,null,null,null,null,null,null,null,null,null,null,null,{"$f":"M2493 & \".V\"","v":"NASLC.V"},"Объём","ед.",null,null,null,null,null,null,null,null,null,null,null,null,null,null,null,null,null,null,null,null,null,null,{"$f":"AM2495+AN2495","v":0}]
[null,null,null,null,null,null,null,null,null,null,null,null,"NAS","натрий сернокислый","тыс.руб.",null,null,null,null,null,null,null,null,null,null,null,null,null,null,null,null,null,null,null,null,null,null,{"$f":"AM2496+AN2496","v":0},{"$f":"AM2497*AM2498/1000","v":0},{"$f":"AN2497*AN2498/1000","v":0}]
[null,null,null,null,null,null,null,null,null,null,null,null,{"$f":"M2496 & \".P\"","v":"NAS.P"},"Цена за единицу","руб./ед.",null,null,null,null,null,null,null,null,null,null,null,null,null,null,null,null,null,null,null,null,null,null,{"$f":"IF(AL2498=0,0,AL2496*1000/AL2498)","v":0}]
[null,null,null,null,null,null,null,null,null,null,null,null,{"$f":"M2496 & \".V\"","v":"NAS.V"},"Объём","ед.",null,null,null,null,null,null,null,null,null,null,null,null,null,null,null,null,null,null,null,null,null,null,{"$f":"AM2498+AN2498","v":0}]
[null,null,null,null,null,null,null,null,null,null,null,null,"NAC","натрий углекислый","тыс.руб.",null,null,null,null,null,null,null,null,null,null,null,null,null,null,null,null,null,null,null,null,null,null,{"$f":"AM2499+AN2499","v":0},{"$f":"AM2500*AM2501/1000","v":0},{"$f":"AN2500*AN2501/1000","v":0}]
[null,null,null,null,null,null,null,null,null,null,null,null,{"$f":"M2499 & \".P\"","v":"NAC.P"},"Цена за единицу","руб./ед.",null,null,null,null,null,null,null,null,null,null,null,null,null,null,null,null,null,null,null,null,null,null,{"$f":"IF(AL2501=0,0,AL2499*1000/AL2501)","v":0}]
[null,null,null,null,null,null,null,null,null,null,null,null,{"$f":"M2499 & \".V\"","v":"NAC.V"},"Объём","ед.",null,null,null,null,null,null,null,null,null,null,null,null,null,null,null,null,null,null,null,null,null,null,{"$f":"AM2501+AN2501","v":0}]
[null,null,null,null,null,null,null,null,null,null,null,null,"NAAC","натрий уксуснокислый","тыс.руб.",null,null,null,null,null,null,null,null,null,null,null,null,null,null,null,null,null,null,null,null,null,null,{"$f":"AM2502+AN2502","v":0},{"$f":"AM2503*AM2504/1000","v":0},{"$f":"AN2503*AN2504/1000","v":0}]
[null,null,null,null,null,null,null,null,null,null,null,null,{"$f":"M2502 & \".P\"","v":"NAAC.P"},"Цена за единицу","руб./ед.",null,null,null,null,null,null,null,null,null,null,null,null,null,null,null,null,null,null,null,null,null,null,{"$f":"IF(AL2504=0,0,AL2502*1000/AL2504)","v":0}]
[null,null,null,null,null,null,null,null,null,null,null,null,{"$f":"M2502 & \".V\"","v":"NAAC.V"},"Объём","ед.",null,null,null,null,null,null,null,null,null,null,null,null,null,null,null,null,null,null,null,null,null,null,{"$f":"AM2504+AN2504","v":0}]
[null,null,null,null,null,null,null,null,null,null,null,null,"NACL","натрий хлористый","тыс.руб.",null,null,null,null,null,null,null,null,null,null,null,null,null,null,null,null,null,null,null,null,null,null,{"$f":"AM2505+AN2505","v":0},{"$f":"AM2506*AM2507/1000","v":0},{"$f":"AN2506*AN2507/1000","v":0}]
[null,null,null,null,null,null,null,null,null,null,null,null,{"$f":"M2505 & \".P\"","v":"NACL.P"},"Цена за единицу","руб./ед.",null,null,null,null,null,null,null,null,null,null,null,null,null,null,null,null,null,null,null,null,null,null,{"$f":"IF(AL2507=0,0,AL2505*1000/AL2507)","v":0}]
[null,null,null,null,null,null,null,null,null,null,null,null,{"$f":"M2505 & \".V\"","v":"NACL.V"},"Объём","ед.",null,null,null,null,null,null,null,null,null,null,null,null,null,null,null,null,null,null,null,null,null,null,{"$f":"AM2507+AN2507","v":0}]
[null,null,null,null,null,null,null,null,null,null,null,null,"FLOFOAM","пеногаситель (FLOFOAM)","тыс.руб.",null,null,null,null,null,null,null,null,null,null,null,null,null,null,null,null,null,null,null,null,null,null,{"$f":"AM2508+AN2508","v":0},{"$f":"AM2509*AM2510/1000","v":0},{"$f":"AN2509*AN2510/1000","v":0}]
[null,null,null,null,null,null,null,null,null,null,null,null,{"$f":"M2508 & \".P\"","v":"FLOFOAM.P"},"Цена за единицу","руб./ед.",null,null,null,null,null,null,null,null,null,null,null,null,null,null,null,null,null,null,null,null,null,null,{"$f":"IF(AL2510=0,0,AL2508*1000/AL2510)","v":0}]
[null,null,null,null,null,null,null,null,null,null,null,null,{"$f":"M2508 & \".V\"","v":"FLOFOAM.V"},"Объём","ед.",null,null,null,null,null,null,null,null,null,null,null,null,null,null,null,null,null,null,null,null,null,null,{"$f":"AM2510+AN2510","v":0}]
[null,null,null,null,null,null,null,null,null,null,null,null,"RGRS","реактив Грисса","тыс.руб.",null,null,null,null,null,null,null,null,null,null,null,null,null,null,null,null,null,null,null,null,null,null,{"$f":"AM2511+AN2511","v":0},{"$f":"AM2512*AM2513/1000","v":0},{"$f":"AN2512*AN2513/1000","v":0}]
[null,null,null,null,null,null,null,null,null,null,null,null,{"$f":"M2511 & \".P\"","v":"RGRS.P"},"Цена за единицу","руб./ед.",null,null,null,null,null,null,null,null,null,null,null,null,null,null,null,null,null,null,null,null,null,null,{"$f":"IF(AL2513=0,0,AL2511*1000/AL2513)","v":0}]
[null,null,null,null,null,null,null,null,null,null,null,null,{"$f":"M2511 & \".V\"","v":"RGRS.V"},"Объём","ед.",null,null,null,null,null,null,null,null,null,null,null,null,null,null,null,null,null,null,null,null,null,null,{"$f":"AM2513+AN2513","v":0}]
[null,null,null,null,null,null,null,null,null,null,null,null,"RNSL","реактив Несслера","тыс.руб.",null,null,null,null,null,null,null,null,null,null,null,null,null,null,null,null,null,null,null,null,null,null,{"$f":"AM2514+AN2514","v":0},{"$f":"AM2515*AM2516/1000","v":0},{"$f":"AN2515*AN2516/1000","v":0}]
[null,null,null,null,null,null,null,null,null,null,null,null,{"$f":"M2514 & \".P\"","v":"RNSL.P"},"Цена за единицу","руб./ед.",null,null,null,null,null,null,null,null,null,null,null,null,null,null,null,null,null,null,null,null,null,null,{"$f":"IF(AL2516=0,0,AL2514*1000/AL2516)","v":0}]
[null,null,null,null,null,null,null,null,null,null,null,null,{"$f":"M2514 & \".V\"","v":"RNSL.V"},"Объём","ед.",null,null,null,null,null,null,null,null,null,null,null,null,null,null,null,null,null,null,null,null,null,null,{"$f":"AM2516+AN2516","v":0}]
[null,null,null,null,null,null,null,null,null,null,null,null,"PBAC","свинец уксуснокислый","тыс.руб.",null,null,null,null,null,null,null,null,null,null,null,null,null,null,null,null,null,null,null,null,null,null,{"$f":"AM2517+AN2517","v":0},{"$f":"AM2518*AM2519/1000","v":0},{"$f":"AN2518*AN2519/1000","v":0}]
[null,null,null,null,null,null,null,null,null,null,null,null,{"$f":"M2517 & \".P\"","v":"PBAC.P"},"Цена за единицу","руб./ед.",null,null,null,null,null,null,null,null,null,null,null,null,null,null,null,null,null,null,null,null,null,null,{"$f":"IF(AL2519=0,0,AL2517*1000/AL2519)","v":0}]
[null,null,null,null,null,null,null,null,null,null,null,null,{"$f":"M2517 & \".V\"","v":"PBAC.V"},"Объём","ед.",null,null,null,null,null,null,null,null,null,null,null,null,null,null,null,null,null,null,null,null,null,null,{"$f":"AM2519+AN2519","v":0}]
[null,null,null,null,null,null,null,null,null,null,null,null,"AGN","серебро азотнокислое","тыс.руб.",null,null,null,null,null,null,null,null,null,null,null,null,null,null,null,null,null,null,null,null,null,null,{"$f":"AM2520+AN2520","v":0},{"$f":"AM2521*AM2522/1000","v":0},{"$f":"AN2521*AN2522/1000","v":0}]
[null,null,null,null,null,null,null,null,null,null,null,null,{"$f":"M2520 & \".P\"","v":"AGN.P"},"Цена за единицу","руб./ед.",null,null,null,null,null,null,null,null,null,null,null,null,null,null,null,null,null,null,null,null,null,null,{"$f":"IF(AL2522=0,0,AL2520*1000/AL2522)","v":0}]
[null,null,null,null,null,null,null,null,null,null,null,null,{"$f":"M2520 & \".V\"","v":"AGN.V"},"Объём","ед.",null,null,null,null,null,null,null,null,null,null,null,null,null,null,null,null,null,null,null,null,null,null,{"$f":"AM2522+AN2522","v":0}]
[null,null,null,null,null,null,null,null,null,null,null,null,"AGS","серебро сернокислое","тыс.руб.",null,null,null,null,null,null,null,null,null,null,null,null,null,null,null,null,null,null,null,null,null,null,{"$f":"AM2523+AN2523","v":0},{"$f":"AM2524*AM2525/1000","v":0},{"$f":"AN2524*AN2525/1000","v":0}]
[null,null,null,null,null,null,null,null,null,null,null,null,{"$f":"M2523 & \".P\"","v":"AGS.P"},"Цена за единицу","руб./ед.",null,null,null,null,null,null,null,null,null,null,null,null,null,null,null,null,null,null,null,null,null,null,{"$f":"IF(AL2525=0,0,AL2523*1000/AL2525)","v":0}]
[null,null,null,null,null,null,null,null,null,null,null,null,{"$f":"M2523 & \".V\"","v":"AGS.V"},"Объём","ед.",null,null,null,null,null,null,null,null,null,null,null,null,null,null,null,null,null,null,null,null,null,null,{"$f":"AM2525+AN2525","v":0}]
[null,null,null,null,null,null,null,null,null,null,null,null,"SODACA","сода кальцинированная","тыс.руб.",null,null,null,null,null,null,null,null,null,null,null,null,null,null,null,null,null,null,null,null,null,null,{"$f":"AM2526+AN2526","v":0},{"$f":"AM2527*AM2528/1000","v":0},{"$f":"AN2527*AN2528/1000","v":0}]
[null,null,null,null,null,null,null,null,null,null,null,null,{"$f":"M2526 & \".P\"","v":"SODACA.P"},"Цена за единицу","руб./ед.",null,null,null,null,null,null,null,null,null,null,null,null,null,null,null,null,null,null,null,null,null,null,{"$f":"IF(AL2528=0,0,AL2526*1000/AL2528)","v":0}]
[null,null,null,null,null,null,null,null,null,null,null,null,{"$f":"M2526 & \".V\"","v":"SODACA.V"},"Объём","ед.",null,null,null,null,null,null,null,null,null,null,null,null,null,null,null,null,null,null,null,null,null,null,{"$f":"AM2528+AN2528","v":0}]
[null,null,null,null,null,null,null,null,null,null,null,null,"SODACS","сода каустическая","тыс.руб.",null,null,null,null,null,null,null,null,null,null,null,null,null,null,null,null,null,null,null,null,null,null,{"$f":"AM2529+AN2529","v":0},{"$f":"AM2530*AM2531/1000","v":0},{"$f":"AN2530*AN2531/1000","v":0}]
[null,null,null,null,null,null,null,null,null,null,null,null,{"$f":"M2529 & \".P\"","v":"SODACS.P"},"Цена за единицу","руб./ед.",null,null,null,null,null,null,null,null,null,null,null,null,null,null,null,null,null,null,null,null,null,null,{"$f":"IF(AL2531=0,0,AL2529*1000/AL2531)","v":0}]
[null,null,null,null,null,null,null,null,null,null,null,null,{"$f":"M2529 & \".V\"","v":"SODACS.V"},"Объём","ед.",null,null,null,null,null,null,null,null,null,null,null,null,null,null,null,null,null,null,null,null,null,null,{"$f":"AM2531+AN2531","v":0}]
[null,null,null,null,null,null,null,null,null,null,null,null,"SALT1G","соль 1 сорт","тыс.руб.",null,null,null,null,null,null,null,null,null,null,null,null,null,null,null,null,null,null,null,null,null,null,{"$f":"AM2532+AN2532","v":0},{"$f":"AM2533*AM2534/1000","v":0},{"$f":"AN2533*AN2534/1000","v":0}]
[null,null,null,null,null,null,null,null,null,null,null,null,{"$f":"M2532 & \".P\"","v":"SALT1G.P"},"Цена за единицу","руб./ед.",null,null,null,null,null,null,null,null,null,null,null,null,null,null,null,null,null,null,null,null,null,null,{"$f":"IF(AL2534=0,0,AL2532*1000/AL2534)","v":0}]
[null,null,null,null,null,null,null,null,null,null,null,null,{"$f":"M2532 & \".V\"","v":"SALT1G.V"},"Объём","ед.",null,null,null,null,null,null,null,null,null,null,null,null,null,null,null,null,null,null,null,null,null,null,{"$f":"AM2534+AN2534","v":0}]
[null,null,null,null,null,null,null,null,null,null,null,null,"SALT","соль пищевая поваренная","тыс.руб.",null,null,null,null,null,null,null,null,null,null,null,null,null,null,null,null,null,null,null,null,null,null,{"$f":"AM2535+AN2535","v":0},{"$f":"AM2536*AM2537/1000","v":0},{"$f":"AN2536*AN2537/1000","v":0}]
[null,null,null,null,null,null,null,null,null,null,null,null,{"$f":"M2535 & \".P\"","v":"SALT.P"},"Цена за единицу","руб./ед.",null,null,null,null,null,null,null,null,null,null,null,null,null,null,null,null,null,null,null,null,null,null,{"$f":"IF(AL2537=0,0,AL2535*1000/AL2537)","v":0}]
[null,null,null,null,null,null,null,null,null,null,null,null,{"$f":"M2535 & \".V\"","v":"SALT.V"},"Объём","ед.",null,null,null,null,null,null,null,null,null,null,null,null,null,null,null,null,null,null,null,null,null,null,{"$f":"AM2537+AN2537","v":0}]
[null,null,null,null,null,null,null,null,null,null,null,null,"SALTPL","соль таблетированная","тыс.руб.",null,null,null,null,null,null,null,null,null,null,null,null,null,null,null,null,null,null,null,null,null,null,{"$f":"AM2538+AN2538","v":0},{"$f":"AM2539*AM2540/1000","v":0},{"$f":"AN2539*AN2540/1000","v":0}]
[null,null,null,null,null,null,null,null,null,null,null,null,{"$f":"M2538 & \".P\"","v":"SALTPL.P"},"Цена за единицу","руб./ед.",null,null,null,null,null,null,null,null,null,null,null,null,null,null,null,null,null,null,null,null,null,null,{"$f":"IF(AL2540=0,0,AL2538*1000/AL2540)","v":0}]
[null,null,null,null,null,null,null,null,null,null,null,null,{"$f":"M2538 & \".V\"","v":"SALTPL.V"},"Объём","ед.",null,null,null,null,null,null,null,null,null,null,null,null,null,null,null,null,null,null,null,null,null,null,{"$f":"AM2540+AN2540","v":0}]
[null,null,null,null,null,null,null,null,null,null,null,null,"SALTTH","соль техническая","тыс.руб.",null,null,null,null,null,null,null,null,null,null,null,null,null,null,null,null,null,null,null,null,null,null,{"$f":"AM2541+AN2541","v":0},{"$f":"AM2542*AM2543/1000","v":0},{"$f":"AN2542*AN2543/1000","v":0}]
[null,null,null,null,null,null,null,null,null,null,null,null,{"$f":"M2541 & \".P\"","v":"SALTTH.P"},"Цена за единицу","руб./ед.",null,null,null,null,null,null,null,null,null,null,null,null,null,null,null,null,null,null,null,null,null,null,{"$f":"IF(AL2543=0,0,AL2541*1000/AL2543)","v":0}]
[null,null,null,null,null,null,null,null,null,null,null,null,{"$f":"M2541 & \".V\"","v":"SALTTH.V"},"Объём","ед.",null,null,null,null,null,null,null,null,null,null,null,null,null,null,null,null,null,null,null,null,null,null,{"$f":"AM2543+AN2543","v":0}]
[null,null,null,null,null,null,null,null,null,null,null,null,"SALTEX","соль экстра","тыс.руб.",null,null,null,null,null,null,null,null,null,null,null,null,null,null,null,null,null,null,null,null,null,null,{"$f":"AM2544+AN2544","v":0},{"$f":"AM2545*AM2546/1000","v":0},{"$f":"AN2545*AN2546/1000","v":0}]
[null,null,null,null,null,null,null,null,null,null,null,null,{"$f":"M2544 & \".P\"","v":"SALTEX.P"},"Цена за единицу","руб./ед.",null,null,null,null,null,null,null,null,null,null,null,null,null,null,null,null,null,null,null,null,null,null,{"$f":"IF(AL2546=0,0,AL2544*1000/AL2546)","v":0}]
[null,null,null,null,null,null,null,null,null,null,null,null,{"$f":"M2544 & \".V\"","v":"SALTEX.V"},"Объём","ед.",null,null,null,null,null,null,null,null,null,null,null,null,null,null,null,null,null,null,null,null,null,null,{"$f":"AM2546+AN2546","v":0}]
[null,null,null,null,null,null,null,null,null,null,null,null,"C2H5OH","спирт","тыс.руб.",null,null,null,null,null,null,null,null,null,null,null,null,null,null,null,null,null,null,null,null,null,null,{"$f":"AM2547+AN2547","v":0},{"$f":"AM2548*AM2549/1000","v":0},{"$f":"AN2548*AN2549/1000","v":0}]
[null,null,null,null,null,null,null,null,null,null,null,null,{"$f":"M2547 & \".P\"","v":"C2H5OH.P"},"Цена за единицу","руб./ед.",null,null,null,null,null,null,null,null,null,null,null,null,null,null,null,null,null,null,null,null,null,null,{"$f":"IF(AL2549=0,0,AL2547*1000/AL2549)","v":0}]
[null,null,null,null,null,null,null,null,null,null,null,null,{"$f":"M2547 & \".V\"","v":"C2H5OH.V"},"Объём","ед.",null,null,null,null,null,null,null,null,null,null,null,null,null,null,null,null,null,null,null,null,null,null,{"$f":"AM2549+AN2549","v":0}]
[null,null,null,null,null,null,null,null,null,null,null,null,"SFAL1G","сульфат алюминия 1 сорт","тыс.руб.",null,null,null,null,null,null,null,null,null,null,null,null,null,null,null,null,null,null,null,null,null,null,{"$f":"AM2550+AN2550","v":0},{"$f":"AM2551*AM2552/1000","v":0},{"$f":"AN2551*AN2552/1000","v":0}]
[null,null,null,null,null,null,null,null,null,null,null,null,{"$f":"M2550 & \".P\"","v":"SFAL1G.P"},"Цена за единицу","руб./ед.",null,null,null,null,null,null,null,null,null,null,null,null,null,null,null,null,null,null,null,null,null,null,{"$f":"IF(AL2552=0,0,AL2550*1000/AL2552)","v":0}]
[null,null,null,null,null,null,null,null,null,null,null,null,{"$f":"M2550 & \".V\"","v":"SFAL1G.V"},"Объём","ед.",null,null,null,null,null,null,null,null,null,null,null,null,null,null,null,null,null,null,null,null,null,null,{"$f":"AM2552+AN2552","v":0}]
[null,null,null,null,null,null,null,null,null,null,null,null,"SFALLQD","сульфат алюминия жидкий","тыс.руб.",null,null,null,null,null,null,null,null,null,null,null,null,null,null,null,null,null,null,null,null,null,null,{"$f":"AM2553+AN2553","v":0},{"$f":"AM2554*AM2555/1000","v":0},{"$f":"AN2554*AN2555/1000","v":0}]
[null,null,null,null,null,null,null,null,null,null,null,null,{"$f":"M2553 & \".P\"","v":"SFALLQD.P"},"Цена за единицу","руб./ед.",null,null,null,null,null,null,null,null,null,null,null,null,null,null,null,null,null,null,null,null,null,null,{"$f":"IF(AL2555=0,0,AL2553*1000/AL2555)","v":0}]
[null,null,null,null,null,null,null,null,null,null,null,null,{"$f":"M2553 & \".V\"","v":"SFALLQD.V"},"Объём","ед.",null,null,null,null,null,null,null,null,null,null,null,null,null,null,null,null,null,null,null,null,null,null,{"$f":"AM2555+AN2555","v":0}]
[null,null,null,null,null,null,null,null,null,null,null,null,"SFALT","сульфат алюминия технический","тыс.руб.",null,null,null,null,null,null,null,null,null,null,null,null,null,null,null,null,null,null,null,null,null,null,{"$f":"AM2556+AN2556","v":0},{"$f":"AM2557*AM2558/1000","v":0},{"$f":"AN2557*AN2558/1000","v":0}]
[null,null,null,null,null,null,null,null,null,null,null,null,{"$f":"M2556 & \".P\"","v":"SFALT.P"},"Цена за единицу","руб./ед.",null,null,null,null,null,null,null,null,null,null,null,null,null,null,null,null,null,null,null,null,null,null,{"$f":"IF(AL2558=0,0,AL2556*1000/AL2558)","v":0}]
[null,null,null,null,null,null,null,null,null,null,null,null,{"$f":"M2556 & \".V\"","v":"SFALT.V"},"Объём","ед.",null,null,null,null,null,null,null,null,null,null,null,null,null,null,null,null,null,null,null,null,null,null,{"$f":"AM2558+AN2558","v":0}]
[null,null,null,null,null,null,null,null,null,null,null,null,"SFAMN","сульфат аммония","тыс.руб.",null,null,null,null,null,null,null,null,null,null,null,null,null,null,null,null,null,null,null,null,null,null,{"$f":"AM2559+AN2559","v":0},{"$f":"AM2560*AM2561/1000","v":0},{"$f":"AN2560*AN2561/1000","v":0}]
[null,null,null,null,null,null,null,null,null,null,null,null,{"$f":"M2559 & \".P\"","v":"SFAMN.P"},"Цена за единицу","руб./ед.",null,null,null,null,null,null,null,null,null,null,null,null,null,null,null,null,null,null,null,null,null,null,{"$f":"IF(AL2561=0,0,AL2559*1000/AL2561)","v":0}]
[null,null,null,null,null,null,null,null,null,null,null,null,{"$f":"M2559 & \".V\"","v":"SFAMN.V"},"Объём","ед.",null,null,null,null,null,null,null,null,null,null,null,null,null,null,null,null,null,null,null,null,null,null,{"$f":"AM2561+AN2561","v":0}]
[null,null,null,null,null,null,null,null,null,null,null,null,"TM","тиомочевина","тыс.руб.",null,null,null,null,null,null,null,null,null,null,null,null,null,null,null,null,null,null,null,null,null,null,{"$f":"AM2562+AN2562","v":0},{"$f":"AM2563*AM2564/1000","v":0},{"$f":"AN2563*AN2564/1000","v":0}]
[null,null,null,null,null,null,null,null,null,null,null,null,{"$f":"M2562 & \".P\"","v":"TM.P"},"Цена за единицу","руб./ед.",null,null,null,null,null,null,null,null,null,null,null,null,null,null,null,null,null,null,null,null,null,null,{"$f":"IF(AL2564=0,0,AL2562*1000/AL2564)","v":0}]
[null,null,null,null,null,null,null,null,null,null,null,null,{"$f":"M2562 & \".V\"","v":"TM.V"},"Объём","ед.",null,null,null,null,null,null,null,null,null,null,null,null,null,null,null,null,null,null,null,null,null,null,{"$f":"AM2564+AN2564","v":0}]
[null,null,null,null,null,null,null,null,null,null,null,null,"TSFNA","тиосульфат натрия","тыс.руб.",null,null,null,null,null,null,null,null,null,null,null,null,null,null,null,null,null,null,null,null,null,null,{"$f":"AM2565+AN2565","v":0},{"$f":"AM2566*AM2567/1000","v":0},{"$f":"AN2566*AN2567/1000","v":0}]
[null,null,null,null,null,null,null,null,null,null,null,null,{"$f":"M2565 & \".P\"","v":"TSFNA.P"},"Цена за единицу","руб./ед.",null,null,null,null,null,null,null,null,null,null,null,null,null,null,null,null,null,null,null,null,null,null,{"$f":"IF(AL2567=0,0,AL2565*1000/AL2567)","v":0}]
[null,null,null,null,null,null,null,null,null,null,null,null,{"$f":"M2565 & \".V\"","v":"TSFNA.V"},"Объём","ед.",null,null,null,null,null,null,null,null,null,null,null,null,null,null,null,null,null,null,null,null,null,null,{"$f":"AM2567+AN2567","v":0}]
[null,null,null,null,null,null,null,null,null,null,null,null,"CARBONPWDRD","углерод порошкообразный","тыс.руб.",null,null,null,null,null,null,null,null,null,null,null,null,null,null,null,null,null,null,null,null,null,null,{"$f":"AM2568+AN2568","v":0},{"$f":"AM2569*AM2570/1000","v":0},{"$f":"AN2569*AN2570/1000","v":0}]
[null,null,null,null,null,null,null,null,null,null,null,null,{"$f":"M2568 & \".P\"","v":"CARBONPWDRD.P"},"Цена за единицу","руб./ед.",null,null,null,null,null,null,null,null,null,null,null,null,null,null,null,null,null,null,null,null,null,null,{"$f":"IF(AL2570=0,0,AL2568*1000/AL2570)","v":0}]
[null,null,null,null,null,null,null,null,null,null,null,null,{"$f":"M2568 & \".V\"","v":"CARBONPWDRD.V"},"Объём","ед.",null,null,null,null,null,null,null,null,null,null,null,null,null,null,null,null,null,null,null,null,null,null,{"$f":"AM2570+AN2570","v":0}]
[null,null,null,null,null,null,null,null,null,null,null,null,"CCL4","углерод четырёххлористый","тыс.руб.",null,null,null,null,null,null,null,null,null,null,null,null,null,null,null,null,null,null,null,null,null,null,{"$f":"AM2571+AN2571","v":0},{"$f":"AM2572*AM2573/1000","v":0},{"$f":"AN2572*AN2573/1000","v":0}]
[null,null,null,null,null,null,null,null,null,null,null,null,{"$f":"M2571 & \".P\"","v":"CCL4.P"},"Цена за единицу","руб./ед.",null,null,null,null,null,null,null,null,null,null,null,null,null,null,null,null,null,null,null,null,null,null,{"$f":"IF(AL2573=0,0,AL2571*1000/AL2573)","v":0}]
[null,null,null,null,null,null,null,null,null,null,null,null,{"$f":"M2571 & \".V\"","v":"CCL4.V"},"Объём","ед.",null,null,null,null,null,null,null,null,null,null,null,null,null,null,null,null,null,null,null,null,null,null,{"$f":"AM2573+AN2573","v":0}]
[null,null,null,null,null,null,null,null,null,null,null,null,"FFTLN","фенолфталеин","тыс.руб.",null,null,null,null,null,null,null,null,null,null,null,null,null,null,null,null,null,null,null,null,null,null,{"$f":"AM2574+AN2574","v":0},{"$f":"AM2575*AM2576/1000","v":0},{"$f":"AN2575*AN2576/1000","v":0}]
[null,null,null,null,null,null,null,null,null,null,null,null,{"$f":"M2574 & \".P\"","v":"FFTLN.P"},"Цена за единицу","руб./ед.",null,null,null,null,null,null,null,null,null,null,null,null,null,null,null,null,null,null,null,null,null,null,{"$f":"IF(AL2576=0,0,AL2574*1000/AL2576)","v":0}]
[null,null,null,null,null,null,null,null,null,null,null,null,{"$f":"M2574 & \".V\"","v":"FFTLN.V"},"Объём","ед.",null,null,null,null,null,null,null,null,null,null,null,null,null,null,null,null,null,null,null,null,null,null,{"$f":"AM2576+AN2576","v":0}]
[null,null,null,null,null,null,null,null,null,null,null,null,"CL","хлор","тыс.руб.",null,null,null,null,null,null,null,null,null,null,null,null,null,null,null,null,null,null,null,null,null,null,{"$f":"AM2577+AN2577","v":0},{"$f":"AM2578*AM2579/1000","v":0},{"$f":"AN2578*AN2579/1000","v":0}]
[null,null,null,null,null,null,null,null,null,null,null,null,{"$f":"M2577 & \".P\"","v":"CL.P"},"Цена за единицу","руб./ед.",null,null,null,null,null,null,null,null,null,null,null,null,null,null,null,null,null,null,null,null,null,null,{"$f":"IF(AL2579=0,0,AL2577*1000/AL2579)","v":0}]
[null,null,null,null,null,null,null,null,null,null,null,null,{"$f":"M2577 & \".V\"","v":"CL.V"},"Объём","ед.",null,null,null,null,null,null,null,null,null,null,null,null,null,null,null,null,null,null,null,null,null,null,{"$f":"AM2579+AN2579","v":0}]
[null,null,null,null,null,null,null,null,null,null,null,null,"CLLIQ","хлор жидкий","тыс.руб.",null,null,null,null,null,null,null,null,null,null,null,null,null,null,null,null,null,null,null,null,null,null,{"$f":"AM2580+AN2580","v":0},{"$f":"AM2581*AM2582/1000","v":0},{"$f":"AN2581*AN2582/1000","v":0}]
[null,null,null,null,null,null,null,null,null,null,null,null,{"$f":"M2580 & \".P\"","v":"CLLIQ.P"},"Цена за единицу","руб./ед.",null,null,null,null,null,null,null,null,null,null,null,null,null,null,null,null,null,null,null,null,null,null,{"$f":"IF(AL2582=0,0,AL2580*1000/AL2582)","v":0}]
[null,null,null,null,null,null,null,null,null,null,null,null,{"$f":"M2580 & \".V\"","v":"CLLIQ.V"},"Объём","ед.",null,null,null,null,null,null,null,null,null,null,null,null,null,null,null,null,null,null,null,null,null,null,{"$f":"AM2582+AN2582","v":0}]
[null,null,null,null,null,null,null,null,null,null,null,null,"CLAMN","хлорамин","тыс.руб.",null,null,null,null,null,null,null,null,null,null,null,null,null,null,null,null,null,null,null,null,null,null,{"$f":"AM2583+AN2583","v":0},{"$f":"AM2584*AM2585/1000","v":0},{"$f":"AN2584*AN2585/1000","v":0}]
[null,null,null,null,null,null,null,null,null,null,null,null,{"$f":"M2583 & \".P\"","v":"CLAMN.P"},"Цена за единицу","руб./ед.",null,null,null,null,null,null,null,null,null,null,null,null,null,null,null,null,null,null,null,null,null,null,{"$f":"IF(AL2585=0,0,AL2583*1000/AL2585)","v":0}]
[null,null,null,null,null,null,null,null,null,null,null,null,{"$f":"M2583 & \".V\"","v":"CLAMN.V"},"Объём","ед.",null,null,null,null,null,null,null,null,null,null,null,null,null,null,null,null,null,null,null,null,null,null,{"$f":"AM2585+AN2585","v":0}]
[null,null,null,null,null,null,null,null,null,null,null,null,"CLFRM","хлороформ","тыс.руб.",null,null,null,null,null,null,null,null,null,null,null,null,null,null,null,null,null,null,null,null,null,null,{"$f":"AM2586+AN2586","v":0},{"$f":"AM2587*AM2588/1000","v":0},{"$f":"AN2587*AN2588/1000","v":0}]
[null,null,null,null,null,null,null,null,null,null,null,null,{"$f":"M2586 & \".P\"","v":"CLFRM.P"},"Цена за единицу","руб./ед.",null,null,null,null,null,null,null,null,null,null,null,null,null,null,null,null,null,null,null,null,null,null,{"$f":"IF(AL2588=0,0,AL2586*1000/AL2588)","v":0}]
[null,null,null,null,null,null,null,null,null,null,null,null,{"$f":"M2586 & \".V\"","v":"CLFRM.V"},"Объём","ед.",null,null,null,null,null,null,null,null,null,null,null,null,null,null,null,null,null,null,null,null,null,null,{"$f":"AM2588+AN2588","v":0}]
[null,null,null,null,null,null,null,null,null,null,null,null,"ETHL","этиленгликоль","тыс.руб.",null,null,null,null,null,null,null,null,null,null,null,null,null,null,null,null,null,null,null,null,null,null,{"$f":"AM2589+AN2589","v":0},{"$f":"AM2590*AM2591/1000","v":0},{"$f":"AN2590*AN2591/1000","v":0}]
[null,null,null,null,null,null,null,null,null,null,null,null,{"$f":"M2589 & \".P\"","v":"ETHL.P"},"Цена за единицу","руб./ед.",null,null,null,null,null,null,null,null,null,null,null,null,null,null,null,null,null,null,null,null,null,null,{"$f":"IF(AL2591=0,0,AL2589*1000/AL2591)","v":0}]
[null,null,null,null,null,null,null,null,null,null,null,null,{"$f":"M2589 & \".V\"","v":"ETHL.V"},"Объём","ед.",null,null,null,null,null,null,null,null,null,null,null,null,null,null,null,null,null,null,null,null,null,null,{"$f":"AM2591+AN2591","v":0}]
[null,null,null,null,null,null,null,null,null,null,null,null,"OTH","прочие","тыс.руб.",null,null,null,null,null,null,null,null,null,null,null,null,null,null,null,null,null,null,null,null,null,null,{"$f":"AM2592+AN2592","v":0}]
[]
[]
[null,null,null,null,null,null,null,null,null,null,null,null,"OTH","Прочие","тыс.руб.",null,null,null,null,null,null,null,null,null,null,null,null,null,null,null,null,null,null,null,null,null,null,{"$f":"AM2595+AN2595","v":0}]
[]
[null,null,null,null,null,null,null,null,null,null,null,null,"21","Полезный отпуск продукции всего","тыс.куб.м",null,null,null,null,null,null,null,null,null,null,null,null,null,null,null,null,{"$f":"SUMIF(ХВС.РО!$AS$15:$AT$15,AF$15,ХВС.РО!$AS$240:$AT$240)","v":0},{"$f":"SUMIF(ХВС.РО!$AS$15:$AT$15,AG$15,ХВС.РО!$AS$240:$AT$240)","v":0},{"$f":"SUMIF(ХВС.РО!$AS$15:$AT$15,AH$15,ХВС.РО!$AS$240:$AT$240)","v":0}]
[]
[]
[]
[]
[]
[]
[]
[]
[]
[]
[]
[]
[]
[null,null,null,null,null,null,null,null,null,null,null,null,null,null,null,null,null,null,null,null,null,null,null,null,null,null,null,null,"VOTV_CALC_ADD_RANGE"]
[]
[]
[]
[null,null,null,null,null,null,null,null,null,null,null,null,null,null,null,null,null,null,null,null,null,null,null,null,null,null,null,null,12,6,6]
[]
[]
[null,null,null,null,null,null,null,null,null,null,null,null,null,null,null,null,null,null,null,null,null,null,null,null,null,null,null,null,"Y","I","II"]
[]
[]
[]
[null,null,null,null,null,null,null,null,null,null,null,null,null,null,null,null,null,null,null,null,null,null,null,null,null,null,null,null,"Год","I полугодие","II полугодие"]
[]
[null,null,null,null,null,null,null,null,null,null,null,null,null,null,null,null,null,null,null,null,null,null,null,null,null,null,null,null,{"$f":"AC2626 & \"_\" & AC2618","v":"0_Y"},{"$f":"AD2626 & \"_\" & AD2618","v":"0_I"},{"$f":"AE2626 & \"_\" & AE2618","v":"0_II"}]
[]
[null,null,null,null,null,null,null,null,null,null,null,null,null,null,null,null,null,null,null,null,null,null,null,null,null,null,null,null,{"$f":"AC2628","v":0},{"$f":"AC2628","v":0},{"$f":"AC2628","v":0}]
[null,null,null,null,null,null,null,null,null,null,null,null,null,null,null,null,null,null,null,null,null,null,null,null,null,null,null,null,"Удалить"]
[null,null,null,null,null,null,null,null,null,null,null,null,"№ п/п","Наименование показателя","Единица измерения"]
[]
[null,null,null,null,null,null,null,null,null,null,null,null,null,"Является ли организация плательщиком НДС",null,null,null,null,null,null,null,null,null,null,null,null,null,null,null,null,null,null,null,null,"VOTV_CALC_EMPTY_BASE_RANGE"]
[null,null,null,null,null,null,null,null,null,null,null,null,null,{"$f":"IF(CALC_IDENTIFIER=\"\",\"\",CALC_IDENTIFIER)","v":""},null,null,null,null,null,null,null,null,null,null,null,null,null,null,null,null,null,null,null,null,"VOTV_CALC_SINGLE_BASE_RANGE"]
[null,null,null,null,null,null,null,null,null,null,null,null,"1","Производственные расходы","тыс.руб.",null,null,null,null,null,null,null,null,null,null,null,null,null,null,null,null,{"$f":"AG2632+AH2632","v":0},{"$f":"SUM(AG2633,AG2637,AG2715,AG2716,AG2729,AG2730,AG2731,AG2736)","v":0},{"$f":"SUM(AH2633,AH2637,AH2715,AH2716,AH2729,AH2730,AH2731,AH2736)","v":0}]
[null,null,null,null,null,null,null,null,null,null,null,null,"1.1","Расходы на приобретение сырья и материалов и их хранение","тыс.руб.",null,null,null,null,null,null,null,null,null,null,null,null,null,null,null,null,0,{"$f":"SUM(AG2634,AG2635,AG2636)","v":0},{"$f":"SUM(AH2634,AH2635,AH2636)","v":0}]
[null,null,null,null,null,null,null,null,null,null,null,null,"1.1.1","Реагенты ","тыс.руб.",null,null,null,null,null,null,null,null,null,null,null,null,null,null,null,null,0,{"$f":"ВО.Р!AG$25","v":0},{"$f":"ВО.Р!AH$25","v":0}]
[null,null,null,null,null,null,null,null,null,null,null,null,"1.1.2","Горюче-смазочные материалы","тыс.руб.",null,null,null,null,null,null,null,null,null,null,null,null,null,null,null,null,0]
[null,null,null,null,null,null,null,null,null,null,null,null,"1.1.3","Материалы и малоценные основные средства","тыс.руб.",null,null,null,null,null,null,null,null,null,null,null,null,null,null,null,null,0]
[null,null,null,null,null,null,null,null,null,null,null,null,"1.2","Расходы на энергетические ресурсы и холодную воду","тыс.руб.",null,null,null,null,null,null,null,null,null,null,null,null,null,null,null,null,0,{"$f":"SUM(AG2638,AG2698,AG2699,AG2700,AG2705)","v":0},{"$f":"SUM(AH2638,AH2698,AH2699,AH2700,AH2705)","v":0}]
[null,null,null,null,null,null,null,null,null,null,null,null,"1.2.1","электроэнергия ","тыс.руб.",null,null,null,null,null,null,null,null,null,null,null,null,null,null,null,null,0,{"$f":"SUM(AG2680,AG2692,AG2686)","v":0},{"$f":"SUM(AH2680,AH2692,AH2686)","v":0}]
[null,null,null,null,null,null,null,null,null,null,null,null,"1.2.1.1","Объём покупной энергии"]
[null,null,null,null,null,null,null,null,null,null,null,null,"1.2.1.1.1","Объём покупной энергии по одноставочному тарифу","тыс.кВт*ч",null,null,null,null,null,null,null,null,null,null,null,null,null,null,null,null,{"$f":"SUM(AF2641:AF2645)","v":0},{"$f":"SUM(AG2641:AG2645)","v":0},{"$f":"SUM(AH2641:AH2645)","v":0}]
[null,null,null,null,null,null,null,null,null,null,null,null,"1.2.1.1.1.1","НН","тыс.кВт*ч",null,null,null,null,null,null,null,null,null,null,null,null,null,null,null,null,{"$f":"AG2641+AH2641","v":0}]
[null,null,null,null,null,null,null,null,null,null,null,null,"1.2.1.1.1.2","СН1","тыс.кВт*ч",null,null,null,null,null,null,null,null,null,null,null,null,null,null,null,null,{"$f":"AG2642+AH2642","v":0}]
[null,null,null,null,null,null,null,null,null,null,null,null,"1.2.1.1.1.3","СН2","тыс.кВт*ч",null,null,null,null,null,null,null,null,null,null,null,null,null,null,null,null,{"$f":"AG2643+AH2643","v":0}]
[null,null,null,null,null,null,null,null,null,null,null,null,"1.2.1.1.1.4","ВН","тыс.кВт*ч",null,null,null,null,null,null,null,null,null,null,null,null,null,null,null,null,{"$f":"AG2644+AH2644","v":0}]
[null,null,null,null,null,null,null,null,null,null,null,null,"1.2.1.1.1.5","без разбивки по напряжению","тыс.кВт*ч",null,null,null,null,null,null,null,null,null,null,null,null,null,null,null,null,{"$f":"AG2645+AH2645","v":0}]
[null,null,null,null,null,null,null,null,null,null,null,null,"1.2.1.1.2","Объём покупной электроэнергии по двухставочному тарифу"]
[null,null,null,null,null,null,null,null,null,null,null,null,"1.2.1.1.2.1","Мощность","МВт*мес",null,null,null,null,null,null,null,null,null,null,null,null,null,null,null,null,{"$f":"SUM(AF2648:AF2652)","v":0},{"$f":"SUM(AG2648:AG2652)","v":0},{"$f":"SUM(AH2648:AH2652)","v":0}]
[null,null,null,null,null,null,null,null,null,null,null,null,"1.2.1.1.2.1.1","НН","МВт*мес",null,null,null,null,null,null,null,null,null,null,null,null,null,null,null,null,{"$f":"AG2648+AH2648","v":0}]
[null,null,null,null,null,null,null,null,null,null,null,null,"1.2.1.1.2.1.2","СН1","МВт*мес",null,null,null,null,null,null,null,null,null,null,null,null,null,null,null,null,{"$f":"AG2649+AH2649","v":0}]
[null,null,null,null,null,null,null,null,null,null,null,null,"1.2.1.1.2.1.3","СН2","МВт*мес",null,null,null,null,null,null,null,null,null,null,null,null,null,null,null,null,{"$f":"AG2650+AH2650","v":0}]
[null,null,null,null,null,null,null,null,null,null,null,null,"1.2.1.1.2.1.4","ВН","МВт*мес",null,null,null,null,null,null,null,null,null,null,null,null,null,null,null,null,{"$f":"AG2651+AH2651","v":0}]
[null,null,null,null,null,null,null,null,null,null,null,null,"1.2.1.1.2.1.5","ГН","МВт*мес",null,null,null,null,null,null,null,null,null,null,null,null,null,null,null,null,{"$f":"AG2652+AH2652","v":0}]
[null,null,null,null,null,null,null,null,null,null,null,null,"1.2.1.1.2.2","Активная электроэнергия","тыс.кВт*ч",null,null,null,null,null,null,null,null,null,null,null,null,null,null,null,null,{"$f":"SUM(AF2654:AF2658)","v":0},{"$f":"SUM(AG2654:AG2658)","v":0},{"$f":"SUM(AH2654:AH2658)","v":0}]
[null,null,null,null,null,null,null,null,null,null,null,null,"1.2.1.1.2.2.1","НН","тыс.кВт*ч",null,null,null,null,null,null,null,null,null,null,null,null,null,null,null,null,{"$f":"AG2654+AH2654","v":0}]
[null,null,null,null,null,null,null,null,null,null,null,null,"1.2.1.1.2.2.2","СН1","тыс.кВт*ч",null,null,null,null,null,null,null,null,null,null,null,null,null,null,null,null,{"$f":"AG2655+AH2655","v":0}]
[null,null,null,null,null,null,null,null,null,null,null,null,"1.2.1.1.2.2.3","СН2","тыс.кВт*ч",null,null,null,null,null,null,null,null,null,null,null,null,null,null,null,null,{"$f":"AG2656+AH2656","v":0}]
[null,null,null,null,null,null,null,null,null,null,null,null,"1.2.1.1.2.2.4","ВН","тыс.кВт*ч",null,null,null,null,null,null,null,null,null,null,null,null,null,null,null,null,{"$f":"AG2657+AH2657","v":0}]
[null,null,null,null,null,null,null,null,null,null,null,null,"1.2.1.1.2.2.5","ГН","тыс.кВт*ч",null,null,null,null,null,null,null,null,null,null,null,null,null,null,null,null,{"$f":"AG2658+AH2658","v":0}]
[null,null,null,null,null,null,null,null,null,null,null,null,"1.2.1.2","Тариф на электроэнергию и мощность"]
[null,null,null,null,null,null,null,null,null,null,null,null,"1.2.1.2.1","по одноставочному тарифу"]
[null,null,null,null,null,null,null,null,null,null,null,null,"1.2.1.2.1.1","НН","руб./кВт*ч",null,null,null,null,null,null,null,null,null,null,null,null,null,null,null,null,{"$f":"IF(AF2641=0,0,AF2681/AF2641)","v":0}]
[null,null,null,null,null,null,null,null,null,null,null,null,"1.2.1.2.1.2","СН1","руб./кВт*ч",null,null,null,null,null,null,null,null,null,null,null,null,null,null,null,null,{"$f":"IF(AF2642=0,0,AF2682/AF2642)","v":0}]
[null,null,null,null,null,null,null,null,null,null,null,null,"1.2.1.2.1.3","СН2","руб./кВт*ч",null,null,null,null,null,null,null,null,null,null,null,null,null,null,null,null,{"$f":"IF(AF2643=0,0,AF2683/AF2643)","v":0}]
[null,null,null,null,null,null,null,null,null,null,null,null,"1.2.1.2.1.4","ВН","руб./кВт*ч",null,null,null,null,null,null,null,null,null,null,null,null,null,null,null,null,{"$f":"IF(AF2644=0,0,AF2684/AF2644)","v":0}]
[null,null,null,null,null,null,null,null,null,null,null,null,"1.2.1.2.1.5","без разбивки по напряжению","руб./кВт*ч",null,null,null,null,null,null,null,null,null,null,null,null,null,null,null,null,{"$f":"IF(AF2645=0,0,AF2685/AF2645)","v":0}]
[null,null,null,null,null,null,null,null,null,null,null,null,"1.2.1.2.1.6","Средний одноставочный тариф на электрическую энергию","руб./кВт*ч",null,null,null,null,null,null,null,null,null,null,null,null,null,null,null,null,{"$f":"IF(AF2640=0,0,AF2680/AF2640)","v":0},{"$f":"IF(AG2640=0,0,AG2680/AG2640)","v":0},{"$f":"IF(AH2640=0,0,AH2680/AH2640)","v":0}]
[null,null,null,null,null,null,null,null,null,null,null,null,"1.2.1.2.2","по двухставочному тарифу"]
[null,null,null,null,null,null,null,null,null,null,null,null,"1.2.1.2.2.1","ставка за мощность","руб./МВт*мес",null,null,null,null,null,null,null,null,null,null,null,null,null,null,null,null,{"$f":"IF(AF2647=0,0,(AF2669*AF2648+AF2670*AF2649+AF2671*AF2650+AF2672*AF2651+AF2673*AF2652)/AF2647)","v":0},{"$f":"IF(AG2647=0,0,(AG2669*AG2648+AG2670*AG2649+AG2671*AG2650+AG2672*AG2651+AG2673*AG2652)/AG2647)","v":0},{"$f":"IF(AH2647=0,0,(AH2669*AH2648+AH2670*AH2649+AH2671*AH2650+AH2672*AH2651+AH2673*AH2652)/AH2647)","v":0}]
[null,null,null,null,null,null,null,null,null,null,null,null,"1.2.1.2.2.1.1","НН","руб./МВт*мес",null,null,null,null,null,null,null,null,null,null,null,null,null,null,null,null,{"$f":"IF(AF2648=0,0,AF2687*1000/AF2648)","v":0}]
[null,null,null,null,null,null,null,null,null,null,null,null,"1.2.1.2.2.1.2","СН1","руб./МВт*мес",null,null,null,null,null,null,null,null,null,null,null,null,null,null,null,null,{"$f":"IF(AF2649=0,0,AF2688*1000/AF2649)","v":0}]
[null,null,null,null,null,null,null,null,null,null,null,null,"1.2.1.2.2.1.3","СН2","руб./МВт*мес",null,null,null,null,null,null,null,null,null,null,null,null,null,null,null,null,{"$f":"IF(AF2650=0,0,AF2689*1000/AF2650)","v":0}]
[null,null,null,null,null,null,null,null,null,null,null,null,"1.2.1.2.2.1.4","ВН","руб./МВт*мес",null,null,null,null,null,null,null,null,null,null,null,null,null,null,null,null,{"$f":"IF(AF2651=0,0,AF2690*1000/AF2651)","v":0}]
[null,null,null,null,null,null,null,null,null,null,null,null,"1.2.1.2.2.1.5","ГН","руб./МВт*мес",null,null,null,null,null,null,null,null,null,null,null,null,null,null,null,null,{"$f":"IF(AF2652=0,0,AF2691*1000/AF2652)","v":0}]
[null,null,null,null,null,null,null,null,null,null,null,null,"1.2.1.2.2.2","ставка за электроэнергию","руб./кВт*ч",null,null,null,null,null,null,null,null,null,null,null,null,null,null,null,null,{"$f":"IF(AF2653=0,0,(AF2675*AF2654+AF2676*AF2655+AF2677*AF2656+AF2678*AF2657+AF2679*AF2658)/AF2653)","v":0},{"$f":"IF(AG2653=0,0,(AG2675*AG2654+AG2676*AG2655+AG2677*AG2656+AG2678*AG2657+AG2679*AG2658)/AG2653)","v":0},{"$f":"IF(AH2653=0,0,(AH2675*AH2654+AH2676*AH2655+AH2677*AH2656+AH2678*AH2657+AH2679*AH2658)/AH2653)","v":0}]
[null,null,null,null,null,null,null,null,null,null,null,null,"1.2.1.2.2.2.1","НН","руб./кВт*ч",null,null,null,null,null,null,null,null,null,null,null,null,null,null,null,null,{"$f":"IF(AF2654=0,0,AF2693/AF2654)","v":0}]
[null,null,null,null,null,null,null,null,null,null,null,null,"1.2.1.2.2.2.2","СН1","руб./кВт*ч",null,null,null,null,null,null,null,null,null,null,null,null,null,null,null,null,{"$f":"IF(AF2655=0,0,AF2694/AF2655)","v":0}]
[null,null,null,null,null,null,null,null,null,null,null,null,"1.2.1.2.2.2.3","СН2","руб./кВт*ч",null,null,null,null,null,null,null,null,null,null,null,null,null,null,null,null,{"$f":"IF(AF2656=0,0,AF2695/AF2656)","v":0}]
[null,null,null,null,null,null,null,null,null,null,null,null,"1.2.1.2.2.2.4","ВН","руб./кВт*ч",null,null,null,null,null,null,null,null,null,null,null,null,null,null,null,null,{"$f":"IF(AF2657=0,0,AF2696/AF2657)","v":0}]
[null,null,null,null,null,null,null,null,null,null,null,null,"1.2.1.2.2.2.5","ГН","руб./кВт*ч",null,null,null,null,null,null,null,null,null,null,null,null,null,null,null,null,{"$f":"IF(AF2658=0,0,AF2697/AF2658)","v":0}]
[null,null,null,null,null,null,null,null,null,null,null,null,"1.2.1.3","Затраты на покупку энергии по одноставочному тарифу","тыс.руб.",null,null,null,null,null,null,null,null,null,null,null,null,null,null,null,null,{"$f":"AG2680+AH2680","v":0},{"$f":"SUM(AG2681:AG2685)","v":0},{"$f":"SUM(AH2681:AH2685)","v":0}]
[null,null,null,null,null,null,null,null,null,null,null,null,"1.2.1.3.1","НН","тыс.руб.",null,null,null,null,null,null,null,null,null,null,null,null,null,null,null,null,0,{"$f":"AG2641*AG2661","v":0},{"$f":"AH2641*AH2661","v":0}]
[null,null,null,null,null,null,null,null,null,null,null,null,"1.2.1.3.2","СН1","тыс.руб.",null,null,null,null,null,null,null,null,null,null,null,null,null,null,null,null,0,{"$f":"AG2642*AG2662","v":0},0]
[null,null,null,null,null,null,null,null,null,null,null,null,"1.2.1.3.3","СН2","тыс.руб.",null,null,null,null,null,null,null,null,null,null,null,null,null,null,null,null,0,0,0]
[null,null,null,null,null,null,null,null,null,null,null,null,"1.2.1.3.4","ВН","тыс.руб.",null,null,null,null,null,null,null,null,null,null,null,null,null,null,null,null,0,0,0]
[null,null,null,null,null,null,null,null,null,null,null,null,"1.2.1.3.5","без разбивки по напряжению","тыс.руб.",null,null,null,null,null,null,null,null,null,null,null,null,null,null,null,null,0,0,0]
[null,null,null,null,null,null,null,null,null,null,null,null,"1.2.1.4","Затраты на покупку мощности по двухставочному тарифу","тыс.руб.",null,null,null,null,null,null,null,null,null,null,null,null,null,null,null,null,0,{"$f":"SUM(AG2687:AG2691)","v":0},{"$f":"SUM(AH2687:AH2691)","v":0}]
[null,null,null,null,null,null,null,null,null,null,null,null,"1.2.1.4.1","НН","тыс.руб.",null,null,null,null,null,null,null,null,null,null,null,null,null,null,null,null,0,{"$f":"AG2648*AG2669/1000","v":0},{"$f":"AH2648*AH2669/1000","v":0}]
[null,null,null,null,null,null,null,null,null,null,null,null,"1.2.1.4.2","СН1","тыс.руб.",null,null,null,null,null,null,null,null,null,null,null,null,null,null,null,null,0,{"$f":"AG2649*AG2670/1000","v":0},0]
[null,null,null,null,null,null,null,null,null,null,null,null,"1.2.1.4.3","СН2","тыс.руб.",null,null,null,null,null,null,null,null,null,null,null,null,null,null,null,null,0,0,0]
[null,null,null,null,null,null,null,null,null,null,null,null,"1.2.1.4.4","ВН","тыс.руб.",null,null,null,null,null,null,null,null,null,null,null,null,null,null,null,null,0,0,0]
[null,null,null,null,null,null,null,null,null,null,null,null,"1.2.1.4.5","ГН","тыс.руб.",null,null,null,null,null,null,null,null,null,null,null,null,null,null,null,null,0,0,0]
[null,null,null,null,null,null,null,null,null,null,null,null,"1.2.1.5","Затраты на покупку энергии по двухставочному тарифу","тыс.руб.",null,null,null,null,null,null,null,null,null,null,null,null,null,null,null,null,0,{"$f":"SUM(AG2693:AG2697)","v":0},{"$f":"SUM(AH2693:AH2697)","v":0}]
[null,null,null,null,null,null,null,null,null,null,null,null,"1.2.1.5.1","НН","тыс.руб.",null,null,null,null,null,null,null,null,null,null,null,null,null,null,null,null,0,{"$f":"AG2654*AG2675","v":0},0]
[null,null,null,null,null,null,null,null,null,null,null,null,"1.2.1.5.2","СН1","тыс.руб.",null,null,null,null,null,null,null,null,null,null,null,null,null,null,null,null,0,0,0]
[null,null,null,null,null,null,null,null,null,null,null,null,"1.2.1.5.3","СН2","тыс.руб.",null,null,null,null,null,null,null,null,null,null,null,null,null,null,null,null,0,0,0]
[null,null,null,null,null,null,null,null,null,null,null,null,"1.2.1.5.4","ВН","тыс.руб.",null,null,null,null,null,null,null,null,null,null,null,null,null,null,null,null,0,0,0]
[null,null,null,null,null,null,null,null,null,null,null,null,"1.2.1.5.5","ГН","тыс.руб.",null,null,null,null,null,null,null,null,null,null,null,null,null,null,null,null,0,0,0]
[null,null,null,null,null,null,null,null,null,null,null,null,"1.2.2","теплоэнергия","тыс.руб.",null,null,null,null,null,null,null,null,null,null,null,null,null,null,null,null,0]
[null,null,null,null,null,null,null,null,null,null,null,null,"1.2.3","теплоноситель","тыс.руб.",null,null,null,null,null,null,null,null,null,null,null,null,null,null,null,null,0]
[null,null,null,null,null,null,null,null,null,null,null,null,"1.2.4","топливо","тыс.руб.",null,null,null,null,null,null,null,null,null,null,null,null,null,null,null,null,0]
[]
[]
[]
[]
[null,null,null,null,null,null,null,null,null,null,null,null,"1.2.5","холодная вода","тыс.руб.",null,null,null,null,null,null,null,null,null,null,null,null,null,null,null,null,{"$f":"AG2705+AH2705","v":0},{"$f":"AG2706*AG2707","v":0},{"$f":"AH2706*AH2707","v":0}]
[null,null,null,null,null,null,null,null,null,null,null,null,"1.2.5.1","цена","руб./куб.м",null,null,null,null,null,null,null,null,null,null,null,null,null,null,null,null,{"$f":"IF(AF2707=0,0,AF2705/AF2707)","v":0}]
[null,null,null,null,null,null,null,null,null,null,null,null,"1.2.5.2","объём","тыс.куб.м",null,null,null,null,null,null,null,null,null,null,null,null,null,null,null,null,{"$f":"AG2707+AH2707","v":0}]
[]
[]
[]
[]
[]
[]
[]
[null,null,null,null,null,null,null,null,null,null,null,null,"1.3","Расходы на оплату работ и услуг, выполняемые сторонними организациями и индивидуальными предпринимателями, связанные с эксплуатацией централизованных систем либо объектов в составе таких систем","тыс.руб.",null,null,null,null,null,null,null,null,null,null,null,null,null,null,null,null,{"$f":"AG2715+AH2715","v":0}]
[null,null,null,null,null,null,null,null,null,null,null,null,"1.4","Расходы на оплату труда и отчисления на социальные нужды основного производственного персонала, в том числе налоги и сборы ","тыс.руб.",null,null,null,null,null,null,null,null,null,null,null,null,null,null,null,null,{"$f":"AG2716+AH2716","v":0},{"$f":"SUM(AG2717,AG2728)","v":0},{"$f":"SUM(AH2717,AH2728)","v":0}]
[null,null,null,null,null,null,null,null,null,null,null,null,"1.4.1","Расходы на оплату труда производственного персонала","тыс.руб.",null,null,null,null,null,null,null,null,null,null,null,null,null,null,null,null,{"$f":"AG2717+AH2717","v":0}]
[null,null,null,null,null,null,null,null,null,null,null,null,"1.4.1.1","Численность (среднесписочная), принятая для расчёта","ед."]
[null,null,null,null,null,null,null,null,null,null,null,null,"1.4.1.2","Среднемесячная оплата труда основного производственного персонала","руб./мес.",null,null,null,null,null,null,null,null,null,null,null,null,null,null,null,null,{"$f":"IF(AF2718=0,0,AF2717/AF2718*1000/AF$6)","v":0},{"$f":"IF(AG2718=0,0,AG2717/AG2718*1000/AG$6)","v":0},{"$f":"IF(AH2718=0,0,AH2717/AH2718*1000/AH$6)","v":0}]
[null,null,null,null,null,null,null,null,null,null,null,null,"1.4.1.3","Фактическая численность основного производственного персонала, относимого на регулируемый вид деятельности","ед."]
[null,null,null,null,null,null,null,null,null,null,null,null,"1.4.1.4","Справочно: нормативная численность основного производственного персонала, относимого на регулируемый вид деятельности","ед."]
[null,null,null,null,null,null,null,null,null,null,null,null,"1.4.1.5","Тарифная ставка рабочего 1-го разряда","руб./мес."]
[null,null,null,null,null,null,null,null,null,null,null,null,"1.4.1.6","Индекс роста номинальной заработной платы"]
[null,null,null,null,null,null,null,null,null,null,null,null,"1.4.1.7","Тарифная ставка рабочего 1-го разряда с учётом дефлятора","руб./мес."]
[null,null,null,null,null,null,null,null,null,null,null,null,"1.4.1.8","Средний тарифный коэффициент"]
[null,null,null,null,null,null,null,null,null,null,null,null,"1.4.1.9","Среднемесячная тарифная ставка","руб./мес."]
[null,null,null,null,null,null,null,null,null,null,null,null,"1.4.1.10","Минимальный размер оплаты труда по отраслевому тарифному соглашению","руб./мес."]
[null,null,null,null,null,null,null,null,null,null,null,null,"1.4.2","Отчисления на социальные нужды производственного персонала, в том числе налоги и сборы","тыс.руб.",null,null,null,null,null,null,null,null,null,null,null,null,null,null,null,null,{"$f":"AG2728+AH2728","v":0}]
[null,null,null,null,null,null,null,null,null,null,null,null,"1.5","Расходы на уплату процентов по займам и кредитам, не учитываемые при определении налогооблагаемой базы налога на прибыль","тыс.руб.",null,null,null,null,null,null,null,null,null,null,null,null,null,null,null,null,0]
[null,null,null,null,null,null,null,null,null,null,null,null,"1.6","Общехозяйственные расходы","тыс.руб.",null,null,null,null,null,null,null,null,null,null,null,null,null,null,null,null,0]
[null,null,null,null,null,null,null,null,null,null,null,null,"1.7","Прочие производственные расходы","тыс.руб.",null,null,null,null,null,null,null,null,null,null,null,null,null,null,null,null,0,{"$f":"SUM(AG2732:AG2735)","v":0},{"$f":"SUM(AH2732:AH2735)","v":0}]
[null,null,null,null,null,null,null,null,null,null,null,null,"1.7.1","Расходы на амортизацию транспорта","тыс.руб.",null,null,null,null,null,null,null,null,null,null,null,null,null,null,null,null,0]
[null,null,null,null,null,null,null,null,null,null,null,null,{"$f":"IF(TEMPLATE_SPHERE_CODE=\"COLDVSNA\",\"1.7.2\",IF(TEMPLATE_SPHERE_CODE=\"VOTV\",\"1.7.2\",\"\"))","v":""},{"$f":"IF(TEMPLATE_SPHERE_CODE=\"COLDVSNA\",\"Контроль качества воды\",IF(TEMPLATE_SPHERE_CODE=\"VOTV\",\"Контроль сточных вод\",\"\"))","v":""},"тыс.руб.",null,null,null,null,null,null,null,null,null,null,null,null,null,null,null,null,0]
[null,null,null,null,null,null,null,null,null,null,null,null,"1.7.3","Расходы на аварийно-диспетчерское обслуживание","тыс.руб.",null,null,null,null,null,null,null,null,null,null,null,null,null,null,null,null,0]
[null,null,null,null,null,null,null,null,null,null,null,null,{"$f":"IF(TEMPLATE_SPHERE_CODE=\"COLDVSNA\",\"\",IF(TEMPLATE_SPHERE_CODE=\"VOTV\",\"1.7.4\",\"\"))","v":""},{"$f":"IF(TEMPLATE_SPHERE_CODE=\"COLDVSNA\",\"\",IF(TEMPLATE_SPHERE_CODE=\"VOTV\",\"Услуги по обращению с осадком сточных вод\",\"\"))","v":""},{"$f":"IF(TEMPLATE_SPHERE_CODE=\"COLDVSNA\",\"\",IF(TEMPLATE_SPHERE_CODE=\"VOTV\",\"тыс.руб.\",\"\"))","v":""}]
[null,null,null,null,null,null,null,null,null,null,null,null,"1.8","Цеховые расходы","тыс.руб.",null,null,null,null,null,null,null,null,null,null,null,null,null,null,null,null,{"$f":"AG2736+AH2736","v":0},{"$f":"SUM(AG2737:AG2740)","v":0},{"$f":"SUM(AH2737:AH2740)","v":0}]
[null,null,null,null,null,null,null,null,null,null,null,null,"1.8.1","Расходы на оплату труда цехового персонала","тыс.руб.",null,null,null,null,null,null,null,null,null,null,null,null,null,null,null,null,0]
[null,null,null,null,null,null,null,null,null,null,null,null,"1.8.2","Отчисления на социальные нужды цехового персонала, в том числе налоги и сборы","тыс.руб.",null,null,null,null,null,null,null,null,null,null,null,null,null,null,null,null,0]
[null,null,null,null,null,null,null,null,null,null,null,null,"1.8.3","Расходы на охрану труда","тыс.руб.",null,null,null,null,null,null,null,null,null,null,null,null,null,null,null,null,0]
[null,null,null,null,null,null,null,null,null,null,null,null,"1.8.4","Прочие","тыс.руб.",null,null,null,null,null,null,null,null,null,null,null,null,null,null,null,null,0]
[null,null,null,null,null,null,null,null,null,null,null,null,"2","Ремонтные расходы","тыс.руб.",null,null,null,null,null,null,null,null,null,null,null,null,null,null,null,null,0,{"$f":"SUM(AG2742,AG2744,AG2746)","v":0},{"$f":"SUM(AH2742,AH2744,AH2746)","v":0}]
[null,null,null,null,null,null,null,null,null,null,null,null,"2.1","Расходы на текущий ремонт централизованных систем водоснабжения и (или) водоотведения либо объектов, входящих в состав таких систем","тыс.руб.",null,null,null,null,null,null,null,null,null,null,null,null,null,null,null,null,0]
[null,null,null,null,null,null,null,null,null,null,null,null,"2.1.1","Справочно: расходы на текущий ремонт, предусмотренные производственной программой регулируемой организации","тыс.руб.",null,null,null,null,null,null,null,null,null,null,null,null,null,null,null,null,0]
[null,null,null,null,null,null,null,null,null,null,null,null,"2.2","Расходы на капитальный ремонт централизованных систем водоснабжения и (или водоотведения) либо объектов, входящих в состав таких систем","тыс.руб.",null,null,null,null,null,null,null,null,null,null,null,null,null,null,null,null,0]
[null,null,null,null,null,null,null,null,null,null,null,null,"2.2.1","Справочно: расходы на капитальный ремонт, предусмотренные производственной программой регулируемой организации","тыс.руб.",null,null,null,null,null,null,null,null,null,null,null,null,null,null,null,null,0]
[null,null,null,null,null,null,null,null,null,null,null,null,"2.3","Расходы на оплату труда и отчисления на социальные нужды ремонтного персонала, в том числе налоги и сборы","тыс.руб.",null,null,null,null,null,null,null,null,null,null,null,null,null,null,null,null,0,{"$f":"SUM(AG2747,AG2758)","v":0},{"$f":"SUM(AH2747,AH2758)","v":0}]
[null,null,null,null,null,null,null,null,null,null,null,null,"2.3.1","Расходы на оплату труда ремонтного персонала","тыс.руб.",null,null,null,null,null,null,null,null,null,null,null,null,null,null,null,null,0]
[null,null,null,null,null,null,null,null,null,null,null,null,"2.3.1.1","Численность (среднесписочная), принятая для расчёта","ед."]
[null,null,null,null,null,null,null,null,null,null,null,null,"2.3.1.2","Среднемесячная оплата труда ремонтного персонала","руб./мес.",null,null,null,null,null,null,null,null,null,null,null,null,null,null,null,null,{"$f":"IF(AF2748=0,0,AF2747/AF2748*1000/AF$6)","v":0},{"$f":"IF(AG2748=0,0,AG2747/AG2748*1000/AG$6)","v":0},{"$f":"IF(AH2748=0,0,AH2747/AH2748*1000/AH$6)","v":0}]
[null,null,null,null,null,null,null,null,null,null,null,null,"2.3.1.3","Фактическая численность ремонтного персонала, относимого на регулируемый вид деятельности","ед."]
[null,null,null,null,null,null,null,null,null,null,null,null,"2.3.1.4","Справочно: нормативная численность ремонтного персонала, относимого на регулируемый вид деятельности","ед."]
[null,null,null,null,null,null,null,null,null,null,null,null,"2.3.1.5","Тарифная ставка рабочего 1-го разряда","руб./мес."]
[null,null,null,null,null,null,null,null,null,null,null,null,"2.3.1.6","Индекс роста номинальной заработной платы"]
[null,null,null,null,null,null,null,null,null,null,null,null,"2.3.1.7","Тарифная ставка рабочего 1-го разряда с учётом дефлятора","руб./мес."]
[null,null,null,null,null,null,null,null,null,null,null,null,"2.3.1.8","Средний тарифный коэффициент"]
[null,null,null,null,null,null,null,null,null,null,null,null,"2.3.1.9","Среднемесячная тарифная ставка","руб./мес."]
[null,null,null,null,null,null,null,null,null,null,null,null,"2.3.1.10","Минимальный размер оплаты труда по отраслевому тарифному соглашению","руб./мес."]
[null,null,null,null,null,null,null,null,null,null,null,null,"2.3.2","Отчисления на социальные нужды ремонтного персонала, в том числе налоги и сборы","тыс.руб.",null,null,null,null,null,null,null,null,null,null,null,null,null,null,null,null,{"$f":"AG2758+AH2758","v":0}]
[null,null,null,null,null,null,null,null,null,null,null,null,3,"Административные расходы","тыс.руб.",null,null,null,null,null,null,null,null,null,null,null,null,null,null,null,null,0,{"$f":"SUM(AG2760,AG2767,AG2780,AG2781,AG2782,AG2783,AG2784)","v":0},{"$f":"SUM(AH2760,AH2767,AH2780,AH2781,AH2782,AH2783,AH2784)","v":0}]
[null,null,null,null,null,null,null,null,null,null,null,null,"3.1","Расходы на оплату работ и услуг, выполняемых сторонними организациями","тыс.руб.",null,null,null,null,null,null,null,null,null,null,null,null,null,null,null,null,0,{"$f":"SUM(AG2761:AG2766)","v":0},{"$f":"SUM(AH2761:AH2766)","v":0}]
[null,null,null,null,null,null,null,null,null,null,null,null,"3.1.1","услуги связи и интернет","тыс.руб.",null,null,null,null,null,null,null,null,null,null,null,null,null,null,null,null,0]
[null,null,null,null,null,null,null,null,null,null,null,null,"3.1.2","юридические услуги","тыс.руб.",null,null,null,null,null,null,null,null,null,null,null,null,null,null,null,null,0]
[null,null,null,null,null,null,null,null,null,null,null,null,"3.1.3","аудиторские услуги","тыс.руб.",null,null,null,null,null,null,null,null,null,null,null,null,null,null,null,null,0]
[null,null,null,null,null,null,null,null,null,null,null,null,"3.1.4","консультационные услуги","тыс.руб.",null,null,null,null,null,null,null,null,null,null,null,null,null,null,null,null,0]
[null,null,null,null,null,null,null,null,null,null,null,null,"3.1.5","услуги по вневедомственной охране объектов и территорий","тыс.руб.",null,null,null,null,null,null,null,null,null,null,null,null,null,null,null,null,0]
[null,null,null,null,null,null,null,null,null,null,null,null,"3.1.6","информационные услуги","тыс.руб.",null,null,null,null,null,null,null,null,null,null,null,null,null,null,null,null,0]
[null,null,null,null,null,null,null,null,null,null,null,null,"3.2","Расходы на оплату труда и отчисления на социальные нужды административно-управленческого персонала, в том числе налоги и сборы","тыс.руб.",null,null,null,null,null,null,null,null,null,null,null,null,null,null,null,null,0,{"$f":"SUM(AG2768,AG2779)","v":0},{"$f":"SUM(AH2768,AH2779)","v":0}]
[null,null,null,null,null,null,null,null,null,null,null,null,"3.2.1","Расходы на оплату труда административно-управленческого персонала","тыс.руб.",null,null,null,null,null,null,null,null,null,null,null,null,null,null,null,null,0]
[null,null,null,null,null,null,null,null,null,null,null,null,"3.2.1.1","Численность (среднесписочная), принятая для расчёта","ед."]
[null,null,null,null,null,null,null,null,null,null,null,null,"3.2.1.2","Среднемесячная оплата труда административно-управленческого персонала","руб./мес.",null,null,null,null,null,null,null,null,null,null,null,null,null,null,null,null,{"$f":"IF(AF2769=0,0,AF2768/AF2769*1000/AF$6)","v":0},{"$f":"IF(AG2769=0,0,AG2768/AG2769*1000/AG$6)","v":0},{"$f":"IF(AH2769=0,0,AH2768/AH2769*1000/AH$6)","v":0}]
[null,null,null,null,null,null,null,null,null,null,null,null,"3.2.1.3","Фактическая численность административно-управленческого персонала, относимого на регулируемый вид деятельности","ед."]
[null,null,null,null,null,null,null,null,null,null,null,null,"3.2.1.4","Справочно: нормативная численность административно-управленческого персонала, относимого на регулируемый вид деятельности","ед."]
[null,null,null,null,null,null,null,null,null,null,null,null,"3.2.1.5","Тарифная ставка рабочего 1-го разряда","руб./мес."]
[null,null,null,null,null,null,null,null,null,null,null,null,"3.2.1.6","Индекс роста номинальной заработной платы"]
[null,null,null,null,null,null,null,null,null,null,null,null,"3.2.1.7","Тарифная ставка рабочего 1-го разряда с учётом дефлятора","руб./мес."]
[null,null,null,null,null,null,null,null,null,null,null,null,"3.2.1.8","Средний тарифный коэффициент"]
[null,null,null,null,null,null,null,null,null,null,null,null,"3.2.1.9","Среднемесячная тарифная ставка","руб./мес."]
[null,null,null,null,null,null,null,null,null,null,null,null,"3.2.1.10","Минимальный размер оплаты труда по отраслевому тарифному соглашению","руб./мес."]
[null,null,null,null,null,null,null,null,null,null,null,null,"3.2.2","Отчисления на социальные нужды административно-управленческого персонала, в том числе налоги и сборы","тыс.руб.",null,null,null,null,null,null,null,null,null,null,null,null,null,null,null,null,{"$f":"AG2779+AH2779","v":0}]
[null,null,null,null,null,null,null,null,null,null,null,null,"3.3","Арендная плата, лизинговые платежи, не связанные с арендой (лизингом) централизованных систем водоснабжения и (или) водоотведения либо объектов, входящих в состав таких систем","тыс.руб.",null,null,null,null,null,null,null,null,null,null,null,null,null,null,null,null,0]
[null,null,null,null,null,null,null,null,null,null,null,null,"3.4","Служебные командировки","тыс.руб.",null,null,null,null,null,null,null,null,null,null,null,null,null,null,null,null,0]
[null,null,null,null,null,null,null,null,null,null,null,null,"3.5","Обучение персонала","тыс.руб.",null,null,null,null,null,null,null,null,null,null,null,null,null,null,null,null,0]
[null,null,null,null,null,null,null,null,null,null,null,null,"3.6","Страхование производственных объектов","тыс.руб.",null,null,null,null,null,null,null,null,null,null,null,null,null,null,null,null,0]
[null,null,null,null,null,null,null,null,null,null,null,null,"3.7","Прочие административные расходы","тыс.руб.",null,null,null,null,null,null,null,null,null,null,null,null,null,null,null,null,0]
[null,null,null,null,null,null,null,null,null,null,null,null,"3.7.1","Расходы на амортизацию непроизводственных активов","тыс.руб.",null,null,null,null,null,null,null,null,null,null,null,null,null,null,null,null,0]
[null,null,null,null,null,null,null,null,null,null,null,null,"3.7.2","Расходы по охране объектов и территорий","тыс.руб.",null,null,null,null,null,null,null,null,null,null,null,null,null,null,null,null,0]
[null,null,null,null,null,null,null,null,null,null,null,null,4,"Сбытовые расходы гарантирующих организаций","тыс.руб.",null,null,null,null,null,null,null,null,null,null,null,null,null,null,null,null,0]
[null,null,null,null,null,null,null,null,null,null,null,null,"4.1","Расходы по сомнительным долгам, в размере не более 2% НВВ","тыс.руб.",null,null,null,null,null,null,null,null,null,null,null,null,null,null,null,null,0]
[null,null,null,null,null,null,null,null,null,null,null,null,5,"Амортизация","тыс.руб.",null,null,null,null,null,null,null,null,null,null,null,null,null,null,null,null,0]
[null,null,null,null,null,null,null,null,null,null,null,null,"5.1","Амортизация основных средств и нематериальных активов, относимых к объектам централизованной системы водоснабжения и водоотведения","тыс.руб.",null,null,null,null,null,null,null,null,null,null,null,null,null,null,null,null,0]
[null,null,null,null,null,null,null,null,null,null,null,null,6,"Расходы на арендную плату, лизинговые платежи, концессионную плату, связанные с арендой (лизингом) централизованных систем водоснабжения и (или) водоотведения либо объектов, входящих в состав таких систем","тыс.руб.",null,null,null,null,null,null,null,null,null,null,null,null,null,null,null,null,0,{"$f":"SUM(AG2792,AG2796:AG2799)","v":0},{"$f":"SUM(AH2792,AH2796:AH2799)","v":0}]
[null,null,null,null,null,null,null,null,null,null,null,null,"6.1","Аренда имущества","тыс.руб.",null,null,null,null,null,null,null,null,null,null,null,null,null,null,null,null,0,{"$f":"SUM(AG2793:AG2795)","v":0},{"$f":"SUM(AH2793:AH2795)","v":0}]
[null,null,null,null,null,null,null,null,null,null,null,null,"6.1.1","Аренда объектов в государственной собственности","тыс.руб.",null,null,null,null,null,null,null,null,null,null,null,null,null,null,null,null,0]
[null,null,null,null,null,null,null,null,null,null,null,null,"6.1.2","Аренда объектов в муниципальной собственности","тыс.руб.",null,null,null,null,null,null,null,null,null,null,null,null,null,null,null,null,0]
[null,null,null,null,null,null,null,null,null,null,null,null,"6.1.3","Прочее","тыс.руб.",null,null,null,null,null,null,null,null,null,null,null,null,null,null,null,null,0]
[null,null,null,null,null,null,null,null,null,null,null,null,"6.2","Концессионная плата","тыс.руб.",null,null,null,null,null,null,null,null,null,null,null,null,null,null,null,null,0]
[null,null,null,null,null,null,null,null,null,null,null,null,"6.3","Лизинговые платежи","тыс.руб.",null,null,null,null,null,null,null,null,null,null,null,null,null,null,null,null,0]
[null,null,null,null,null,null,null,null,null,null,null,null,"6.4","Аренда земельных участков","тыс.руб.",null,null,null,null,null,null,null,null,null,null,null,null,null,null,null,null,0]
[null,null,null,null,null,null,null,null,null,null,null,null,"6.5","Иное","тыс.руб.",null,null,null,null,null,null,null,null,null,null,null,null,null,null,null,null,0]
[null,null,null,null,null,null,null,null,null,null,null,null,7,"Расходы, связанные с уплатой налогов и сборов, связанные с арендой (лизингом) централизованных систем водоснабжения и (или) водоотведения либо объектов, входящих в состав таких систем","тыс.руб.",null,null,null,null,null,null,null,null,null,null,null,null,null,null,null,null,0,{"$f":"SUM(AG2801:AG2807)","v":0},{"$f":"SUM(AH2801:AH2807)","v":0}]
[null,null,null,null,null,null,null,null,null,null,null,null,"7.1","Налог на прибыль","тыс.руб.",null,null,null,null,null,null,null,null,null,null,null,null,null,null,null,null,0]
[null,null,null,null,null,null,null,null,null,null,null,null,"7.2","Налог на имущество организаций","тыс.руб.",null,null,null,null,null,null,null,null,null,null,null,null,null,null,null,null,0]
[null,null,null,null,null,null,null,null,null,null,null,null,"7.3","Плата за негативное воздействие на окружающую среду","тыс.руб.",null,null,null,null,null,null,null,null,null,null,null,null,null,null,null,null,0]
[null,null,null,null,null,null,null,null,null,null,null,null,"7.4","Водный налог и плата за пользование водным объектом","тыс.руб.",null,null,null,null,null,null,null,null,null,null,null,null,null,null,null,null,0]
[null,null,null,null,null,null,null,null,null,null,null,null,"7.5","Земельный налог","тыс.руб.",null,null,null,null,null,null,null,null,null,null,null,null,null,null,null,null,0]
[null,null,null,null,null,null,null,null,null,null,null,null,"7.6","Транспортный налог","тыс.руб.",null,null,null,null,null,null,null,null,null,null,null,null,null,null,null,null,0]
[null,null,null,null,null,null,null,null,null,null,null,null,"7.7","Прочие налоги и сборы, за исключением налогов и сборов с фонда оплаты труда, учитываемых в составе производственных, ремонтных и административных расходов","тыс.руб.",null,null,null,null,null,null,null,null,null,null,null,null,null,null,null,null,0]
[null,null,null,null,null,null,null,null,null,null,null,null,"8","Расходы на оплату товаров (услуг, работ), приобретаемых у других организаций, осуществляющих регулируемые виды деятельности","тыс.руб.",null,null,null,null,null,null,null,null,null,null,null,null,null,null,null,null,0]
[null,null,null,null,null,null,null,null,null,null,null,null,"9","Расходы на обслуживание бесхозяйных сетей","тыс.руб.",null,null,null,null,null,null,null,null,null,null,null,null,null,null,null,null,0]
[null,null,null,null,null,null,null,null,null,null,null,null,"10","Прочие неподконтрольные расходы","тыс.руб.",null,null,null,null,null,null,null,null,null,null,null,null,null,null,null,null,0]
[]
[null,null,null,null,null,null,null,null,null,null,null,null,"РО","Итого расходы","тыс.руб.",null,null,null,null,null,null,null,null,null,null,null,null,null,null,null,null,{"$f":"SUM(AF2632,AF2741,AF2759,AF2787,AF2789,AF2791,AF2800,AF2808,AF2809,AF2810)","v":0},{"$f":"SUM(AG2632,AG2741,AG2759,AG2787,AG2789,AG2791,AG2800,AG2808,AG2809,AG2810)","v":0},{"$f":"SUM(AH2632,AH2741,AH2759,AH2787,AH2789,AH2791,AH2800,AH2808,AH2809,AH2810)","v":0}]
[]
[null,null,null,null,null,null,null,null,null,null,null,null,"РР","Итого расходы на реализацию","тыс.руб.",null,null,null,null,null,null,null,null,null,null,null,null,null,null,null,null,{"$f":"AG2814+AH2814","v":0},{"$f":"AG2812*AG$242","v":0},{"$f":"AH2812*AH$242","v":0}]
[]
[null,null,null,null,null,null,null,null,null,null,null,null,"У","Убыток","тыс.руб.",null,null,null,null,null,null,null,null,null,null,null,null,null,null,null,null,{"$f":"AG2816+AH2816","v":0}]
[null,null,null,null,null,null,null,null,null,null,null,null,"П","Прибыль","тыс.руб.",null,null,null,null,null,null,null,null,null,null,null,null,null,null,null,null,{"$f":"AG2817+AH2817","v":0},{"$f":"SUM(AG2819:AG2822)","v":0},{"$f":"SUM(AH2819:AH2822)","v":0}]
[]
[null,null,null,null,null,null,null,null,null,null,null,null,"П.1","Прибыль на развитие производства (капитальные вложения)","тыс.руб.",null,null,null,null,null,null,null,null,null,null,null,null,null,null,null,null,{"$f":"AG2819+AH2819","v":0}]
[null,null,null,null,null,null,null,null,null,null,null,null,"П.2","Прибыль на социальное развитие","тыс.руб.",null,null,null,null,null,null,null,null,null,null,null,null,null,null,null,null,{"$f":"AG2820+AH2820","v":0}]
[null,null,null,null,null,null,null,null,null,null,null,null,"П.3","Прибыль на поощрение","тыс.руб.",null,null,null,null,null,null,null,null,null,null,null,null,null,null,null,null,{"$f":"AG2821+AH2821","v":0}]
[null,null,null,null,null,null,null,null,null,null,null,null,"П.4","Прибыль на прочие цели","тыс.руб.",null,null,null,null,null,null,null,null,null,null,null,null,null,null,null,null,{"$f":"AG2822+AH2822","v":0}]
[]
[]
[]
[]
[]
[]
[]
[]
[null,null,null,null,null,null,null,null,null,null,null,null,"РП","Итого расходы с учётом расходов из прибыли","тыс.руб.",null,null,null,null,null,null,null,null,null,null,null,null,null,null,null,null,{"$f":"AG2831+AH2831","v":0},{"$f":"AG2812+AG2817","v":0},{"$f":"AH2812+AH2817","v":0}]
[]
[]
[]
[]
[]
[]
[]
[]
[]
[]
[]
[]
[]
[]
[]
[]
[]
[null,null,null,null,null,null,null,null,null,null,null,null,"UI.TOTAL","Полезный отпуск продукции всего:\n[БТр!п.3] - транспортировка\n[БПр!п.5.2] - производство","тыс.куб.м",null,null,null,null,null,null,null,null,null,null,null,null,null,null,null,null,{"$f":"AG2849+AH2849","v":0},{"$f":"SUMIF(ВО.БПр!$BA$131:$BA$132,AG$17 & \".0-\" & AG$9,ВО.БПр!$K$131:$K$132)/1000+SUMIF(ВО.БТр!$BA$131:$BA$132,AG$17 & \".0-\" & AG$9,ВО.БТр!$O$131:$O$132)/1000","v":0},{"$f":"SUMIF(ВО.БПр!$BA$131:$BA$132,AH$17 & \".0-\" & AH$9,ВО.БПр!$K$131:$K$132)/1000+SUMIF(ВО.БТр!$BA$131:$BA$132,AH$17 & \".0-\" & AH$9,ВО.БТр!$O$131:$O$132)/1000","v":0}]
[null,null,null,null,null,null,null,null,null,null,null,null,"UI.EC","Полезный отпуск на реализацию потребителям:\n[БТр!п.3.2:3.5] - транспортировка\n[БПр!п.5.2.2 + БПр!п.5.2.3] - производство","тыс.куб.м",null,null,null,null,null,null,null,null,null,null,null,null,null,null,null,null,{"$f":"AG2850+AH2850","v":0},{"$f":"SUMIF(ВО.БПр!$BA$131:$BA$132,AG$17 & \".0-\" & AG$9,ВО.БПр!$M$131:$M$132)/1000+SUMIF(ВО.БТр!$BA$131:$BA$132,AG$17 & \".0-\" & AG$9,ВО.БТр!$Q$131:$Q$132)/1000+SUMIF(ВО.БТр!$BA$131:$BA$132,AG$17 & \".0-\" & AG$9,ВО.БТр!$T$131:$T$132)/1000+SUMIF(ВО.БТр!$BA$131:$BA$132,AG$17 & \".0-\" & AG$9,ВО.БТр!$W$131:$W$132)/1000+SUMIF(ВО.БТр!$BA$131:$BA$132,AG$17 & \".0-\" & AG$9,ВО.БТр!$Z$131:$Z$132)/1000","v":0},{"$f":"SUMIF(ВО.БПр!$BA$131:$BA$132,AH$17 & \".0-\" & AH$9,ВО.БПр!$M$131:$M$132)/1000+SUMIF(ВО.БТр!$BA$131:$BA$132,AH$17 & \".0-\" & AH$9,ВО.БТр!$Q$131:$Q$132)/1000+SUMIF(ВО.БТр!$BA$131:$BA$132,AH$17 & \".0-\" & AH$9,ВО.БТр!$T$131:$T$132)/1000+SUMIF(ВО.БТр!$BA$131:$BA$132,AH$17 & \".0-\" & AH$9,ВО.БТр!$W$131:$W$132)/1000+SUMIF(ВО.БТр!$BA$131:$BA$132,AH$17 & \".0-\" & AH$9,ВО.БТр!$Z$131:$Z$132)/1000","v":0}]
[null,null,null,null,null,null,null,null,null,null,null,null,"UI.COEF","Коэффициент (доля) на реализацию потребителям",null,null,null,null,null,null,null,null,null,null,null,null,null,null,null,null,null,{"$f":"IF(AF2849=0,0,AF2850/AF2849)","v":0},{"$f":"IF(AG2849=0,0,AG2850/AG2849)","v":0},{"$f":"IF(AH2849=0,0,AH2850/AH2849)","v":0}]
[null,null,null,null,null,null,null,null,null,null,null,null,"UI.PURE.EC","Полезный отпуск на реализацию потребителям:\n[БТр!п.3.3:3.5] - транспортировка\n[БПр!п.5.2.3] - производство","тыс.куб.м",null,null,null,null,null,null,null,null,null,null,null,null,null,null,null,null,{"$f":"AG2852+AH2852","v":0},{"$f":"SUMIF(ВО.БПр!$BA$131:$BA$132,AG$17 & \".0-\" & AG$9,ВО.БПр!$N$131:$N$132)/1000+SUMIF(ВО.БПр!$BA$131:$BA$132,AG$17 & \".0-\" & AG$9,ВО.БПр!$Q$131:$Q$132)/1000+SUMIF(ВО.БПр!$BA$131:$BA$132,AG$17 & \".0-\" & AG$9,ВО.БПр!$T$131:$T$132)/1000+SUMIF(ВО.БТр!$BA$131:$BA$132,AG$17 & \".0-\" & AG$9,ВО.БТр!$T$131:$T$132)/1000+SUMIF(ВО.БТр!$BA$131:$BA$132,AG$17 & \".0-\" & AG$9,ВО.БТр!$W$131:$W$132)/1000+SUMIF(ВО.БТр!$BA$131:$BA$132,AG$17 & \".0-\" & AG$9,ВО.БТр!$Z$131:$Z$132)/1000","v":0},{"$f":"SUMIF(ВО.БПр!$BA$131:$BA$132,AH$17 & \".0-\" & AH$9,ВО.БПр!$N$131:$N$132)/1000+SUMIF(ВО.БПр!$BA$131:$BA$132,AH$17 & \".0-\" & AH$9,ВО.БПр!$Q$131:$Q$132)/1000+SUMIF(ВО.БПр!$BA$131:$BA$132,AH$17 & \".0-\" & AH$9,ВО.БПр!$T$131:$T$132)/1000+SUMIF(ВО.БТр!$BA$131:$BA$132,AH$17 & \".0-\" & AH$9,ВО.БТр!$T$131:$T$132)/1000+SUMIF(ВО.БТр!$BA$131:$BA$132,AH$17 & \".0-\" & AH$9,ВО.БТр!$W$131:$W$132)/1000+SUMIF(ВО.БТр!$BA$131:$BA$132,AH$17 & \".0-\" & AH$9,ВО.БТр!$Z$131:$Z$132)/1000","v":0}]
[]
[null,null,null,null,null,null,null,null,null,null,null,null,"UI.TTL",{"$f":"IF(TEMPLATE_SPHERE_CODE=\"COLDVSNA\",\"Объём отпуска воды\",IF(TEMPLATE_SPHERE_CODE=\"VOTV\",\"Объём сточных вод\",\"\"))","v":""},"тыс.куб.м",null,null,null,null,null,null,null,null,null,null,null,null,null,null,null,null,null,{"$f":"AG2849","v":0},{"$f":"AH2849","v":0}]
[]
[null,null,null,null,null,null,null,null,null,null,null,null,"PROFITABILITY","Рентабельность","%",null,null,null,null,null,null,null,null,null,null,null,null,null,null,null,null,{"$f":"IF(AF2812=0,0,(AF2817-AF2816)/AF2812*100)","v":0},{"$f":"IF(AG2812=0,0,(AG2817-AG2816)/AG2812*100)","v":0},{"$f":"IF(AH2812=0,0,(AH2817-AH2816)/AH2812*100)","v":0}]
[]
[null,null,null,null,null,null,null,null,null,null,null,null,"D","Справочно: результат деятельности в периоде регулирования","тыс.руб.",null,null,null,null,null,null,null,null,null,null,null,null,null,null,null,null,{"$f":"AG2858+AH2858","v":0},{"$f":"AG2859-(AG2814+AG2817-AG2816)","v":0},{"$f":"AH2859-(AH2814+AH2817-AH2816)","v":0}]
[null,null,null,null,null,null,null,null,null,null,null,null,{"$f":"M2858 & \".0.1\"","v":"D.0.1"},"Общий доход от реализации потребителям без учёта НДС, исходя из утверждённых тарифов","тыс.руб.",null,null,null,null,null,null,null,null,null,null,null,null,null,null,null,null,{"$f":"AG2859+AH2859","v":0},{"$f":"AG2861+AG2864+AG2867+AG2870+AG2873+AG2874","v":0},{"$f":"AH2861+AH2864+AH2867+AH2870+AH2873+AH2874","v":0}]
[null,null,null,null,null,null,null,null,null,null,null,null,{"$f":"M2858 & \".0.2\"","v":"D.0.2"},"Полезный отпуск продукции на реализацию потребителям","тыс.куб.м",null,null,null,null,null,null,null,null,null,null,null,null,null,null,null,null,{"$f":"AG2860+AH2860","v":0},{"$f":"AG2863+AG2866+AG2869+AG2872","v":0},{"$f":"AH2863+AH2866+AH2869+AH2872","v":0}]
[null,null,null,null,null,null,null,null,null,null,null,null,{"$f":"M2858 & \".1\"","v":"D.1"},"Организации-перепродавцы","тыс.руб.",null,null,null,null,null,null,null,null,null,null,null,null,null,null,null,null,{"$f":"AG2861+AH2861","v":0},{"$f":"AG2862*AG2863","v":0},{"$f":"AH2862*AH2863","v":0}]
[null,null,null,null,null,null,null,null,null,null,null,null,{"$f":"M2861 & \".1\"","v":"D.1.1"},"средневзвешенный тариф","руб./куб.м",null,null,null,null,null,null,null,null,null,null,null,null,null,null,null,null,{"$f":"IF(AF2863=0,0,AF2861/AF2863)","v":0}]
[null,null,null,null,null,null,null,null,null,null,null,null,{"$f":"M2861 & \".2\"","v":"D.1.2"},"объём","тыс.куб.м",null,null,null,null,null,null,null,null,null,null,null,null,null,null,null,null,{"$f":"AG2863+AH2863","v":0},{"$f":"SUMIF(ВО.БПр!$BA$131:$BA$132,AG$17 & \".0-\" & AG$9,ВО.БПр!$W$131:$W$132)/1000+SUMIF(ВО.БТр!$BA$131:$BA$132,AG$17 & \".0-\" & AG$9,ВО.БТр!$Q$131:$Q$132)/1000","v":0},{"$f":"SUMIF(ВО.БПр!$BA$131:$BA$132,AH$17 & \".0-\" & AH$9,ВО.БПр!$W$131:$W$132)/1000+SUMIF(ВО.БТр!$BA$131:$BA$132,AH$17 & \".0-\" & AH$9,ВО.БТр!$Q$131:$Q$132)/1000","v":0}]
[null,null,null,null,null,null,null,null,null,null,null,null,{"$f":"M2858 & \".2\"","v":"D.2"},"Бюджетные потребители","тыс.руб.",null,null,null,null,null,null,null,null,null,null,null,null,null,null,null,null,{"$f":"AG2864+AH2864","v":0},{"$f":"AG2865*AG2866","v":0},{"$f":"AH2865*AH2866","v":0}]
[null,null,null,null,null,null,null,null,null,null,null,null,{"$f":"M2864 & \".1\"","v":"D.2.1"},"средневзвешенный тариф","руб./куб.м",null,null,null,null,null,null,null,null,null,null,null,null,null,null,null,null,{"$f":"IF(AF2866=0,0,AF2864/AF2866)","v":0}]
[null,null,null,null,null,null,null,null,null,null,null,null,{"$f":"M2864 & \".2\"","v":"D.2.2"},"объём","тыс.куб.м",null,null,null,null,null,null,null,null,null,null,null,null,null,null,null,null,{"$f":"AG2866+AH2866","v":0},{"$f":"SUMIF(ВО.БПр!$BA$131:$BA$132,AG$17 & \".0-\" & AG$9,ВО.БПр!$N$131:$N$132)/1000+SUMIF(ВО.БТр!$BA$131:$BA$132,AG$17 & \".0-\" & AG$9,ВО.БТр!$T$131:$T$132)/1000","v":0},{"$f":"SUMIF(ВО.БПр!$BA$131:$BA$132,AH$17 & \".0-\" & AH$9,ВО.БПр!$N$131:$N$132)/1000+SUMIF(ВО.БТр!$BA$131:$BA$132,AH$17 & \".0-\" & AH$9,ВО.БТр!$T$131:$T$132)/1000","v":0}]
[null,null,null,null,null,null,null,null,null,null,null,null,{"$f":"M2858 & \".3\"","v":"D.3"},"Население","тыс.руб.",null,null,null,null,null,null,null,null,null,null,null,null,null,null,null,null,{"$f":"AG2867+AH2867","v":0},{"$f":"AG2868*AG2869","v":0},{"$f":"AH2868*AH2869","v":0}]
[null,null,null,null,null,null,null,null,null,null,null,null,{"$f":"M2867 & \".1\"","v":"D.3.1"},"средневзвешенный тариф","руб./куб.м",null,null,null,null,null,null,null,null,null,null,null,null,null,null,null,null,{"$f":"IF(AF2869=0,0,AF2867/AF2869)","v":0}]
[null,null,null,null,null,null,null,null,null,null,null,null,{"$f":"M2867 & \".2\"","v":"D.3.2"},"объём","тыс.куб.м",null,null,null,null,null,null,null,null,null,null,null,null,null,null,null,null,{"$f":"AG2869+AH2869","v":0},{"$f":"SUMIF(ВО.БПр!$BA$131:$BA$132,AG$17 & \".0-\" & AG$9,ВО.БПр!$Q$131:$Q$132)/1000+SUMIF(ВО.БТр!$BA$131:$BA$132,AG$17 & \".0-\" & AG$9,ВО.БТр!$W$131:$W$132)/1000","v":0},{"$f":"SUMIF(ВО.БПр!$BA$131:$BA$132,AH$17 & \".0-\" & AH$9,ВО.БПр!$Q$131:$Q$132)/1000+SUMIF(ВО.БТр!$BA$131:$BA$132,AH$17 & \".0-\" & AH$9,ВО.БТр!$W$131:$W$132)/1000","v":0}]
[null,null,null,null,null,null,null,null,null,null,null,null,{"$f":"M2858 & \".4\"","v":"D.4"},"Прочие","тыс.руб.",null,null,null,null,null,null,null,null,null,null,null,null,null,null,null,null,{"$f":"AG2870+AH2870","v":0},{"$f":"AG2871*AG2872","v":0},{"$f":"AH2871*AH2872","v":0}]
[null,null,null,null,null,null,null,null,null,null,null,null,{"$f":"M2870 & \".1\"","v":"D.4.1"},"средневзвешенный тариф","руб./куб.м",null,null,null,null,null,null,null,null,null,null,null,null,null,null,null,null,{"$f":"IF(AF2872=0,0,AF2870/AF2872)","v":0}]
[null,null,null,null,null,null,null,null,null,null,null,null,{"$f":"M2870 & \".2\"","v":"D.4.2"},"объём","тыс.куб.м",null,null,null,null,null,null,null,null,null,null,null,null,null,null,null,null,{"$f":"AG2872+AH2872","v":0},{"$f":"SUMIF(ВО.БПр!$BA$131:$BA$132,AG$17 & \".0-\" & AG$9,ВО.БПр!$T$131:$T$132)/1000+SUMIF(ВО.БТр!$BA$131:$BA$132,AG$17 & \".0-\" & AG$9,ВО.БТр!$Z$131:$Z$132)/1000","v":0},{"$f":"SUMIF(ВО.БПр!$BA$131:$BA$132,AH$17 & \".0-\" & AH$9,ВО.БПр!$T$131:$T$132)/1000+SUMIF(ВО.БТр!$BA$131:$BA$132,AH$17 & \".0-\" & AH$9,ВО.БТр!$Z$131:$Z$132)/1000","v":0}]
[null,null,null,null,null,null,null,null,null,null,null,null,{"$f":"M2858 & \".5\"","v":"D.5"},"Объём дотаций из всех уровней бюджета","тыс.руб.",null,null,null,null,null,null,null,null,null,null,null,null,null,null,null,null,{"$f":"AG2873+AH2873","v":0}]
[null,null,null,null,null,null,null,null,null,null,null,null,{"$f":"M2858 & \".6\"","v":"D.6"},"Доходы, полученные сверх реализации по утверждённым тарифам","тыс.руб.",null,null,null,null,null,null,null,null,null,null,null,null,null,null,null,null,{"$f":"AG2874+AH2874","v":0}]
[]
[]
[]
[]
[]
[]
[null,null,null,null,null,null,null,null,null,null,null,null,null,"Дополнительные показатели"]
[null,null,null,null,null,null,null,null,null,null,null,null,null,"Производство"]
[null,null,null,null,null,null,null,null,null,null,null,null,null,{"$f":"\"Стоимость основных средств, относимых на источники производства (приём) \" & RESOURCE_IDENTIFIER","v":"Стоимость основных средств, относимых на источники производства (приём) ТЭ"},"тыс.руб."]
[null,null,null,null,null,null,null,null,null,null,null,null,null,{"$f":"\"Количество \" & TEMPLATE_SPHERE_OKK_SOURCE","v":"Количество ТИ"},"ед."]
[null,null,null,null,null,null,null,null,null,null,null,null,null,"Износ основных средств","%"]
[null,null,null,null,null,null,null,null,null,null,null,null,null,"Очистка"]
[null,null,null,null,null,null,null,null,null,null,null,null,null,{"$f":"\"Стоимость основных средств, относимых на системы / сооружения для очистки \" & RESOURCE_IDENTIFIER","v":"Стоимость основных средств, относимых на системы / сооружения для очистки ТЭ"},"тыс.руб."]
[]
[]
[null,null,null,null,null,null,null,null,null,null,null,null,null,"Износ основных средств","%"]
[null,null,null,null,null,null,null,null,null,null,null,null,null,"Транспортировка"]
[null,null,null,null,null,null,null,null,null,null,null,null,null,"Стоимость основных средств, относимых на транспортировку стоков","тыс.руб."]
[null,null,null,null,null,null,null,null,null,null,null,null,null,"Протяженность сетей","км"]
[null,null,null,null,null,null,null,null,null,null,null,null,null,"Протяженность сетей, подлежащих замене (износ 100%)","км"]
[null,null,null,null,null,null,null,null,null,null,null,null,null,"Сбыт"]
[null,null,null,null,null,null,null,null,null,null,null,null,null,"Полезный отпуск (приём стоков) от наиболее крупного единичного потребителя","тыс.куб.м"]
[null,null,null,null,null,null,null,null,null,null,null,null,null,"Численность обслуживаемого населения","чел."]
[null,null,null,null,null,null,null,null,null,null,null,null,null,"Количество абонентов","тыс.ед."]
[]
[]
[]
[]
[]
[]
[]
[]
[]
[]
[]
[null,null,null,null,null,null,null,null,null,null,null,null,null,null,null,null,null,null,null,null,null,null,null,null,null,null,null,null,"VOTV_REAGENT_ADD_RANGE"]
[]
[]
[]
[null,null,null,null,null,null,null,null,null,null,null,null,null,null,null,null,null,null,null,null,null,null,null,null,null,null,null,null,12,6,6]
[]
[]
[null,null,null,null,null,null,null,null,null,null,null,null,null,null,null,null,null,null,null,null,null,null,null,null,null,null,null,null,"Y","I","II"]
[]
[]
[]
[null,null,null,null,null,null,null,null,null,null,null,null,null,null,null,null,null,null,null,null,null,null,null,null,null,null,null,null,"Год","I полугодие","II полугодие"]
[]
[null,null,null,null,null,null,null,null,null,null,null,null,null,null,null,null,null,null,null,null,null,null,null,null,null,null,null,null,{"$f":"AC2925 & \"_\" & AC2917","v":"0_Y"},{"$f":"AD2925 & \"_\" & AD2917","v":"0_I"},{"$f":"AE2925 & \"_\" & AE2917","v":"0_II"}]
[]
[null,null,null,null,null,null,null,null,null,null,null,null,null,null,null,null,null,null,null,null,null,null,null,null,null,null,null,null,{"$f":"AC2927","v":0},{"$f":"AC2927","v":0},{"$f":"AC2927","v":0}]
[null,null,null,null,null,null,null,null,null,null,null,null,null,null,null,null,null,null,null,null,null,null,null,null,null,null,null,null,"Удалить"]
[null,null,null,null,null,null,null,null,null,null,null,null,"№ п/п","Наименование показателя","Единица измерения",null,null,null,null,null,null,null,null,null,null,null,null,null,null,null,null,null,null,null,null,null,null,null,null,null,null,null,null,null,null,null,null,null,null,null,null,null,null,null,null,null,null,null,null,null,null,null,null,null,null,null,null,null,null,null,null,null,null,null,null,null,"VOTV_REAGENT_ONE_RANGE"]
[null,null,null,null,null,null,null,null,null,null,null,null,null,null,null,null,null,null,null,null,null,null,null,null,null,null,null,null,null,null,null,null,null,null,null,null,null,null,null,null,null,null,null,null,null,null,"VOTV_REAGENT_EMPTY_BASE_RANGE",null,null,null,null,null,null,null,null,null,null,null,null,null,null,null,null,null,null,null,null,null,null,null,null,null,null,null,null,null,"VOTV_REAGENT_NO_ONE_RANGE"]
[null,null,null,null,null,null,null,null,null,null,null,null,null,"Является ли организация плательщиком НДС",null,null,null,null,null,null,null,null,null,null,null,null,null,null,null,null,null,null,null,null,null,null,null,null,null,null,null,null,null,null,null,null,"VOTV_REAGENT_SINGLE_BASE_RANGE",null,null,null,null,null,null,null,null,null,null,null,null,null,null,null,null,null,null,null,null,null,null,null,null,null,null,null,null,null,"VOTV_REAGENT_OTH_RANGE"]
[null,null,null,null,null,null,null,null,null,null,null,null,null,{"$f":"IF(CALC_IDENTIFIER=\"\",\"\",CALC_IDENTIFIER)","v":""},null,null,null,null,null,null,null,null,null,null,null,null,null,null,null,null,null,null,null,null,null,null,null,null,null,null,null,null,null,null,null,null,"VOTV_REAGENT_TEMPLATE_RANGE",null,null,null,null,null,null,null,null,null,null,null,null,null,null,"VOTV_REAGENT_EMPTY_TEMPLATE_RANGE",null,null,null,null,null,null,null,null,null,null,null,null,null,null,"VOTV_REAGENT_NO_OTH_RANGE"]
[]
[]
[null,null,null,null,null,null,null,null,null,null,null,null,"1.1.1","Итого","тыс.руб.",null,null,null,null,null,null,null,null,null,null,null,null,null,null,null,null,{"$f":"AG2933+AH2933","v":0},{"$f":"SUM(AG2935,AG2972,AG3000,AG3254)","v":0},{"$f":"SUM(AH2935,AH2972,AH3000,AH3254)","v":0}]
[]
[null,null,null,null,null,null,null,null,null,null,null,null,"COAG","Коагулянты","тыс.руб.",null,null,null,null,null,null,null,null,null,null,null,null,null,null,null,null,{"$f":"AG2935+AH2935","v":0},{"$f":"SUMIF(ВО.Р!$AO$28:$AO$63,ВО.Р!$AO$27,ВО.Р!AG$28:AG$63)","v":0},{"$f":"SUMIF(ВО.Р!$AO$28:$AO$63,ВО.Р!$AO$27,ВО.Р!AH$28:AH$63)","v":0}]
[]
[null,null,null,null,null,null,null,null,null,null,null,null,"HDSFAL","гидроксохлоросульфат алюминия (коагулянт смешанного типа)","тыс.руб.",null,null,null,null,null,null,null,null,null,null,null,null,null,null,null,null,null,null,null,null,null,null,{"$f":"AM2937+AN2937","v":0},{"$f":"AM2938*AM2939/1000","v":0},{"$f":"AN2938*AN2939/1000","v":0}]
[null,null,null,null,null,null,null,null,null,null,null,null,{"$f":"M2937 & \".P\"","v":"HDSFAL.P"},"Цена за единицу","руб./ед.",null,null,null,null,null,null,null,null,null,null,null,null,null,null,null,null,null,null,null,null,null,null,{"$f":"IF(AL2939=0,0,AL2937*1000/AL2939)","v":0}]
[null,null,null,null,null,null,null,null,null,null,null,null,{"$f":"M2937 & \".V\"","v":"HDSFAL.V"},"Объём","ед.",null,null,null,null,null,null,null,null,null,null,null,null,null,null,null,null,null,null,null,null,null,null,{"$f":"AM2939+AN2939","v":0}]
[null,null,null,null,null,null,null,null,null,null,null,null,"FES","железный купорос","тыс.руб.",null,null,null,null,null,null,null,null,null,null,null,null,null,null,null,null,null,null,null,null,null,null,{"$f":"AM2940+AN2940","v":0},{"$f":"AM2941*AM2942/1000","v":0},{"$f":"AN2941*AN2942/1000","v":0}]
[null,null,null,null,null,null,null,null,null,null,null,null,{"$f":"M2940 & \".P\"","v":"FES.P"},"Цена за единицу","руб./ед.",null,null,null,null,null,null,null,null,null,null,null,null,null,null,null,null,null,null,null,null,null,null,{"$f":"IF(AL2942=0,0,AL2940*1000/AL2942)","v":0}]
[null,null,null,null,null,null,null,null,null,null,null,null,{"$f":"M2940 & \".V\"","v":"FES.V"},"Объём","ед.",null,null,null,null,null,null,null,null,null,null,null,null,null,null,null,null,null,null,null,null,null,null,{"$f":"AM2942+AN2942","v":0}]
[null,null,null,null,null,null,null,null,null,null,null,null,"OXCLAL","оксихлорид алюминия","тыс.руб.",null,null,null,null,null,null,null,null,null,null,null,null,null,null,null,null,null,null,null,null,null,null,{"$f":"AM2943+AN2943","v":0},{"$f":"AM2944*AM2945/1000","v":0},{"$f":"AN2944*AN2945/1000","v":0}]
[null,null,null,null,null,null,null,null,null,null,null,null,{"$f":"M2943 & \".P\"","v":"OXCLAL.P"},"Цена за единицу","руб./ед.",null,null,null,null,null,null,null,null,null,null,null,null,null,null,null,null,null,null,null,null,null,null,{"$f":"IF(AL2945=0,0,AL2943*1000/AL2945)","v":0}]
[null,null,null,null,null,null,null,null,null,null,null,null,{"$f":"M2943 & \".V\"","v":"OXCLAL.V"},"Объём","ед.",null,null,null,null,null,null,null,null,null,null,null,null,null,null,null,null,null,null,null,null,null,null,{"$f":"AM2945+AN2945","v":0}]
[null,null,null,null,null,null,null,null,null,null,null,null,"OXCLAL10","оксихлорид алюминия 10 %","тыс.руб.",null,null,null,null,null,null,null,null,null,null,null,null,null,null,null,null,null,null,null,null,null,null,{"$f":"AM2946+AN2946","v":0},{"$f":"AM2947*AM2948/1000","v":0},{"$f":"AN2947*AN2948/1000","v":0}]
[null,null,null,null,null,null,null,null,null,null,null,null,{"$f":"M2946 & \".P\"","v":"OXCLAL10.P"},"Цена за единицу","руб./ед.",null,null,null,null,null,null,null,null,null,null,null,null,null,null,null,null,null,null,null,null,null,null,{"$f":"IF(AL2948=0,0,AL2946*1000/AL2948)","v":0}]
[null,null,null,null,null,null,null,null,null,null,null,null,{"$f":"M2946 & \".V\"","v":"OXCLAL10.V"},"Объём","ед.",null,null,null,null,null,null,null,null,null,null,null,null,null,null,null,null,null,null,null,null,null,null,{"$f":"AM2948+AN2948","v":0}]
[null,null,null,null,null,null,null,null,null,null,null,null,"OXCLAL18","оксихлорид алюминия 18 %","тыс.руб.",null,null,null,null,null,null,null,null,null,null,null,null,null,null,null,null,null,null,null,null,null,null,{"$f":"AM2949+AN2949","v":0},{"$f":"AM2950*AM2951/1000","v":0},{"$f":"AN2950*AN2951/1000","v":0}]
[null,null,null,null,null,null,null,null,null,null,null,null,{"$f":"M2949 & \".P\"","v":"OXCLAL18.P"},"Цена за единицу","руб./ед.",null,null,null,null,null,null,null,null,null,null,null,null,null,null,null,null,null,null,null,null,null,null,{"$f":"IF(AL2951=0,0,AL2949*1000/AL2951)","v":0}]
[null,null,null,null,null,null,null,null,null,null,null,null,{"$f":"M2949 & \".V\"","v":"OXCLAL18.V"},"Объём","ед.",null,null,null,null,null,null,null,null,null,null,null,null,null,null,null,null,null,null,null,null,null,null,{"$f":"AM2951+AN2951","v":0}]
[null,null,null,null,null,null,null,null,null,null,null,null,"OXCLAL30","оксихлорид алюминия 30 %","тыс.руб.",null,null,null,null,null,null,null,null,null,null,null,null,null,null,null,null,null,null,null,null,null,null,{"$f":"AM2952+AN2952","v":0},{"$f":"AM2953*AM2954/1000","v":0},{"$f":"AN2953*AN2954/1000","v":0}]
[null,null,null,null,null,null,null,null,null,null,null,null,{"$f":"M2952 & \".P\"","v":"OXCLAL30.P"},"Цена за единицу","руб./ед.",null,null,null,null,null,null,null,null,null,null,null,null,null,null,null,null,null,null,null,null,null,null,{"$f":"IF(AL2954=0,0,AL2952*1000/AL2954)","v":0}]
[null,null,null,null,null,null,null,null,null,null,null,null,{"$f":"M2952 & \".V\"","v":"OXCLAL30.V"},"Объём","ед.",null,null,null,null,null,null,null,null,null,null,null,null,null,null,null,null,null,null,null,null,null,null,{"$f":"AM2954+AN2954","v":0}]
[null,null,null,null,null,null,null,null,null,null,null,null,"PLOXCLAL","полиоксихлорид алюминия ","тыс.руб.",null,null,null,null,null,null,null,null,null,null,null,null,null,null,null,null,null,null,null,null,null,null,{"$f":"AM2955+AN2955","v":0},{"$f":"AM2956*AM2957/1000","v":0},{"$f":"AN2956*AN2957/1000","v":0}]
[null,null,null,null,null,null,null,null,null,null,null,null,{"$f":"M2955 & \".P\"","v":"PLOXCLAL.P"},"Цена за единицу","руб./ед.",null,null,null,null,null,null,null,null,null,null,null,null,null,null,null,null,null,null,null,null,null,null,{"$f":"IF(AL2957=0,0,AL2955*1000/AL2957)","v":0}]
[null,null,null,null,null,null,null,null,null,null,null,null,{"$f":"M2955 & \".V\"","v":"PLOXCLAL.V"},"Объём","ед.",null,null,null,null,null,null,null,null,null,null,null,null,null,null,null,null,null,null,null,null,null,null,{"$f":"AM2957+AN2957","v":0}]
[null,null,null,null,null,null,null,null,null,null,null,null,"PLOXCLAL10","полиоксихлорид алюминия 10 %","тыс.руб.",null,null,null,null,null,null,null,null,null,null,null,null,null,null,null,null,null,null,null,null,null,null,{"$f":"AM2958+AN2958","v":0},{"$f":"AM2959*AM2960/1000","v":0},{"$f":"AN2959*AN2960/1000","v":0}]
[null,null,null,null,null,null,null,null,null,null,null,null,{"$f":"M2958 & \".P\"","v":"PLOXCLAL10.P"},"Цена за единицу","руб./ед.",null,null,null,null,null,null,null,null,null,null,null,null,null,null,null,null,null,null,null,null,null,null,{"$f":"IF(AL2960=0,0,AL2958*1000/AL2960)","v":0}]
[null,null,null,null,null,null,null,null,null,null,null,null,{"$f":"M2958 & \".V\"","v":"PLOXCLAL10.V"},"Объём","ед.",null,null,null,null,null,null,null,null,null,null,null,null,null,null,null,null,null,null,null,null,null,null,{"$f":"AM2960+AN2960","v":0}]
[null,null,null,null,null,null,null,null,null,null,null,null,"PLOXCLAL18","полиоксихлорид алюминия 18 %","тыс.руб.",null,null,null,null,null,null,null,null,null,null,null,null,null,null,null,null,null,null,null,null,null,null,{"$f":"AM2961+AN2961","v":0},{"$f":"AM2962*AM2963/1000","v":0},{"$f":"AN2962*AN2963/1000","v":0}]
[null,null,null,null,null,null,null,null,null,null,null,null,{"$f":"M2961 & \".P\"","v":"PLOXCLAL18.P"},"Цена за единицу","руб./ед.",null,null,null,null,null,null,null,null,null,null,null,null,null,null,null,null,null,null,null,null,null,null,{"$f":"IF(AL2963=0,0,AL2961*1000/AL2963)","v":0}]
[null,null,null,null,null,null,null,null,null,null,null,null,{"$f":"M2961 & \".V\"","v":"PLOXCLAL18.V"},"Объём","ед.",null,null,null,null,null,null,null,null,null,null,null,null,null,null,null,null,null,null,null,null,null,null,{"$f":"AM2963+AN2963","v":0}]
[null,null,null,null,null,null,null,null,null,null,null,null,"PLOXCLAL30","полиоксихлорид алюминия 30 %","тыс.руб.",null,null,null,null,null,null,null,null,null,null,null,null,null,null,null,null,null,null,null,null,null,null,{"$f":"AM2964+AN2964","v":0},{"$f":"AM2965*AM2966/1000","v":0},{"$f":"AN2965*AN2966/1000","v":0}]
[null,null,null,null,null,null,null,null,null,null,null,null,{"$f":"M2964 & \".P\"","v":"PLOXCLAL30.P"},"Цена за единицу","руб./ед.",null,null,null,null,null,null,null,null,null,null,null,null,null,null,null,null,null,null,null,null,null,null,{"$f":"IF(AL2966=0,0,AL2964*1000/AL2966)","v":0}]
[null,null,null,null,null,null,null,null,null,null,null,null,{"$f":"M2964 & \".V\"","v":"PLOXCLAL30.V"},"Объём","ед.",null,null,null,null,null,null,null,null,null,null,null,null,null,null,null,null,null,null,null,null,null,null,{"$f":"AM2966+AN2966","v":0}]
[null,null,null,null,null,null,null,null,null,null,null,null,"SFAL","сульфат алюминия ","тыс.руб.",null,null,null,null,null,null,null,null,null,null,null,null,null,null,null,null,null,null,null,null,null,null,{"$f":"AM2967+AN2967","v":0},{"$f":"AM2968*AM2969/1000","v":0},{"$f":"AN2968*AN2969/1000","v":0}]
[null,null,null,null,null,null,null,null,null,null,null,null,{"$f":"M2967 & \".P\"","v":"SFAL.P"},"Цена за единицу","руб./ед.",null,null,null,null,null,null,null,null,null,null,null,null,null,null,null,null,null,null,null,null,null,null,{"$f":"IF(AL2969=0,0,AL2967*1000/AL2969)","v":0}]
[null,null,null,null,null,null,null,null,null,null,null,null,{"$f":"M2967 & \".V\"","v":"SFAL.V"},"Объём","ед.",null,null,null,null,null,null,null,null,null,null,null,null,null,null,null,null,null,null,null,null,null,null,{"$f":"AM2969+AN2969","v":0}]
[null,null,null,null,null,null,null,null,null,null,null,null,"OTH","прочие","тыс.руб.",null,null,null,null,null,null,null,null,null,null,null,null,null,null,null,null,null,null,null,null,null,null,{"$f":"AM2970+AN2970","v":0}]
[]
[null,null,null,null,null,null,null,null,null,null,null,null,"FLOC","Флокулянты","тыс.руб.",null,null,null,null,null,null,null,null,null,null,null,null,null,null,null,null,{"$f":"AG2972+AH2972","v":0},{"$f":"SUMIF(ВО.Р!$AO$65:$AO$91,ВО.Р!$AO$64,ВО.Р!AG$65:AG$91)","v":0},{"$f":"SUMIF(ВО.Р!$AO$65:$AO$91,ВО.Р!$AO$64,ВО.Р!AH$65:AH$91)","v":0}]
[]
[null,null,null,null,null,null,null,null,null,null,null,null,"MGFLK","Магнафлок","тыс.руб.",null,null,null,null,null,null,null,null,null,null,null,null,null,null,null,null,null,null,null,null,null,null,{"$f":"AM2974+AN2974","v":0},{"$f":"AM2975*AM2976/1000","v":0},{"$f":"AN2975*AN2976/1000","v":0}]
[null,null,null,null,null,null,null,null,null,null,null,null,{"$f":"M2974 & \".P\"","v":"MGFLK.P"},"Цена за единицу","руб./ед.",null,null,null,null,null,null,null,null,null,null,null,null,null,null,null,null,null,null,null,null,null,null,{"$f":"IF(AL2976=0,0,AL2974*1000/AL2976)","v":0}]
[null,null,null,null,null,null,null,null,null,null,null,null,{"$f":"M2974 & \".V\"","v":"MGFLK.V"},"Объём","ед.",null,null,null,null,null,null,null,null,null,null,null,null,null,null,null,null,null,null,null,null,null,null,{"$f":"AM2976+AN2976","v":0}]
[null,null,null,null,null,null,null,null,null,null,null,null,"PRSTL","Праестол","тыс.руб.",null,null,null,null,null,null,null,null,null,null,null,null,null,null,null,null,null,null,null,null,null,null,{"$f":"AM2977+AN2977","v":0},{"$f":"AM2978*AM2979/1000","v":0},{"$f":"AN2978*AN2979/1000","v":0}]
[null,null,null,null,null,null,null,null,null,null,null,null,{"$f":"M2977 & \".P\"","v":"PRSTL.P"},"Цена за единицу","руб./ед.",null,null,null,null,null,null,null,null,null,null,null,null,null,null,null,null,null,null,null,null,null,null,{"$f":"IF(AL2979=0,0,AL2977*1000/AL2979)","v":0}]
[null,null,null,null,null,null,null,null,null,null,null,null,{"$f":"M2977 & \".V\"","v":"PRSTL.V"},"Объём","ед.",null,null,null,null,null,null,null,null,null,null,null,null,null,null,null,null,null,null,null,null,null,null,{"$f":"AM2979+AN2979","v":0}]
[null,null,null,null,null,null,null,null,null,null,null,null,"PRSTL853","Праестол 853 BC","тыс.руб.",null,null,null,null,null,null,null,null,null,null,null,null,null,null,null,null,null,null,null,null,null,null,{"$f":"AM2980+AN2980","v":0},{"$f":"AM2981*AM2982/1000","v":0},{"$f":"AN2981*AN2982/1000","v":0}]
[null,null,null,null,null,null,null,null,null,null,null,null,{"$f":"M2980 & \".P\"","v":"PRSTL853.P"},"Цена за единицу","руб./ед.",null,null,null,null,null,null,null,null,null,null,null,null,null,null,null,null,null,null,null,null,null,null,{"$f":"IF(AL2982=0,0,AL2980*1000/AL2982)","v":0}]
[null,null,null,null,null,null,null,null,null,null,null,null,{"$f":"M2980 & \".V\"","v":"PRSTL853.V"},"Объём","ед.",null,null,null,null,null,null,null,null,null,null,null,null,null,null,null,null,null,null,null,null,null,null,{"$f":"AM2982+AN2982","v":0}]
[null,null,null,null,null,null,null,null,null,null,null,null,"PRSTL650","Праестол 650 BC","тыс.руб.",null,null,null,null,null,null,null,null,null,null,null,null,null,null,null,null,null,null,null,null,null,null,{"$f":"AM2983+AN2983","v":0},{"$f":"AM2984*AM2985/1000","v":0},{"$f":"AN2984*AN2985/1000","v":0}]
[null,null,null,null,null,null,null,null,null,null,null,null,{"$f":"M2983 & \".P\"","v":"PRSTL650.P"},"Цена за единицу","руб./ед.",null,null,null,null,null,null,null,null,null,null,null,null,null,null,null,null,null,null,null,null,null,null,{"$f":"IF(AL2985=0,0,AL2983*1000/AL2985)","v":0}]
[null,null,null,null,null,null,null,null,null,null,null,null,{"$f":"M2983 & \".V\"","v":"PRSTL650.V"},"Объём","ед.",null,null,null,null,null,null,null,null,null,null,null,null,null,null,null,null,null,null,null,null,null,null,{"$f":"AM2985+AN2985","v":0}]
[null,null,null,null,null,null,null,null,null,null,null,null,"PRSTL2515","Праестол 2515 TR","тыс.руб.",null,null,null,null,null,null,null,null,null,null,null,null,null,null,null,null,null,null,null,null,null,null,{"$f":"AM2986+AN2986","v":0},{"$f":"AM2987*AM2988/1000","v":0},{"$f":"AN2987*AN2988/1000","v":0}]
[null,null,null,null,null,null,null,null,null,null,null,null,{"$f":"M2986 & \".P\"","v":"PRSTL2515.P"},"Цена за единицу","руб./ед.",null,null,null,null,null,null,null,null,null,null,null,null,null,null,null,null,null,null,null,null,null,null,{"$f":"IF(AL2988=0,0,AL2986*1000/AL2988)","v":0}]
[null,null,null,null,null,null,null,null,null,null,null,null,{"$f":"M2986 & \".V\"","v":"PRSTL2515.V"},"Объём","ед.",null,null,null,null,null,null,null,null,null,null,null,null,null,null,null,null,null,null,null,null,null,null,{"$f":"AM2988+AN2988","v":0}]
[null,null,null,null,null,null,null,null,null,null,null,null,"GRLIFEK47","Гринлайф К 47","тыс.руб.",null,null,null,null,null,null,null,null,null,null,null,null,null,null,null,null,null,null,null,null,null,null,{"$f":"AM2989+AN2989","v":0},{"$f":"AM2990*AM2991/1000","v":0},{"$f":"AN2990*AN2991/1000","v":0}]
[null,null,null,null,null,null,null,null,null,null,null,null,{"$f":"M2989 & \".P\"","v":"GRLIFEK47.P"},"Цена за единицу","руб./ед.",null,null,null,null,null,null,null,null,null,null,null,null,null,null,null,null,null,null,null,null,null,null,{"$f":"IF(AL2991=0,0,AL2989*1000/AL2991)","v":0}]
[null,null,null,null,null,null,null,null,null,null,null,null,{"$f":"M2989 & \".V\"","v":"GRLIFEK47.V"},"Объём","ед.",null,null,null,null,null,null,null,null,null,null,null,null,null,null,null,null,null,null,null,null,null,null,{"$f":"AM2991+AN2991","v":0}]
[null,null,null,null,null,null,null,null,null,null,null,null,"GRLIFEK41","Гринлайф К 41","тыс.руб.",null,null,null,null,null,null,null,null,null,null,null,null,null,null,null,null,null,null,null,null,null,null,{"$f":"AM2992+AN2992","v":0},{"$f":"AM2993*AM2994/1000","v":0},{"$f":"AN2993*AN2994/1000","v":0}]
[null,null,null,null,null,null,null,null,null,null,null,null,{"$f":"M2992 & \".P\"","v":"GRLIFEK41.P"},"Цена за единицу","руб./ед.",null,null,null,null,null,null,null,null,null,null,null,null,null,null,null,null,null,null,null,null,null,null,{"$f":"IF(AL2994=0,0,AL2992*1000/AL2994)","v":0}]
[null,null,null,null,null,null,null,null,null,null,null,null,{"$f":"M2992 & \".V\"","v":"GRLIFEK41.V"},"Объём","ед.",null,null,null,null,null,null,null,null,null,null,null,null,null,null,null,null,null,null,null,null,null,null,{"$f":"AM2994+AN2994","v":0}]
[null,null,null,null,null,null,null,null,null,null,null,null,"GRLIFEA10PV","Гринлайф А 10 ПВ","тыс.руб.",null,null,null,null,null,null,null,null,null,null,null,null,null,null,null,null,null,null,null,null,null,null,{"$f":"AM2995+AN2995","v":0},{"$f":"AM2996*AM2997/1000","v":0},{"$f":"AN2996*AN2997/1000","v":0}]
[null,null,null,null,null,null,null,null,null,null,null,null,{"$f":"M2995 & \".P\"","v":"GRLIFEA10PV.P"},"Цена за единицу","руб./ед.",null,null,null,null,null,null,null,null,null,null,null,null,null,null,null,null,null,null,null,null,null,null,{"$f":"IF(AL2997=0,0,AL2995*1000/AL2997)","v":0}]
[null,null,null,null,null,null,null,null,null,null,null,null,{"$f":"M2995 & \".V\"","v":"GRLIFEA10PV.V"},"Объём","ед.",null,null,null,null,null,null,null,null,null,null,null,null,null,null,null,null,null,null,null,null,null,null,{"$f":"AM2997+AN2997","v":0}]
[null,null,null,null,null,null,null,null,null,null,null,null,"OTH","прочие","тыс.руб.",null,null,null,null,null,null,null,null,null,null,null,null,null,null,null,null,null,null,null,null,null,null,{"$f":"AM2998+AN2998","v":0}]
[]
[null,null,null,null,null,null,null,null,null,null,null,null,"REAG","Реагенты","тыс.руб.",null,null,null,null,null,null,null,null,null,null,null,null,null,null,null,null,{"$f":"AG3000+AH3000","v":0},{"$f":"SUMIF(ВО.Р!$AO$93:$AO$344,ВО.Р!$AO$92,ВО.Р!AG$93:AG$344)","v":0},{"$f":"SUMIF(ВО.Р!$AO$93:$AO$344,ВО.Р!$AO$92,ВО.Р!AH$93:AH$344)","v":0}]
[]
[null,null,null,null,null,null,null,null,null,null,null,null,"AGRP","агар питательный","тыс.руб.",null,null,null,null,null,null,null,null,null,null,null,null,null,null,null,null,null,null,null,null,null,null,{"$f":"AM3002+AN3002","v":0},{"$f":"AM3003*AM3004/1000","v":0},{"$f":"AN3003*AN3004/1000","v":0}]
[null,null,null,null,null,null,null,null,null,null,null,null,{"$f":"M3002 & \".P\"","v":"AGRP.P"},"Цена за единицу","руб./ед.",null,null,null,null,null,null,null,null,null,null,null,null,null,null,null,null,null,null,null,null,null,null,{"$f":"IF(AL3004=0,0,AL3002*1000/AL3004)","v":0}]
[null,null,null,null,null,null,null,null,null,null,null,null,{"$f":"M3002 & \".V\"","v":"AGRP.V"},"Объём","ед.",null,null,null,null,null,null,null,null,null,null,null,null,null,null,null,null,null,null,null,null,null,null,{"$f":"AM3004+AN3004","v":0}]
[null,null,null,null,null,null,null,null,null,null,null,null,"AGRE","агар Эндо","тыс.руб.",null,null,null,null,null,null,null,null,null,null,null,null,null,null,null,null,null,null,null,null,null,null,{"$f":"AM3005+AN3005","v":0},{"$f":"AM3006*AM3007/1000","v":0},{"$f":"AN3006*AN3007/1000","v":0}]
[null,null,null,null,null,null,null,null,null,null,null,null,{"$f":"M3005 & \".P\"","v":"AGRE.P"},"Цена за единицу","руб./ед.",null,null,null,null,null,null,null,null,null,null,null,null,null,null,null,null,null,null,null,null,null,null,{"$f":"IF(AL3007=0,0,AL3005*1000/AL3007)","v":0}]
[null,null,null,null,null,null,null,null,null,null,null,null,{"$f":"M3005 & \".V\"","v":"AGRE.V"},"Объём","ед.",null,null,null,null,null,null,null,null,null,null,null,null,null,null,null,null,null,null,null,null,null,null,{"$f":"AM3007+AN3007","v":0}]
[null,null,null,null,null,null,null,null,null,null,null,null,"ALOX","алюминий окись","тыс.руб.",null,null,null,null,null,null,null,null,null,null,null,null,null,null,null,null,null,null,null,null,null,null,{"$f":"AM3008+AN3008","v":0},{"$f":"AM3009*AM3010/1000","v":0},{"$f":"AN3009*AN3010/1000","v":0}]
[null,null,null,null,null,null,null,null,null,null,null,null,{"$f":"M3008 & \".P\"","v":"ALOX.P"},"Цена за единицу","руб./ед.",null,null,null,null,null,null,null,null,null,null,null,null,null,null,null,null,null,null,null,null,null,null,{"$f":"IF(AL3010=0,0,AL3008*1000/AL3010)","v":0}]
[null,null,null,null,null,null,null,null,null,null,null,null,{"$f":"M3008 & \".V\"","v":"ALOX.V"},"Объём","ед.",null,null,null,null,null,null,null,null,null,null,null,null,null,null,null,null,null,null,null,null,null,null,{"$f":"AM3010+AN3010","v":0}]
[null,null,null,null,null,null,null,null,null,null,null,null,"ALS","алюминий сернокислый","тыс.руб.",null,null,null,null,null,null,null,null,null,null,null,null,null,null,null,null,null,null,null,null,null,null,{"$f":"AM3011+AN3011","v":0},{"$f":"AM3012*AM3013/1000","v":0},{"$f":"AN3012*AN3013/1000","v":0}]
[null,null,null,null,null,null,null,null,null,null,null,null,{"$f":"M3011 & \".P\"","v":"ALS.P"},"Цена за единицу","руб./ед.",null,null,null,null,null,null,null,null,null,null,null,null,null,null,null,null,null,null,null,null,null,null,{"$f":"IF(AL3013=0,0,AL3011*1000/AL3013)","v":0}]
[null,null,null,null,null,null,null,null,null,null,null,null,{"$f":"M3011 & \".V\"","v":"ALS.V"},"Объём","ед.",null,null,null,null,null,null,null,null,null,null,null,null,null,null,null,null,null,null,null,null,null,null,{"$f":"AM3013+AN3013","v":0}]
[null,null,null,null,null,null,null,null,null,null,null,null,"AM","аммиак","тыс.руб.",null,null,null,null,null,null,null,null,null,null,null,null,null,null,null,null,null,null,null,null,null,null,{"$f":"AM3014+AN3014","v":0},{"$f":"AM3015*AM3016/1000","v":0},{"$f":"AN3015*AN3016/1000","v":0}]
[null,null,null,null,null,null,null,null,null,null,null,null,{"$f":"M3014 & \".P\"","v":"AM.P"},"Цена за единицу","руб./ед.",null,null,null,null,null,null,null,null,null,null,null,null,null,null,null,null,null,null,null,null,null,null,{"$f":"IF(AL3016=0,0,AL3014*1000/AL3016)","v":0}]
[null,null,null,null,null,null,null,null,null,null,null,null,{"$f":"M3014 & \".V\"","v":"AM.V"},"Объём","ед.",null,null,null,null,null,null,null,null,null,null,null,null,null,null,null,null,null,null,null,null,null,null,{"$f":"AM3016+AN3016","v":0}]
[null,null,null,null,null,null,null,null,null,null,null,null,"AMW","аммиачная вода","тыс.руб.",null,null,null,null,null,null,null,null,null,null,null,null,null,null,null,null,null,null,null,null,null,null,{"$f":"AM3017+AN3017","v":0},{"$f":"AM3018*AM3019/1000","v":0},{"$f":"AN3018*AN3019/1000","v":0}]
[null,null,null,null,null,null,null,null,null,null,null,null,{"$f":"M3017 & \".P\"","v":"AMW.P"},"Цена за единицу","руб./ед.",null,null,null,null,null,null,null,null,null,null,null,null,null,null,null,null,null,null,null,null,null,null,{"$f":"IF(AL3019=0,0,AL3017*1000/AL3019)","v":0}]
[null,null,null,null,null,null,null,null,null,null,null,null,{"$f":"M3017 & \".V\"","v":"AMW.V"},"Объём","ед.",null,null,null,null,null,null,null,null,null,null,null,null,null,null,null,null,null,null,null,null,null,null,{"$f":"AM3019+AN3019","v":0}]
[null,null,null,null,null,null,null,null,null,null,null,null,"AMN","аммоний","тыс.руб.",null,null,null,null,null,null,null,null,null,null,null,null,null,null,null,null,null,null,null,null,null,null,{"$f":"AM3020+AN3020","v":0},{"$f":"AM3021*AM3022/1000","v":0},{"$f":"AN3021*AN3022/1000","v":0}]
[null,null,null,null,null,null,null,null,null,null,null,null,{"$f":"M3020 & \".P\"","v":"AMN.P"},"Цена за единицу","руб./ед.",null,null,null,null,null,null,null,null,null,null,null,null,null,null,null,null,null,null,null,null,null,null,{"$f":"IF(AL3022=0,0,AL3020*1000/AL3022)","v":0}]
[null,null,null,null,null,null,null,null,null,null,null,null,{"$f":"M3020 & \".V\"","v":"AMN.V"},"Объём","ед.",null,null,null,null,null,null,null,null,null,null,null,null,null,null,null,null,null,null,null,null,null,null,{"$f":"AM3022+AN3022","v":0}]
[null,null,null,null,null,null,null,null,null,null,null,null,"AMNCL","аммоний хлористый","тыс.руб.",null,null,null,null,null,null,null,null,null,null,null,null,null,null,null,null,null,null,null,null,null,null,{"$f":"AM3023+AN3023","v":0},{"$f":"AM3024*AM3025/1000","v":0},{"$f":"AN3024*AN3025/1000","v":0}]
[null,null,null,null,null,null,null,null,null,null,null,null,{"$f":"M3023 & \".P\"","v":"AMNCL.P"},"Цена за единицу","руб./ед.",null,null,null,null,null,null,null,null,null,null,null,null,null,null,null,null,null,null,null,null,null,null,{"$f":"IF(AL3025=0,0,AL3023*1000/AL3025)","v":0}]
[null,null,null,null,null,null,null,null,null,null,null,null,{"$f":"M3023 & \".V\"","v":"AMNCL.V"},"Объём","ед.",null,null,null,null,null,null,null,null,null,null,null,null,null,null,null,null,null,null,null,null,null,null,{"$f":"AM3025+AN3025","v":0}]
[null,null,null,null,null,null,null,null,null,null,null,null,"BACL","барий хлористый","тыс.руб.",null,null,null,null,null,null,null,null,null,null,null,null,null,null,null,null,null,null,null,null,null,null,{"$f":"AM3026+AN3026","v":0},{"$f":"AM3027*AM3028/1000","v":0},{"$f":"AN3027*AN3028/1000","v":0}]
[null,null,null,null,null,null,null,null,null,null,null,null,{"$f":"M3026 & \".P\"","v":"BACL.P"},"Цена за единицу","руб./ед.",null,null,null,null,null,null,null,null,null,null,null,null,null,null,null,null,null,null,null,null,null,null,{"$f":"IF(AL3028=0,0,AL3026*1000/AL3028)","v":0}]
[null,null,null,null,null,null,null,null,null,null,null,null,{"$f":"M3026 & \".V\"","v":"BACL.V"},"Объём","ед.",null,null,null,null,null,null,null,null,null,null,null,null,null,null,null,null,null,null,null,null,null,null,{"$f":"AM3028+AN3028","v":0}]
[null,null,null,null,null,null,null,null,null,null,null,null,"BIOX","биоксимин","тыс.руб.",null,null,null,null,null,null,null,null,null,null,null,null,null,null,null,null,null,null,null,null,null,null,{"$f":"AM3029+AN3029","v":0},{"$f":"AM3030*AM3031/1000","v":0},{"$f":"AN3030*AN3031/1000","v":0}]
[null,null,null,null,null,null,null,null,null,null,null,null,{"$f":"M3029 & \".P\"","v":"BIOX.P"},"Цена за единицу","руб./ед.",null,null,null,null,null,null,null,null,null,null,null,null,null,null,null,null,null,null,null,null,null,null,{"$f":"IF(AL3031=0,0,AL3029*1000/AL3031)","v":0}]
[null,null,null,null,null,null,null,null,null,null,null,null,{"$f":"M3029 & \".V\"","v":"BIOX.V"},"Объём","ед.",null,null,null,null,null,null,null,null,null,null,null,null,null,null,null,null,null,null,null,null,null,null,{"$f":"AM3031+AN3031","v":0}]
[null,null,null,null,null,null,null,null,null,null,null,null,"BRFNL","бромфеноловый синий","тыс.руб.",null,null,null,null,null,null,null,null,null,null,null,null,null,null,null,null,null,null,null,null,null,null,{"$f":"AM3032+AN3032","v":0},{"$f":"AM3033*AM3034/1000","v":0},{"$f":"AN3033*AN3034/1000","v":0}]
[null,null,null,null,null,null,null,null,null,null,null,null,{"$f":"M3032 & \".P\"","v":"BRFNL.P"},"Цена за единицу","руб./ед.",null,null,null,null,null,null,null,null,null,null,null,null,null,null,null,null,null,null,null,null,null,null,{"$f":"IF(AL3034=0,0,AL3032*1000/AL3034)","v":0}]
[null,null,null,null,null,null,null,null,null,null,null,null,{"$f":"M3032 & \".V\"","v":"BRFNL.V"},"Объём","ед.",null,null,null,null,null,null,null,null,null,null,null,null,null,null,null,null,null,null,null,null,null,null,{"$f":"AM3034+AN3034","v":0}]
[null,null,null,null,null,null,null,null,null,null,null,null,"HDOX","водорода перекись","тыс.руб.",null,null,null,null,null,null,null,null,null,null,null,null,null,null,null,null,null,null,null,null,null,null,{"$f":"AM3035+AN3035","v":0},{"$f":"AM3036*AM3037/1000","v":0},{"$f":"AN3036*AN3037/1000","v":0}]
[null,null,null,null,null,null,null,null,null,null,null,null,{"$f":"M3035 & \".P\"","v":"HDOX.P"},"Цена за единицу","руб./ед.",null,null,null,null,null,null,null,null,null,null,null,null,null,null,null,null,null,null,null,null,null,null,{"$f":"IF(AL3037=0,0,AL3035*1000/AL3037)","v":0}]
[null,null,null,null,null,null,null,null,null,null,null,null,{"$f":"M3035 & \".V\"","v":"HDOX.V"},"Объём","ед.",null,null,null,null,null,null,null,null,null,null,null,null,null,null,null,null,null,null,null,null,null,null,{"$f":"AM3037+AN3037","v":0}]
[null,null,null,null,null,null,null,null,null,null,null,null,"GEXN","гексан","тыс.руб.",null,null,null,null,null,null,null,null,null,null,null,null,null,null,null,null,null,null,null,null,null,null,{"$f":"AM3038+AN3038","v":0},{"$f":"AM3039*AM3040/1000","v":0},{"$f":"AN3039*AN3040/1000","v":0}]
[null,null,null,null,null,null,null,null,null,null,null,null,{"$f":"M3038 & \".P\"","v":"GEXN.P"},"Цена за единицу","руб./ед.",null,null,null,null,null,null,null,null,null,null,null,null,null,null,null,null,null,null,null,null,null,null,{"$f":"IF(AL3040=0,0,AL3038*1000/AL3040)","v":0}]
[null,null,null,null,null,null,null,null,null,null,null,null,{"$f":"M3038 & \".V\"","v":"GEXN.V"},"Объём","ед.",null,null,null,null,null,null,null,null,null,null,null,null,null,null,null,null,null,null,null,null,null,null,{"$f":"AM3040+AN3040","v":0}]
[null,null,null,null,null,null,null,null,null,null,null,null,"HDOXCL","гидроксиламин солянокислый","тыс.руб.",null,null,null,null,null,null,null,null,null,null,null,null,null,null,null,null,null,null,null,null,null,null,{"$f":"AM3041+AN3041","v":0},{"$f":"AM3042*AM3043/1000","v":0},{"$f":"AN3042*AN3043/1000","v":0}]
[null,null,null,null,null,null,null,null,null,null,null,null,{"$f":"M3041 & \".P\"","v":"HDOXCL.P"},"Цена за единицу","руб./ед.",null,null,null,null,null,null,null,null,null,null,null,null,null,null,null,null,null,null,null,null,null,null,{"$f":"IF(AL3043=0,0,AL3041*1000/AL3043)","v":0}]
[null,null,null,null,null,null,null,null,null,null,null,null,{"$f":"M3041 & \".V\"","v":"HDOXCL.V"},"Объём","ед.",null,null,null,null,null,null,null,null,null,null,null,null,null,null,null,null,null,null,null,null,null,null,{"$f":"AM3043+AN3043","v":0}]
[null,null,null,null,null,null,null,null,null,null,null,null,"HDCLCA","гидрохлорид кальция","тыс.руб.",null,null,null,null,null,null,null,null,null,null,null,null,null,null,null,null,null,null,null,null,null,null,{"$f":"AM3044+AN3044","v":0},{"$f":"AM3045*AM3046/1000","v":0},{"$f":"AN3045*AN3046/1000","v":0}]
[null,null,null,null,null,null,null,null,null,null,null,null,{"$f":"M3044 & \".P\"","v":"HDCLCA.P"},"Цена за единицу","руб./ед.",null,null,null,null,null,null,null,null,null,null,null,null,null,null,null,null,null,null,null,null,null,null,{"$f":"IF(AL3046=0,0,AL3044*1000/AL3046)","v":0}]
[null,null,null,null,null,null,null,null,null,null,null,null,{"$f":"M3044 & \".V\"","v":"HDCLCA.V"},"Объём","ед.",null,null,null,null,null,null,null,null,null,null,null,null,null,null,null,null,null,null,null,null,null,null,{"$f":"AM3046+AN3046","v":0}]
[null,null,null,null,null,null,null,null,null,null,null,null,"HPCLCA","гипохлорит кальция","тыс.руб.",null,null,null,null,null,null,null,null,null,null,null,null,null,null,null,null,null,null,null,null,null,null,{"$f":"AM3047+AN3047","v":0},{"$f":"AM3048*AM3049/1000","v":0},{"$f":"AN3048*AN3049/1000","v":0}]
[null,null,null,null,null,null,null,null,null,null,null,null,{"$f":"M3047 & \".P\"","v":"HPCLCA.P"},"Цена за единицу","руб./ед.",null,null,null,null,null,null,null,null,null,null,null,null,null,null,null,null,null,null,null,null,null,null,{"$f":"IF(AL3049=0,0,AL3047*1000/AL3049)","v":0}]
[null,null,null,null,null,null,null,null,null,null,null,null,{"$f":"M3047 & \".V\"","v":"HPCLCA.V"},"Объём","ед.",null,null,null,null,null,null,null,null,null,null,null,null,null,null,null,null,null,null,null,null,null,null,{"$f":"AM3049+AN3049","v":0}]
[null,null,null,null,null,null,null,null,null,null,null,null,"HPCLNA","гипохлорит натрия","тыс.руб.",null,null,null,null,null,null,null,null,null,null,null,null,null,null,null,null,null,null,null,null,null,null,{"$f":"AM3050+AN3050","v":0},{"$f":"AM3051*AM3052/1000","v":0},{"$f":"AN3051*AN3052/1000","v":0}]
[null,null,null,null,null,null,null,null,null,null,null,null,{"$f":"M3050 & \".P\"","v":"HPCLNA.P"},"Цена за единицу","руб./ед.",null,null,null,null,null,null,null,null,null,null,null,null,null,null,null,null,null,null,null,null,null,null,{"$f":"IF(AL3052=0,0,AL3050*1000/AL3052)","v":0}]
[null,null,null,null,null,null,null,null,null,null,null,null,{"$f":"M3050 & \".V\"","v":"HPCLNA.V"},"Объём","ед.",null,null,null,null,null,null,null,null,null,null,null,null,null,null,null,null,null,null,null,null,null,null,{"$f":"AM3052+AN3052","v":0}]
[null,null,null,null,null,null,null,null,null,null,null,null,"GLC","глицерин","тыс.руб.",null,null,null,null,null,null,null,null,null,null,null,null,null,null,null,null,null,null,null,null,null,null,{"$f":"AM3053+AN3053","v":0},{"$f":"AM3054*AM3055/1000","v":0},{"$f":"AN3054*AN3055/1000","v":0}]
[null,null,null,null,null,null,null,null,null,null,null,null,{"$f":"M3053 & \".P\"","v":"GLC.P"},"Цена за единицу","руб./ед.",null,null,null,null,null,null,null,null,null,null,null,null,null,null,null,null,null,null,null,null,null,null,{"$f":"IF(AL3055=0,0,AL3053*1000/AL3055)","v":0}]
[null,null,null,null,null,null,null,null,null,null,null,null,{"$f":"M3053 & \".V\"","v":"GLC.V"},"Объём","ед.",null,null,null,null,null,null,null,null,null,null,null,null,null,null,null,null,null,null,null,null,null,null,{"$f":"AM3055+AN3055","v":0}]
[null,null,null,null,null,null,null,null,null,null,null,null,"DFNLCD","дифенилкарбазид","тыс.руб.",null,null,null,null,null,null,null,null,null,null,null,null,null,null,null,null,null,null,null,null,null,null,{"$f":"AM3056+AN3056","v":0},{"$f":"AM3057*AM3058/1000","v":0},{"$f":"AN3057*AN3058/1000","v":0}]
[null,null,null,null,null,null,null,null,null,null,null,null,{"$f":"M3056 & \".P\"","v":"DFNLCD.P"},"Цена за единицу","руб./ед.",null,null,null,null,null,null,null,null,null,null,null,null,null,null,null,null,null,null,null,null,null,null,{"$f":"IF(AL3058=0,0,AL3056*1000/AL3058)","v":0}]
[null,null,null,null,null,null,null,null,null,null,null,null,{"$f":"M3056 & \".V\"","v":"DFNLCD.V"},"Объём","ед.",null,null,null,null,null,null,null,null,null,null,null,null,null,null,null,null,null,null,null,null,null,null,{"$f":"AM3058+AN3058","v":0}]
[null,null,null,null,null,null,null,null,null,null,null,null,"DFNLCN","дифенилкарбазон","тыс.руб.",null,null,null,null,null,null,null,null,null,null,null,null,null,null,null,null,null,null,null,null,null,null,{"$f":"AM3059+AN3059","v":0},{"$f":"AM3060*AM3061/1000","v":0},{"$f":"AN3060*AN3061/1000","v":0}]
[null,null,null,null,null,null,null,null,null,null,null,null,{"$f":"M3059 & \".P\"","v":"DFNLCN.P"},"Цена за единицу","руб./ед.",null,null,null,null,null,null,null,null,null,null,null,null,null,null,null,null,null,null,null,null,null,null,{"$f":"IF(AL3061=0,0,AL3059*1000/AL3061)","v":0}]
[null,null,null,null,null,null,null,null,null,null,null,null,{"$f":"M3059 & \".V\"","v":"DFNLCN.V"},"Объём","ед.",null,null,null,null,null,null,null,null,null,null,null,null,null,null,null,null,null,null,null,null,null,null,{"$f":"AM3061+AN3061","v":0}]
[null,null,null,null,null,null,null,null,null,null,null,null,"FES","железо сернокислое","тыс.руб.",null,null,null,null,null,null,null,null,null,null,null,null,null,null,null,null,null,null,null,null,null,null,{"$f":"AM3062+AN3062","v":0},{"$f":"AM3063*AM3064/1000","v":0},{"$f":"AN3063*AN3064/1000","v":0}]
[null,null,null,null,null,null,null,null,null,null,null,null,{"$f":"M3062 & \".P\"","v":"FES.P"},"Цена за единицу","руб./ед.",null,null,null,null,null,null,null,null,null,null,null,null,null,null,null,null,null,null,null,null,null,null,{"$f":"IF(AL3064=0,0,AL3062*1000/AL3064)","v":0}]
[null,null,null,null,null,null,null,null,null,null,null,null,{"$f":"M3062 & \".V\"","v":"FES.V"},"Объём","ед.",null,null,null,null,null,null,null,null,null,null,null,null,null,null,null,null,null,null,null,null,null,null,{"$f":"AM3064+AN3064","v":0}]
[null,null,null,null,null,null,null,null,null,null,null,null,"FECL","железо трёххлористое","тыс.руб.",null,null,null,null,null,null,null,null,null,null,null,null,null,null,null,null,null,null,null,null,null,null,{"$f":"AM3065+AN3065","v":0},{"$f":"AM3066*AM3067/1000","v":0},{"$f":"AN3066*AN3067/1000","v":0}]
[null,null,null,null,null,null,null,null,null,null,null,null,{"$f":"M3065 & \".P\"","v":"FECL.P"},"Цена за единицу","руб./ед.",null,null,null,null,null,null,null,null,null,null,null,null,null,null,null,null,null,null,null,null,null,null,{"$f":"IF(AL3067=0,0,AL3065*1000/AL3067)","v":0}]
[null,null,null,null,null,null,null,null,null,null,null,null,{"$f":"M3065 & \".V\"","v":"FECL.V"},"Объём","ед.",null,null,null,null,null,null,null,null,null,null,null,null,null,null,null,null,null,null,null,null,null,null,{"$f":"AM3067+AN3067","v":0}]
[null,null,null,null,null,null,null,null,null,null,null,null,"LIMENP","известь негашёная (порошок)","тыс.руб.",null,null,null,null,null,null,null,null,null,null,null,null,null,null,null,null,null,null,null,null,null,null,{"$f":"AM3068+AN3068","v":0},{"$f":"AM3069*AM3070/1000","v":0},{"$f":"AN3069*AN3070/1000","v":0}]
[null,null,null,null,null,null,null,null,null,null,null,null,{"$f":"M3068 & \".P\"","v":"LIMENP.P"},"Цена за единицу","руб./ед.",null,null,null,null,null,null,null,null,null,null,null,null,null,null,null,null,null,null,null,null,null,null,{"$f":"IF(AL3070=0,0,AL3068*1000/AL3070)","v":0}]
[null,null,null,null,null,null,null,null,null,null,null,null,{"$f":"M3068 & \".V\"","v":"LIMENP.V"},"Объём","ед.",null,null,null,null,null,null,null,null,null,null,null,null,null,null,null,null,null,null,null,null,null,null,{"$f":"AM3070+AN3070","v":0}]
[null,null,null,null,null,null,null,null,null,null,null,null,"LIMENH","известь негашёная гидратная","тыс.руб.",null,null,null,null,null,null,null,null,null,null,null,null,null,null,null,null,null,null,null,null,null,null,{"$f":"AM3071+AN3071","v":0},{"$f":"AM3072*AM3073/1000","v":0},{"$f":"AN3072*AN3073/1000","v":0}]
[null,null,null,null,null,null,null,null,null,null,null,null,{"$f":"M3071 & \".P\"","v":"LIMENH.P"},"Цена за единицу","руб./ед.",null,null,null,null,null,null,null,null,null,null,null,null,null,null,null,null,null,null,null,null,null,null,{"$f":"IF(AL3073=0,0,AL3071*1000/AL3073)","v":0}]
[null,null,null,null,null,null,null,null,null,null,null,null,{"$f":"M3071 & \".V\"","v":"LIMENH.V"},"Объём","ед.",null,null,null,null,null,null,null,null,null,null,null,null,null,null,null,null,null,null,null,null,null,null,{"$f":"AM3073+AN3073","v":0}]
[null,null,null,null,null,null,null,null,null,null,null,null,"LIMECL","известь хлорная","тыс.руб.",null,null,null,null,null,null,null,null,null,null,null,null,null,null,null,null,null,null,null,null,null,null,{"$f":"AM3074+AN3074","v":0},{"$f":"AM3075*AM3076/1000","v":0},{"$f":"AN3075*AN3076/1000","v":0}]
[null,null,null,null,null,null,null,null,null,null,null,null,{"$f":"M3074 & \".P\"","v":"LIMECL.P"},"Цена за единицу","руб./ед.",null,null,null,null,null,null,null,null,null,null,null,null,null,null,null,null,null,null,null,null,null,null,{"$f":"IF(AL3076=0,0,AL3074*1000/AL3076)","v":0}]
[null,null,null,null,null,null,null,null,null,null,null,null,{"$f":"M3074 & \".V\"","v":"LIMECL.V"},"Объём","ед.",null,null,null,null,null,null,null,null,null,null,null,null,null,null,null,null,null,null,null,null,null,null,{"$f":"AM3076+AN3076","v":0}]
[null,null,null,null,null,null,null,null,null,null,null,null,"KN","калий азотнокислый","тыс.руб.",null,null,null,null,null,null,null,null,null,null,null,null,null,null,null,null,null,null,null,null,null,null,{"$f":"AM3077+AN3077","v":0},{"$f":"AM3078*AM3079/1000","v":0},{"$f":"AN3078*AN3079/1000","v":0}]
[null,null,null,null,null,null,null,null,null,null,null,null,{"$f":"M3077 & \".P\"","v":"KN.P"},"Цена за единицу","руб./ед.",null,null,null,null,null,null,null,null,null,null,null,null,null,null,null,null,null,null,null,null,null,null,{"$f":"IF(AL3079=0,0,AL3077*1000/AL3079)","v":0}]
[null,null,null,null,null,null,null,null,null,null,null,null,{"$f":"M3077 & \".V\"","v":"KN.V"},"Объём","ед.",null,null,null,null,null,null,null,null,null,null,null,null,null,null,null,null,null,null,null,null,null,null,{"$f":"AM3079+AN3079","v":0}]
[null,null,null,null,null,null,null,null,null,null,null,null,"KCR","калий двухромовокислый","тыс.руб.",null,null,null,null,null,null,null,null,null,null,null,null,null,null,null,null,null,null,null,null,null,null,{"$f":"AM3080+AN3080","v":0},{"$f":"AM3081*AM3082/1000","v":0},{"$f":"AN3081*AN3082/1000","v":0}]
[null,null,null,null,null,null,null,null,null,null,null,null,{"$f":"M3080 & \".P\"","v":"KCR.P"},"Цена за единицу","руб./ед.",null,null,null,null,null,null,null,null,null,null,null,null,null,null,null,null,null,null,null,null,null,null,{"$f":"IF(AL3082=0,0,AL3080*1000/AL3082)","v":0}]
[null,null,null,null,null,null,null,null,null,null,null,null,{"$f":"M3080 & \".V\"","v":"KCR.V"},"Объём","ед.",null,null,null,null,null,null,null,null,null,null,null,null,null,null,null,null,null,null,null,null,null,null,{"$f":"AM3082+AN3082","v":0}]
[null,null,null,null,null,null,null,null,null,null,null,null,"KI","калий йодистый","тыс.руб.",null,null,null,null,null,null,null,null,null,null,null,null,null,null,null,null,null,null,null,null,null,null,{"$f":"AM3083+AN3083","v":0},{"$f":"AM3084*AM3085/1000","v":0},{"$f":"AN3084*AN3085/1000","v":0}]
[null,null,null,null,null,null,null,null,null,null,null,null,{"$f":"M3083 & \".P\"","v":"KI.P"},"Цена за единицу","руб./ед.",null,null,null,null,null,null,null,null,null,null,null,null,null,null,null,null,null,null,null,null,null,null,{"$f":"IF(AL3085=0,0,AL3083*1000/AL3085)","v":0}]
[null,null,null,null,null,null,null,null,null,null,null,null,{"$f":"M3083 & \".V\"","v":"KI.V"},"Объём","ед.",null,null,null,null,null,null,null,null,null,null,null,null,null,null,null,null,null,null,null,null,null,null,{"$f":"AM3085+AN3085","v":0}]
[null,null,null,null,null,null,null,null,null,null,null,null,"KMN","калий марганцевокислый","тыс.руб.",null,null,null,null,null,null,null,null,null,null,null,null,null,null,null,null,null,null,null,null,null,null,{"$f":"AM3086+AN3086","v":0},{"$f":"AM3087*AM3088/1000","v":0},{"$f":"AN3087*AN3088/1000","v":0}]
[null,null,null,null,null,null,null,null,null,null,null,null,{"$f":"M3086 & \".P\"","v":"KMN.P"},"Цена за единицу","руб./ед.",null,null,null,null,null,null,null,null,null,null,null,null,null,null,null,null,null,null,null,null,null,null,{"$f":"IF(AL3088=0,0,AL3086*1000/AL3088)","v":0}]
[null,null,null,null,null,null,null,null,null,null,null,null,{"$f":"M3086 & \".V\"","v":"KMN.V"},"Объём","ед.",null,null,null,null,null,null,null,null,null,null,null,null,null,null,null,null,null,null,null,null,null,null,{"$f":"AM3088+AN3088","v":0}]
[null,null,null,null,null,null,null,null,null,null,null,null,"KP","калий фосфорнокислый","тыс.руб.",null,null,null,null,null,null,null,null,null,null,null,null,null,null,null,null,null,null,null,null,null,null,{"$f":"AM3089+AN3089","v":0},{"$f":"AM3090*AM3091/1000","v":0},{"$f":"AN3090*AN3091/1000","v":0}]
[null,null,null,null,null,null,null,null,null,null,null,null,{"$f":"M3089 & \".P\"","v":"KP.P"},"Цена за единицу","руб./ед.",null,null,null,null,null,null,null,null,null,null,null,null,null,null,null,null,null,null,null,null,null,null,{"$f":"IF(AL3091=0,0,AL3089*1000/AL3091)","v":0}]
[null,null,null,null,null,null,null,null,null,null,null,null,{"$f":"M3089 & \".V\"","v":"KP.V"},"Объём","ед.",null,null,null,null,null,null,null,null,null,null,null,null,null,null,null,null,null,null,null,null,null,null,{"$f":"AM3091+AN3091","v":0}]
[null,null,null,null,null,null,null,null,null,null,null,null,"HCL","калий хлористый","тыс.руб.",null,null,null,null,null,null,null,null,null,null,null,null,null,null,null,null,null,null,null,null,null,null,{"$f":"AM3092+AN3092","v":0},{"$f":"AM3093*AM3094/1000","v":0},{"$f":"AN3093*AN3094/1000","v":0}]
[null,null,null,null,null,null,null,null,null,null,null,null,{"$f":"M3092 & \".P\"","v":"HCL.P"},"Цена за единицу","руб./ед.",null,null,null,null,null,null,null,null,null,null,null,null,null,null,null,null,null,null,null,null,null,null,{"$f":"IF(AL3094=0,0,AL3092*1000/AL3094)","v":0}]
[null,null,null,null,null,null,null,null,null,null,null,null,{"$f":"M3092 & \".V\"","v":"HCL.V"},"Объём","ед.",null,null,null,null,null,null,null,null,null,null,null,null,null,null,null,null,null,null,null,null,null,null,{"$f":"AM3094+AN3094","v":0}]
[null,null,null,null,null,null,null,null,null,null,null,null,"KNA","калий-натрий виннокислый","тыс.руб.",null,null,null,null,null,null,null,null,null,null,null,null,null,null,null,null,null,null,null,null,null,null,{"$f":"AM3095+AN3095","v":0},{"$f":"AM3096*AM3097/1000","v":0},{"$f":"AN3096*AN3097/1000","v":0}]
[null,null,null,null,null,null,null,null,null,null,null,null,{"$f":"M3095 & \".P\"","v":"KNA.P"},"Цена за единицу","руб./ед.",null,null,null,null,null,null,null,null,null,null,null,null,null,null,null,null,null,null,null,null,null,null,{"$f":"IF(AL3097=0,0,AL3095*1000/AL3097)","v":0}]
[null,null,null,null,null,null,null,null,null,null,null,null,{"$f":"M3095 & \".V\"","v":"KNA.V"},"Объём","ед.",null,null,null,null,null,null,null,null,null,null,null,null,null,null,null,null,null,null,null,null,null,null,{"$f":"AM3097+AN3097","v":0}]
[null,null,null,null,null,null,null,null,null,null,null,null,"CAC","кальций углекислый","тыс.руб.",null,null,null,null,null,null,null,null,null,null,null,null,null,null,null,null,null,null,null,null,null,null,{"$f":"AM3098+AN3098","v":0},{"$f":"AM3099*AM3100/1000","v":0},{"$f":"AN3099*AN3100/1000","v":0}]
[null,null,null,null,null,null,null,null,null,null,null,null,{"$f":"M3098 & \".P\"","v":"CAC.P"},"Цена за единицу","руб./ед.",null,null,null,null,null,null,null,null,null,null,null,null,null,null,null,null,null,null,null,null,null,null,{"$f":"IF(AL3100=0,0,AL3098*1000/AL3100)","v":0}]
[null,null,null,null,null,null,null,null,null,null,null,null,{"$f":"M3098 & \".V\"","v":"CAC.V"},"Объём","ед.",null,null,null,null,null,null,null,null,null,null,null,null,null,null,null,null,null,null,null,null,null,null,{"$f":"AM3100+AN3100","v":0}]
[null,null,null,null,null,null,null,null,null,null,null,null,"CACL","кальций хлористый","тыс.руб.",null,null,null,null,null,null,null,null,null,null,null,null,null,null,null,null,null,null,null,null,null,null,{"$f":"AM3101+AN3101","v":0},{"$f":"AM3102*AM3103/1000","v":0},{"$f":"AN3102*AN3103/1000","v":0}]
[null,null,null,null,null,null,null,null,null,null,null,null,{"$f":"M3101 & \".P\"","v":"CACL.P"},"Цена за единицу","руб./ед.",null,null,null,null,null,null,null,null,null,null,null,null,null,null,null,null,null,null,null,null,null,null,{"$f":"IF(AL3103=0,0,AL3101*1000/AL3103)","v":0}]
[null,null,null,null,null,null,null,null,null,null,null,null,{"$f":"M3101 & \".V\"","v":"CACL.V"},"Объём","ед.",null,null,null,null,null,null,null,null,null,null,null,null,null,null,null,null,null,null,null,null,null,null,{"$f":"AM3103+AN3103","v":0}]
[null,null,null,null,null,null,null,null,null,null,null,null,"CAHPCL","кальция гипохлорит","тыс.руб.",null,null,null,null,null,null,null,null,null,null,null,null,null,null,null,null,null,null,null,null,null,null,{"$f":"AM3104+AN3104","v":0},{"$f":"AM3105*AM3106/1000","v":0},{"$f":"AN3105*AN3106/1000","v":0}]
[null,null,null,null,null,null,null,null,null,null,null,null,{"$f":"M3104 & \".P\"","v":"CAHPCL.P"},"Цена за единицу","руб./ед.",null,null,null,null,null,null,null,null,null,null,null,null,null,null,null,null,null,null,null,null,null,null,{"$f":"IF(AL3106=0,0,AL3104*1000/AL3106)","v":0}]
[null,null,null,null,null,null,null,null,null,null,null,null,{"$f":"M3104 & \".V\"","v":"CAHPCL.V"},"Объём","ед.",null,null,null,null,null,null,null,null,null,null,null,null,null,null,null,null,null,null,null,null,null,null,{"$f":"AM3106+AN3106","v":0}]
[null,null,null,null,null,null,null,null,null,null,null,null,"SAND","кварцевый песок","тыс.руб.",null,null,null,null,null,null,null,null,null,null,null,null,null,null,null,null,null,null,null,null,null,null,{"$f":"AM3107+AN3107","v":0},{"$f":"AM3108*AM3109/1000","v":0},{"$f":"AN3108*AN3109/1000","v":0}]
[null,null,null,null,null,null,null,null,null,null,null,null,{"$f":"M3107 & \".P\"","v":"SAND.P"},"Цена за единицу","руб./ед.",null,null,null,null,null,null,null,null,null,null,null,null,null,null,null,null,null,null,null,null,null,null,{"$f":"IF(AL3109=0,0,AL3107*1000/AL3109)","v":0}]
[null,null,null,null,null,null,null,null,null,null,null,null,{"$f":"M3107 & \".V\"","v":"SAND.V"},"Объём","ед.",null,null,null,null,null,null,null,null,null,null,null,null,null,null,null,null,null,null,null,null,null,null,{"$f":"AM3109+AN3109","v":0}]
[null,null,null,null,null,null,null,null,null,null,null,null,"ACIDN","кислота азотная","тыс.руб.",null,null,null,null,null,null,null,null,null,null,null,null,null,null,null,null,null,null,null,null,null,null,{"$f":"AM3110+AN3110","v":0},{"$f":"AM3111*AM3112/1000","v":0},{"$f":"AN3111*AN3112/1000","v":0}]
[null,null,null,null,null,null,null,null,null,null,null,null,{"$f":"M3110 & \".P\"","v":"ACIDN.P"},"Цена за единицу","руб./ед.",null,null,null,null,null,null,null,null,null,null,null,null,null,null,null,null,null,null,null,null,null,null,{"$f":"IF(AL3112=0,0,AL3110*1000/AL3112)","v":0}]
[null,null,null,null,null,null,null,null,null,null,null,null,{"$f":"M3110 & \".V\"","v":"ACIDN.V"},"Объём","ед.",null,null,null,null,null,null,null,null,null,null,null,null,null,null,null,null,null,null,null,null,null,null,{"$f":"AM3112+AN3112","v":0}]
[null,null,null,null,null,null,null,null,null,null,null,null,"ACIDA","кислота аскорбиновая","тыс.руб.",null,null,null,null,null,null,null,null,null,null,null,null,null,null,null,null,null,null,null,null,null,null,{"$f":"AM3113+AN3113","v":0},{"$f":"AM3114*AM3115/1000","v":0},{"$f":"AN3114*AN3115/1000","v":0}]
[null,null,null,null,null,null,null,null,null,null,null,null,{"$f":"M3113 & \".P\"","v":"ACIDA.P"},"Цена за единицу","руб./ед.",null,null,null,null,null,null,null,null,null,null,null,null,null,null,null,null,null,null,null,null,null,null,{"$f":"IF(AL3115=0,0,AL3113*1000/AL3115)","v":0}]
[null,null,null,null,null,null,null,null,null,null,null,null,{"$f":"M3113 & \".V\"","v":"ACIDA.V"},"Объём","ед.",null,null,null,null,null,null,null,null,null,null,null,null,null,null,null,null,null,null,null,null,null,null,{"$f":"AM3115+AN3115","v":0}]
[null,null,null,null,null,null,null,null,null,null,null,null,"ACIDL","кислота лимонная","тыс.руб.",null,null,null,null,null,null,null,null,null,null,null,null,null,null,null,null,null,null,null,null,null,null,{"$f":"AM3116+AN3116","v":0},{"$f":"AM3117*AM3118/1000","v":0},{"$f":"AN3117*AN3118/1000","v":0}]
[null,null,null,null,null,null,null,null,null,null,null,null,{"$f":"M3116 & \".P\"","v":"ACIDL.P"},"Цена за единицу","руб./ед.",null,null,null,null,null,null,null,null,null,null,null,null,null,null,null,null,null,null,null,null,null,null,{"$f":"IF(AL3118=0,0,AL3116*1000/AL3118)","v":0}]
[null,null,null,null,null,null,null,null,null,null,null,null,{"$f":"M3116 & \".V\"","v":"ACIDL.V"},"Объём","ед.",null,null,null,null,null,null,null,null,null,null,null,null,null,null,null,null,null,null,null,null,null,null,{"$f":"AM3118+AN3118","v":0}]
[null,null,null,null,null,null,null,null,null,null,null,null,"AURIN","кислота розоловая (аурин)","тыс.руб.",null,null,null,null,null,null,null,null,null,null,null,null,null,null,null,null,null,null,null,null,null,null,{"$f":"AM3119+AN3119","v":0},{"$f":"AM3120*AM3121/1000","v":0},{"$f":"AN3120*AN3121/1000","v":0}]
[null,null,null,null,null,null,null,null,null,null,null,null,{"$f":"M3119 & \".P\"","v":"AURIN.P"},"Цена за единицу","руб./ед.",null,null,null,null,null,null,null,null,null,null,null,null,null,null,null,null,null,null,null,null,null,null,{"$f":"IF(AL3121=0,0,AL3119*1000/AL3121)","v":0}]
[null,null,null,null,null,null,null,null,null,null,null,null,{"$f":"M3119 & \".V\"","v":"AURIN.V"},"Объём","ед.",null,null,null,null,null,null,null,null,null,null,null,null,null,null,null,null,null,null,null,null,null,null,{"$f":"AM3121+AN3121","v":0}]
[null,null,null,null,null,null,null,null,null,null,null,null,"ACIDS","кислота серная","тыс.руб.",null,null,null,null,null,null,null,null,null,null,null,null,null,null,null,null,null,null,null,null,null,null,{"$f":"AM3122+AN3122","v":0},{"$f":"AM3123*AM3124/1000","v":0},{"$f":"AN3123*AN3124/1000","v":0}]
[null,null,null,null,null,null,null,null,null,null,null,null,{"$f":"M3122 & \".P\"","v":"ACIDS.P"},"Цена за единицу","руб./ед.",null,null,null,null,null,null,null,null,null,null,null,null,null,null,null,null,null,null,null,null,null,null,{"$f":"IF(AL3124=0,0,AL3122*1000/AL3124)","v":0}]
[null,null,null,null,null,null,null,null,null,null,null,null,{"$f":"M3122 & \".V\"","v":"ACIDS.V"},"Объём","ед.",null,null,null,null,null,null,null,null,null,null,null,null,null,null,null,null,null,null,null,null,null,null,{"$f":"AM3124+AN3124","v":0}]
[null,null,null,null,null,null,null,null,null,null,null,null,"ADIDCL","кислота соляная","тыс.руб.",null,null,null,null,null,null,null,null,null,null,null,null,null,null,null,null,null,null,null,null,null,null,{"$f":"AM3125+AN3125","v":0},{"$f":"AM3126*AM3127/1000","v":0},{"$f":"AN3126*AN3127/1000","v":0}]
[null,null,null,null,null,null,null,null,null,null,null,null,{"$f":"M3125 & \".P\"","v":"ADIDCL.P"},"Цена за единицу","руб./ед.",null,null,null,null,null,null,null,null,null,null,null,null,null,null,null,null,null,null,null,null,null,null,{"$f":"IF(AL3127=0,0,AL3125*1000/AL3127)","v":0}]
[null,null,null,null,null,null,null,null,null,null,null,null,{"$f":"M3125 & \".V\"","v":"ADIDCL.V"},"Объём","ед.",null,null,null,null,null,null,null,null,null,null,null,null,null,null,null,null,null,null,null,null,null,null,{"$f":"AM3127+AN3127","v":0}]
[null,null,null,null,null,null,null,null,null,null,null,null,"ACIDAC","кислота уксусная","тыс.руб.",null,null,null,null,null,null,null,null,null,null,null,null,null,null,null,null,null,null,null,null,null,null,{"$f":"AM3128+AN3128","v":0},{"$f":"AM3129*AM3130/1000","v":0},{"$f":"AN3129*AN3130/1000","v":0}]
[null,null,null,null,null,null,null,null,null,null,null,null,{"$f":"M3128 & \".P\"","v":"ACIDAC.P"},"Цена за единицу","руб./ед.",null,null,null,null,null,null,null,null,null,null,null,null,null,null,null,null,null,null,null,null,null,null,{"$f":"IF(AL3130=0,0,AL3128*1000/AL3130)","v":0}]
[null,null,null,null,null,null,null,null,null,null,null,null,{"$f":"M3128 & \".V\"","v":"ACIDAC.V"},"Объём","ед.",null,null,null,null,null,null,null,null,null,null,null,null,null,null,null,null,null,null,null,null,null,null,{"$f":"AM3130+AN3130","v":0}]
[null,null,null,null,null,null,null,null,null,null,null,null,"ACIDOX","кислота щавелевая","тыс.руб.",null,null,null,null,null,null,null,null,null,null,null,null,null,null,null,null,null,null,null,null,null,null,{"$f":"AM3131+AN3131","v":0},{"$f":"AM3132*AM3133/1000","v":0},{"$f":"AN3132*AN3133/1000","v":0}]
[null,null,null,null,null,null,null,null,null,null,null,null,{"$f":"M3131 & \".P\"","v":"ACIDOX.P"},"Цена за единицу","руб./ед.",null,null,null,null,null,null,null,null,null,null,null,null,null,null,null,null,null,null,null,null,null,null,{"$f":"IF(AL3133=0,0,AL3131*1000/AL3133)","v":0}]
[null,null,null,null,null,null,null,null,null,null,null,null,{"$f":"M3131 & \".V\"","v":"ACIDOX.V"},"Объём","ед.",null,null,null,null,null,null,null,null,null,null,null,null,null,null,null,null,null,null,null,null,null,null,{"$f":"AM3133+AN3133","v":0}]
[null,null,null,null,null,null,null,null,null,null,null,null,"STARCH","крахмал","тыс.руб.",null,null,null,null,null,null,null,null,null,null,null,null,null,null,null,null,null,null,null,null,null,null,{"$f":"AM3134+AN3134","v":0},{"$f":"AM3135*AM3136/1000","v":0},{"$f":"AN3135*AN3136/1000","v":0}]
[null,null,null,null,null,null,null,null,null,null,null,null,{"$f":"M3134 & \".P\"","v":"STARCH.P"},"Цена за единицу","руб./ед.",null,null,null,null,null,null,null,null,null,null,null,null,null,null,null,null,null,null,null,null,null,null,{"$f":"IF(AL3136=0,0,AL3134*1000/AL3136)","v":0}]
[null,null,null,null,null,null,null,null,null,null,null,null,{"$f":"M3134 & \".V\"","v":"STARCH.V"},"Объём","ед.",null,null,null,null,null,null,null,null,null,null,null,null,null,null,null,null,null,null,null,null,null,null,{"$f":"AM3136+AN3136","v":0}]
[null,null,null,null,null,null,null,null,null,null,null,null,"LANTN","лантан азотнокислый","тыс.руб.",null,null,null,null,null,null,null,null,null,null,null,null,null,null,null,null,null,null,null,null,null,null,{"$f":"AM3137+AN3137","v":0},{"$f":"AM3138*AM3139/1000","v":0},{"$f":"AN3138*AN3139/1000","v":0}]
[null,null,null,null,null,null,null,null,null,null,null,null,{"$f":"M3137 & \".P\"","v":"LANTN.P"},"Цена за единицу","руб./ед.",null,null,null,null,null,null,null,null,null,null,null,null,null,null,null,null,null,null,null,null,null,null,{"$f":"IF(AL3139=0,0,AL3137*1000/AL3139)","v":0}]
[null,null,null,null,null,null,null,null,null,null,null,null,{"$f":"M3137 & \".V\"","v":"LANTN.V"},"Объём","ед.",null,null,null,null,null,null,null,null,null,null,null,null,null,null,null,null,null,null,null,null,null,null,{"$f":"AM3139+AN3139","v":0}]
[null,null,null,null,null,null,null,null,null,null,null,null,"MGS","магний сернокислый","тыс.руб.",null,null,null,null,null,null,null,null,null,null,null,null,null,null,null,null,null,null,null,null,null,null,{"$f":"AM3140+AN3140","v":0},{"$f":"AM3141*AM3142/1000","v":0},{"$f":"AN3141*AN3142/1000","v":0}]
[null,null,null,null,null,null,null,null,null,null,null,null,{"$f":"M3140 & \".P\"","v":"MGS.P"},"Цена за единицу","руб./ед.",null,null,null,null,null,null,null,null,null,null,null,null,null,null,null,null,null,null,null,null,null,null,{"$f":"IF(AL3142=0,0,AL3140*1000/AL3142)","v":0}]
[null,null,null,null,null,null,null,null,null,null,null,null,{"$f":"M3140 & \".V\"","v":"MGS.V"},"Объём","ед.",null,null,null,null,null,null,null,null,null,null,null,null,null,null,null,null,null,null,null,null,null,null,{"$f":"AM3142+AN3142","v":0}]
[null,null,null,null,null,null,null,null,null,null,null,null,"FLOSPERSE","модифицированные аминофосфоновые кислоты и фосфонаты (FLOSPERSE)","тыс.руб.",null,null,null,null,null,null,null,null,null,null,null,null,null,null,null,null,null,null,null,null,null,null,{"$f":"AM3143+AN3143","v":0},{"$f":"AM3144*AM3145/1000","v":0},{"$f":"AN3144*AN3145/1000","v":0}]
[null,null,null,null,null,null,null,null,null,null,null,null,{"$f":"M3143 & \".P\"","v":"FLOSPERSE.P"},"Цена за единицу","руб./ед.",null,null,null,null,null,null,null,null,null,null,null,null,null,null,null,null,null,null,null,null,null,null,{"$f":"IF(AL3145=0,0,AL3143*1000/AL3145)","v":0}]
[null,null,null,null,null,null,null,null,null,null,null,null,{"$f":"M3143 & \".V\"","v":"FLOSPERSE.V"},"Объём","ед.",null,null,null,null,null,null,null,null,null,null,null,null,null,null,null,null,null,null,null,null,null,null,{"$f":"AM3145+AN3145","v":0}]
[null,null,null,null,null,null,null,null,null,null,null,null,"NATR","натр едкий","тыс.руб.",null,null,null,null,null,null,null,null,null,null,null,null,null,null,null,null,null,null,null,null,null,null,{"$f":"AM3146+AN3146","v":0},{"$f":"AM3147*AM3148/1000","v":0},{"$f":"AN3147*AN3148/1000","v":0}]
[null,null,null,null,null,null,null,null,null,null,null,null,{"$f":"M3146 & \".P\"","v":"NATR.P"},"Цена за единицу","руб./ед.",null,null,null,null,null,null,null,null,null,null,null,null,null,null,null,null,null,null,null,null,null,null,{"$f":"IF(AL3148=0,0,AL3146*1000/AL3148)","v":0}]
[null,null,null,null,null,null,null,null,null,null,null,null,{"$f":"M3146 & \".V\"","v":"NATR.V"},"Объём","ед.",null,null,null,null,null,null,null,null,null,null,null,null,null,null,null,null,null,null,null,null,null,null,{"$f":"AM3148+AN3148","v":0}]
[null,null,null,null,null,null,null,null,null,null,null,null,"NAHDOX","натрий гидроокись","тыс.руб.",null,null,null,null,null,null,null,null,null,null,null,null,null,null,null,null,null,null,null,null,null,null,{"$f":"AM3149+AN3149","v":0},{"$f":"AM3150*AM3151/1000","v":0},{"$f":"AN3150*AN3151/1000","v":0}]
[null,null,null,null,null,null,null,null,null,null,null,null,{"$f":"M3149 & \".P\"","v":"NAHDOX.P"},"Цена за единицу","руб./ед.",null,null,null,null,null,null,null,null,null,null,null,null,null,null,null,null,null,null,null,null,null,null,{"$f":"IF(AL3151=0,0,AL3149*1000/AL3151)","v":0}]
[null,null,null,null,null,null,null,null,null,null,null,null,{"$f":"M3149 & \".V\"","v":"NAHDOX.V"},"Объём","ед.",null,null,null,null,null,null,null,null,null,null,null,null,null,null,null,null,null,null,null,null,null,null,{"$f":"AM3151+AN3151","v":0}]
[null,null,null,null,null,null,null,null,null,null,null,null,"NASLC","натрий салициловокислый","тыс.руб.",null,null,null,null,null,null,null,null,null,null,null,null,null,null,null,null,null,null,null,null,null,null,{"$f":"AM3152+AN3152","v":0},{"$f":"AM3153*AM3154/1000","v":0},{"$f":"AN3153*AN3154/1000","v":0}]
[null,null,null,null,null,null,null,null,null,null,null,null,{"$f":"M3152 & \".P\"","v":"NASLC.P"},"Цена за единицу","руб./ед.",null,null,null,null,null,null,null,null,null,null,null,null,null,null,null,null,null,null,null,null,null,null,{"$f":"IF(AL3154=0,0,AL3152*1000/AL3154)","v":0}]
[null,null,null,null,null,null,null,null,null,null,null,null,{"$f":"M3152 & \".V\"","v":"NASLC.V"},"Объём","ед.",null,null,null,null,null,null,null,null,null,null,null,null,null,null,null,null,null,null,null,null,null,null,{"$f":"AM3154+AN3154","v":0}]
[null,null,null,null,null,null,null,null,null,null,null,null,"NAS","натрий сернокислый","тыс.руб.",null,null,null,null,null,null,null,null,null,null,null,null,null,null,null,null,null,null,null,null,null,null,{"$f":"AM3155+AN3155","v":0},{"$f":"AM3156*AM3157/1000","v":0},{"$f":"AN3156*AN3157/1000","v":0}]
[null,null,null,null,null,null,null,null,null,null,null,null,{"$f":"M3155 & \".P\"","v":"NAS.P"},"Цена за единицу","руб./ед.",null,null,null,null,null,null,null,null,null,null,null,null,null,null,null,null,null,null,null,null,null,null,{"$f":"IF(AL3157=0,0,AL3155*1000/AL3157)","v":0}]
[null,null,null,null,null,null,null,null,null,null,null,null,{"$f":"M3155 & \".V\"","v":"NAS.V"},"Объём","ед.",null,null,null,null,null,null,null,null,null,null,null,null,null,null,null,null,null,null,null,null,null,null,{"$f":"AM3157+AN3157","v":0}]
[null,null,null,null,null,null,null,null,null,null,null,null,"NAC","натрий углекислый","тыс.руб.",null,null,null,null,null,null,null,null,null,null,null,null,null,null,null,null,null,null,null,null,null,null,{"$f":"AM3158+AN3158","v":0},{"$f":"AM3159*AM3160/1000","v":0},{"$f":"AN3159*AN3160/1000","v":0}]
[null,null,null,null,null,null,null,null,null,null,null,null,{"$f":"M3158 & \".P\"","v":"NAC.P"},"Цена за единицу","руб./ед.",null,null,null,null,null,null,null,null,null,null,null,null,null,null,null,null,null,null,null,null,null,null,{"$f":"IF(AL3160=0,0,AL3158*1000/AL3160)","v":0}]
[null,null,null,null,null,null,null,null,null,null,null,null,{"$f":"M3158 & \".V\"","v":"NAC.V"},"Объём","ед.",null,null,null,null,null,null,null,null,null,null,null,null,null,null,null,null,null,null,null,null,null,null,{"$f":"AM3160+AN3160","v":0}]
[null,null,null,null,null,null,null,null,null,null,null,null,"NAAC","натрий уксуснокислый","тыс.руб.",null,null,null,null,null,null,null,null,null,null,null,null,null,null,null,null,null,null,null,null,null,null,{"$f":"AM3161+AN3161","v":0},{"$f":"AM3162*AM3163/1000","v":0},{"$f":"AN3162*AN3163/1000","v":0}]
[null,null,null,null,null,null,null,null,null,null,null,null,{"$f":"M3161 & \".P\"","v":"NAAC.P"},"Цена за единицу","руб./ед.",null,null,null,null,null,null,null,null,null,null,null,null,null,null,null,null,null,null,null,null,null,null,{"$f":"IF(AL3163=0,0,AL3161*1000/AL3163)","v":0}]
[null,null,null,null,null,null,null,null,null,null,null,null,{"$f":"M3161 & \".V\"","v":"NAAC.V"},"Объём","ед.",null,null,null,null,null,null,null,null,null,null,null,null,null,null,null,null,null,null,null,null,null,null,{"$f":"AM3163+AN3163","v":0}]
[null,null,null,null,null,null,null,null,null,null,null,null,"NACL","натрий хлористый","тыс.руб.",null,null,null,null,null,null,null,null,null,null,null,null,null,null,null,null,null,null,null,null,null,null,{"$f":"AM3164+AN3164","v":0},{"$f":"AM3165*AM3166/1000","v":0},{"$f":"AN3165*AN3166/1000","v":0}]
[null,null,null,null,null,null,null,null,null,null,null,null,{"$f":"M3164 & \".P\"","v":"NACL.P"},"Цена за единицу","руб./ед.",null,null,null,null,null,null,null,null,null,null,null,null,null,null,null,null,null,null,null,null,null,null,{"$f":"IF(AL3166=0,0,AL3164*1000/AL3166)","v":0}]
[null,null,null,null,null,null,null,null,null,null,null,null,{"$f":"M3164 & \".V\"","v":"NACL.V"},"Объём","ед.",null,null,null,null,null,null,null,null,null,null,null,null,null,null,null,null,null,null,null,null,null,null,{"$f":"AM3166+AN3166","v":0}]
[null,null,null,null,null,null,null,null,null,null,null,null,"FLOFOAM","пеногаситель (FLOFOAM)","тыс.руб.",null,null,null,null,null,null,null,null,null,null,null,null,null,null,null,null,null,null,null,null,null,null,{"$f":"AM3167+AN3167","v":0},{"$f":"AM3168*AM3169/1000","v":0},{"$f":"AN3168*AN3169/1000","v":0}]
[null,null,null,null,null,null,null,null,null,null,null,null,{"$f":"M3167 & \".P\"","v":"FLOFOAM.P"},"Цена за единицу","руб./ед.",null,null,null,null,null,null,null,null,null,null,null,null,null,null,null,null,null,null,null,null,null,null,{"$f":"IF(AL3169=0,0,AL3167*1000/AL3169)","v":0}]
[null,null,null,null,null,null,null,null,null,null,null,null,{"$f":"M3167 & \".V\"","v":"FLOFOAM.V"},"Объём","ед.",null,null,null,null,null,null,null,null,null,null,null,null,null,null,null,null,null,null,null,null,null,null,{"$f":"AM3169+AN3169","v":0}]
[null,null,null,null,null,null,null,null,null,null,null,null,"RGRS","реактив Грисса","тыс.руб.",null,null,null,null,null,null,null,null,null,null,null,null,null,null,null,null,null,null,null,null,null,null,{"$f":"AM3170+AN3170","v":0},{"$f":"AM3171*AM3172/1000","v":0},{"$f":"AN3171*AN3172/1000","v":0}]
[null,null,null,null,null,null,null,null,null,null,null,null,{"$f":"M3170 & \".P\"","v":"RGRS.P"},"Цена за единицу","руб./ед.",null,null,null,null,null,null,null,null,null,null,null,null,null,null,null,null,null,null,null,null,null,null,{"$f":"IF(AL3172=0,0,AL3170*1000/AL3172)","v":0}]
[null,null,null,null,null,null,null,null,null,null,null,null,{"$f":"M3170 & \".V\"","v":"RGRS.V"},"Объём","ед.",null,null,null,null,null,null,null,null,null,null,null,null,null,null,null,null,null,null,null,null,null,null,{"$f":"AM3172+AN3172","v":0}]
[null,null,null,null,null,null,null,null,null,null,null,null,"RNSL","реактив Несслера","тыс.руб.",null,null,null,null,null,null,null,null,null,null,null,null,null,null,null,null,null,null,null,null,null,null,{"$f":"AM3173+AN3173","v":0},{"$f":"AM3174*AM3175/1000","v":0},{"$f":"AN3174*AN3175/1000","v":0}]
[null,null,null,null,null,null,null,null,null,null,null,null,{"$f":"M3173 & \".P\"","v":"RNSL.P"},"Цена за единицу","руб./ед.",null,null,null,null,null,null,null,null,null,null,null,null,null,null,null,null,null,null,null,null,null,null,{"$f":"IF(AL3175=0,0,AL3173*1000/AL3175)","v":0}]
[null,null,null,null,null,null,null,null,null,null,null,null,{"$f":"M3173 & \".V\"","v":"RNSL.V"},"Объём","ед.",null,null,null,null,null,null,null,null,null,null,null,null,null,null,null,null,null,null,null,null,null,null,{"$f":"AM3175+AN3175","v":0}]
[null,null,null,null,null,null,null,null,null,null,null,null,"PBAC","свинец уксуснокислый","тыс.руб.",null,null,null,null,null,null,null,null,null,null,null,null,null,null,null,null,null,null,null,null,null,null,{"$f":"AM3176+AN3176","v":0},{"$f":"AM3177*AM3178/1000","v":0},{"$f":"AN3177*AN3178/1000","v":0}]
[null,null,null,null,null,null,null,null,null,null,null,null,{"$f":"M3176 & \".P\"","v":"PBAC.P"},"Цена за единицу","руб./ед.",null,null,null,null,null,null,null,null,null,null,null,null,null,null,null,null,null,null,null,null,null,null,{"$f":"IF(AL3178=0,0,AL3176*1000/AL3178)","v":0}]
[null,null,null,null,null,null,null,null,null,null,null,null,{"$f":"M3176 & \".V\"","v":"PBAC.V"},"Объём","ед.",null,null,null,null,null,null,null,null,null,null,null,null,null,null,null,null,null,null,null,null,null,null,{"$f":"AM3178+AN3178","v":0}]
[null,null,null,null,null,null,null,null,null,null,null,null,"AGN","серебро азотнокислое","тыс.руб.",null,null,null,null,null,null,null,null,null,null,null,null,null,null,null,null,null,null,null,null,null,null,{"$f":"AM3179+AN3179","v":0},{"$f":"AM3180*AM3181/1000","v":0},{"$f":"AN3180*AN3181/1000","v":0}]
[null,null,null,null,null,null,null,null,null,null,null,null,{"$f":"M3179 & \".P\"","v":"AGN.P"},"Цена за единицу","руб./ед.",null,null,null,null,null,null,null,null,null,null,null,null,null,null,null,null,null,null,null,null,null,null,{"$f":"IF(AL3181=0,0,AL3179*1000/AL3181)","v":0}]
[null,null,null,null,null,null,null,null,null,null,null,null,{"$f":"M3179 & \".V\"","v":"AGN.V"},"Объём","ед.",null,null,null,null,null,null,null,null,null,null,null,null,null,null,null,null,null,null,null,null,null,null,{"$f":"AM3181+AN3181","v":0}]
[null,null,null,null,null,null,null,null,null,null,null,null,"AGS","серебро сернокислое","тыс.руб.",null,null,null,null,null,null,null,null,null,null,null,null,null,null,null,null,null,null,null,null,null,null,{"$f":"AM3182+AN3182","v":0},{"$f":"AM3183*AM3184/1000","v":0},{"$f":"AN3183*AN3184/1000","v":0}]
[null,null,null,null,null,null,null,null,null,null,null,null,{"$f":"M3182 & \".P\"","v":"AGS.P"},"Цена за единицу","руб./ед.",null,null,null,null,null,null,null,null,null,null,null,null,null,null,null,null,null,null,null,null,null,null,{"$f":"IF(AL3184=0,0,AL3182*1000/AL3184)","v":0}]
[null,null,null,null,null,null,null,null,null,null,null,null,{"$f":"M3182 & \".V\"","v":"AGS.V"},"Объём","ед.",null,null,null,null,null,null,null,null,null,null,null,null,null,null,null,null,null,null,null,null,null,null,{"$f":"AM3184+AN3184","v":0}]
[null,null,null,null,null,null,null,null,null,null,null,null,"SODACA","сода кальцинированная","тыс.руб.",null,null,null,null,null,null,null,null,null,null,null,null,null,null,null,null,null,null,null,null,null,null,{"$f":"AM3185+AN3185","v":0},{"$f":"AM3186*AM3187/1000","v":0},{"$f":"AN3186*AN3187/1000","v":0}]
[null,null,null,null,null,null,null,null,null,null,null,null,{"$f":"M3185 & \".P\"","v":"SODACA.P"},"Цена за единицу","руб./ед.",null,null,null,null,null,null,null,null,null,null,null,null,null,null,null,null,null,null,null,null,null,null,{"$f":"IF(AL3187=0,0,AL3185*1000/AL3187)","v":0}]
[null,null,null,null,null,null,null,null,null,null,null,null,{"$f":"M3185 & \".V\"","v":"SODACA.V"},"Объём","ед.",null,null,null,null,null,null,null,null,null,null,null,null,null,null,null,null,null,null,null,null,null,null,{"$f":"AM3187+AN3187","v":0}]
[null,null,null,null,null,null,null,null,null,null,null,null,"SODACS","сода каустическая","тыс.руб.",null,null,null,null,null,null,null,null,null,null,null,null,null,null,null,null,null,null,null,null,null,null,{"$f":"AM3188+AN3188","v":0},{"$f":"AM3189*AM3190/1000","v":0},{"$f":"AN3189*AN3190/1000","v":0}]
[null,null,null,null,null,null,null,null,null,null,null,null,{"$f":"M3188 & \".P\"","v":"SODACS.P"},"Цена за единицу","руб./ед.",null,null,null,null,null,null,null,null,null,null,null,null,null,null,null,null,null,null,null,null,null,null,{"$f":"IF(AL3190=0,0,AL3188*1000/AL3190)","v":0}]
[null,null,null,null,null,null,null,null,null,null,null,null,{"$f":"M3188 & \".V\"","v":"SODACS.V"},"Объём","ед.",null,null,null,null,null,null,null,null,null,null,null,null,null,null,null,null,null,null,null,null,null,null,{"$f":"AM3190+AN3190","v":0}]
[null,null,null,null,null,null,null,null,null,null,null,null,"SALT1G","соль 1 сорт","тыс.руб.",null,null,null,null,null,null,null,null,null,null,null,null,null,null,null,null,null,null,null,null,null,null,{"$f":"AM3191+AN3191","v":0},{"$f":"AM3192*AM3193/1000","v":0},{"$f":"AN3192*AN3193/1000","v":0}]
[null,null,null,null,null,null,null,null,null,null,null,null,{"$f":"M3191 & \".P\"","v":"SALT1G.P"},"Цена за единицу","руб./ед.",null,null,null,null,null,null,null,null,null,null,null,null,null,null,null,null,null,null,null,null,null,null,{"$f":"IF(AL3193=0,0,AL3191*1000/AL3193)","v":0}]
[null,null,null,null,null,null,null,null,null,null,null,null,{"$f":"M3191 & \".V\"","v":"SALT1G.V"},"Объём","ед.",null,null,null,null,null,null,null,null,null,null,null,null,null,null,null,null,null,null,null,null,null,null,{"$f":"AM3193+AN3193","v":0}]
[null,null,null,null,null,null,null,null,null,null,null,null,"SALT","соль пищевая поваренная","тыс.руб.",null,null,null,null,null,null,null,null,null,null,null,null,null,null,null,null,null,null,null,null,null,null,{"$f":"AM3194+AN3194","v":0},{"$f":"AM3195*AM3196/1000","v":0},{"$f":"AN3195*AN3196/1000","v":0}]
[null,null,null,null,null,null,null,null,null,null,null,null,{"$f":"M3194 & \".P\"","v":"SALT.P"},"Цена за единицу","руб./ед.",null,null,null,null,null,null,null,null,null,null,null,null,null,null,null,null,null,null,null,null,null,null,{"$f":"IF(AL3196=0,0,AL3194*1000/AL3196)","v":0}]
[null,null,null,null,null,null,null,null,null,null,null,null,{"$f":"M3194 & \".V\"","v":"SALT.V"},"Объём","ед.",null,null,null,null,null,null,null,null,null,null,null,null,null,null,null,null,null,null,null,null,null,null,{"$f":"AM3196+AN3196","v":0}]
[null,null,null,null,null,null,null,null,null,null,null,null,"SALTPL","соль таблетированная","тыс.руб.",null,null,null,null,null,null,null,null,null,null,null,null,null,null,null,null,null,null,null,null,null,null,{"$f":"AM3197+AN3197","v":0},{"$f":"AM3198*AM3199/1000","v":0},{"$f":"AN3198*AN3199/1000","v":0}]
[null,null,null,null,null,null,null,null,null,null,null,null,{"$f":"M3197 & \".P\"","v":"SALTPL.P"},"Цена за единицу","руб./ед.",null,null,null,null,null,null,null,null,null,null,null,null,null,null,null,null,null,null,null,null,null,null,{"$f":"IF(AL3199=0,0,AL3197*1000/AL3199)","v":0}]
[null,null,null,null,null,null,null,null,null,null,null,null,{"$f":"M3197 & \".V\"","v":"SALTPL.V"},"Объём","ед.",null,null,null,null,null,null,null,null,null,null,null,null,null,null,null,null,null,null,null,null,null,null,{"$f":"AM3199+AN3199","v":0}]
[null,null,null,null,null,null,null,null,null,null,null,null,"SALTTH","соль техническая","тыс.руб.",null,null,null,null,null,null,null,null,null,null,null,null,null,null,null,null,null,null,null,null,null,null,{"$f":"AM3200+AN3200","v":0},{"$f":"AM3201*AM3202/1000","v":0},{"$f":"AN3201*AN3202/1000","v":0}]
[null,null,null,null,null,null,null,null,null,null,null,null,{"$f":"M3200 & \".P\"","v":"SALTTH.P"},"Цена за единицу","руб./ед.",null,null,null,null,null,null,null,null,null,null,null,null,null,null,null,null,null,null,null,null,null,null,{"$f":"IF(AL3202=0,0,AL3200*1000/AL3202)","v":0}]
[null,null,null,null,null,null,null,null,null,null,null,null,{"$f":"M3200 & \".V\"","v":"SALTTH.V"},"Объём","ед.",null,null,null,null,null,null,null,null,null,null,null,null,null,null,null,null,null,null,null,null,null,null,{"$f":"AM3202+AN3202","v":0}]
[null,null,null,null,null,null,null,null,null,null,null,null,"SALTEX","соль экстра","тыс.руб.",null,null,null,null,null,null,null,null,null,null,null,null,null,null,null,null,null,null,null,null,null,null,{"$f":"AM3203+AN3203","v":0},{"$f":"AM3204*AM3205/1000","v":0},{"$f":"AN3204*AN3205/1000","v":0}]
[null,null,null,null,null,null,null,null,null,null,null,null,{"$f":"M3203 & \".P\"","v":"SALTEX.P"},"Цена за единицу","руб./ед.",null,null,null,null,null,null,null,null,null,null,null,null,null,null,null,null,null,null,null,null,null,null,{"$f":"IF(AL3205=0,0,AL3203*1000/AL3205)","v":0}]
[null,null,null,null,null,null,null,null,null,null,null,null,{"$f":"M3203 & \".V\"","v":"SALTEX.V"},"Объём","ед.",null,null,null,null,null,null,null,null,null,null,null,null,null,null,null,null,null,null,null,null,null,null,{"$f":"AM3205+AN3205","v":0}]
[null,null,null,null,null,null,null,null,null,null,null,null,"C2H5OH","спирт","тыс.руб.",null,null,null,null,null,null,null,null,null,null,null,null,null,null,null,null,null,null,null,null,null,null,{"$f":"AM3206+AN3206","v":0},{"$f":"AM3207*AM3208/1000","v":0},{"$f":"AN3207*AN3208/1000","v":0}]
[null,null,null,null,null,null,null,null,null,null,null,null,{"$f":"M3206 & \".P\"","v":"C2H5OH.P"},"Цена за единицу","руб./ед.",null,null,null,null,null,null,null,null,null,null,null,null,null,null,null,null,null,null,null,null,null,null,{"$f":"IF(AL3208=0,0,AL3206*1000/AL3208)","v":0}]
[null,null,null,null,null,null,null,null,null,null,null,null,{"$f":"M3206 & \".V\"","v":"C2H5OH.V"},"Объём","ед.",null,null,null,null,null,null,null,null,null,null,null,null,null,null,null,null,null,null,null,null,null,null,{"$f":"AM3208+AN3208","v":0}]
[null,null,null,null,null,null,null,null,null,null,null,null,"SFAL1G","сульфат алюминия 1 сорт","тыс.руб.",null,null,null,null,null,null,null,null,null,null,null,null,null,null,null,null,null,null,null,null,null,null,{"$f":"AM3209+AN3209","v":0},{"$f":"AM3210*AM3211/1000","v":0},{"$f":"AN3210*AN3211/1000","v":0}]
[null,null,null,null,null,null,null,null,null,null,null,null,{"$f":"M3209 & \".P\"","v":"SFAL1G.P"},"Цена за единицу","руб./ед.",null,null,null,null,null,null,null,null,null,null,null,null,null,null,null,null,null,null,null,null,null,null,{"$f":"IF(AL3211=0,0,AL3209*1000/AL3211)","v":0}]
[null,null,null,null,null,null,null,null,null,null,null,null,{"$f":"M3209 & \".V\"","v":"SFAL1G.V"},"Объём","ед.",null,null,null,null,null,null,null,null,null,null,null,null,null,null,null,null,null,null,null,null,null,null,{"$f":"AM3211+AN3211","v":0}]
[null,null,null,null,null,null,null,null,null,null,null,null,"SFALLQD","сульфат алюминия жидкий","тыс.руб.",null,null,null,null,null,null,null,null,null,null,null,null,null,null,null,null,null,null,null,null,null,null,{"$f":"AM3212+AN3212","v":0},{"$f":"AM3213*AM3214/1000","v":0},{"$f":"AN3213*AN3214/1000","v":0}]
[null,null,null,null,null,null,null,null,null,null,null,null,{"$f":"M3212 & \".P\"","v":"SFALLQD.P"},"Цена за единицу","руб./ед.",null,null,null,null,null,null,null,null,null,null,null,null,null,null,null,null,null,null,null,null,null,null,{"$f":"IF(AL3214=0,0,AL3212*1000/AL3214)","v":0}]
[null,null,null,null,null,null,null,null,null,null,null,null,{"$f":"M3212 & \".V\"","v":"SFALLQD.V"},"Объём","ед.",null,null,null,null,null,null,null,null,null,null,null,null,null,null,null,null,null,null,null,null,null,null,{"$f":"AM3214+AN3214","v":0}]
[null,null,null,null,null,null,null,null,null,null,null,null,"SFALT","сульфат алюминия технический","тыс.руб.",null,null,null,null,null,null,null,null,null,null,null,null,null,null,null,null,null,null,null,null,null,null,{"$f":"AM3215+AN3215","v":0},{"$f":"AM3216*AM3217/1000","v":0},{"$f":"AN3216*AN3217/1000","v":0}]
[null,null,null,null,null,null,null,null,null,null,null,null,{"$f":"M3215 & \".P\"","v":"SFALT.P"},"Цена за единицу","руб./ед.",null,null,null,null,null,null,null,null,null,null,null,null,null,null,null,null,null,null,null,null,null,null,{"$f":"IF(AL3217=0,0,AL3215*1000/AL3217)","v":0}]
[null,null,null,null,null,null,null,null,null,null,null,null,{"$f":"M3215 & \".V\"","v":"SFALT.V"},"Объём","ед.",null,null,null,null,null,null,null,null,null,null,null,null,null,null,null,null,null,null,null,null,null,null,{"$f":"AM3217+AN3217","v":0}]
[null,null,null,null,null,null,null,null,null,null,null,null,"SFAMN","сульфат аммония","тыс.руб.",null,null,null,null,null,null,null,null,null,null,null,null,null,null,null,null,null,null,null,null,null,null,{"$f":"AM3218+AN3218","v":0},{"$f":"AM3219*AM3220/1000","v":0},{"$f":"AN3219*AN3220/1000","v":0}]
[null,null,null,null,null,null,null,null,null,null,null,null,{"$f":"M3218 & \".P\"","v":"SFAMN.P"},"Цена за единицу","руб./ед.",null,null,null,null,null,null,null,null,null,null,null,null,null,null,null,null,null,null,null,null,null,null,{"$f":"IF(AL3220=0,0,AL3218*1000/AL3220)","v":0}]
[null,null,null,null,null,null,null,null,null,null,null,null,{"$f":"M3218 & \".V\"","v":"SFAMN.V"},"Объём","ед.",null,null,null,null,null,null,null,null,null,null,null,null,null,null,null,null,null,null,null,null,null,null,{"$f":"AM3220+AN3220","v":0}]
[null,null,null,null,null,null,null,null,null,null,null,null,"TM","тиомочевина","тыс.руб.",null,null,null,null,null,null,null,null,null,null,null,null,null,null,null,null,null,null,null,null,null,null,{"$f":"AM3221+AN3221","v":0},{"$f":"AM3222*AM3223/1000","v":0},{"$f":"AN3222*AN3223/1000","v":0}]
[null,null,null,null,null,null,null,null,null,null,null,null,{"$f":"M3221 & \".P\"","v":"TM.P"},"Цена за единицу","руб./ед.",null,null,null,null,null,null,null,null,null,null,null,null,null,null,null,null,null,null,null,null,null,null,{"$f":"IF(AL3223=0,0,AL3221*1000/AL3223)","v":0}]
[null,null,null,null,null,null,null,null,null,null,null,null,{"$f":"M3221 & \".V\"","v":"TM.V"},"Объём","ед.",null,null,null,null,null,null,null,null,null,null,null,null,null,null,null,null,null,null,null,null,null,null,{"$f":"AM3223+AN3223","v":0}]
[null,null,null,null,null,null,null,null,null,null,null,null,"TSFNA","тиосульфат натрия","тыс.руб.",null,null,null,null,null,null,null,null,null,null,null,null,null,null,null,null,null,null,null,null,null,null,{"$f":"AM3224+AN3224","v":0},{"$f":"AM3225*AM3226/1000","v":0},{"$f":"AN3225*AN3226/1000","v":0}]
[null,null,null,null,null,null,null,null,null,null,null,null,{"$f":"M3224 & \".P\"","v":"TSFNA.P"},"Цена за единицу","руб./ед.",null,null,null,null,null,null,null,null,null,null,null,null,null,null,null,null,null,null,null,null,null,null,{"$f":"IF(AL3226=0,0,AL3224*1000/AL3226)","v":0}]
[null,null,null,null,null,null,null,null,null,null,null,null,{"$f":"M3224 & \".V\"","v":"TSFNA.V"},"Объём","ед.",null,null,null,null,null,null,null,null,null,null,null,null,null,null,null,null,null,null,null,null,null,null,{"$f":"AM3226+AN3226","v":0}]
[null,null,null,null,null,null,null,null,null,null,null,null,"CARBONPWDRD","углерод порошкообразный","тыс.руб.",null,null,null,null,null,null,null,null,null,null,null,null,null,null,null,null,null,null,null,null,null,null,{"$f":"AM3227+AN3227","v":0},{"$f":"AM3228*AM3229/1000","v":0},{"$f":"AN3228*AN3229/1000","v":0}]
[null,null,null,null,null,null,null,null,null,null,null,null,{"$f":"M3227 & \".P\"","v":"CARBONPWDRD.P"},"Цена за единицу","руб./ед.",null,null,null,null,null,null,null,null,null,null,null,null,null,null,null,null,null,null,null,null,null,null,{"$f":"IF(AL3229=0,0,AL3227*1000/AL3229)","v":0}]
[null,null,null,null,null,null,null,null,null,null,null,null,{"$f":"M3227 & \".V\"","v":"CARBONPWDRD.V"},"Объём","ед.",null,null,null,null,null,null,null,null,null,null,null,null,null,null,null,null,null,null,null,null,null,null,{"$f":"AM3229+AN3229","v":0}]
[null,null,null,null,null,null,null,null,null,null,null,null,"CCL4","углерод четырёххлористый","тыс.руб.",null,null,null,null,null,null,null,null,null,null,null,null,null,null,null,null,null,null,null,null,null,null,{"$f":"AM3230+AN3230","v":0},{"$f":"AM3231*AM3232/1000","v":0},{"$f":"AN3231*AN3232/1000","v":0}]
[null,null,null,null,null,null,null,null,null,null,null,null,{"$f":"M3230 & \".P\"","v":"CCL4.P"},"Цена за единицу","руб./ед.",null,null,null,null,null,null,null,null,null,null,null,null,null,null,null,null,null,null,null,null,null,null,{"$f":"IF(AL3232=0,0,AL3230*1000/AL3232)","v":0}]
[null,null,null,null,null,null,null,null,null,null,null,null,{"$f":"M3230 & \".V\"","v":"CCL4.V"},"Объём","ед.",null,null,null,null,null,null,null,null,null,null,null,null,null,null,null,null,null,null,null,null,null,null,{"$f":"AM3232+AN3232","v":0}]
[null,null,null,null,null,null,null,null,null,null,null,null,"FFTLN","фенолфталеин","тыс.руб.",null,null,null,null,null,null,null,null,null,null,null,null,null,null,null,null,null,null,null,null,null,null,{"$f":"AM3233+AN3233","v":0},{"$f":"AM3234*AM3235/1000","v":0},{"$f":"AN3234*AN3235/1000","v":0}]
[null,null,null,null,null,null,null,null,null,null,null,null,{"$f":"M3233 & \".P\"","v":"FFTLN.P"},"Цена за единицу","руб./ед.",null,null,null,null,null,null,null,null,null,null,null,null,null,null,null,null,null,null,null,null,null,null,{"$f":"IF(AL3235=0,0,AL3233*1000/AL3235)","v":0}]
[null,null,null,null,null,null,null,null,null,null,null,null,{"$f":"M3233 & \".V\"","v":"FFTLN.V"},"Объём","ед.",null,null,null,null,null,null,null,null,null,null,null,null,null,null,null,null,null,null,null,null,null,null,{"$f":"AM3235+AN3235","v":0}]
[null,null,null,null,null,null,null,null,null,null,null,null,"CL","хлор","тыс.руб.",null,null,null,null,null,null,null,null,null,null,null,null,null,null,null,null,null,null,null,null,null,null,{"$f":"AM3236+AN3236","v":0},{"$f":"AM3237*AM3238/1000","v":0},{"$f":"AN3237*AN3238/1000","v":0}]
[null,null,null,null,null,null,null,null,null,null,null,null,{"$f":"M3236 & \".P\"","v":"CL.P"},"Цена за единицу","руб./ед.",null,null,null,null,null,null,null,null,null,null,null,null,null,null,null,null,null,null,null,null,null,null,{"$f":"IF(AL3238=0,0,AL3236*1000/AL3238)","v":0}]
[null,null,null,null,null,null,null,null,null,null,null,null,{"$f":"M3236 & \".V\"","v":"CL.V"},"Объём","ед.",null,null,null,null,null,null,null,null,null,null,null,null,null,null,null,null,null,null,null,null,null,null,{"$f":"AM3238+AN3238","v":0}]
[null,null,null,null,null,null,null,null,null,null,null,null,"CLLIQ","хлор жидкий","тыс.руб.",null,null,null,null,null,null,null,null,null,null,null,null,null,null,null,null,null,null,null,null,null,null,{"$f":"AM3239+AN3239","v":0},{"$f":"AM3240*AM3241/1000","v":0},{"$f":"AN3240*AN3241/1000","v":0}]
[null,null,null,null,null,null,null,null,null,null,null,null,{"$f":"M3239 & \".P\"","v":"CLLIQ.P"},"Цена за единицу","руб./ед.",null,null,null,null,null,null,null,null,null,null,null,null,null,null,null,null,null,null,null,null,null,null,{"$f":"IF(AL3241=0,0,AL3239*1000/AL3241)","v":0}]
[null,null,null,null,null,null,null,null,null,null,null,null,{"$f":"M3239 & \".V\"","v":"CLLIQ.V"},"Объём","ед.",null,null,null,null,null,null,null,null,null,null,null,null,null,null,null,null,null,null,null,null,null,null,{"$f":"AM3241+AN3241","v":0}]
[null,null,null,null,null,null,null,null,null,null,null,null,"CLAMN","хлорамин","тыс.руб.",null,null,null,null,null,null,null,null,null,null,null,null,null,null,null,null,null,null,null,null,null,null,{"$f":"AM3242+AN3242","v":0},{"$f":"AM3243*AM3244/1000","v":0},{"$f":"AN3243*AN3244/1000","v":0}]
[null,null,null,null,null,null,null,null,null,null,null,null,{"$f":"M3242 & \".P\"","v":"CLAMN.P"},"Цена за единицу","руб./ед.",null,null,null,null,null,null,null,null,null,null,null,null,null,null,null,null,null,null,null,null,null,null,{"$f":"IF(AL3244=0,0,AL3242*1000/AL3244)","v":0}]
[null,null,null,null,null,null,null,null,null,null,null,null,{"$f":"M3242 & \".V\"","v":"CLAMN.V"},"Объём","ед.",null,null,null,null,null,null,null,null,null,null,null,null,null,null,null,null,null,null,null,null,null,null,{"$f":"AM3244+AN3244","v":0}]
[null,null,null,null,null,null,null,null,null,null,null,null,"CLFRM","хлороформ","тыс.руб.",null,null,null,null,null,null,null,null,null,null,null,null,null,null,null,null,null,null,null,null,null,null,{"$f":"AM3245+AN3245","v":0},{"$f":"AM3246*AM3247/1000","v":0},{"$f":"AN3246*AN3247/1000","v":0}]
[null,null,null,null,null,null,null,null,null,null,null,null,{"$f":"M3245 & \".P\"","v":"CLFRM.P"},"Цена за единицу","руб./ед.",null,null,null,null,null,null,null,null,null,null,null,null,null,null,null,null,null,null,null,null,null,null,{"$f":"IF(AL3247=0,0,AL3245*1000/AL3247)","v":0}]
[null,null,null,null,null,null,null,null,null,null,null,null,{"$f":"M3245 & \".V\"","v":"CLFRM.V"},"Объём","ед.",null,null,null,null,null,null,null,null,null,null,null,null,null,null,null,null,null,null,null,null,null,null,{"$f":"AM3247+AN3247","v":0}]
[null,null,null,null,null,null,null,null,null,null,null,null,"ETHL","этиленгликоль","тыс.руб.",null,null,null,null,null,null,null,null,null,null,null,null,null,null,null,null,null,null,null,null,null,null,{"$f":"AM3248+AN3248","v":0},{"$f":"AM3249*AM3250/1000","v":0},{"$f":"AN3249*AN3250/1000","v":0}]
[null,null,null,null,null,null,null,null,null,null,null,null,{"$f":"M3248 & \".P\"","v":"ETHL.P"},"Цена за единицу","руб./ед.",null,null,null,null,null,null,null,null,null,null,null,null,null,null,null,null,null,null,null,null,null,null,{"$f":"IF(AL3250=0,0,AL3248*1000/AL3250)","v":0}]
[null,null,null,null,null,null,null,null,null,null,null,null,{"$f":"M3248 & \".V\"","v":"ETHL.V"},"Объём","ед.",null,null,null,null,null,null,null,null,null,null,null,null,null,null,null,null,null,null,null,null,null,null,{"$f":"AM3250+AN3250","v":0}]
[null,null,null,null,null,null,null,null,null,null,null,null,"OTH","прочие","тыс.руб.",null,null,null,null,null,null,null,null,null,null,null,null,null,null,null,null,null,null,null,null,null,null,{"$f":"AM3251+AN3251","v":0}]
[]
[]
[null,null,null,null,null,null,null,null,null,null,null,null,"OTH","Прочие","тыс.руб.",null,null,null,null,null,null,null,null,null,null,null,null,null,null,null,null,null,null,null,null,null,null,{"$f":"AM3254+AN3254","v":0}]
[]
[null,null,null,null,null,null,null,null,null,null,null,null,"21","Полезный отпуск продукции всего","тыс.куб.м",null,null,null,null,null,null,null,null,null,null,null,null,null,null,null,null,{"$f":"SUMIF(ВО.РО!$AS$15:$AT$15,AF$15,ВО.РО!$AS$240:$AT$240)","v":0},{"$f":"SUMIF(ВО.РО!$AS$15:$AT$15,AG$15,ВО.РО!$AS$240:$AT$240)","v":0},{"$f":"SUMIF(ВО.РО!$AS$15:$AT$15,AH$15,ВО.РО!$AS$240:$AT$240)","v":0}]

{"sheet":"REESTR_ORG","index":10,"n_rows":79,"n_cols":137,"rows_kept":79,"cut":false,"hidden":true,"merged":[]}
["№","НСРФ","МР","ОКТМР","МО","ОКТМО","RST_ORG_ID","Наименование","ИНН","КПП","ВД (OLD)","ВД (COMBO)","ВД (PATH)","ORG_START_DATE","ORG_END_DATE","VDET_START_DATE","VDET_END_DATE",null,null,null,"№","НСРФ","МР","ОКТМР","МО","ОКТМО","RST_ORG_ID","Наименование","ИНН","КПП","ВД (OLD)","ВД (COMBO)","ВД (PATH)","ORG_START_DATE","ORG_END_DATE","VDET_START_DATE","VDET_END_DATE",null,null,null,"№","НСРФ","МР","ОКТМР","МО","ОКТМО","RST_ORG_ID","Наименование","ИНН","КПП","ВД (OLD)","ВД (COMBO)","ВД (PATH)","ORG_START_DATE","ORG_END_DATE","VDET_START_DATE","VDET_END_DATE",null,null,null,"№","НСРФ","МР","ОКТМР","МО","ОКТМО","RST_ORG_ID","Наименование","ИНН","КПП","ВД (OLD)","ВД (COMBO)","ВД (PATH)","ORG_START_DATE","ORG_END_DATE","VDET_START_DATE","VDET_END_DATE",null,null,null,"№","НСРФ","МР","ОКТМР","МО","ОКТМО","RST_ORG_ID","Наименование","ИНН","КПП","ВД (OLD)","ВД (COMBO)","ВД (PATH)","ORG_START_DATE","ORG_END_DATE","VDET_START_DATE","VDET_END_DATE",null,null,null,"№","НСРФ","МР","ОКТМР","МО","ОКТМО","RST_ORG_ID","Наименование","ИНН","КПП","ВД (OLD)","ВД (COMBO)","ВД (PATH)","ORG_START_DATE","ORG_END_DATE","VDET_START_DATE","VDET_END_DATE",null,null,null,"№","НСРФ","МР","ОКТМР","МО","ОКТМО","RST_ORG_ID","Наименование","ИНН","КПП","ВД (OLD)","ВД (COMBO)","ВД (PATH)","ORG_START_DATE","ORG_END_DATE","VDET_START_DATE","VDET_END_DATE"]
[null,null,null,null,null,null,null,null,null,null,null,null,null,null,null,null,null,null,null,null,null,null,null,null,null,null,null,null,null,null,null,null,null,null,null,null,null,null,null,null,null,null,null,null,null,null,null,null,null,null,null,null,null,null,null,null,null,null,null,null,1,"Ямало-Ненецкий автономный округ",null,null,null,null,"26405782","АО \"Вынгапуровский тепловодоканал\"","8905045443","890501001","производство (некомбинированная выработка)+передача+сбыт","Некомбинированная выработка :: Сбыт :: Передача","/Тепловая энергия/Производство/Некомбинированная выработка :: /Тепловая энергия/Сбыт :: /Тепловая энергия/Передача"]
[null,null,null,null,null,null,null,null,null,null,null,null,null,null,null,null,null,null,null,null,null,null,null,null,null,null,null,null,null,null,null,null,null,null,null,null,null,null,null,null,null,null,null,null,null,null,null,null,null,null,null,null,null,null,null,null,null,null,null,null,2,"Ямало-Ненецкий автономный округ",null,null,null,null,"26590793","АО \"Надымское авиапредприятие\"","8903025610","890301001","производство (некомбинированная выработка)","Некомбинированная выработка","/Тепловая энергия/Производство/Некомбинированная выработка"]
[null,null,null,null,null,null,null,null,null,null,null,null,null,null,null,null,null,null,null,null,null,null,null,null,null,null,null,null,null,null,null,null,null,null,null,null,null,null,null,null,null,null,null,null,null,null,null,null,null,null,null,null,null,null,null,null,null,null,null,null,3,"Ямало-Ненецкий автономный округ",null,null,null,null,"26522781","АО \"Россети Тюмень\"","8602060185","997450001","производство (некомбинированная выработка)","Некомбинированная выработка","/Тепловая энергия/Производство/Некомбинированная выработка"]
[null,null,null,null,null,null,null,null,null,null,null,null,null,null,null,null,null,null,null,null,null,null,null,null,null,null,null,null,null,null,null,null,null,null,null,null,null,null,null,null,null,null,null,null,null,null,null,null,null,null,null,null,null,null,null,null,null,null,null,null,4,"Ямало-Ненецкий автономный округ",null,null,null,null,"26361210","АО \"Россети Тюмень\" филиал \"Северные электрические сети\"","8602060185","890402002","производство (некомбинированная выработка)+передача+сбыт","Некомбинированная выработка :: Сбыт :: Передача","/Тепловая энергия/Производство/Некомбинированная выработка :: /Тепловая энергия/Сбыт :: /Тепловая энергия/Передача"]
[null,null,null,null,null,null,null,null,null,null,null,null,null,null,null,null,null,null,null,null,null,null,null,null,null,null,null,null,null,null,null,null,null,null,null,null,null,null,null,null,null,null,null,null,null,null,null,null,null,null,null,null,null,null,null,null,null,null,null,null,5,"Ямало-Ненецкий автономный округ",null,null,null,null,"26361309","АО \"Салехардэнерго\"","8901030855","890101001","Передача+Сбыт","Комбинированная выработка :: Некомбинированная выработка :: Сбыт :: Передача","/Тепловая энергия/Производство/Комбинированная выработка :: /Тепловая энергия/Производство/Некомбинированная выработка :: /Тепловая энергия/Сбыт :: /Тепловая энергия/Передача"]
[null,null,null,null,null,null,null,null,null,null,null,null,null,null,null,null,null,null,null,null,null,null,null,null,null,null,null,null,null,null,null,null,null,null,null,null,null,null,null,null,null,null,null,null,null,null,null,null,null,null,null,null,null,null,null,null,null,null,null,null,6,"Ямало-Ненецкий автономный округ",null,null,null,null,"26361309","АО \"Салехардэнерго\"","8901030855","890101001","производство комбинированная выработка","Комбинированная выработка :: Некомбинированная выработка :: Сбыт :: Передача","/Тепловая энергия/Производство/Комбинированная выработка :: /Тепловая энергия/Производство/Некомбинированная выработка :: /Тепловая энергия/Сбыт :: /Тепловая энергия/Передача"]
[null,null,null,null,null,null,null,null,null,null,null,null,null,null,null,null,null,null,null,null,null,null,null,null,null,null,null,null,null,null,null,null,null,null,null,null,null,null,null,null,null,null,null,null,null,null,null,null,null,null,null,null,null,null,null,null,null,null,null,null,7,"Ямало-Ненецкий автономный округ",null,null,null,null,"26361309","АО \"Салехардэнерго\"","8901030855","890101001","производство (некомбинированная выработка)+передача+сбыт","Комбинированная выработка :: Некомбинированная выработка :: Сбыт :: Передача","/Тепловая энергия/Производство/Комбинированная выработка :: /Тепловая энергия/Производство/Некомбинированная выработка :: /Тепловая энергия/Сбыт :: /Тепловая энергия/Передача"]
[null,null,null,null,null,null,null,null,null,null,null,null,null,null,null,null,null,null,null,null,null,null,null,null,null,null,null,null,null,null,null,null,null,null,null,null,null,null,null,null,null,null,null,null,null,null,null,null,null,null,null,null,null,null,null,null,null,null,null,null,8,"Ямало-Ненецкий автономный округ",null,null,null,null,"26405756","АО \"Уренгойтеплогенерация-1\"","8904057830","890401001","производство (некомбинированная выработка)+передача+сбыт","Некомбинированная выработка :: Сбыт :: Передача","/Тепловая энергия/Производство/Некомбинированная выработка :: /Тепловая энергия/Сбыт :: /Тепловая энергия/Передача"]
[null,null,null,null,null,null,null,null,null,null,null,null,null,null,null,null,null,null,null,null,null,null,null,null,null,null,null,null,null,null,null,null,null,null,null,null,null,null,null,null,null,null,null,null,null,null,null,null,null,null,null,null,null,null,null,null,null,null,null,null,9,"Ямало-Ненецкий автономный округ",null,null,null,null,"26318629","АО \"Харп-Энерго-Газ\"","8901016850","890801001","производство комбинированная выработка","Комбинированная выработка :: Некомбинированная выработка :: Сбыт :: Передача","/Тепловая энергия/Производство/Комбинированная выработка :: /Тепловая энергия/Производство/Некомбинированная выработка :: /Тепловая энергия/Сбыт :: /Тепловая энергия/Передача"]
[null,null,null,null,null,null,null,null,null,null,null,null,null,null,null,null,null,null,null,null,null,null,null,null,null,null,null,null,null,null,null,null,null,null,null,null,null,null,null,null,null,null,null,null,null,null,null,null,null,null,null,null,null,null,null,null,null,null,null,null,10,"Ямало-Ненецкий автономный округ",null,null,null,null,"26318629","АО \"Харп-Энерго-Газ\"","8901016850","890801001","Передача+Сбыт","Комбинированная выработка :: Некомбинированная выработка :: Сбыт :: Передача","/Тепловая энергия/Производство/Комбинированная выработка :: /Тепловая энергия/Производство/Некомбинированная выработка :: /Тепловая энергия/Сбыт :: /Тепловая энергия/Передача"]
[null,null,null,null,null,null,null,null,null,null,null,null,null,null,null,null,null,null,null,null,null,null,null,null,null,null,null,null,null,null,null,null,null,null,null,null,null,null,null,null,null,null,null,null,null,null,null,null,null,null,null,null,null,null,null,null,null,null,null,null,11,"Ямало-Ненецкий автономный округ",null,null,null,null,"26318629","АО \"Харп-Энерго-Газ\"","8901016850","890801001","производство (некомбинированная выработка)+передача+сбыт","Комбинированная выработка :: Некомбинированная выработка :: Сбыт :: Передача","/Тепловая энергия/Производство/Комбинированная выработка :: /Тепловая энергия/Производство/Некомбинированная выработка :: /Тепловая энергия/Сбыт :: /Тепловая энергия/Передача"]
[null,null,null,null,null,null,null,null,null,null,null,null,null,null,null,null,null,null,null,null,null,null,null,null,null,null,null,null,null,null,null,null,null,null,null,null,null,null,null,null,null,null,null,null,null,null,null,null,null,null,null,null,null,null,null,null,null,null,null,null,12,"Ямало-Ненецкий автономный округ",null,null,null,null,"26383121","АО \"Энерго-Газ-Ноябрьск\"","8905033649","890501001","производство (некомбинированная выработка)+передача+сбыт","Некомбинированная выработка :: Сбыт :: Передача","/Тепловая энергия/Производство/Некомбинированная выработка :: /Тепловая энергия/Сбыт :: /Тепловая энергия/Передача"]
[null,null,null,null,null,null,null,null,null,null,null,null,null,null,null,null,null,null,null,null,null,null,null,null,null,null,null,null,null,null,null,null,null,null,null,null,null,null,null,null,null,null,null,null,null,null,null,null,null,null,null,null,null,null,null,null,null,null,null,null,13,"Ямало-Ненецкий автономный округ",null,null,null,null,"27664323","АО \"Ямалкоммунэнерго\" филиал в Надымском районе","8901025421","890343001","производство (некомбинированная выработка)+передача","Некомбинированная выработка :: Передача","/Тепловая энергия/Производство/Некомбинированная выработка :: /Тепловая энергия/Передача","26-03-2012 00:00:00"]
[null,null,null,null,null,null,null,null,null,null,null,null,null,null,null,null,null,null,null,null,null,null,null,null,null,null,null,null,null,null,null,null,null,null,null,null,null,null,null,null,null,null,null,null,null,null,null,null,null,null,null,null,null,null,null,null,null,null,null,null,14,"Ямало-Ненецкий автономный округ",null,null,null,null,"28545795","АО \"Ямалкоммунэнерго\" филиал в Приуральском районе","8901025421","890801001","Передача+Сбыт","Комбинированная выработка :: Некомбинированная выработка :: Сбыт :: Передача","/Тепловая энергия/Производство/Комбинированная выработка :: /Тепловая энергия/Производство/Некомбинированная выработка :: /Тепловая энергия/Сбыт :: /Тепловая энергия/Передача"]
[null,null,null,null,null,null,null,null,null,null,null,null,null,null,null,null,null,null,null,null,null,null,null,null,null,null,null,null,null,null,null,null,null,null,null,null,null,null,null,null,null,null,null,null,null,null,null,null,null,null,null,null,null,null,null,null,null,null,null,null,15,"Ямало-Ненецкий автономный округ",null,null,null,null,"28545795","АО \"Ямалкоммунэнерго\" филиал в Приуральском районе","8901025421","890801001","производство (некомбинированная выработка)+передача+сбыт","Комбинированная выработка :: Некомбинированная выработка :: Сбыт :: Передача","/Тепловая энергия/Производство/Комбинированная выработка :: /Тепловая энергия/Производство/Некомбинированная выработка :: /Тепловая энергия/Сбыт :: /Тепловая энергия/Передача"]
[null,null,null,null,null,null,null,null,null,null,null,null,null,null,null,null,null,null,null,null,null,null,null,null,null,null,null,null,null,null,null,null,null,null,null,null,null,null,null,null,null,null,null,null,null,null,null,null,null,null,null,null,null,null,null,null,null,null,null,null,16,"Ямало-Ненецкий автономный округ",null,null,null,null,"28545795","АО \"Ямалкоммунэнерго\" филиал в Приуральском районе","8901025421","890801001","производство комбинированная выработка","Комбинированная выработка :: Некомбинированная выработка :: Сбыт :: Передача","/Тепловая энергия/Производство/Комбинированная выработка :: /Тепловая энергия/Производство/Некомбинированная выработка :: /Тепловая энергия/Сбыт :: /Тепловая энергия/Передача"]
[null,null,null,null,null,null,null,null,null,null,null,null,null,null,null,null,null,null,null,null,null,null,null,null,null,null,null,null,null,null,null,null,null,null,null,null,null,null,null,null,null,null,null,null,null,null,null,null,null,null,null,null,null,null,null,null,null,null,null,null,17,"Ямало-Ненецкий автономный округ",null,null,null,null,"28507609","АО \"Ямалкоммунэнерго\" филиал в Пуровском районе \"Тепло\"","8901025421","891101001","производство (некомбинированная выработка)+передача+сбыт","Некомбинированная выработка :: Сбыт :: Передача","/Тепловая энергия/Производство/Некомбинированная выработка :: /Тепловая энергия/Сбыт :: /Тепловая энергия/Передача","24-04-2014 00:00:00"]
[null,null,null,null,null,null,null,null,null,null,null,null,null,null,null,null,null,null,null,null,null,null,null,null,null,null,null,null,null,null,null,null,null,null,null,null,null,null,null,null,null,null,null,null,null,null,null,null,null,null,null,null,null,null,null,null,null,null,null,null,18,"Ямало-Ненецкий автономный округ",null,null,null,null,"28153479","АО \"Ямалкоммунэнерго\" филиал в Тазовском районе","8901025421","891000354","Передача+Сбыт","Комбинированная выработка :: Некомбинированная выработка :: Сбыт :: Передача","/Тепловая энергия/Производство/Комбинированная выработка :: /Тепловая энергия/Производство/Некомбинированная выработка :: /Тепловая энергия/Сбыт :: /Тепловая энергия/Передача","07-06-2013 00:00:00"]
[null,null,null,null,null,null,null,null,null,null,null,null,null,null,null,null,null,null,null,null,null,null,null,null,null,null,null,null,null,null,null,null,null,null,null,null,null,null,null,null,null,null,null,null,null,null,null,null,null,null,null,null,null,null,null,null,null,null,null,null,19,"Ямало-Ненецкий автономный округ",null,null,null,null,"28153479","АО \"Ямалкоммунэнерго\" филиал в Тазовском районе","8901025421","891000354","производство комбинированная выработка","Комбинированная выработка :: Некомбинированная выработка :: Сбыт :: Передача","/Тепловая энергия/Производство/Комбинированная выработка :: /Тепловая энергия/Производство/Некомбинированная выработка :: /Тепловая энергия/Сбыт :: /Тепловая энергия/Передача","07-06-2013 00:00:00"]
[null,null,null,null,null,null,null,null,null,null,null,null,null,null,null,null,null,null,null,null,null,null,null,null,null,null,null,null,null,null,null,null,null,null,null,null,null,null,null,null,null,null,null,null,null,null,null,null,null,null,null,null,null,null,null,null,null,null,null,null,20,"Ямало-Ненецкий автономный округ",null,null,null,null,"28153479","АО \"Ямалкоммунэнерго\" филиал в Тазовском районе","8901025421","891000354","производство (некомбинированная выработка)+передача+сбыт","Комбинированная выработка :: Некомбинированная выработка :: Сбыт :: Передача","/Тепловая энергия/Производство/Комбинированная выработка :: /Тепловая энергия/Производство/Некомбинированная выработка :: /Тепловая энергия/Сбыт :: /Тепловая энергия/Передача","07-06-2013 00:00:00"]
[null,null,null,null,null,null,null,null,null,null,null,null,null,null,null,null,null,null,null,null,null,null,null,null,null,null,null,null,null,null,null,null,null,null,null,null,null,null,null,null,null,null,null,null,null,null,null,null,null,null,null,null,null,null,null,null,null,null,null,null,21,"Ямало-Ненецкий автономный округ",null,null,null,null,"28139533","АО \"Ямалкоммунэнерго\" филиал в Шурышкарском районе","8901025421","890701001","производство (некомбинированная выработка)+передача+сбыт","Некомбинированная выработка :: Сбыт :: Передача","/Тепловая энергия/Производство/Некомбинированная выработка :: /Тепловая энергия/Сбыт :: /Тепловая энергия/Передача"]
[null,null,null,null,null,null,null,null,null,null,null,null,null,null,null,null,null,null,null,null,null,null,null,null,null,null,null,null,null,null,null,null,null,null,null,null,null,null,null,null,null,null,null,null,null,null,null,null,null,null,null,null,null,null,null,null,null,null,null,null,22,"Ямало-Ненецкий автономный округ",null,null,null,null,"28951636","АО \"Ямалкоммунэнерго\" филиал в Ямальском районе","8901025421","890943001","Передача+Сбыт","Комбинированная выработка :: Некомбинированная выработка :: Сбыт :: Передача","/Тепловая энергия/Производство/Комбинированная выработка :: /Тепловая энергия/Производство/Некомбинированная выработка :: /Тепловая энергия/Сбыт :: /Тепловая энергия/Передача"]
[null,null,null,null,null,null,null,null,null,null,null,null,null,null,null,null,null,null,null,null,null,null,null,null,null,null,null,null,null,null,null,null,null,null,null,null,null,null,null,null,null,null,null,null,null,null,null,null,null,null,null,null,null,null,null,null,null,null,null,null,23,"Ямало-Ненецкий автономный округ",null,null,null,null,"28951636","АО \"Ямалкоммунэнерго\" филиал в Ямальском районе","8901025421","890943001","производство (некомбинированная выработка)+передача+сбыт","Комбинированная выработка :: Некомбинированная выработка :: Сбыт :: Передача","/Тепловая энергия/Производство/Комбинированная выработка :: /Тепловая энергия/Производство/Некомбинированная выработка :: /Тепловая энергия/Сбыт :: /Тепловая энергия/Передача"]
[null,null,null,null,null,null,null,null,null,null,null,null,null,null,null,null,null,null,null,null,null,null,null,null,null,null,null,null,null,null,null,null,null,null,null,null,null,null,null,null,null,null,null,null,null,null,null,null,null,null,null,null,null,null,null,null,null,null,null,null,24,"Ямало-Ненецкий автономный округ",null,null,null,null,"28951636","АО \"Ямалкоммунэнерго\" филиал в Ямальском районе","8901025421","890943001","производство комбинированная выработка","Комбинированная выработка :: Некомбинированная выработка :: Сбыт :: Передача","/Тепловая энергия/Производство/Комбинированная выработка :: /Тепловая энергия/Производство/Некомбинированная выработка :: /Тепловая энергия/Сбыт :: /Тепловая энергия/Передача"]
[null,null,null,null,null,null,null,null,null,null,null,null,null,null,null,null,null,null,null,null,null,null,null,null,null,null,null,null,null,null,null,null,null,null,null,null,null,null,null,null,null,null,null,null,null,null,null,null,null,null,null,null,null,null,null,null,null,null,null,null,25,"Ямало-Ненецкий автономный округ",null,null,null,null,"28137162","АО \"Ямалкоммунэнерго\" филиал в г.Губкинский","8901025421","891143003","производство (некомбинированная выработка)+передача+сбыт","Некомбинированная выработка :: Сбыт :: Передача","/Тепловая энергия/Производство/Некомбинированная выработка :: /Тепловая энергия/Сбыт :: /Тепловая энергия/Передача"]
[null,null,null,null,null,null,null,null,null,null,null,null,null,null,null,null,null,null,null,null,null,null,null,null,null,null,null,null,null,null,null,null,null,null,null,null,null,null,null,null,null,null,null,null,null,null,null,null,null,null,null,null,null,null,null,null,null,null,null,null,26,"Ямало-Ненецкий автономный округ",null,null,null,null,"28149145","АО \"Ямалкоммунэнерго\" филиал в г.Муравленко \"Тепло\"","8901025421","890543001","производство (некомбинированная выработка)+передача+сбыт","Некомбинированная выработка :: Сбыт :: Передача","/Тепловая энергия/Производство/Некомбинированная выработка :: /Тепловая энергия/Сбыт :: /Тепловая энергия/Передача","22-05-2013 00:00:00"]
[null,null,null,null,null,null,null,null,null,null,null,null,null,null,null,null,null,null,null,null,null,null,null,null,null,null,null,null,null,null,null,null,null,null,null,null,null,null,null,null,null,null,null,null,null,null,null,null,null,null,null,null,null,null,null,null,null,null,null,null,27,"Ямало-Ненецкий автономный округ",null,null,null,null,"26405784","Вынгапуровское ЛПУ МГ ООО \"Газпром трансгаз Сургут\"","8617002073","890503001","производство (некомбинированная выработка)+передача+сбыт","Некомбинированная выработка :: Сбыт :: Передача","/Тепловая энергия/Производство/Некомбинированная выработка :: /Тепловая энергия/Сбыт :: /Тепловая энергия/Передача"]
[null,null,null,null,null,null,null,null,null,null,null,null,null,null,null,null,null,null,null,null,null,null,null,null,null,null,null,null,null,null,null,null,null,null,null,null,null,null,null,null,null,null,null,null,null,null,null,null,null,null,null,null,null,null,null,null,null,null,null,null,28,"Ямало-Ненецкий автономный округ",null,null,null,null,"26405813","Губкинское ЛПУ МГ ООО \"Газпром трансгаз Сургут\"","8617002073","891103002","производство (некомбинированная выработка)+передача+сбыт","Некомбинированная выработка :: Сбыт :: Передача","/Тепловая энергия/Производство/Некомбинированная выработка :: /Тепловая энергия/Сбыт :: /Тепловая энергия/Передача"]
[null,null,null,null,null,null,null,null,null,null,null,null,null,null,null,null,null,null,null,null,null,null,null,null,null,null,null,null,null,null,null,null,null,null,null,null,null,null,null,null,null,null,null,null,null,null,null,null,null,null,null,null,null,null,null,null,null,null,null,null,29,"Ямало-Ненецкий автономный округ",null,null,null,null,"26361337","ЗАО \"Спецтеплосервис\"","8908001677","890801001","производство (некомбинированная выработка)+передача+сбыт","Некомбинированная выработка :: Сбыт :: Передача","/Тепловая энергия/Производство/Некомбинированная выработка :: /Тепловая энергия/Сбыт :: /Тепловая энергия/Передача","13-07-2004 00:00:00"]
[null,null,null,null,null,null,null,null,null,null,null,null,null,null,null,null,null,null,null,null,null,null,null,null,null,null,null,null,null,null,null,null,null,null,null,null,null,null,null,null,null,null,null,null,null,null,null,null,null,null,null,null,null,null,null,null,null,null,null,null,30,"Ямало-Ненецкий автономный округ",null,null,null,null,"26405791","Лонг-Юганское ЛПУ МГ ООО \"Газпром трансгаз Югорск\"","8622000931","890302002","производство (некомбинированная выработка)+передача+сбыт","Некомбинированная выработка :: Сбыт :: Передача","/Тепловая энергия/Производство/Некомбинированная выработка :: /Тепловая энергия/Сбыт :: /Тепловая энергия/Передача"]
[null,null,null,null,null,null,null,null,null,null,null,null,null,null,null,null,null,null,null,null,null,null,null,null,null,null,null,null,null,null,null,null,null,null,null,null,null,null,null,null,null,null,null,null,null,null,null,null,null,null,null,null,null,null,null,null,null,null,null,null,31,"Ямало-Ненецкий автономный округ",null,null,null,null,"30803234","МП \"Полярный круг\"  МО г. Салехард","8901009444","890101001","производство (некомбинированная выработка)+передача","Некомбинированная выработка :: Передача","/Тепловая энергия/Производство/Некомбинированная выработка :: /Тепловая энергия/Передача","07-07-2016 00:00:00","05-06-2020 00:00:00"]
[null,null,null,null,null,null,null,null,null,null,null,null,null,null,null,null,null,null,null,null,null,null,null,null,null,null,null,null,null,null,null,null,null,null,null,null,null,null,null,null,null,null,null,null,null,null,null,null,null,null,null,null,null,null,null,null,null,null,null,null,32,"Ямало-Ненецкий автономный округ",null,null,null,null,"26524362","МПП ЖКХ МО г. Лабытнанги \"Ямал\"","8902009197","890201001","производство (некомбинированная выработка)+передача+сбыт","Некомбинированная выработка :: Сбыт :: Передача","/Тепловая энергия/Производство/Некомбинированная выработка :: /Тепловая энергия/Сбыт :: /Тепловая энергия/Передача"]
[null,null,null,null,null,null,null,null,null,null,null,null,null,null,null,null,null,null,null,null,null,null,null,null,null,null,null,null,null,null,null,null,null,null,null,null,null,null,null,null,null,null,null,null,null,null,null,null,null,null,null,null,null,null,null,null,null,null,null,null,33,"Ямало-Ненецкий автономный округ",null,null,null,null,"26537588","Надымский филиал ООО \"Газпром энерго\"","7736186950","890302001","производство (некомбинированная выработка)+передача+сбыт","Некомбинированная выработка :: Сбыт :: Передача","/Тепловая энергия/Производство/Некомбинированная выработка :: /Тепловая энергия/Сбыт :: /Тепловая энергия/Передача","25-12-2005 00:00:00"]
[null,null,null,null,null,null,null,null,null,null,null,null,null,null,null,null,null,null,null,null,null,null,null,null,null,null,null,null,null,null,null,null,null,null,null,null,null,null,null,null,null,null,null,null,null,null,null,null,null,null,null,null,null,null,null,null,null,null,null,null,34,"Ямало-Ненецкий автономный округ",null,null,null,null,"26537588","Надымский филиал ООО \"Газпром энерго\"","7736186950","890302001","производство (некомбинированная выработка)+передача","Некомбинированная выработка :: Передача","/Тепловая энергия/Производство/Некомбинированная выработка :: /Тепловая энергия/Передача","25-12-2005 00:00:00"]
[null,null,null,null,null,null,null,null,null,null,null,null,null,null,null,null,null,null,null,null,null,null,null,null,null,null,null,null,null,null,null,null,null,null,null,null,null,null,null,null,null,null,null,null,null,null,null,null,null,null,null,null,null,null,null,null,null,null,null,null,35,"Ямало-Ненецкий автономный округ",null,null,null,null,"26539372","Ново-Уренгойское ЛПУ МГ ООО \"Газпром трансгаз Сургут\"","8617002073","890403001","производство (некомбинированная выработка)+передача+сбыт","Некомбинированная выработка :: Сбыт :: Передача","/Тепловая энергия/Производство/Некомбинированная выработка :: /Тепловая энергия/Сбыт :: /Тепловая энергия/Передача"]
[null,null,null,null,null,null,null,null,null,null,null,null,null,null,null,null,null,null,null,null,null,null,null,null,null,null,null,null,null,null,null,null,null,null,null,null,null,null,null,null,null,null,null,null,null,null,null,null,null,null,null,null,null,null,null,null,null,null,null,null,36,"Ямало-Ненецкий автономный округ",null,null,null,null,"26360366","Ноябрьский филиал АО \"Аэропорт Сургут\"","8602060523","890543001","производство (некомбинированная выработка)+передача+сбыт","Некомбинированная выработка :: Сбыт :: Передача","/Тепловая энергия/Производство/Некомбинированная выработка :: /Тепловая энергия/Сбыт :: /Тепловая энергия/Передача"]
[null,null,null,null,null,null,null,null,null,null,null,null,null,null,null,null,null,null,null,null,null,null,null,null,null,null,null,null,null,null,null,null,null,null,null,null,null,null,null,null,null,null,null,null,null,null,null,null,null,null,null,null,null,null,null,null,null,null,null,null,37,"Ямало-Ненецкий автономный округ",null,null,null,null,"26405797","Ныдинское ЛПУ МГ ООО \"Газпром трансгаз Югорск\"","8622000931","890302001","производство (некомбинированная выработка)+передача+сбыт","Некомбинированная выработка :: Сбыт :: Передача","/Тепловая энергия/Производство/Некомбинированная выработка :: /Тепловая энергия/Сбыт :: /Тепловая энергия/Передача"]
[null,null,null,null,null,null,null,null,null,null,null,null,null,null,null,null,null,null,null,null,null,null,null,null,null,null,null,null,null,null,null,null,null,null,null,null,null,null,null,null,null,null,null,null,null,null,null,null,null,null,null,null,null,null,null,null,null,null,null,null,38,"Ямало-Ненецкий автономный округ",null,null,null,null,"26361312","ОАО \"Тепло-Энергетик\"","8902010724","890201001","производство (некомбинированная выработка)+передача+сбыт","Некомбинированная выработка :: Сбыт :: Передача","/Тепловая энергия/Производство/Некомбинированная выработка :: /Тепловая энергия/Сбыт :: /Тепловая энергия/Передача"]
[null,null,null,null,null,null,null,null,null,null,null,null,null,null,null,null,null,null,null,null,null,null,null,null,null,null,null,null,null,null,null,null,null,null,null,null,null,null,null,null,null,null,null,null,null,null,null,null,null,null,null,null,null,null,null,null,null,null,null,null,39,"Ямало-Ненецкий автономный округ",null,null,null,null,"31189728","ОАО \"Ямал СПГ\"","7709602713","891450001","производство (некомбинированная выработка)+передача+сбыт","Некомбинированная выработка :: Сбыт :: Передача","/Тепловая энергия/Производство/Некомбинированная выработка :: /Тепловая энергия/Сбыт :: /Тепловая энергия/Передача","29-08-2018 00:00:00"]
[null,null,null,null,null,null,null,null,null,null,null,null,null,null,null,null,null,null,null,null,null,null,null,null,null,null,null,null,null,null,null,null,null,null,null,null,null,null,null,null,null,null,null,null,null,null,null,null,null,null,null,null,null,null,null,null,null,null,null,null,40,"Ямало-Ненецкий автономный округ",null,null,null,null,"26361313","ООО \"Авто-Миг плюс\"","8902012591","890201001","производство (некомбинированная выработка)+передача+сбыт","Некомбинированная выработка :: Сбыт :: Передача","/Тепловая энергия/Производство/Некомбинированная выработка :: /Тепловая энергия/Сбыт :: /Тепловая энергия/Передача"]
[null,null,null,null,null,null,null,null,null,null,null,null,null,null,null,null,null,null,null,null,null,null,null,null,null,null,null,null,null,null,null,null,null,null,null,null,null,null,null,null,null,null,null,null,null,null,null,null,null,null,null,null,null,null,null,null,null,null,null,null,41,"Ямало-Ненецкий автономный округ",null,null,null,null,"26405755","ООО \"Газпром добыча Уренгой\"","8904034784","997250001","Передача+Сбыт","Сбыт :: Передача","/Тепловая энергия/Сбыт :: /Тепловая энергия/Передача"]
[null,null,null,null,null,null,null,null,null,null,null,null,null,null,null,null,null,null,null,null,null,null,null,null,null,null,null,null,null,null,null,null,null,null,null,null,null,null,null,null,null,null,null,null,null,null,null,null,null,null,null,null,null,null,null,null,null,null,null,null,42,"Ямало-Ненецкий автономный округ",null,null,null,null,"26405755","ООО \"Газпром добыча Уренгой\"","8904034784","997250001","производство (некомбинированная выработка)+передача","Некомбинированная выработка :: Передача","/Тепловая энергия/Производство/Некомбинированная выработка :: /Тепловая энергия/Передача"]
[null,null,null,null,null,null,null,null,null,null,null,null,null,null,null,null,null,null,null,null,null,null,null,null,null,null,null,null,null,null,null,null,null,null,null,null,null,null,null,null,null,null,null,null,null,null,null,null,null,null,null,null,null,null,null,null,null,null,null,null,43,"Ямало-Ненецкий автономный округ",null,null,null,null,"26405755","ООО \"Газпром добыча Уренгой\"","8904034784","997250001","производство (некомбинированная выработка)","Некомбинированная выработка","/Тепловая энергия/Производство/Некомбинированная выработка"]
[null,null,null,null,null,null,null,null,null,null,null,null,null,null,null,null,null,null,null,null,null,null,null,null,null,null,null,null,null,null,null,null,null,null,null,null,null,null,null,null,null,null,null,null,null,null,null,null,null,null,null,null,null,null,null,null,null,null,null,null,44,"Ямало-Ненецкий автономный округ",null,null,null,null,"26405755","ООО \"Газпром добыча Уренгой\"","8904034784","997250001","Передача+Сбыт","Сбыт","/Тепловая энергия/Сбыт"]
[null,null,null,null,null,null,null,null,null,null,null,null,null,null,null,null,null,null,null,null,null,null,null,null,null,null,null,null,null,null,null,null,null,null,null,null,null,null,null,null,null,null,null,null,null,null,null,null,null,null,null,null,null,null,null,null,null,null,null,null,45,"Ямало-Ненецкий автономный округ",null,null,null,null,"26405779","ООО \"Газпром добыча Ямбург\" Филиал \"Ямбурское районное энергетическое управление\"","8904034777","890401001","производство (некомбинированная выработка)","Некомбинированная выработка","/Тепловая энергия/Производство/Некомбинированная выработка"]
[null,null,null,null,null,null,null,null,null,null,null,null,null,null,null,null,null,null,null,null,null,null,null,null,null,null,null,null,null,null,null,null,null,null,null,null,null,null,null,null,null,null,null,null,null,null,null,null,null,null,null,null,null,null,null,null,null,null,null,null,46,"Ямало-Ненецкий автономный округ",null,null,null,null,"31341118","ООО \"Газпром переработка\" в зоне деятельности ЗПКТ","1102054991","891103001","производство (некомбинированная выработка)+передача+сбыт","Некомбинированная выработка :: Сбыт :: Передача","/Тепловая энергия/Производство/Некомбинированная выработка :: /Тепловая энергия/Сбыт :: /Тепловая энергия/Передача"]
[null,null,null,null,null,null,null,null,null,null,null,null,null,null,null,null,null,null,null,null,null,null,null,null,null,null,null,null,null,null,null,null,null,null,null,null,null,null,null,null,null,null,null,null,null,null,null,null,null,null,null,null,null,null,null,null,null,null,null,null,47,"Ямало-Ненецкий автономный округ",null,null,null,null,"31341118","ООО \"Газпром переработка\" в зоне деятельности ЗПКТ","1102054991","891103001","Передача+Сбыт","Сбыт :: Передача","/Тепловая энергия/Сбыт :: /Тепловая энергия/Передача"]
[null,null,null,null,null,null,null,null,null,null,null,null,null,null,null,null,null,null,null,null,null,null,null,null,null,null,null,null,null,null,null,null,null,null,null,null,null,null,null,null,null,null,null,null,null,null,null,null,null,null,null,null,null,null,null,null,null,null,null,null,48,"Ямало-Ненецкий автономный округ",null,null,null,null,"31341118","ООО \"Газпром переработка\" в зоне деятельности ЗПКТ","1102054991","891103001","производство (некомбинированная выработка)","Некомбинированная выработка","/Тепловая энергия/Производство/Некомбинированная выработка"]
[null,null,null,null,null,null,null,null,null,null,null,null,null,null,null,null,null,null,null,null,null,null,null,null,null,null,null,null,null,null,null,null,null,null,null,null,null,null,null,null,null,null,null,null,null,null,null,null,null,null,null,null,null,null,null,null,null,null,null,null,49,"Ямало-Ненецкий автономный округ",null,null,null,null,"31341118","ООО \"Газпром переработка\" в зоне деятельности ЗПКТ","1102054991","891103001","Передача+Сбыт","Сбыт :: Передача","/Тепловая энергия/Сбыт :: /Тепловая энергия/Передача"]
[null,null,null,null,null,null,null,null,null,null,null,null,null,null,null,null,null,null,null,null,null,null,null,null,null,null,null,null,null,null,null,null,null,null,null,null,null,null,null,null,null,null,null,null,null,null,null,null,null,null,null,null,null,null,null,null,null,null,null,null,50,"Ямало-Ненецкий автономный округ",null,null,null,null,"28046959","ООО \"ЛУКОЙЛ-ЭНЕРГОСЕТИ\"","5260230051","770901001","производство (некомбинированная выработка)+передача+сбыт","Комбинированная выработка :: Некомбинированная выработка :: Сбыт :: Передача","/Тепловая энергия/Производство/Комбинированная выработка :: /Тепловая энергия/Производство/Некомбинированная выработка :: /Тепловая энергия/Сбыт :: /Тепловая энергия/Передача","17-01-2013 00:00:00"]
[null,null,null,null,null,null,null,null,null,null,null,null,null,null,null,null,null,null,null,null,null,null,null,null,null,null,null,null,null,null,null,null,null,null,null,null,null,null,null,null,null,null,null,null,null,null,null,null,null,null,null,null,null,null,null,null,null,null,null,null,51,"Ямало-Ненецкий автономный округ",null,null,null,null,"28046959","ООО \"ЛУКОЙЛ-ЭНЕРГОСЕТИ\"","5260230051","770901001","производство комбинированная выработка","Комбинированная выработка :: Некомбинированная выработка :: Сбыт :: Передача","/Тепловая энергия/Производство/Комбинированная выработка :: /Тепловая энергия/Производство/Некомбинированная выработка :: /Тепловая энергия/Сбыт :: /Тепловая энергия/Передача","17-01-2013 00:00:00"]
[null,null,null,null,null,null,null,null,null,null,null,null,null,null,null,null,null,null,null,null,null,null,null,null,null,null,null,null,null,null,null,null,null,null,null,null,null,null,null,null,null,null,null,null,null,null,null,null,null,null,null,null,null,null,null,null,null,null,null,null,52,"Ямало-Ненецкий автономный округ",null,null,null,null,"28046959","ООО \"ЛУКОЙЛ-ЭНЕРГОСЕТИ\"","5260230051","770901001","Передача+Сбыт","Комбинированная выработка :: Некомбинированная выработка :: Сбыт :: Передача","/Тепловая энергия/Производство/Комбинированная выработка :: /Тепловая энергия/Производство/Некомбинированная выработка :: /Тепловая энергия/Сбыт :: /Тепловая энергия/Передача","17-01-2013 00:00:00"]
[null,null,null,null,null,null,null,null,null,null,null,null,null,null,null,null,null,null,null,null,null,null,null,null,null,null,null,null,null,null,null,null,null,null,null,null,null,null,null,null,null,null,null,null,null,null,null,null,null,null,null,null,null,null,null,null,null,null,null,null,53,"Ямало-Ненецкий автономный округ",null,null,null,null,"26637523","ООО \"Ноябрьская ПГЭ\"","8905037499","890501001","производство комбинированная выработка","Комбинированная выработка","/Тепловая энергия/Производство/Комбинированная выработка","04-04-2006 00:00:00"]
[null,null,null,null,null,null,null,null,null,null,null,null,null,null,null,null,null,null,null,null,null,null,null,null,null,null,null,null,null,null,null,null,null,null,null,null,null,null,null,null,null,null,null,null,null,null,null,null,null,null,null,null,null,null,null,null,null,null,null,null,54,"Ямало-Ненецкий автономный округ",null,null,null,null,"26405781","ООО \"Ноябрьскэнергонефть\"","8905032490","891450001","производство (некомбинированная выработка)+передача+сбыт","Некомбинированная выработка :: Сбыт :: Передача","/Тепловая энергия/Производство/Некомбинированная выработка :: /Тепловая энергия/Сбыт :: /Тепловая энергия/Передача"]
[null,null,null,null,null,null,null,null,null,null,null,null,null,null,null,null,null,null,null,null,null,null,null,null,null,null,null,null,null,null,null,null,null,null,null,null,null,null,null,null,null,null,null,null,null,null,null,null,null,null,null,null,null,null,null,null,null,null,null,null,55,"Ямало-Ненецкий автономный округ",null,null,null,null,"31422928","ООО \"Полярный круг\"","8901039142","890101001","производство (некомбинированная выработка)+передача","Некомбинированная выработка :: Передача","/Тепловая энергия/Производство/Некомбинированная выработка :: /Тепловая энергия/Передача","05-06-2020 00:00:00"]
[null,null,null,null,null,null,null,null,null,null,null,null,null,null,null,null,null,null,null,null,null,null,null,null,null,null,null,null,null,null,null,null,null,null,null,null,null,null,null,null,null,null,null,null,null,null,null,null,null,null,null,null,null,null,null,null,null,null,null,null,56,"Ямало-Ненецкий автономный округ",null,null,null,null,"26754438","ООО \"РН-Пурнефтегаз\"","8913006455","997250001","Передача+Сбыт","Сбыт","/Тепловая энергия/Сбыт"]
[null,null,null,null,null,null,null,null,null,null,null,null,null,null,null,null,null,null,null,null,null,null,null,null,null,null,null,null,null,null,null,null,null,null,null,null,null,null,null,null,null,null,null,null,null,null,null,null,null,null,null,null,null,null,null,null,null,null,null,null,57,"Ямало-Ненецкий автономный округ",null,null,null,null,"26754438","ООО \"РН-Пурнефтегаз\"","8913006455","997250001","производство (некомбинированная выработка)+передача+сбыт","Некомбинированная выработка :: Сбыт :: Передача","/Тепловая энергия/Производство/Некомбинированная выработка :: /Тепловая энергия/Сбыт :: /Тепловая энергия/Передача"]
[null,null,null,null,null,null,null,null,null,null,null,null,null,null,null,null,null,null,null,null,null,null,null,null,null,null,null,null,null,null,null,null,null,null,null,null,null,null,null,null,null,null,null,null,null,null,null,null,null,null,null,null,null,null,null,null,null,null,null,null,58,"Ямало-Ненецкий автономный округ",null,null,null,null,"26754438","ООО \"РН-Пурнефтегаз\"","8913006455","997250001","производство (некомбинированная выработка)","Некомбинированная выработка","/Тепловая энергия/Производство/Некомбинированная выработка"]
[null,null,null,null,null,null,null,null,null,null,null,null,null,null,null,null,null,null,null,null,null,null,null,null,null,null,null,null,null,null,null,null,null,null,null,null,null,null,null,null,null,null,null,null,null,null,null,null,null,null,null,null,null,null,null,null,null,null,null,null,59,"Ямало-Ненецкий автономный округ",null,null,null,null,"26754438","ООО \"РН-Пурнефтегаз\"","8913006455","997250001","производство (некомбинированная выработка)+передача","Некомбинированная выработка :: Передача","/Тепловая энергия/Производство/Некомбинированная выработка :: /Тепловая энергия/Передача"]
[null,null,null,null,null,null,null,null,null,null,null,null,null,null,null,null,null,null,null,null,null,null,null,null,null,null,null,null,null,null,null,null,null,null,null,null,null,null,null,null,null,null,null,null,null,null,null,null,null,null,null,null,null,null,null,null,null,null,null,null,60,"Ямало-Ненецкий автономный округ",null,null,null,null,"26519891","ООО \"РемСтройСервис\"","8903028234","890301001","производство (некомбинированная выработка)+передача+сбыт","Некомбинированная выработка :: Сбыт :: Передача","/Тепловая энергия/Производство/Некомбинированная выработка :: /Тепловая энергия/Сбыт :: /Тепловая энергия/Передача"]
[null,null,null,null,null,null,null,null,null,null,null,null,null,null,null,null,null,null,null,null,null,null,null,null,null,null,null,null,null,null,null,null,null,null,null,null,null,null,null,null,null,null,null,null,null,null,null,null,null,null,null,null,null,null,null,null,null,null,null,null,61,"Ямало-Ненецкий автономный округ",null,null,null,null,"31361525","ООО \"Харампурнефтегаз\"","7536125117","891101001","производство (некомбинированная выработка)+передача+сбыт","Некомбинированная выработка :: Сбыт :: Передача","/Тепловая энергия/Производство/Некомбинированная выработка :: /Тепловая энергия/Сбыт :: /Тепловая энергия/Передача"]
[null,null,null,null,null,null,null,null,null,null,null,null,null,null,null,null,null,null,null,null,null,null,null,null,null,null,null,null,null,null,null,null,null,null,null,null,null,null,null,null,null,null,null,null,null,null,null,null,null,null,null,null,null,null,null,null,null,null,null,null,62,"Ямало-Ненецкий автономный округ",null,null,null,null,"30870949","ООО \"Энергосистемы\"","6659144929","665801001","производство (некомбинированная выработка)+передача","Некомбинированная выработка :: Передача","/Тепловая энергия/Производство/Некомбинированная выработка :: /Тепловая энергия/Передача","20-01-2017 00:00:00"]
[null,null,null,null,null,null,null,null,null,null,null,null,null,null,null,null,null,null,null,null,null,null,null,null,null,null,null,null,null,null,null,null,null,null,null,null,null,null,null,null,null,null,null,null,null,null,null,null,null,null,null,null,null,null,null,null,null,null,null,null,63,"Ямало-Ненецкий автономный округ",null,null,null,null,"26361349","ООО \"Ямал-Энерго\"","8912002546","891201001","Передача+Сбыт","Комбинированная выработка :: Некомбинированная выработка :: Сбыт :: Передача","/Тепловая энергия/Производство/Комбинированная выработка :: /Тепловая энергия/Производство/Некомбинированная выработка :: /Тепловая энергия/Сбыт :: /Тепловая энергия/Передача"]
[null,null,null,null,null,null,null,null,null,null,null,null,null,null,null,null,null,null,null,null,null,null,null,null,null,null,null,null,null,null,null,null,null,null,null,null,null,null,null,null,null,null,null,null,null,null,null,null,null,null,null,null,null,null,null,null,null,null,null,null,64,"Ямало-Ненецкий автономный округ",null,null,null,null,"26361349","ООО \"Ямал-Энерго\"","8912002546","891201001","производство (некомбинированная выработка)+передача+сбыт","Комбинированная выработка :: Некомбинированная выработка :: Сбыт :: Передача","/Тепловая энергия/Производство/Комбинированная выработка :: /Тепловая энергия/Производство/Некомбинированная выработка :: /Тепловая энергия/Сбыт :: /Тепловая энергия/Передача"]
[null,null,null,null,null,null,null,null,null,null,null,null,null,null,null,null,null,null,null,null,null,null,null,null,null,null,null,null,null,null,null,null,null,null,null,null,null,null,null,null,null,null,null,null,null,null,null,null,null,null,null,null,null,null,null,null,null,null,null,null,65,"Ямало-Ненецкий автономный округ",null,null,null,null,"26361349","ООО \"Ямал-Энерго\"","8912002546","891201001","производство комбинированная выработка","Комбинированная выработка :: Некомбинированная выработка :: Сбыт :: Передача","/Тепловая энергия/Производство/Комбинированная выработка :: /Тепловая энергия/Производство/Некомбинированная выработка :: /Тепловая энергия/Сбыт :: /Тепловая энергия/Передача"]
[null,null,null,null,null,null,null,null,null,null,null,null,null,null,null,null,null,null,null,null,null,null,null,null,null,null,null,null,null,null,null,null,null,null,null,null,null,null,null,null,null,null,null,null,null,null,null,null,null,null,null,null,null,null,null,null,null,null,null,null,66,"Ямало-Ненецкий автономный округ",null,null,null,null,"26522800","ООО «Газпром энерго» в зоне деятельности Сургутского филиала Общества с ограниченной ответственностью «Газпром энерго»","7736186950","860202001","производство (некомбинированная выработка)+передача+сбыт","Некомбинированная выработка :: Сбыт :: Передача","/Тепловая энергия/Производство/Некомбинированная выработка :: /Тепловая энергия/Сбыт :: /Тепловая энергия/Передача","03-10-2005 00:00:00"]
[null,null,null,null,null,null,null,null,null,null,null,null,null,null,null,null,null,null,null,null,null,null,null,null,null,null,null,null,null,null,null,null,null,null,null,null,null,null,null,null,null,null,null,null,null,null,null,null,null,null,null,null,null,null,null,null,null,null,null,null,67,"Ямало-Ненецкий автономный округ",null,null,null,null,"26405814","ООО ЭК \"Тепло-Водо-Электро-Сервис\"","8912002592","891201001","Передача+Сбыт","Комбинированная выработка :: Некомбинированная выработка :: Сбыт :: Передача","/Тепловая энергия/Производство/Комбинированная выработка :: /Тепловая энергия/Производство/Некомбинированная выработка :: /Тепловая энергия/Сбыт :: /Тепловая энергия/Передача"]
[null,null,null,null,null,null,null,null,null,null,null,null,null,null,null,null,null,null,null,null,null,null,null,null,null,null,null,null,null,null,null,null,null,null,null,null,null,null,null,null,null,null,null,null,null,null,null,null,null,null,null,null,null,null,null,null,null,null,null,null,68,"Ямало-Ненецкий автономный округ",null,null,null,null,"26405814","ООО ЭК \"Тепло-Водо-Электро-Сервис\"","8912002592","891201001","производство комбинированная выработка","Комбинированная выработка :: Некомбинированная выработка :: Сбыт :: Передача","/Тепловая энергия/Производство/Комбинированная выработка :: /Тепловая энергия/Производство/Некомбинированная выработка :: /Тепловая энергия/Сбыт :: /Тепловая энергия/Передача"]
[null,null,null,null,null,null,null,null,null,null,null,null,null,null,null,null,null,null,null,null,null,null,null,null,null,null,null,null,null,null,null,null,null,null,null,null,null,null,null,null,null,null,null,null,null,null,null,null,null,null,null,null,null,null,null,null,null,null,null,null,69,"Ямало-Ненецкий автономный округ",null,null,null,null,"26405814","ООО ЭК \"Тепло-Водо-Электро-Сервис\"","8912002592","891201001","производство (некомбинированная выработка)+передача+сбыт","Комбинированная выработка :: Некомбинированная выработка :: Сбыт :: Передача","/Тепловая энергия/Производство/Комбинированная выработка :: /Тепловая энергия/Производство/Некомбинированная выработка :: /Тепловая энергия/Сбыт :: /Тепловая энергия/Передача"]
[null,null,null,null,null,null,null,null,null,null,null,null,null,null,null,null,null,null,null,null,null,null,null,null,null,null,null,null,null,null,null,null,null,null,null,null,null,null,null,null,null,null,null,null,null,null,null,null,null,null,null,null,null,null,null,null,null,null,null,null,70,"Ямало-Ненецкий автономный округ",null,null,null,null,"26405792","Приозерное ЛПУ МГ ООО \"Газпром трансгаз Югорск\"","8622000931","890302005","производство (некомбинированная выработка)+передача+сбыт","Некомбинированная выработка :: Сбыт :: Передача","/Тепловая энергия/Производство/Некомбинированная выработка :: /Тепловая энергия/Сбыт :: /Тепловая энергия/Передача"]
[null,null,null,null,null,null,null,null,null,null,null,null,null,null,null,null,null,null,null,null,null,null,null,null,null,null,null,null,null,null,null,null,null,null,null,null,null,null,null,null,null,null,null,null,null,null,null,null,null,null,null,null,null,null,null,null,null,null,null,null,71,"Ямало-Ненецкий автономный округ",null,null,null,null,"26405812","Пурпейское ЛПУ МГ ООО \"Газпром трансгаз Сургут\"","8617002073","891103001","производство (некомбинированная выработка)+передача+сбыт","Некомбинированная выработка :: Сбыт :: Передача","/Тепловая энергия/Производство/Некомбинированная выработка :: /Тепловая энергия/Сбыт :: /Тепловая энергия/Передача"]
[null,null,null,null,null,null,null,null,null,null,null,null,null,null,null,null,null,null,null,null,null,null,null,null,null,null,null,null,null,null,null,null,null,null,null,null,null,null,null,null,null,null,null,null,null,null,null,null,null,null,null,null,null,null,null,null,null,null,null,null,72,"Ямало-Ненецкий автономный округ",null,null,null,null,"26360995","Свердловская дирекция по тепловодоснабжению-структурное подразделение Центральной дирекции по тепловодоснабжению ОАО \"РЖД\"","7708503727","880231001","производство (некомбинированная выработка)+передача+сбыт","Некомбинированная выработка :: Сбыт :: Передача","/Тепловая энергия/Производство/Некомбинированная выработка :: /Тепловая энергия/Сбыт :: /Тепловая энергия/Передача"]
[null,null,null,null,null,null,null,null,null,null,null,null,null,null,null,null,null,null,null,null,null,null,null,null,null,null,null,null,null,null,null,null,null,null,null,null,null,null,null,null,null,null,null,null,null,null,null,null,null,null,null,null,null,null,null,null,null,null,null,null,73,"Ямало-Ненецкий автономный округ",null,null,null,null,"26319119","Управление \"Ямалэнергогаз\" ООО \"Газпром добыча Надым\"","8903019871","890303004","Передача+Сбыт","Сбыт","/Тепловая энергия/Сбыт"]
[null,null,null,null,null,null,null,null,null,null,null,null,null,null,null,null,null,null,null,null,null,null,null,null,null,null,null,null,null,null,null,null,null,null,null,null,null,null,null,null,null,null,null,null,null,null,null,null,null,null,null,null,null,null,null,null,null,null,null,null,74,"Ямало-Ненецкий автономный округ",null,null,null,null,"26319119","Управление \"Ямалэнергогаз\" ООО \"Газпром добыча Надым\"","8903019871","890303004","производство (некомбинированная выработка)+передача","Некомбинированная выработка :: Передача","/Тепловая энергия/Производство/Некомбинированная выработка :: /Тепловая энергия/Передача"]
[null,null,null,null,null,null,null,null,null,null,null,null,null,null,null,null,null,null,null,null,null,null,null,null,null,null,null,null,null,null,null,null,null,null,null,null,null,null,null,null,null,null,null,null,null,null,null,null,null,null,null,null,null,null,null,null,null,null,null,null,75,"Ямало-Ненецкий автономный округ",null,null,null,null,"26405743","Уренгойский филиал ООО \"Газпром энерго\"","7736186950","890402001","производство (некомбинированная выработка)+передача+сбыт","Некомбинированная выработка :: Сбыт :: Передача","/Тепловая энергия/Производство/Некомбинированная выработка :: /Тепловая энергия/Сбыт :: /Тепловая энергия/Передача","03-10-2005 00:00:00"]
[null,null,null,null,null,null,null,null,null,null,null,null,null,null,null,null,null,null,null,null,null,null,null,null,null,null,null,null,null,null,null,null,null,null,null,null,null,null,null,null,null,null,null,null,null,null,null,null,null,null,null,null,null,null,null,null,null,null,null,null,76,"Ямало-Ненецкий автономный округ",null,null,null,null,"26522992","Филиал \"Уренгойская ГРЭС\" АО \"Интер РАО - Электрогенерация\"","7704784450","890443001","производство комбинированная выработка","Комбинированная выработка :: Сбыт :: Передача","/Тепловая энергия/Производство/Комбинированная выработка :: /Тепловая энергия/Сбыт :: /Тепловая энергия/Передача"]
[null,null,null,null,null,null,null,null,null,null,null,null,null,null,null,null,null,null,null,null,null,null,null,null,null,null,null,null,null,null,null,null,null,null,null,null,null,null,null,null,null,null,null,null,null,null,null,null,null,null,null,null,null,null,null,null,null,null,null,null,77,"Ямало-Ненецкий автономный округ",null,null,null,null,"26522992","Филиал \"Уренгойская ГРЭС\" АО \"Интер РАО - Электрогенерация\"","7704784450","890443001","Передача+Сбыт","Комбинированная выработка :: Сбыт :: Передача","/Тепловая энергия/Производство/Комбинированная выработка :: /Тепловая энергия/Сбыт :: /Тепловая энергия/Передача"]
[null,null,null,null,null,null,null,null,null,null,null,null,null,null,null,null,null,null,null,null,null,null,null,null,null,null,null,null,null,null,null,null,null,null,null,null,null,null,null,null,null,null,null,null,null,null,null,null,null,null,null,null,null,null,null,null,null,null,null,null,78,"Ямало-Ненецкий автономный округ",null,null,null,null,"26405794","Ягельное ЛПУ МГ ООО \"Газпром трансгаз Югорск\"","8622000931","890302008","производство (некомбинированная выработка)+передача+сбыт","Некомбинированная выработка :: Сбыт :: Передача","/Тепловая энергия/Производство/Некомбинированная выработка :: /Тепловая энергия/Сбыт :: /Тепловая энергия/Передача"]

{"sheet":"REESTR_SOURCE","index":11,"n_rows":0,"n_cols":0,"rows_kept":0,"cut":false,"hidden":true,"merged":[]}

{"sheet":"БПр","index":12,"n_rows":188,"n_cols":83,"rows_kept":188,"cut":false,"hidden":false,"merged":[[159,1,186,1],[159,5,160,5],[159,6,160,6],[161,2,173,2],[174,2,186,2],[131,1,158,1],[131,5,132,5],[131,6,132,6],[133,2,145,2],[146,2,158,2],[120,38,122,38],[120,41,122,41],[121,17,122,17],[120,40,122,40],[121,32,122,32],[121,35,122,35],[121,33,122,33],[121,30,122,30],[120,39,122,39],[121,34,122,34],[120,12,120,21],[120,22,120,37],[121,37,122,37],[121,31,122,31],[121,13,122,13],[121,22,122,22],[130,67,130,81],[121,42,122,42],[121,44,122,44],[121,45,122,45],[120,46,120,49],[121,49,122,49],[121,48,122,48],[121,46,122,46],[121,47,122,47],[121,43,122,43],[120,42,120,44],[120,5,122,5],[120,7,122,7],[121,36,122,36],[121,20,122,20],[121,29,122,29],[121,19,122,19],[120,9,122,9],[120,10,122,10],[121,14,121,16],[127,6,128,6],[125,6,126,6],[121,18,122,18],[121,28,122,28],[121,24,122,24],[121,25,122,25],[121,26,122,26],[121,27,122,27],[121,23,122,23],[121,21,122,21],[120,6,122,6],[120,11,122,11],[120,8,122,8],[121,12,122,12],[56,1,83,1],[56,5,57,5],[0,1,27,1],[0,5,1,5],[0,6,1,6],[2,2,14,2],[15,2,27,2],[56,6,57,6],[58,2,70,2],[71,2,83,2]]}
[null,null,{"$f":"F3","v":"0.0"},"-",null,{"$f":"B1","v":0},null,null,null,null,null,null,null,null,null,null,null,null,null,null,null,null,null,null,null,null,null,null,null,null,null,null,null,null,null,null,null,null,null,null,null,null,null,null,null,null,null,null,null,null,null,null,"TOTAL_ORG"]
[]
[null,null,null,null,null,{"$f":"F1 & \".0\"","v":"0.0"},"год",null,null,null,null,null,null,null,null,null,null,null,null,null,null,null,null,null,null,null,null,null,null,null,null,null,null,null,null,null,null,null,null,null,null,null,null,null,null,null,null,null,null,null,null,null,"TOTAL_ORG_YEAR"]
[null,null,null,null,null,{"$f":"F1 & \".1\"","v":"0.1"},"январь",null,null,null,null,null,null,null,null,null,null,null,null,null,null,null,null,null,null,null,null,null,null,null,null,null,null,null,null,null,null,null,null,null,null,null,null,null,null,null,null,null,null,null,null,null,{"$f":"C1 & \"-I\"","v":"0.0-I"}]
[null,null,null,null,null,{"$f":"F1 & \".2\"","v":"0.2"},"февраль",null,null,null,null,null,null,null,null,null,null,null,null,null,null,null,null,null,null,null,null,null,null,null,null,null,null,null,null,null,null,null,null,null,null,null,null,null,null,null,null,null,null,null,null,null,{"$f":"C1 & \"-I\"","v":"0.0-I"}]
[null,null,null,null,null,{"$f":"F1 & \".3\"","v":"0.3"},"март",null,null,null,null,null,null,null,null,null,null,null,null,null,null,null,null,null,null,null,null,null,null,null,null,null,null,null,null,null,null,null,null,null,null,null,null,null,null,null,null,null,null,null,null,null,{"$f":"C1 & \"-I\"","v":"0.0-I"}]
[null,null,null,null,null,{"$f":"F1 & \".4\"","v":"0.4"},"апрель",null,null,null,null,null,null,null,null,null,null,null,null,null,null,null,null,null,null,null,null,null,null,null,null,null,null,null,null,null,null,null,null,null,null,null,null,null,null,null,null,null,null,null,null,null,{"$f":"C1 & \"-I\"","v":"0.0-I"}]
[null,null,null,null,null,{"$f":"F1 & \".5\"","v":"0.5"},"май",null,null,null,null,null,null,null,null,null,null,null,null,null,null,null,null,null,null,null,null,null,null,null,null,null,null,null,null,null,null,null,null,null,null,null,null,null,null,null,null,null,null,null,null,null,{"$f":"C1 & \"-I\"","v":"0.0-I"}]
[null,null,null,null,null,{"$f":"F1 & \".6\"","v":"0.6"},"июнь",null,null,null,null,null,null,null,null,null,null,null,null,null,null,null,null,null,null,null,null,null,null,null,null,null,null,null,null,null,null,null,null,null,null,null,null,null,null,null,null,null,null,null,null,null,{"$f":"C1 & \"-I\"","v":"0.0-I"}]
[null,null,null,null,null,{"$f":"F1 & \".7\"","v":"0.7"},"июль",null,null,null,null,null,null,null,null,null,null,null,null,null,null,null,null,null,null,null,null,null,null,null,null,null,null,null,null,null,null,null,null,null,null,null,null,null,null,null,null,null,null,null,null,null,{"$f":"C1 & \"-II\"","v":"0.0-II"}]
[null,null,null,null,null,{"$f":"F1 & \".8\"","v":"0.8"},"август",null,null,null,null,null,null,null,null,null,null,null,null,null,null,null,null,null,null,null,null,null,null,null,null,null,null,null,null,null,null,null,null,null,null,null,null,null,null,null,null,null,null,null,null,null,{"$f":"C1 & \"-II\"","v":"0.0-II"}]
[null,null,null,null,null,{"$f":"F1 & \".9\"","v":"0.9"},"сентябрь",null,null,null,null,null,null,null,null,null,null,null,null,null,null,null,null,null,null,null,null,null,null,null,null,null,null,null,null,null,null,null,null,null,null,null,null,null,null,null,null,null,null,null,null,null,{"$f":"C1 & \"-II\"","v":"0.0-II"}]
[null,null,null,null,null,{"$f":"F1 & \".10\"","v":"0.10"},"октябрь",null,null,null,null,null,null,null,null,null,null,null,null,null,null,null,null,null,null,null,null,null,null,null,null,null,null,null,null,null,null,null,null,null,null,null,null,null,null,null,null,null,null,null,null,null,{"$f":"C1 & \"-II\"","v":"0.0-II"}]
[null,null,null,null,null,{"$f":"F1 & \".11\"","v":"0.11"},"ноябрь",null,null,null,null,null,null,null,null,null,null,null,null,null,null,null,null,null,null,null,null,null,null,null,null,null,null,null,null,null,null,null,null,null,null,null,null,null,null,null,null,null,null,null,null,null,{"$f":"C1 & \"-II\"","v":"0.0-II"}]
[null,null,null,null,null,{"$f":"F1 & \".12\"","v":"0.12"},"декабрь",null,null,null,null,null,null,null,null,null,null,null,null,null,null,null,null,null,null,null,null,null,null,null,null,null,null,null,null,null,null,null,null,null,null,null,null,null,null,null,null,null,null,null,null,null,{"$f":"C1 & \"-II\"","v":"0.0-II"}]
[]
[]
[]
[]
[]
[]
[]
[]
[]
[]
[]
[]
[]
[]
[]
[]
[]
[]
[]
[]
[]
[]
[]
[]
[]
[]
[]
[]
[]
[]
[]
[]
[]
[]
[]
[]
[]
[]
[]
[]
[]
["TBD",null,{"$f":"F59","v":"0.0"},"-",null,{"$f":"B57","v":0},null,{"$f":"H59","v":0},{"$f":"I59","v":0},{"$f":"A57","v":"TBD"},{"$f":"K59","v":0},{"$f":"L59","v":0},{"$f":"M59","v":0},null,{"$f":"O59","v":0},0,0,0,0,0,0,{"$f":"V59","v":0},0,0,0,0,0,0,0,0,{"$f":"AE59","v":0},0,0,0,0,0,0,0,{"$f":"AM59","v":0},{"$f":"AN59","v":0},{"$f":"AO59","v":0},null,{"$f":"AQ59","v":0},0,0,0,0,0,0,0,null,null,"TOTAL_ORG"]
[]
[null,null,null,null,null,{"$f":"F57 & \".0\"","v":"0.0"},"год",{"$f":"SUMIF('Список объектов'!$R$15:$R$55,$F59,'Список объектов'!$S$15:$S$55)","v":0},{"$f":"SUMIF('Список объектов'!$R$15:$R$55,$F59,'Список объектов'!$T$15:$T$55)","v":0},{"$f":"J57","v":"TBD"},{"$f":"L59+M59-V59+AM59-W59-AE59","v":0},null,{"$f":"SUM(O59,R59:T59,U59,V59)","v":0},null,{"$f":"SUM(O60:O71)","v":0},0,0,0,0,0,{"$f":"SUM(U60:U71)","v":0},{"$f":"SUM(V60:V71)","v":0},{"$f":"SUM(X59:Z59)","v":0},null,null,null,{"$f":"SUM(AB59:AD59)","v":0},null,null,null,{"$f":"SUM(AF59:AH59)","v":0},null,null,null,{"$f":"SUM(AJ59:AL59)","v":0},null,null,null,{"$f":"AN59+AO59","v":0},null,{"$f":"SUM(AO60:AO71)","v":0},null,{"$f":"SUM(AQ60:AQ71)","v":0},0,0,0,0,0,0,0,null,null,"TOTAL_ORG_YEAR",null,null,null,null,null,null,null,null,null,null,null,null,null,null,{"$f":"SUM($U60:$U71)+SUM($AT60:$AT71)","v":0},{"$f":"SUM($R60:$R71)+SUM($AV60:$AV71)","v":0},{"$f":"SUM($S60:$S71)+SUM($AW60:$AW71)","v":0},{"$f":"SUM($T60:$T71)+SUM($AX60:$AX71)","v":0},null,{"$f":"SUM($U60:$U71)+SUM($AT60:$AT71)","v":0},{"$f":"SUM($R60:$R71)+SUM($AV60:$AV71)","v":0},{"$f":"SUM($S60:$S71)+SUM($AW60:$AW71)","v":0},{"$f":"SUM($T60:$T71)+SUM($AX60:$AX71)","v":0},null,null,null,null,null,null,{"$f":"M59-V59+AO59","v":0}]
[null,null,null,null,null,{"$f":"F57 & \".1\"","v":"0.1"},"январь",null,null,{"$f":"IF(OFFSET('Список территорий'!CJ$15,$F57,0)=\"a\",\"Y\",\"N\")","v":"N"},null,null,0,null,{"$f":"SUM(P60:Q60)","v":0},null,null,null,null,null,null,null,null,null,null,null,null,null,null,null,null,null,null,null,null,null,null,null,null,null,{"$f":"SUM(AQ60,AT60,AU60)","v":0},null,{"$f":"SUM(AR60:AS60)","v":0},null,null,null,{"$f":"SUM(AV60:AX60)","v":0},null,null,null,null,null,{"$f":"C57 & \"-I\"","v":"0.0-I"},null,null,null,null,null,null,null,null,null,null,null,null,null,null,{"$f":"SUM($U60:$U65)+SUM($AT60:$AT65)","v":0},{"$f":"SUM($R60:$R65)+SUM($AV60:$AV65)","v":0},{"$f":"SUM($S60:$S65)+SUM($AW60:$AW65)","v":0},{"$f":"SUM($T60:$T65)+SUM($AX60:$AX65)","v":0},null,{"$f":"SUM($U60:$U65)+SUM($AT60:$AT65)","v":0},{"$f":"SUM($R60:$R65)+SUM($AV60:$AV65)","v":0},{"$f":"SUM($S60:$S65)+SUM($AW60:$AW65)","v":0},{"$f":"SUM($T60:$T65)+SUM($AX60:$AX65)","v":0}]
[null,null,null,null,null,{"$f":"F57 & \".2\"","v":"0.2"},"февраль",null,null,{"$f":"IF(OFFSET('Список территорий'!CK$15,$F57,0)=\"a\",\"Y\",\"N\")","v":"N"},null,null,0,null,{"$f":"SUM(P61:Q61)","v":0},null,null,null,null,null,null,null,null,null,null,null,null,null,null,null,null,null,null,null,null,null,null,null,null,null,0,null,{"$f":"SUM(AR61:AS61)","v":0},null,null,null,0,null,null,null,null,null,{"$f":"C57 & \"-I\"","v":"0.0-I"}]
[null,null,null,null,null,{"$f":"F57 & \".3\"","v":"0.3"},"март",null,null,{"$f":"IF(OFFSET('Список территорий'!CL$15,$F57,0)=\"a\",\"Y\",\"N\")","v":"N"},null,null,0,null,0,null,null,null,null,null,null,null,null,null,null,null,null,null,null,null,null,null,null,null,null,null,null,null,null,null,0,null,0,null,null,null,0,null,null,null,null,null,{"$f":"C57 & \"-I\"","v":"0.0-I"}]
[null,null,null,null,null,{"$f":"F57 & \".4\"","v":"0.4"},"апрель",null,null,{"$f":"IF(OFFSET('Список территорий'!CM$15,$F57,0)=\"a\",\"Y\",\"N\")","v":"N"},null,null,0,null,0,null,null,null,null,null,null,null,null,null,null,null,null,null,null,null,null,null,null,null,null,null,null,null,null,null,0,null,0,null,null,null,0,null,null,null,null,null,{"$f":"C57 & \"-I\"","v":"0.0-I"}]
[null,null,null,null,null,{"$f":"F57 & \".5\"","v":"0.5"},"май",null,null,{"$f":"IF(OFFSET('Список территорий'!CN$15,$F57,0)=\"a\",\"Y\",\"N\")","v":"N"},null,null,0,null,0,null,null,null,null,null,null,null,null,null,null,null,null,null,null,null,null,null,null,null,null,null,null,null,null,null,0,null,0,null,null,null,0,null,null,null,null,null,{"$f":"C57 & \"-I\"","v":"0.0-I"}]
[null,null,null,null,null,{"$f":"F57 & \".6\"","v":"0.6"},"июнь",null,null,{"$f":"IF(OFFSET('Список территорий'!CO$15,$F57,0)=\"a\",\"Y\",\"N\")","v":"N"},null,null,0,null,0,null,null,null,null,null,null,null,null,null,null,null,null,null,null,null,null,null,null,null,null,null,null,null,null,null,0,null,0,null,null,null,0,null,null,null,null,null,{"$f":"C57 & \"-I\"","v":"0.0-I"}]
[null,null,null,null,null,{"$f":"F57 & \".7\"","v":"0.7"},"июль",null,null,{"$f":"IF(OFFSET('Список территорий'!CP$15,$F57,0)=\"a\",\"Y\",\"N\")","v":"N"},null,null,0,null,0,null,null,null,null,null,null,null,null,null,null,null,null,null,null,null,null,null,null,null,null,null,null,null,null,null,0,null,0,null,null,null,0,null,null,null,null,null,{"$f":"C57 & \"-II\"","v":"0.0-II"},null,null,null,null,null,null,null,null,null,null,null,null,null,null,{"$f":"SUM($U66:$U71)+SUM($AT66:$AT71)","v":0},{"$f":"SUM($R66:$R71)+SUM($AV66:$AV71)","v":0},{"$f":"SUM($S66:$S71)+SUM($AW66:$AW71)","v":0},{"$f":"SUM($T66:$T71)+SUM($AX66:$AX71)","v":0},null,{"$f":"SUM($U66:$U71)+SUM($AT66:$AT71)","v":0},{"$f":"SUM($R66:$R71)+SUM($AV66:$AV71)","v":0},{"$f":"SUM($S66:$S71)+SUM($AW66:$AW71)","v":0},{"$f":"SUM($T66:$T71)+SUM($AX66:$AX71)","v":0}]
[null,null,null,null,null,{"$f":"F57 & \".8\"","v":"0.8"},"август",null,null,{"$f":"IF(OFFSET('Список территорий'!CQ$15,$F57,0)=\"a\",\"Y\",\"N\")","v":"N"},null,null,0,null,0,null,null,null,null,null,null,null,null,null,null,null,null,null,null,null,null,null,null,null,null,null,null,null,null,null,0,null,0,null,null,null,0,null,null,null,null,null,{"$f":"C57 & \"-II\"","v":"0.0-II"}]
[null,null,null,null,null,{"$f":"F57 & \".9\"","v":"0.9"},"сентябрь",null,null,{"$f":"IF(OFFSET('Список территорий'!CR$15,$F57,0)=\"a\",\"Y\",\"N\")","v":"N"},null,null,0,null,0,null,null,null,null,null,null,null,null,null,null,null,null,null,null,null,null,null,null,null,null,null,null,null,null,null,0,null,0,null,null,null,0,null,null,null,null,null,{"$f":"C57 & \"-II\"","v":"0.0-II"}]
[null,null,null,null,null,{"$f":"F57 & \".10\"","v":"0.10"},"октябрь",null,null,{"$f":"IF(OFFSET('Список территорий'!CS$15,$F57,0)=\"a\",\"Y\",\"N\")","v":"N"},null,null,0,null,0,null,null,null,null,null,null,null,null,null,null,null,null,null,null,null,null,null,null,null,null,null,null,null,null,null,0,null,0,null,null,null,0,null,null,null,null,null,{"$f":"C57 & \"-II\"","v":"0.0-II"}]
[null,null,null,null,null,{"$f":"F57 & \".11\"","v":"0.11"},"ноябрь",null,null,{"$f":"IF(OFFSET('Список территорий'!CT$15,$F57,0)=\"a\",\"Y\",\"N\")","v":"N"},null,null,0,null,0,null,null,null,null,null,null,null,null,null,null,null,null,null,null,null,null,null,null,null,null,null,null,null,null,null,0,null,0,null,null,null,0,null,null,null,null,null,{"$f":"C57 & \"-II\"","v":"0.0-II"}]
[null,null,null,null,null,{"$f":"F57 & \".12\"","v":"0.12"},"декабрь",null,null,{"$f":"IF(OFFSET('Список территорий'!CU$15,$F57,0)=\"a\",\"Y\",\"N\")","v":"N"},null,null,0,null,0,null,null,null,null,null,null,null,null,null,null,null,null,null,null,null,null,null,null,null,null,null,null,null,null,null,0,null,0,null,null,null,0,null,null,null,null,null,{"$f":"C57 & \"-II\"","v":"0.0-II"}]
[]
[]
[]
[]
[]
[]
[]
[]
[]
[]
[]
[]
[]
[]
[]
[]
[]
[]
[]
[]
[]
[]
[]
[]
[]
[]
[]
[]
[]
[]
[]
[]
[]
[]
[]
[]
[]
[]
[]
[]
[]
[]
[]
[]
[]
[]
[]
[null,null,null,null,null,{"$f":"\"Баланс \" & TEMPLATE_SPHERE & \" (производство)\"","v":"Баланс теплоснабжения (производство)"}]
[null,null,null,null,null,"Гкал"]
[null,null,null,null,null,"№ п/п","Субъект баланса","Установленная тепловая мощность, Гкал/час","Подключённая (фактическая) тепловая нагрузка, Гкал/час","Вид(-ы) теплоносителя(-ей)","Выработка","Собственные нужды источника тепла","Отпуск с коллекторов",null,null,null,null,null,null,null,null,null,"Покупная энергия",null,null,null,null,null,null,null,null,null,null,null,null,null,null,null,"Отпуск в сеть","Потери в сетях","Полезный отпуск, всего",null,"Полезный отпуск на нужды предприятия",null,null,"Полезный отпуск организациям-перепродавцам","Полезный отпуск по группам потребителей"]
[null,null,null,null,null,null,null,null,null,null,null,null,"Всего",null,"На технологические нужды предприятия",null,null,"Бюджетные потребители","Население","Прочие потребители","Организации-перепродавцы","В собственную тепловую сеть","С коллекторов, всего","от станций с мощностью производства >= 25 МВт","от станций с мощностью производства < 25 МВт","от котельных","в том числе покупка потерь с коллекторов","от станций с мощностью производства >= 25 МВт","от станций с мощностью производства < 25 МВт","от котельных","Из тепловой сети, всего","от станций с мощностью производства >= 25 МВт","от станций с мощностью производства < 25 МВт","от котельных (некомбинированная выработка)","в том числе покупка потерь из тепловой сети","от станций с мощностью производства >= 25 МВт","от станций с мощностью производства < 25 МВт","от котельных (некомбинированная выработка)",null,null,null,null,"Всего","На собственное производство","На хозяйственные нужды","Всего","Всего","Финансируемые из бюджетов всех уровней","Население","Прочие"]
[null,null,null,null,null,null,null,null,null,null,null,null,null,null,"Всего","На собственное производство","На хозяйственные нужды"]
[null,null,null,null,null,null,"А","IC","CL","Б","1","2","3",null,"3.1","3.1.1","3.1.2","3.2","3.3","3.4","3.5","3.6","4.1","4.1.1","4.1.2","4.1.3","4.2","4.2.1","4.2.2","4.2.3","4.3","4.3.1","4.3.2","4.3.3","4.4","4.4.1","4.4.2","4.4.3","5","5.1","5.2",null,"5.2.1","5.2.1.1","5.2.1.2","5.2.2","5.2.3","5.2.3.1","5.2.3.2","5.2.3.3",null,null,null,null,null,null,null,null,null,null,null,null,null,null,null,null,null,"RESELLERS_I","BUDGET_I","POPULATION_I","OTHERS_I","OWN_I","RESELLERS_II","BUDGET_II","POPULATION_II","OTHERS_II","OWN_II",null,null,null,null,null,"BPR_vs_BTR"]
[]
[null,null,null,"-",null,{"$f":"IF(TEMPLATE_SPHERE_CODE=\"COLDVSNA\",\"0.1.P\",\"0.1\")","v":"0.1"},"Всего по организации",null,null,null,{"$f":"SUMIF($BA131:$BA188,$BA126,K131:K188)","v":466390.01600000012},{"$f":"SUMIF($BA131:$BA188,$BA126,L131:L188)","v":14421.33},{"$f":"SUMIF($BA131:$BA188,$BA126,M131:M188)","v":0},null,{"$f":"SUMIF($BA131:$BA188,$BA126,O131:O188)","v":0},0,0,0,0,0,0,0,0,0,0,0,0,0,0,0,0,0,0,0,0,0,0,0,451968.6860000001,23014.944,428953.74200000009,null,{"$f":"SUMIF($BA131:$BA188,$BA126,AQ131:AQ188)","v":8349.257999999998},0,8349.257999999998,0,420604.48400000005,98998.900000000009,280229.62799999997,41375.956000000013,null,null,"TOTAL_ORG_YEAR"]
[null,null,null,null,null,{"$f":"IF(TEMPLATE_SPHERE_CODE=\"COLDVSNA\",\"0.1.T\",\"\")","v":""}]
[]
[]
[]
[null,0,null,null,null,null,null,null,null,null,null,null,null,null,null,null,null,null,null,null,null,null,null,null,null,null,null,null,null,null,null,null,null,null,null,null,null,null,null,null,null,null,null,null,null,null,null,null,null,null,null,null,null,null,null,null,null,null,null,null,null,null,null,null,null,null,null,"Сумма объёмов по периодам (I, II)",null,null,null,null,null,null,null,null,null,null,null,null,null,null,"Общий объём производства для сравнения с БТр (нельзя передать больше, чем произведено)"]
[{"$f":"IF('Список территорий'!$AC$16=\"\",\"Не определено\",'Список территорий'!$AC$16)","v":"Тариф: Носитель - горячая вода (Т)"},"1",{"$f":"F134","v":"1.0"},"-","Удалить",{"$f":"B132","v":"1"},{"$f":"IF('Список территорий'!$I$16=\"\",\"Не определено\",'Список территорий'!$G$16 & \" / \" & 'Список территорий'!$H$16 & \" / \" & 'Список территорий'!$I$16)","v":"город Салехард / город Салехард / 71951000"},{"$f":"H134","v":323.22000000000003},{"$f":"I134","v":164.85},{"$f":"A132","v":"Тариф: Носитель - горячая вода (Т)"},{"$f":"K134","v":455158.1750000001},{"$f":"L134","v":14421.33},{"$f":"M134","v":0},null,{"$f":"O134","v":0},0,0,0,0,0,0,0,0,0,0,0,0,0,0,0,0,0,0,0,0,0,0,0,{"$f":"AM134","v":440736.84500000009},{"$f":"AN134","v":23014.944},{"$f":"AO134","v":417721.90100000007},null,{"$f":"AQ134","v":8349.257999999998},0,8349.257999999998,0,409372.64300000004,97528.786000000007,270498.38999999996,41345.467000000011,null,null,"TOTAL_ORG"]
[]
[null,null,null,null,null,{"$f":"F132 & \".0\"","v":"1.0"},"год",323.22000000000003,164.85,{"$f":"J132","v":"Тариф: Носитель - горячая вода (Т)"},{"$f":"L134+M134-V134+AM134-W134-AE134","v":455158.1750000001},14421.33,{"$f":"SUM(O134,R134:T134,U134,V134)","v":0},null,{"$f":"SUM(O135:O146)","v":0},0,0,0,0,0,{"$f":"SUM(U135:U146)","v":0},{"$f":"SUM(V135:V146)","v":0},{"$f":"SUM(X134:Z134)","v":0},null,null,null,{"$f":"SUM(AB134:AD134)","v":0},null,null,null,{"$f":"SUM(AF134:AH134)","v":0},null,null,null,{"$f":"SUM(AJ134:AL134)","v":0},null,null,null,{"$f":"AN134+AO134","v":440736.84500000009},23014.944,{"$f":"SUM(AO135:AO146)","v":417721.90100000007},null,{"$f":"SUM(AQ135:AQ146)","v":8349.257999999998},0,8349.257999999998,0,409372.64300000004,97528.786000000007,270498.38999999996,41345.467000000011,null,null,"TOTAL_ORG_YEAR",null,null,null,null,null,null,null,null,null,null,null,null,null,null,{"$f":"SUM($U135:$U146)+SUM($AT135:$AT146)","v":0},{"$f":"SUM($R135:$R146)+SUM($AV135:$AV146)","v":97528.786000000007},{"$f":"SUM($S135:$S146)+SUM($AW135:$AW146)","v":270498.38999999996},{"$f":"SUM($T135:$T146)+SUM($AX135:$AX146)","v":41345.467000000011},null,{"$f":"SUM($U135:$U146)+SUM($AT135:$AT146)","v":0},{"$f":"SUM($R135:$R146)+SUM($AV135:$AV146)","v":97528.786000000007},{"$f":"SUM($S135:$S146)+SUM($AW135:$AW146)","v":270498.38999999996},{"$f":"SUM($T135:$T146)+SUM($AX135:$AX146)","v":41345.467000000011},null,null,null,null,null,null,{"$f":"M134-V134+AO134","v":417721.90100000007}]
[null,null,null,null,null,{"$f":"F132 & \".1\"","v":"1.1"},"январь",null,null,{"$f":"IF(OFFSET('Список территорий'!CJ$15,$F132,0)=\"a\",\"Y\",\"N\")","v":"Y"},null,null,0,null,{"$f":"SUM(P135:Q135)","v":0},null,null,null,null,null,null,null,null,null,null,null,null,null,null,null,null,null,null,null,null,null,null,null,null,null,{"$f":"SUM(AQ135,AT135,AU135)","v":53225.403999999995},null,{"$f":"SUM(AR135:AS135)","v":1308},null,1308,null,{"$f":"SUM(AV135:AX135)","v":51917.403999999995},{"$f":"15659.7-AV163","v":15537.526},{"$f":"30027.472-AW163","v":29215.945},{"$f":"7166.606-AX163","v":7163.933},null,null,{"$f":"C132 & \"-I\"","v":"1.0-I"},null,null,null,null,null,null,null,null,null,null,null,null,null,null,{"$f":"SUM($U135:$U140)+SUM($AT135:$AT140)","v":0},{"$f":"SUM($R135:$R140)+SUM($AV135:$AV140)","v":61118.099000000009},{"$f":"SUM($S135:$S140)+SUM($AW135:$AW140)","v":148583.91599999997},{"$f":"SUM($T135:$T140)+SUM($AX135:$AX140)","v":26489.670000000006},null,{"$f":"SUM($U135:$U140)+SUM($AT135:$AT140)","v":0},{"$f":"SUM($R135:$R140)+SUM($AV135:$AV140)","v":61118.099000000009},{"$f":"SUM($S135:$S140)+SUM($AW135:$AW140)","v":148583.91599999997},{"$f":"SUM($T135:$T140)+SUM($AX135:$AX140)","v":26489.670000000006}]
[null,null,null,null,null,{"$f":"F132 & \".2\"","v":"1.2"},"февраль",null,null,{"$f":"IF(OFFSET('Список территорий'!CK$15,$F132,0)=\"a\",\"Y\",\"N\")","v":"Y"},null,null,0,null,{"$f":"SUM(P136:Q136)","v":0},null,null,null,null,null,null,null,null,null,null,null,null,null,null,null,null,null,null,null,null,null,null,null,null,null,51140.472999999998,null,{"$f":"SUM(AR136:AS136)","v":1109},null,1109,null,50031.472999999998,{"$f":"14858.01-AV164","v":14725.871999999999},{"$f":"29977.696-AW164","v":29133.41},{"$f":"6174.078-AX164","v":6172.1910000000007},null,null,{"$f":"C132 & \"-I\"","v":"1.0-I"}]
[null,null,null,null,null,{"$f":"F132 & \".3\"","v":"1.3"},"март",null,null,{"$f":"IF(OFFSET('Список территорий'!CL$15,$F132,0)=\"a\",\"Y\",\"N\")","v":"Y"},null,null,0,null,0,null,null,null,null,null,null,null,null,null,null,null,null,null,null,null,null,null,null,null,null,null,null,null,null,null,44025.090999999993,null,1104,null,1104,null,42921.090999999993,{"$f":"11837.05-AV165","v":11724.511999999999},{"$f":"26865.509-AW165","v":26087.906999999999},{"$f":"5110.779-AX165","v":5108.6720000000005},null,null,{"$f":"C132 & \"-I\"","v":"1.0-I"}]
[null,null,null,null,null,{"$f":"F132 & \".4\"","v":"1.4"},"апрель",null,null,{"$f":"IF(OFFSET('Список территорий'!CM$15,$F132,0)=\"a\",\"Y\",\"N\")","v":"Y"},null,null,0,null,0,null,null,null,null,null,null,null,null,null,null,null,null,null,null,null,null,null,null,null,null,null,null,null,null,null,39305.216999999997,null,829.14599999999996,null,829.14599999999996,null,38476.070999999996,{"$f":"9959.85-AV166","v":9852.2049999999999},{"$f":"25300.869-AW166","v":24469.736999999997},{"$f":"4156.369-AX166","v":4154.1289999999999},null,null,{"$f":"C132 & \"-I\"","v":"1.0-I"}]
[null,null,null,null,null,{"$f":"F132 & \".5\"","v":"1.5"},"май",null,null,{"$f":"IF(OFFSET('Список территорий'!CN$15,$F132,0)=\"a\",\"Y\",\"N\")","v":"Y"},null,null,0,null,0,null,null,null,null,null,null,null,null,null,null,null,null,null,null,null,null,null,null,null,null,null,null,null,null,null,32203.96,null,561.99900000000002,null,561.99900000000002,null,31641.960999999999,{"$f":"7082.96-AV167","v":6959.9210000000003},{"$f":"22669.797-AW167","v":21847.677},{"$f":"2837.791-AX167","v":2834.3630000000003},null,null,{"$f":"C132 & \"-I\"","v":"1.0-I"}]
[null,null,null,null,null,{"$f":"F132 & \".6\"","v":"1.6"},"июнь",null,null,{"$f":"IF(OFFSET('Список территорий'!CO$15,$F132,0)=\"a\",\"Y\",\"N\")","v":"Y"},null,null,0,null,0,null,null,null,null,null,null,null,null,null,null,null,null,null,null,null,null,null,null,null,null,null,null,null,null,null,21374.398000000001,null,170.71299999999999,null,170.71299999999999,null,21203.685000000001,{"$f":"2435.13-AV168","v":2318.0630000000001},{"$f":"18697-AW168","v":17829.240000000002},{"$f":"1058.183-AX168","v":1056.3820000000001},null,null,{"$f":"C132 & \"-I\"","v":"1.0-I"}]
[null,null,null,null,null,{"$f":"F132 & \".7\"","v":"1.7"},"июль",null,null,{"$f":"IF(OFFSET('Список территорий'!CP$15,$F132,0)=\"a\",\"Y\",\"N\")","v":"Y"},null,null,0,null,0,null,null,null,null,null,null,null,null,null,null,null,null,null,null,null,null,null,null,null,null,null,null,null,null,null,15353.696,null,95.7,null,95.7,null,15257.995999999999,{"$f":"475-AV169","v":355.85},{"$f":"15419-AW169","v":14698.4},{"$f":"207.05-AX169","v":203.74600000000001},null,null,{"$f":"C132 & \"-II\"","v":"1.0-II"},null,null,null,null,null,null,null,null,null,null,null,null,null,null,{"$f":"SUM($U141:$U146)+SUM($AT141:$AT146)","v":0},{"$f":"SUM($R141:$R146)+SUM($AV141:$AV146)","v":36410.687000000005},{"$f":"SUM($S141:$S146)+SUM($AW141:$AW146)","v":121914.474},{"$f":"SUM($T141:$T146)+SUM($AX141:$AX146)","v":14855.796999999999},null,{"$f":"SUM($U141:$U146)+SUM($AT141:$AT146)","v":0},{"$f":"SUM($R141:$R146)+SUM($AV141:$AV146)","v":36410.687000000005},{"$f":"SUM($S141:$S146)+SUM($AW141:$AW146)","v":121914.474},{"$f":"SUM($T141:$T146)+SUM($AX141:$AX146)","v":14855.796999999999}]
[null,null,null,null,null,{"$f":"F132 & \".8\"","v":"1.8"},"август",null,null,{"$f":"IF(OFFSET('Список территорий'!CQ$15,$F132,0)=\"a\",\"Y\",\"N\")","v":"Y"},null,null,0,null,0,null,null,null,null,null,null,null,null,null,null,null,null,null,null,null,null,null,null,null,null,null,null,null,null,null,14832.221,null,48.7,null,48.7,null,14783.520999999999,{"$f":"472.5-AV170","v":352.06},{"$f":"14984.385-AW170","v":14274.184999999999},{"$f":"160.5-AX170","v":157.27600000000001},null,null,{"$f":"C132 & \"-II\"","v":"1.0-II"}]
[null,null,null,null,null,{"$f":"F132 & \".9\"","v":"1.9"},"сентябрь",null,null,{"$f":"IF(OFFSET('Список территорий'!CR$15,$F132,0)=\"a\",\"Y\",\"N\")","v":"Y"},null,null,0,null,0,null,null,null,null,null,null,null,null,null,null,null,null,null,null,null,null,null,null,null,null,null,null,null,null,null,24095.059000000001,null,304,null,304,null,23791.059000000001,{"$f":"3739.5-AV171","v":3605.1},{"$f":"19511.15-AW171","v":18703.850000000002},{"$f":"1483.5-AX171","v":1482.1089999999999},null,null,{"$f":"C132 & \"-II\"","v":"1.0-II"}]
[null,null,null,null,null,{"$f":"F132 & \".10\"","v":"1.10"},"октябрь",null,null,{"$f":"IF(OFFSET('Список территорий'!CS$15,$F132,0)=\"a\",\"Y\",\"N\")","v":"Y"},null,null,0,null,0,null,null,null,null,null,null,null,null,null,null,null,null,null,null,null,null,null,null,null,null,null,null,null,null,null,33390.449999999997,null,670,null,670,null,32720.449999999997,{"$f":"7523.9-AV172","v":7402.0999999999995},{"$f":"22678-AW172","v":21825.3},{"$f":"3496.1-AX172","v":3493.0499999999997},null,null,{"$f":"C132 & \"-II\"","v":"1.0-II"}]
[null,null,null,null,null,{"$f":"F132 & \".11\"","v":"1.11"},"ноябрь",null,null,{"$f":"IF(OFFSET('Список территорий'!CT$15,$F132,0)=\"a\",\"Y\",\"N\")","v":"Y"},null,null,0,null,0,null,null,null,null,null,null,null,null,null,null,null,null,null,null,null,null,null,null,null,null,null,null,null,null,null,41672.976000000002,null,900,null,900,null,40772.976000000002,{"$f":"10963.6-AV173","v":10819},{"$f":"26474.9-AW173","v":25647.300000000003},{"$f":"4310-AX173","v":4306.6760000000004},null,null,{"$f":"C132 & \"-II\"","v":"1.0-II"}]
[null,null,null,null,null,{"$f":"F132 & \".12\"","v":"1.12"},"декабрь",null,null,{"$f":"IF(OFFSET('Список территорий'!CU$15,$F132,0)=\"a\",\"Y\",\"N\")","v":"Y"},null,null,0,null,0,null,null,null,null,null,null,null,null,null,null,null,null,null,null,null,null,null,null,null,null,null,null,null,null,null,47102.956000000006,null,1248,null,1248,null,45854.956000000006,{"$f":"13991.7-AV174","v":13876.577000000001},{"$f":"27623.85-AW174","v":26765.438999999998},{"$f":"5215-AX174","v":5212.9399999999996},null,null,{"$f":"C132 & \"-II\"","v":"1.0-II"}]
[]
[]
[]
[]
[]
[]
[]
[]
[]
[]
[]
[]
[]
[{"$f":"IF('Список территорий'!$AC$17=\"\",\"Не определено\",'Список территорий'!$AC$17)","v":"Тариф: Носитель - горячая вода (К)"},"2",{"$f":"F162","v":"2.0"},"-","Удалить",{"$f":"B160","v":"2"},{"$f":"IF('Список территорий'!$I$17=\"\",\"Не определено\",'Список территорий'!$G$17 & \" / \" & 'Список территорий'!$H$17 & \" / \" & 'Список территорий'!$I$17)","v":"город Салехард / город Салехард / 71951000"},{"$f":"H162","v":25.349999999999998},{"$f":"I162","v":8.15},{"$f":"A160","v":"Тариф: Носитель - горячая вода (К)"},{"$f":"K162","v":11231.840999999999},{"$f":"L162","v":0},{"$f":"M162","v":0},null,{"$f":"O162","v":0},0,0,0,0,0,0,0,0,0,0,0,0,0,0,0,0,0,0,0,0,0,0,0,{"$f":"AM162","v":11231.840999999999},{"$f":"AN162","v":0},{"$f":"AO162","v":11231.840999999999},null,{"$f":"AQ162","v":0},0,0,0,11231.840999999999,1470.114,9731.2379999999994,30.489000000000001,null,null,"TOTAL_ORG"]
[]
[null,null,null,null,null,{"$f":"F160 & \".0\"","v":"2.0"},"год",{"$f":"SUMIF('Список объектов'!$R$15:$R$55,$F162,'Список объектов'!$S$15:$S$55)","v":25.349999999999998},{"$f":"SUMIF('Список объектов'!$R$15:$R$55,$F162,'Список объектов'!$T$15:$T$55)","v":8.15},{"$f":"J160","v":"Тариф: Носитель - горячая вода (К)"},{"$f":"L162+M162-V162+AM162-W162-AE162","v":11231.840999999999},null,{"$f":"SUM(O162,R162:T162,U162,V162)","v":0},null,{"$f":"SUM(O163:O174)","v":0},0,0,0,0,0,{"$f":"SUM(U163:U174)","v":0},{"$f":"SUM(V163:V174)","v":0},{"$f":"SUM(X162:Z162)","v":0},null,null,null,{"$f":"SUM(AB162:AD162)","v":0},null,null,null,{"$f":"SUM(AF162:AH162)","v":0},null,null,null,{"$f":"SUM(AJ162:AL162)","v":0},null,null,null,{"$f":"AN162+AO162","v":11231.840999999999},null,{"$f":"SUM(AO163:AO174)","v":11231.840999999999},null,{"$f":"SUM(AQ163:AQ174)","v":0},0,0,0,11231.840999999999,1470.114,9731.2379999999994,30.489000000000001,null,null,"TOTAL_ORG_YEAR",null,null,null,null,null,null,null,null,null,null,null,null,null,null,{"$f":"SUM($U163:$U174)+SUM($AT163:$AT174)","v":0},{"$f":"SUM($R163:$R174)+SUM($AV163:$AV174)","v":1470.114},{"$f":"SUM($S163:$S174)+SUM($AW163:$AW174)","v":9731.2379999999994},{"$f":"SUM($T163:$T174)+SUM($AX163:$AX174)","v":30.489000000000001},null,{"$f":"SUM($U163:$U174)+SUM($AT163:$AT174)","v":0},{"$f":"SUM($R163:$R174)+SUM($AV163:$AV174)","v":1470.114},{"$f":"SUM($S163:$S174)+SUM($AW163:$AW174)","v":9731.2379999999994},{"$f":"SUM($T163:$T174)+SUM($AX163:$AX174)","v":30.489000000000001},null,null,null,null,null,null,{"$f":"M162-V162+AO162","v":11231.840999999999}]
[null,null,null,null,null,{"$f":"F160 & \".1\"","v":"2.1"},"январь",null,null,{"$f":"IF(OFFSET('Список территорий'!CJ$15,$F160,0)=\"a\",\"Y\",\"N\")","v":"Y"},null,null,0,null,{"$f":"SUM(P163:Q163)","v":0},null,null,null,null,null,null,null,null,null,null,null,null,null,null,null,null,null,null,null,null,null,null,null,null,null,{"$f":"SUM(AQ163,AT163,AU163)","v":936.37400000000002},null,{"$f":"SUM(AR163:AS163)","v":0},null,null,null,{"$f":"SUM(AV163:AX163)","v":936.37400000000002},122.17400000000001,811.52700000000004,2.673,null,null,{"$f":"C160 & \"-I\"","v":"2.0-I"},null,null,null,null,null,null,null,null,null,null,null,null,null,null,{"$f":"SUM($U163:$U168)+SUM($AT163:$AT168)","v":0},{"$f":"SUM($R163:$R168)+SUM($AV163:$AV168)","v":714.601},{"$f":"SUM($S163:$S168)+SUM($AW163:$AW168)","v":4954.4269999999997},{"$f":"SUM($T163:$T168)+SUM($AX163:$AX168)","v":14.136000000000001},null,{"$f":"SUM($U163:$U168)+SUM($AT163:$AT168)","v":0},{"$f":"SUM($R163:$R168)+SUM($AV163:$AV168)","v":714.601},{"$f":"SUM($S163:$S168)+SUM($AW163:$AW168)","v":4954.4269999999997},{"$f":"SUM($T163:$T168)+SUM($AX163:$AX168)","v":14.136000000000001}]
[null,null,null,null,null,{"$f":"F160 & \".2\"","v":"2.2"},"февраль",null,null,{"$f":"IF(OFFSET('Список территорий'!CK$15,$F160,0)=\"a\",\"Y\",\"N\")","v":"Y"},null,null,0,null,{"$f":"SUM(P164:Q164)","v":0},null,null,null,null,null,null,null,null,null,null,null,null,null,null,null,null,null,null,null,null,null,null,null,null,null,978.31099999999992,null,{"$f":"SUM(AR164:AS164)","v":0},null,null,null,978.31099999999992,132.13800000000001,844.28599999999994,1.887,null,null,{"$f":"C160 & \"-I\"","v":"2.0-I"}]
[null,null,null,null,null,{"$f":"F160 & \".3\"","v":"2.3"},"март",null,null,{"$f":"IF(OFFSET('Список территорий'!CL$15,$F160,0)=\"a\",\"Y\",\"N\")","v":"Y"},null,null,0,null,0,null,null,null,null,null,null,null,null,null,null,null,null,null,null,null,null,null,null,null,null,null,null,null,null,null,892.24699999999996,null,0,null,null,null,892.24699999999996,112.538,777.60199999999998,2.1070000000000002,null,null,{"$f":"C160 & \"-I\"","v":"2.0-I"}]
[null,null,null,null,null,{"$f":"F160 & \".4\"","v":"2.4"},"апрель",null,null,{"$f":"IF(OFFSET('Список территорий'!CM$15,$F160,0)=\"a\",\"Y\",\"N\")","v":"Y"},null,null,0,null,0,null,null,null,null,null,null,null,null,null,null,null,null,null,null,null,null,null,null,null,null,null,null,null,null,null,941.01699999999994,null,0,null,null,null,941.01699999999994,107.645,831.13199999999995,2.2400000000000002,null,null,{"$f":"C160 & \"-I\"","v":"2.0-I"}]
[null,null,null,null,null,{"$f":"F160 & \".5\"","v":"2.5"},"май",null,null,{"$f":"IF(OFFSET('Список территорий'!CN$15,$F160,0)=\"a\",\"Y\",\"N\")","v":"Y"},null,null,0,null,0,null,null,null,null,null,null,null,null,null,null,null,null,null,null,null,null,null,null,null,null,null,null,null,null,null,948.58699999999999,null,0,null,null,null,948.58699999999999,123.039,822.12,3.4279999999999999,null,null,{"$f":"C160 & \"-I\"","v":"2.0-I"}]
[null,null,null,null,null,{"$f":"F160 & \".6\"","v":"2.6"},"июнь",null,null,{"$f":"IF(OFFSET('Список территорий'!CO$15,$F160,0)=\"a\",\"Y\",\"N\")","v":"Y"},null,null,0,null,0,null,null,null,null,null,null,null,null,null,null,null,null,null,null,null,null,null,null,null,null,null,null,null,null,null,986.62800000000004,null,0,null,null,null,986.62800000000004,117.06699999999999,867.76,1.8009999999999999,null,null,{"$f":"C160 & \"-I\"","v":"2.0-I"}]
[null,null,null,null,null,{"$f":"F160 & \".7\"","v":"2.7"},"июль",null,null,{"$f":"IF(OFFSET('Список территорий'!CP$15,$F160,0)=\"a\",\"Y\",\"N\")","v":"Y"},null,null,0,null,0,null,null,null,null,null,null,null,null,null,null,null,null,null,null,null,null,null,null,null,null,null,null,null,null,null,843.05399999999997,null,0,null,null,null,843.05399999999997,119.15,720.6,3.3039999999999998,null,null,{"$f":"C160 & \"-II\"","v":"2.0-II"},null,null,null,null,null,null,null,null,null,null,null,null,null,null,{"$f":"SUM($U169:$U174)+SUM($AT169:$AT174)","v":0},{"$f":"SUM($R169:$R174)+SUM($AV169:$AV174)","v":755.51300000000003},{"$f":"SUM($S169:$S174)+SUM($AW169:$AW174)","v":4776.8109999999997},{"$f":"SUM($T169:$T174)+SUM($AX169:$AX174)","v":16.353000000000002},null,{"$f":"SUM($U169:$U174)+SUM($AT169:$AT174)","v":0},{"$f":"SUM($R169:$R174)+SUM($AV169:$AV174)","v":755.51300000000003},{"$f":"SUM($S169:$S174)+SUM($AW169:$AW174)","v":4776.8109999999997},{"$f":"SUM($T169:$T174)+SUM($AX169:$AX174)","v":16.353000000000002}]
[null,null,null,null,null,{"$f":"F160 & \".8\"","v":"2.8"},"август",null,null,{"$f":"IF(OFFSET('Список территорий'!CQ$15,$F160,0)=\"a\",\"Y\",\"N\")","v":"Y"},null,null,0,null,0,null,null,null,null,null,null,null,null,null,null,null,null,null,null,null,null,null,null,null,null,null,null,null,null,null,833.86400000000015,null,0,null,null,null,833.86400000000015,120.44,710.2,3.2240000000000002,null,null,{"$f":"C160 & \"-II\"","v":"2.0-II"}]
[null,null,null,null,null,{"$f":"F160 & \".9\"","v":"2.9"},"сентябрь",null,null,{"$f":"IF(OFFSET('Список территорий'!CR$15,$F160,0)=\"a\",\"Y\",\"N\")","v":"Y"},null,null,0,null,0,null,null,null,null,null,null,null,null,null,null,null,null,null,null,null,null,null,null,null,null,null,null,null,null,null,943.09099999999989,null,0,null,null,null,943.09099999999989,134.4,807.3,1.391,null,null,{"$f":"C160 & \"-II\"","v":"2.0-II"}]
[null,null,null,null,null,{"$f":"F160 & \".10\"","v":"2.10"},"октябрь",null,null,{"$f":"IF(OFFSET('Список территорий'!CS$15,$F160,0)=\"a\",\"Y\",\"N\")","v":"Y"},null,null,0,null,0,null,null,null,null,null,null,null,null,null,null,null,null,null,null,null,null,null,null,null,null,null,null,null,null,null,977.55,null,0,null,null,null,977.55,121.8,852.7,3.05,null,null,{"$f":"C160 & \"-II\"","v":"2.0-II"}]
[null,null,null,null,null,{"$f":"F160 & \".11\"","v":"2.11"},"ноябрь",null,null,{"$f":"IF(OFFSET('Список территорий'!CT$15,$F160,0)=\"a\",\"Y\",\"N\")","v":"Y"},null,null,0,null,0,null,null,null,null,null,null,null,null,null,null,null,null,null,null,null,null,null,null,null,null,null,null,null,null,null,975.524,null,0,null,null,null,975.524,144.6,827.6,3.3239999999999998,null,null,{"$f":"C160 & \"-II\"","v":"2.0-II"}]
[null,null,null,null,null,{"$f":"F160 & \".12\"","v":"2.12"},"декабрь",null,null,{"$f":"IF(OFFSET('Список территорий'!CU$15,$F160,0)=\"a\",\"Y\",\"N\")","v":"Y"},null,null,0,null,0,null,null,null,null,null,null,null,null,null,null,null,null,null,null,null,null,null,null,null,null,null,null,null,null,null,975.59399999999994,null,0,null,null,null,975.59399999999994,115.123,858.41099999999994,2.06,null,null,{"$f":"C160 & \"-II\"","v":"2.0-II"}]
[]
[]
[]
[]
[]
[]
[]
[]
[]
[]
[]
[]
[]
[null,null,null,null,null,null,"Добавить"]

{"sheet":"БТр","index":13,"n_rows":188,"n_cols":103,"rows_kept":188,"cut":false,"hidden":false,"merged":[[131,6,132,6],[133,2,145,2],[146,2,158,2],[159,1,186,1],[159,5,160,5],[159,6,160,6],[161,2,173,2],[174,2,186,2],[56,1,83,1],[58,2,70,2],[119,5,122,5],[131,1,158,1],[131,5,132,5],[56,5,57,5],[71,2,83,2],[0,1,27,1],[2,2,14,2],[15,2,27,2],[0,6,1,6],[0,5,1,5],[56,6,57,6],[119,10,122,10],[119,9,122,9],[119,7,122,7],[127,6,128,6],[125,6,126,6],[119,6,122,6],[119,8,122,8],[120,18,122,18],[119,11,122,11],[119,12,119,19],[120,17,122,17],[130,67,130,76],[120,16,122,16],[121,15,122,15],[120,13,120,15],[120,12,122,12],[120,19,122,19],[121,13,122,13],[121,14,122,14]]}
[null,null,{"$f":"F3","v":"0.0"},"-",null,{"$f":"B1","v":0},null,null,null,null,null,null,null,null,null,null,null,null,null,null,null,null,null,null,null,null,null,null,null,null,null,null,null,null,null,null,null,null,null,null,null,null,null,null,null,null,null,null,null,null,null,null,"TOTAL_ORG"]
[]
[null,null,null,null,null,{"$f":"F1 & \".0\"","v":"0.0"},"год",null,null,null,null,null,null,null,null,null,null,null,null,null,null,null,null,null,null,null,null,null,null,null,null,null,null,null,null,null,null,null,null,null,null,null,null,null,null,null,null,null,null,null,null,null,"TOTAL_ORG_YEAR",{"$f":"C1 & \".YEAR\"","v":"0.0.YEAR"},null,null,null,null,null,null,null,null,null,null,null,null,null,{"$f":"SUM($Q4:$Q15)","v":0},{"$f":"SUM($R4:$R15)","v":0},{"$f":"SUM($S4:$S15)","v":0},{"$f":"SUM($T4:$T15)","v":0},{"$f":"SUM($N4:$N15)","v":0},{"$f":"SUM($Q4:$Q15)","v":0},{"$f":"SUM($R4:$R15)","v":0},{"$f":"SUM($S4:$S15)","v":0},{"$f":"SUM($T4:$T15)","v":0},{"$f":"SUM($N4:$N15)","v":0},null,null,null,null,null,{"$f":"SUM($Q4:$Q9)","v":0},{"$f":"SUM($R4:$R9)","v":0},{"$f":"SUM($S4:$S9)","v":0},{"$f":"SUM($T4:$T9)","v":0},{"$f":"SUM($N4:$N9)","v":0},{"$f":"SUM($Q10:$Q15)","v":0},{"$f":"SUM($R10:$R15)","v":0},{"$f":"SUM($S10:$S15)","v":0},{"$f":"SUM($T10:$T15)","v":0},{"$f":"SUM($N10:$N15)","v":0}]
[null,null,null,null,null,{"$f":"F1 & \".1\"","v":"0.1"},"январь",null,null,null,null,null,null,null,null,null,null,null,null,null,null,null,null,null,null,null,null,null,null,null,null,null,null,null,null,null,null,null,null,null,null,null,null,null,null,null,null,null,null,null,null,null,{"$f":"C1 & \"-I\"","v":"0.0-I"},null,null,null,null,null,null,null,null,null,null,null,null,null,null,null,null,null,null,null,null,null,null,null,null,null,null,null,null,null,null,null,null,null,null,null,null,null,null,null,null,null,null,null,null,{"$f":"IF(OR(BP3=0,CE3=0,BP3=\"\"),0,CE3/BP3)","v":0},{"$f":"IF(OR(BQ3=0,CF3=0,BQ3=\"\"),0,CF3/BQ3)","v":0},{"$f":"IF(OR(BR3=0,CG3=0,BR3=\"\"),0,CG3/BR3)","v":0},{"$f":"IF(OR(BS3=0,CH3=0,BS3=\"\"),0,CH3/BS3)","v":0},{"$f":"IF(OR(BT3=0,CI3=0,BT3=\"\"),0,CI3/BT3)","v":0},{"$f":"IF(OR(SUM(BP3:BT3)=0,SUM(CE3:CI3)=0),0,SUM(CE3:CI3)/SUM(BP3:BT3))","v":0}]
[null,null,null,null,null,{"$f":"F1 & \".2\"","v":"0.2"},"февраль",null,null,null,null,null,null,null,null,null,null,null,null,null,null,null,null,null,null,null,null,null,null,null,null,null,null,null,null,null,null,null,null,null,null,null,null,null,null,null,null,null,null,null,null,null,{"$f":"C1 & \"-I\"","v":"0.0-I"}]
[null,null,null,null,null,{"$f":"F1 & \".3\"","v":"0.3"},"март",null,null,null,null,null,null,null,null,null,null,null,null,null,null,null,null,null,null,null,null,null,null,null,null,null,null,null,null,null,null,null,null,null,null,null,null,null,null,null,null,null,null,null,null,null,{"$f":"C1 & \"-I\"","v":"0.0-I"}]
[null,null,null,null,null,{"$f":"F1 & \".4\"","v":"0.4"},"апрель",null,null,null,null,null,null,null,null,null,null,null,null,null,null,null,null,null,null,null,null,null,null,null,null,null,null,null,null,null,null,null,null,null,null,null,null,null,null,null,null,null,null,null,null,null,{"$f":"C1 & \"-I\"","v":"0.0-I"}]
[null,null,null,null,null,{"$f":"F1 & \".5\"","v":"0.5"},"май",null,null,null,null,null,null,null,null,null,null,null,null,null,null,null,null,null,null,null,null,null,null,null,null,null,null,null,null,null,null,null,null,null,null,null,null,null,null,null,null,null,null,null,null,null,{"$f":"C1 & \"-I\"","v":"0.0-I"}]
[null,null,null,null,null,{"$f":"F1 & \".6\"","v":"0.6"},"июнь",null,null,null,null,null,null,null,null,null,null,null,null,null,null,null,null,null,null,null,null,null,null,null,null,null,null,null,null,null,null,null,null,null,null,null,null,null,null,null,null,null,null,null,null,null,{"$f":"C1 & \"-I\"","v":"0.0-I"}]
[null,null,null,null,null,{"$f":"F1 & \".7\"","v":"0.7"},"июль",null,null,null,null,null,null,null,null,null,null,null,null,null,null,null,null,null,null,null,null,null,null,null,null,null,null,null,null,null,null,null,null,null,null,null,null,null,null,null,null,null,null,null,null,null,{"$f":"C1 & \"-II\"","v":"0.0-II"},null,null,null,null,null,null,null,null,null,null,null,null,null,null,null,null,null,null,null,null,null,null,null,null,null,null,null,null,null,null,null,null,null,null,null,null,null,null,null,null,null,null,null,null,{"$f":"IF(OR(BU3=0,CJ3=0,BU3=\"\"),0,CJ3/BU3)","v":0},{"$f":"IF(OR(BV3=0,CK3=0,BV3=\"\"),0,CK3/BV3)","v":0},{"$f":"IF(OR(BW3=0,CL3=0,BW3=\"\"),0,CL3/BW3)","v":0},{"$f":"IF(OR(BX3=0,CM3=0,BX3=\"\"),0,CM3/BX3)","v":0},{"$f":"IF(OR(BY3=0,CN3=0,BY3=\"\"),0,CN3/BY3)","v":0},{"$f":"IF(OR(SUM(BU3:BY3)=0,SUM(CJ3:CN3)=0),0,SUM(CJ3:CN3)/SUM(BU3:BY3))","v":0}]
[null,null,null,null,null,{"$f":"F1 & \".8\"","v":"0.8"},"август",null,null,null,null,null,null,null,null,null,null,null,null,null,null,null,null,null,null,null,null,null,null,null,null,null,null,null,null,null,null,null,null,null,null,null,null,null,null,null,null,null,null,null,null,null,{"$f":"C1 & \"-II\"","v":"0.0-II"}]
[null,null,null,null,null,{"$f":"F1 & \".9\"","v":"0.9"},"сентябрь",null,null,null,null,null,null,null,null,null,null,null,null,null,null,null,null,null,null,null,null,null,null,null,null,null,null,null,null,null,null,null,null,null,null,null,null,null,null,null,null,null,null,null,null,null,{"$f":"C1 & \"-II\"","v":"0.0-II"}]
[null,null,null,null,null,{"$f":"F1 & \".10\"","v":"0.10"},"октябрь",null,null,null,null,null,null,null,null,null,null,null,null,null,null,null,null,null,null,null,null,null,null,null,null,null,null,null,null,null,null,null,null,null,null,null,null,null,null,null,null,null,null,null,null,null,{"$f":"C1 & \"-II\"","v":"0.0-II"}]
[null,null,null,null,null,{"$f":"F1 & \".11\"","v":"0.11"},"ноябрь",null,null,null,null,null,null,null,null,null,null,null,null,null,null,null,null,null,null,null,null,null,null,null,null,null,null,null,null,null,null,null,null,null,null,null,null,null,null,null,null,null,null,null,null,null,{"$f":"C1 & \"-II\"","v":"0.0-II"}]
[null,null,null,null,null,{"$f":"F1 & \".12\"","v":"0.12"},"декабрь",null,null,null,null,null,null,null,null,null,null,null,null,null,null,null,null,null,null,null,null,null,null,null,null,null,null,null,null,null,null,null,null,null,null,null,null,null,null,null,null,null,null,null,null,null,{"$f":"C1 & \"-II\"","v":"0.0-II"}]
[]
[]
[]
[]
[]
[]
[]
[]
[]
[]
[]
[]
[]
[]
[]
[]
[]
[]
[]
[]
[]
[]
[]
[]
[]
[]
[]
[]
[]
[]
[]
[]
[]
[]
[]
[]
[]
[]
[]
[]
[]
["TBD",null,{"$f":"F59","v":"0.0"},"-",null,{"$f":"B57","v":0},null,{"$f":"H59","v":0},{"$f":"I59","v":0},{"$f":"A57","v":"TBD"},{"$f":"K59","v":0},0,0,0,0,0,0,0,0,0,null,null,null,null,null,null,null,null,null,null,null,null,null,null,null,null,null,null,null,null,null,null,null,null,null,null,null,null,null,null,null,null,"TOTAL_ORG"]
[]
[null,null,null,null,null,{"$f":"F57 & \".0\"","v":"0.0"},"год",{"$f":"SUMIF('Список объектов'!$R$15:$R$55,$F59,'Список объектов'!$W$15:$W$55)","v":0},{"$f":"SUMIF('Список объектов'!$R$15:$R$55,$F59,'Список объектов'!$X$15:$X$55)","v":0},{"$f":"J57","v":"TBD"},null,null,{"$f":"SUM(N59,Q59,R59:T59)","v":0},{"$f":"SUM(N60:N71)","v":0},0,0,0,0,0,0,null,null,null,null,null,null,null,null,null,null,null,null,null,null,null,null,null,null,null,null,null,null,null,null,null,null,null,null,null,null,null,null,"TOTAL_ORG_YEAR",{"$f":"C57 & \".YEAR\"","v":"0.0.YEAR"},null,null,null,null,null,null,null,null,null,null,null,null,null,{"$f":"SUM($Q60:$Q71)","v":0},{"$f":"SUM($R60:$R71)","v":0},{"$f":"SUM($S60:$S71)","v":0},{"$f":"SUM($T60:$T71)","v":0},{"$f":"SUM($N60:$N71)","v":0},{"$f":"SUM($Q60:$Q71)","v":0},{"$f":"SUM($R60:$R71)","v":0},{"$f":"SUM($S60:$S71)","v":0},{"$f":"SUM($T60:$T71)","v":0},{"$f":"SUM($N60:$N71)","v":0},null,null,null,null,null,{"$f":"SUM($Q60:$Q65)","v":0},{"$f":"SUM($R60:$R65)","v":0},{"$f":"SUM($S60:$S65)","v":0},{"$f":"SUM($T60:$T65)","v":0},{"$f":"SUM($N60:$N65)","v":0},{"$f":"SUM($Q66:$Q71)","v":0},{"$f":"SUM($R66:$R71)","v":0},{"$f":"SUM($S66:$S71)","v":0},{"$f":"SUM($T66:$T71)","v":0},{"$f":"SUM($N66:$N71)","v":0}]
[null,null,null,null,null,{"$f":"F57 & \".1\"","v":"0.1"},"январь",null,null,{"$f":"IF(OFFSET('Список территорий'!CJ$15,$F57,0)=\"a\",\"Y\",\"N\")","v":"N"},null,null,0,{"$f":"SUM(O60:P60)","v":0},null,null,null,null,null,null,null,null,null,null,null,null,null,null,null,null,null,null,null,null,null,null,null,null,null,null,null,null,null,null,null,null,null,null,null,null,null,null,{"$f":"C57 & \"-I\"","v":"0.0-I"},null,null,null,null,null,null,null,null,null,null,null,null,null,null,{"$f":"SUM($Q60:$Q65)","v":0},{"$f":"SUM($R60:$R65)","v":0},{"$f":"SUM($S60:$S65)","v":0},{"$f":"SUM($T60:$T65)","v":0},{"$f":"SUM($N60:$N65)","v":0},{"$f":"SUM($Q60:$Q65)","v":0},{"$f":"SUM($R60:$R65)","v":0},{"$f":"SUM($S60:$S65)","v":0},{"$f":"SUM($T60:$T65)","v":0},{"$f":"SUM($N60:$N65)","v":0},null,null,null,null,null,null,null,null,null,null,null,null,null,null,null,null,null,null,null,null,{"$f":"IF(OR(BP59=0,CE59=0,BP59=\"\"),0,CE59/BP59)","v":0},{"$f":"IF(OR(BQ59=0,CF59=0,BQ59=\"\"),0,CF59/BQ59)","v":0},{"$f":"IF(OR(BR59=0,CG59=0,BR59=\"\"),0,CG59/BR59)","v":0},{"$f":"IF(OR(BS59=0,CH59=0,BS59=\"\"),0,CH59/BS59)","v":0},{"$f":"IF(OR(BT59=0,CI59=0,BT59=\"\"),0,CI59/BT59)","v":0},{"$f":"IF(OR(SUM(BP59:BT59)=0,SUM(CE59:CI59)=0),0,SUM(CE59:CI59)/SUM(BP59:BT59))","v":0}]
[null,null,null,null,null,{"$f":"F57 & \".2\"","v":"0.2"},"февраль",null,null,{"$f":"IF(OFFSET('Список территорий'!CK$15,$F57,0)=\"a\",\"Y\",\"N\")","v":"N"},null,null,0,{"$f":"SUM(O61:P61)","v":0},null,null,null,null,null,null,null,null,null,null,null,null,null,null,null,null,null,null,null,null,null,null,null,null,null,null,null,null,null,null,null,null,null,null,null,null,null,null,{"$f":"C57 & \"-I\"","v":"0.0-I"}]
[null,null,null,null,null,{"$f":"F57 & \".3\"","v":"0.3"},"март",null,null,{"$f":"IF(OFFSET('Список территорий'!CL$15,$F57,0)=\"a\",\"Y\",\"N\")","v":"N"},null,null,0,0,null,null,null,null,null,null,null,null,null,null,null,null,null,null,null,null,null,null,null,null,null,null,null,null,null,null,null,null,null,null,null,null,null,null,null,null,null,null,{"$f":"C57 & \"-I\"","v":"0.0-I"}]
[null,null,null,null,null,{"$f":"F57 & \".4\"","v":"0.4"},"апрель",null,null,{"$f":"IF(OFFSET('Список территорий'!CM$15,$F57,0)=\"a\",\"Y\",\"N\")","v":"N"},null,null,0,0,null,null,null,null,null,null,null,null,null,null,null,null,null,null,null,null,null,null,null,null,null,null,null,null,null,null,null,null,null,null,null,null,null,null,null,null,null,null,{"$f":"C57 & \"-I\"","v":"0.0-I"}]
[null,null,null,null,null,{"$f":"F57 & \".5\"","v":"0.5"},"май",null,null,{"$f":"IF(OFFSET('Список территорий'!CN$15,$F57,0)=\"a\",\"Y\",\"N\")","v":"N"},null,null,0,0,null,null,null,null,null,null,null,null,null,null,null,null,null,null,null,null,null,null,null,null,null,null,null,null,null,null,null,null,null,null,null,null,null,null,null,null,null,null,{"$f":"C57 & \"-I\"","v":"0.0-I"}]
[null,null,null,null,null,{"$f":"F57 & \".6\"","v":"0.6"},"июнь",null,null,{"$f":"IF(OFFSET('Список территорий'!CO$15,$F57,0)=\"a\",\"Y\",\"N\")","v":"N"},null,null,0,0,null,null,null,null,null,null,null,null,null,null,null,null,null,null,null,null,null,null,null,null,null,null,null,null,null,null,null,null,null,null,null,null,null,null,null,null,null,null,{"$f":"C57 & \"-I\"","v":"0.0-I"}]
[null,null,null,null,null,{"$f":"F57 & \".7\"","v":"0.7"},"июль",null,null,{"$f":"IF(OFFSET('Список территорий'!CP$15,$F57,0)=\"a\",\"Y\",\"N\")","v":"N"},null,null,0,0,null,null,null,null,null,null,null,null,null,null,null,null,null,null,null,null,null,null,null,null,null,null,null,null,null,null,null,null,null,null,null,null,null,null,null,null,null,null,{"$f":"C57 & \"-II\"","v":"0.0-II"},null,null,null,null,null,null,null,null,null,null,null,null,null,null,{"$f":"SUM($Q66:$Q71)","v":0},{"$f":"SUM($R66:$R71)","v":0},{"$f":"SUM($S66:$S71)","v":0},{"$f":"SUM($T66:$T71)","v":0},{"$f":"SUM($N66:$N71)","v":0},{"$f":"SUM($Q66:$Q71)","v":0},{"$f":"SUM($R66:$R71)","v":0},{"$f":"SUM($S66:$S71)","v":0},{"$f":"SUM($T66:$T71)","v":0},{"$f":"SUM($N66:$N71)","v":0},null,null,null,null,null,null,null,null,null,null,null,null,null,null,null,null,null,null,null,null,{"$f":"IF(OR(BU59=0,CJ59=0,BU59=\"\"),0,CJ59/BU59)","v":0},{"$f":"IF(OR(BV59=0,CK59=0,BV59=\"\"),0,CK59/BV59)","v":0},{"$f":"IF(OR(BW59=0,CL59=0,BW59=\"\"),0,CL59/BW59)","v":0},{"$f":"IF(OR(BX59=0,CM59=0,BX59=\"\"),0,CM59/BX59)","v":0},{"$f":"IF(OR(BY59=0,CN59=0,BY59=\"\"),0,CN59/BY59)","v":0},{"$f":"IF(OR(SUM(BU59:BY59)=0,SUM(CJ59:CN59)=0),0,SUM(CJ59:CN59)/SUM(BU59:BY59))","v":0}]
[null,null,null,null,null,{"$f":"F57 & \".8\"","v":"0.8"},"август",null,null,{"$f":"IF(OFFSET('Список территорий'!CQ$15,$F57,0)=\"a\",\"Y\",\"N\")","v":"N"},null,null,0,0,null,null,null,null,null,null,null,null,null,null,null,null,null,null,null,null,null,null,null,null,null,null,null,null,null,null,null,null,null,null,null,null,null,null,null,null,null,null,{"$f":"C57 & \"-II\"","v":"0.0-II"}]
[null,null,null,null,null,{"$f":"F57 & \".9\"","v":"0.9"},"сентябрь",null,null,{"$f":"IF(OFFSET('Список территорий'!CR$15,$F57,0)=\"a\",\"Y\",\"N\")","v":"N"},null,null,0,0,null,null,null,null,null,null,null,null,null,null,null,null,null,null,null,null,null,null,null,null,null,null,null,null,null,null,null,null,null,null,null,null,null,null,null,null,null,null,{"$f":"C57 & \"-II\"","v":"0.0-II"}]
[null,null,null,null,null,{"$f":"F57 & \".10\"","v":"0.10"},"октябрь",null,null,{"$f":"IF(OFFSET('Список территорий'!CS$15,$F57,0)=\"a\",\"Y\",\"N\")","v":"N"},null,null,0,0,null,null,null,null,null,null,null,null,null,null,null,null,null,null,null,null,null,null,null,null,null,null,null,null,null,null,null,null,null,null,null,null,null,null,null,null,null,null,{"$f":"C57 & \"-II\"","v":"0.0-II"}]
[null,null,null,null,null,{"$f":"F57 & \".11\"","v":"0.11"},"ноябрь",null,null,{"$f":"IF(OFFSET('Список территорий'!CT$15,$F57,0)=\"a\",\"Y\",\"N\")","v":"N"},null,null,0,0,null,null,null,null,null,null,null,null,null,null,null,null,null,null,null,null,null,null,null,null,null,null,null,null,null,null,null,null,null,null,null,null,null,null,null,null,null,null,{"$f":"C57 & \"-II\"","v":"0.0-II"}]
[null,null,null,null,null,{"$f":"F57 & \".12\"","v":"0.12"},"декабрь",null,null,{"$f":"IF(OFFSET('Список территорий'!CU$15,$F57,0)=\"a\",\"Y\",\"N\")","v":"N"},null,null,0,0,null,null,null,null,null,null,null,null,null,null,null,null,null,null,null,null,null,null,null,null,null,null,null,null,null,null,null,null,null,null,null,null,null,null,null,null,null,null,{"$f":"C57 & \"-II\"","v":"0.0-II"}]
[]
[]
[]
[]
[]
[]
[]
[]
[]
[]
[]
[]
[]
[]
[]
[]
[]
[]
[]
[]
[]
[]
[]
[]
[]
[]
[]
[]
[]
[]
[]
[]
[]
[]
[]
[]
[]
[]
[]
[]
[]
[]
[]
[]
[]
[]
[null,null,null,null,null,{"$f":"\"Баланс \" & TEMPLATE_SPHERE & \" (транспортировка)\"","v":"Баланс теплоснабжения (транспортировка)"}]
[null,null,null,null,null,"Гкал"]
[null,null,null,null,null,"№ п/п","Субъект баланса","Установленная тепловая мощность, Гкал/час","Подключённая (фактическая) тепловая нагрузка, Гкал/час","Вид(-ы) теплоносителя(-ей)","Принято тепловой энергии для передачи (транспортировки)","Потери","Отпуск тепловой энергии"]
[null,null,null,null,null,null,null,null,null,null,null,null,"Всего","Передано на нужды организации",null,null,"Энерго-снабжающие организации","Бюджетные потребители","Население","Прочие потребители"]
[null,null,null,null,null,null,null,null,null,null,null,null,null,"Всего","На собственное производство","На хозяйственные нужды"]
[]
[null,null,null,null,null,null,"А","IC","CL","Б",1,2,"3","3.1","3.1.1","3.1.2","3.2","3.3","3.4","3.5",null,null,null,null,null,null,null,null,null,null,null,null,null,null,null,null,null,null,null,null,null,null,null,null,null,null,null,null,null,null,null,null,null,null,null,null,null,null,null,null,null,null,null,null,null,null,null,"RESELLERS_I","BUDGET_I","POPULATION_I","OTHERS_I","OWN_I","RESELLERS_II","BUDGET_II","POPULATION_II","OTHERS_II","OWN_II"]
[]
[null,null,null,"-",null,{"$f":"IF(TEMPLATE_SPHERE_CODE=\"COLDVSNA\",\"0.1.P\",\"0.1\")","v":"0.1"},"Всего по организации",null,null,null,{"$f":"SUMIF($BA131:$BA188,$BA126,K131:K188)","v":0},0,0,0,0,0,0,0,0,0,null,null,null,null,null,null,null,null,null,null,null,null,null,null,null,null,null,null,null,null,null,null,null,null,null,null,null,null,null,null,null,null,"TOTAL_ORG_YEAR"]
[null,null,null,null,null,{"$f":"IF(TEMPLATE_SPHERE_CODE=\"COLDVSNA\",\"0.1.T\",\"\")","v":""}]
[]
[]
[]
[null,0,null,null,null,null,null,null,null,null,null,null,null,null,null,null,null,null,null,null,null,null,null,null,null,null,null,null,null,null,null,null,null,null,null,null,null,null,null,null,null,null,null,null,null,null,null,null,null,null,null,null,null,null,null,null,null,null,null,null,null,null,null,null,null,null,null,"Сумма объёмов по периодам (I, II)"]
[{"$f":"IF('Список территорий'!$AC$16=\"\",\"Не определено\",'Список территорий'!$AC$16)","v":"Тариф: Носитель - горячая вода (Т)"},"1",{"$f":"F134","v":"1.0"},"-","Удалить",{"$f":"B132","v":"1"},{"$f":"IF('Список территорий'!$I$16=\"\",\"Не определено\",'Список территорий'!$G$16 & \" / \" & 'Список территорий'!$H$16 & \" / \" & 'Список территорий'!$I$16)","v":"город Салехард / город Салехард / 71951000"},null,null,null,null,null,null,null,null,null,null,null,null,null,null,null,null,null,null,null,null,null,null,null,null,null,null,null,null,null,null,null,null,null,null,null,null,null,null,null,null,null,null,null,null,null,"TOTAL_ORG"]
[]
[null,null,null,null,null,{"$f":"F132 & \".0\"","v":"1.0"},"год",null,null,null,null,null,null,null,null,null,null,null,null,null,null,null,null,null,null,null,null,null,null,null,null,null,null,null,null,null,null,null,null,null,null,null,null,null,null,null,null,null,null,null,null,null,"TOTAL_ORG_YEAR",{"$f":"C132 & \".YEAR\"","v":"1.0.YEAR"},null,null,null,null,null,null,null,null,null,null,null,null,null,{"$f":"SUM($Q135:$Q146)","v":0},{"$f":"SUM($R135:$R146)","v":0},{"$f":"SUM($S135:$S146)","v":0},{"$f":"SUM($T135:$T146)","v":0},{"$f":"SUM($N135:$N146)","v":0},{"$f":"SUM($Q135:$Q146)","v":0},{"$f":"SUM($R135:$R146)","v":0},{"$f":"SUM($S135:$S146)","v":0},{"$f":"SUM($T135:$T146)","v":0},{"$f":"SUM($N135:$N146)","v":0},null,null,null,null,null,{"$f":"SUM($Q135:$Q140)","v":0},{"$f":"SUM($R135:$R140)","v":0},{"$f":"SUM($S135:$S140)","v":0},{"$f":"SUM($T135:$T140)","v":0},{"$f":"SUM($N135:$N140)","v":0},{"$f":"SUM($Q141:$Q146)","v":0},{"$f":"SUM($R141:$R146)","v":0},{"$f":"SUM($S141:$S146)","v":0},{"$f":"SUM($T141:$T146)","v":0},{"$f":"SUM($N141:$N146)","v":0}]
[null,null,null,null,null,{"$f":"F132 & \".1\"","v":"1.1"},"январь",null,null,null,null,null,null,null,null,null,null,null,null,null,null,null,null,null,null,null,null,null,null,null,null,null,null,null,null,null,null,null,null,null,null,null,null,null,null,null,null,null,null,null,null,null,{"$f":"C132 & \"-I\"","v":"1.0-I"},null,null,null,null,null,null,null,null,null,null,null,null,null,null,null,null,null,null,null,null,null,null,null,null,null,null,null,null,null,null,null,null,null,null,null,null,null,null,null,null,null,null,null,null,{"$f":"IF(OR(BP134=0,CE134=0,BP134=\"\"),0,CE134/BP134)","v":0},{"$f":"IF(OR(BQ134=0,CF134=0,BQ134=\"\"),0,CF134/BQ134)","v":0},{"$f":"IF(OR(BR134=0,CG134=0,BR134=\"\"),0,CG134/BR134)","v":0},{"$f":"IF(OR(BS134=0,CH134=0,BS134=\"\"),0,CH134/BS134)","v":0},{"$f":"IF(OR(BT134=0,CI134=0,BT134=\"\"),0,CI134/BT134)","v":0},{"$f":"IF(OR(SUM(BP134:BT134)=0,SUM(CE134:CI134)=0),0,SUM(CE134:CI134)/SUM(BP134:BT134))","v":0}]
[null,null,null,null,null,{"$f":"F132 & \".2\"","v":"1.2"},"февраль",null,null,null,null,null,null,null,null,null,null,null,null,null,null,null,null,null,null,null,null,null,null,null,null,null,null,null,null,null,null,null,null,null,null,null,null,null,null,null,null,null,null,null,null,null,{"$f":"C132 & \"-I\"","v":"1.0-I"}]
[null,null,null,null,null,{"$f":"F132 & \".3\"","v":"1.3"},"март",null,null,null,null,null,null,null,null,null,null,null,null,null,null,null,null,null,null,null,null,null,null,null,null,null,null,null,null,null,null,null,null,null,null,null,null,null,null,null,null,null,null,null,null,null,{"$f":"C132 & \"-I\"","v":"1.0-I"}]
[null,null,null,null,null,{"$f":"F132 & \".4\"","v":"1.4"},"апрель",null,null,null,null,null,null,null,null,null,null,null,null,null,null,null,null,null,null,null,null,null,null,null,null,null,null,null,null,null,null,null,null,null,null,null,null,null,null,null,null,null,null,null,null,null,{"$f":"C132 & \"-I\"","v":"1.0-I"}]
[null,null,null,null,null,{"$f":"F132 & \".5\"","v":"1.5"},"май",null,null,null,null,null,null,null,null,null,null,null,null,null,null,null,null,null,null,null,null,null,null,null,null,null,null,null,null,null,null,null,null,null,null,null,null,null,null,null,null,null,null,null,null,null,{"$f":"C132 & \"-I\"","v":"1.0-I"}]
[null,null,null,null,null,{"$f":"F132 & \".6\"","v":"1.6"},"июнь",null,null,null,null,null,null,null,null,null,null,null,null,null,null,null,null,null,null,null,null,null,null,null,null,null,null,null,null,null,null,null,null,null,null,null,null,null,null,null,null,null,null,null,null,null,{"$f":"C132 & \"-I\"","v":"1.0-I"}]
[null,null,null,null,null,{"$f":"F132 & \".7\"","v":"1.7"},"июль",null,null,null,null,null,null,null,null,null,null,null,null,null,null,null,null,null,null,null,null,null,null,null,null,null,null,null,null,null,null,null,null,null,null,null,null,null,null,null,null,null,null,null,null,null,{"$f":"C132 & \"-II\"","v":"1.0-II"},null,null,null,null,null,null,null,null,null,null,null,null,null,null,null,null,null,null,null,null,null,null,null,null,null,null,null,null,null,null,null,null,null,null,null,null,null,null,null,null,null,null,null,null,{"$f":"IF(OR(BU134=0,CJ134=0,BU134=\"\"),0,CJ134/BU134)","v":0},{"$f":"IF(OR(BV134=0,CK134=0,BV134=\"\"),0,CK134/BV134)","v":0},{"$f":"IF(OR(BW134=0,CL134=0,BW134=\"\"),0,CL134/BW134)","v":0},{"$f":"IF(OR(BX134=0,CM134=0,BX134=\"\"),0,CM134/BX134)","v":0},{"$f":"IF(OR(BY134=0,CN134=0,BY134=\"\"),0,CN134/BY134)","v":0},{"$f":"IF(OR(SUM(BU134:BY134)=0,SUM(CJ134:CN134)=0),0,SUM(CJ134:CN134)/SUM(BU134:BY134))","v":0}]
[null,null,null,null,null,{"$f":"F132 & \".8\"","v":"1.8"},"август",null,null,null,null,null,null,null,null,null,null,null,null,null,null,null,null,null,null,null,null,null,null,null,null,null,null,null,null,null,null,null,null,null,null,null,null,null,null,null,null,null,null,null,null,null,{"$f":"C132 & \"-II\"","v":"1.0-II"}]
[null,null,null,null,null,{"$f":"F132 & \".9\"","v":"1.9"},"сентябрь",null,null,null,null,null,null,null,null,null,null,null,null,null,null,null,null,null,null,null,null,null,null,null,null,null,null,null,null,null,null,null,null,null,null,null,null,null,null,null,null,null,null,null,null,null,{"$f":"C132 & \"-II\"","v":"1.0-II"}]
[null,null,null,null,null,{"$f":"F132 & \".10\"","v":"1.10"},"октябрь",null,null,null,null,null,null,null,null,null,null,null,null,null,null,null,null,null,null,null,null,null,null,null,null,null,null,null,null,null,null,null,null,null,null,null,null,null,null,null,null,null,null,null,null,null,{"$f":"C132 & \"-II\"","v":"1.0-II"}]
[null,null,null,null,null,{"$f":"F132 & \".11\"","v":"1.11"},"ноябрь",null,null,null,null,null,null,null,null,null,null,null,null,null,null,null,null,null,null,null,null,null,null,null,null,null,null,null,null,null,null,null,null,null,null,null,null,null,null,null,null,null,null,null,null,null,{"$f":"C132 & \"-II\"","v":"1.0-II"}]
[null,null,null,null,null,{"$f":"F132 & \".12\"","v":"1.12"},"декабрь",null,null,null,null,null,null,null,null,null,null,null,null,null,null,null,null,null,null,null,null,null,null,null,null,null,null,null,null,null,null,null,null,null,null,null,null,null,null,null,null,null,null,null,null,null,{"$f":"C132 & \"-II\"","v":"1.0-II"}]
[]
[]
[]
[]
[]
[]
[]
[]
[]
[]
[]
[]
[]
[{"$f":"IF('Список территорий'!$AC$17=\"\",\"Не определено\",'Список территорий'!$AC$17)","v":"Тариф: Носитель - горячая вода (К)"},"2",{"$f":"F162","v":"2.0"},"-","Удалить",{"$f":"B160","v":"2"},{"$f":"IF('Список территорий'!$I$17=\"\",\"Не определено\",'Список территорий'!$G$17 & \" / \" & 'Список территорий'!$H$17 & \" / \" & 'Список территорий'!$I$17)","v":"город Салехард / город Салехард / 71951000"},null,null,null,null,null,null,null,null,null,null,null,null,null,null,null,null,null,null,null,null,null,null,null,null,null,null,null,null,null,null,null,null,null,null,null,null,null,null,null,null,null,null,null,null,null,"TOTAL_ORG"]
[]
[null,null,null,null,null,{"$f":"F160 & \".0\"","v":"2.0"},"год",null,null,null,null,null,null,null,null,null,null,null,null,null,null,null,null,null,null,null,null,null,null,null,null,null,null,null,null,null,null,null,null,null,null,null,null,null,null,null,null,null,null,null,null,null,"TOTAL_ORG_YEAR",{"$f":"C160 & \".YEAR\"","v":"2.0.YEAR"},null,null,null,null,null,null,null,null,null,null,null,null,null,{"$f":"SUM($Q163:$Q174)","v":0},{"$f":"SUM($R163:$R174)","v":0},{"$f":"SUM($S163:$S174)","v":0},{"$f":"SUM($T163:$T174)","v":0},{"$f":"SUM($N163:$N174)","v":0},{"$f":"SUM($Q163:$Q174)","v":0},{"$f":"SUM($R163:$R174)","v":0},{"$f":"SUM($S163:$S174)","v":0},{"$f":"SUM($T163:$T174)","v":0},{"$f":"SUM($N163:$N174)","v":0},null,null,null,null,null,{"$f":"SUM($Q163:$Q168)","v":0},{"$f":"SUM($R163:$R168)","v":0},{"$f":"SUM($S163:$S168)","v":0},{"$f":"SUM($T163:$T168)","v":0},{"$f":"SUM($N163:$N168)","v":0},{"$f":"SUM($Q169:$Q174)","v":0},{"$f":"SUM($R169:$R174)","v":0},{"$f":"SUM($S169:$S174)","v":0},{"$f":"SUM($T169:$T174)","v":0},{"$f":"SUM($N169:$N174)","v":0}]
[null,null,null,null,null,{"$f":"F160 & \".1\"","v":"2.1"},"январь",null,null,null,null,null,null,null,null,null,null,null,null,null,null,null,null,null,null,null,null,null,null,null,null,null,null,null,null,null,null,null,null,null,null,null,null,null,null,null,null,null,null,null,null,null,{"$f":"C160 & \"-I\"","v":"2.0-I"},null,null,null,null,null,null,null,null,null,null,null,null,null,null,null,null,null,null,null,null,null,null,null,null,null,null,null,null,null,null,null,null,null,null,null,null,null,null,null,null,null,null,null,null,{"$f":"IF(OR(BP162=0,CE162=0,BP162=\"\"),0,CE162/BP162)","v":0},{"$f":"IF(OR(BQ162=0,CF162=0,BQ162=\"\"),0,CF162/BQ162)","v":0},{"$f":"IF(OR(BR162=0,CG162=0,BR162=\"\"),0,CG162/BR162)","v":0},{"$f":"IF(OR(BS162=0,CH162=0,BS162=\"\"),0,CH162/BS162)","v":0},{"$f":"IF(OR(BT162=0,CI162=0,BT162=\"\"),0,CI162/BT162)","v":0},{"$f":"IF(OR(SUM(BP162:BT162)=0,SUM(CE162:CI162)=0),0,SUM(CE162:CI162)/SUM(BP162:BT162))","v":0}]
[null,null,null,null,null,{"$f":"F160 & \".2\"","v":"2.2"},"февраль",null,null,null,null,null,null,null,null,null,null,null,null,null,null,null,null,null,null,null,null,null,null,null,null,null,null,null,null,null,null,null,null,null,null,null,null,null,null,null,null,null,null,null,null,null,{"$f":"C160 & \"-I\"","v":"2.0-I"}]
[null,null,null,null,null,{"$f":"F160 & \".3\"","v":"2.3"},"март",null,null,null,null,null,null,null,null,null,null,null,null,null,null,null,null,null,null,null,null,null,null,null,null,null,null,null,null,null,null,null,null,null,null,null,null,null,null,null,null,null,null,null,null,null,{"$f":"C160 & \"-I\"","v":"2.0-I"}]
[null,null,null,null,null,{"$f":"F160 & \".4\"","v":"2.4"},"апрель",null,null,null,null,null,null,null,null,null,null,null,null,null,null,null,null,null,null,null,null,null,null,null,null,null,null,null,null,null,null,null,null,null,null,null,null,null,null,null,null,null,null,null,null,null,{"$f":"C160 & \"-I\"","v":"2.0-I"}]
[null,null,null,null,null,{"$f":"F160 & \".5\"","v":"2.5"},"май",null,null,null,null,null,null,null,null,null,null,null,null,null,null,null,null,null,null,null,null,null,null,null,null,null,null,null,null,null,null,null,null,null,null,null,null,null,null,null,null,null,null,null,null,null,{"$f":"C160 & \"-I\"","v":"2.0-I"}]
[null,null,null,null,null,{"$f":"F160 & \".6\"","v":"2.6"},"июнь",null,null,null,null,null,null,null,null,null,null,null,null,null,null,null,null,null,null,null,null,null,null,null,null,null,null,null,null,null,null,null,null,null,null,null,null,null,null,null,null,null,null,null,null,null,{"$f":"C160 & \"-I\"","v":"2.0-I"}]
[null,null,null,null,null,{"$f":"F160 & \".7\"","v":"2.7"},"июль",null,null,null,null,null,null,null,null,null,null,null,null,null,null,null,null,null,null,null,null,null,null,null,null,null,null,null,null,null,null,null,null,null,null,null,null,null,null,null,null,null,null,null,null,null,{"$f":"C160 & \"-II\"","v":"2.0-II"},null,null,null,null,null,null,null,null,null,null,null,null,null,null,null,null,null,null,null,null,null,null,null,null,null,null,null,null,null,null,null,null,null,null,null,null,null,null,null,null,null,null,null,null,{"$f":"IF(OR(BU162=0,CJ162=0,BU162=\"\"),0,CJ162/BU162)","v":0},{"$f":"IF(OR(BV162=0,CK162=0,BV162=\"\"),0,CK162/BV162)","v":0},{"$f":"IF(OR(BW162=0,CL162=0,BW162=\"\"),0,CL162/BW162)","v":0},{"$f":"IF(OR(BX162=0,CM162=0,BX162=\"\"),0,CM162/BX162)","v":0},{"$f":"IF(OR(BY162=0,CN162=0,BY162=\"\"),0,CN162/BY162)","v":0},{"$f":"IF(OR(SUM(BU162:BY162)=0,SUM(CJ162:CN162)=0),0,SUM(CJ162:CN162)/SUM(BU162:BY162))","v":0}]
[null,null,null,null,null,{"$f":"F160 & \".8\"","v":"2.8"},"август",null,null,null,null,null,null,null,null,null,null,null,null,null,null,null,null,null,null,null,null,null,null,null,null,null,null,null,null,null,null,null,null,null,null,null,null,null,null,null,null,null,null,null,null,null,{"$f":"C160 & \"-II\"","v":"2.0-II"}]
[null,null,null,null,null,{"$f":"F160 & \".9\"","v":"2.9"},"сентябрь",null,null,null,null,null,null,null,null,null,null,null,null,null,null,null,null,null,null,null,null,null,null,null,null,null,null,null,null,null,null,null,null,null,null,null,null,null,null,null,null,null,null,null,null,null,{"$f":"C160 & \"-II\"","v":"2.0-II"}]
[null,null,null,null,null,{"$f":"F160 & \".10\"","v":"2.10"},"октябрь",null,null,null,null,null,null,null,null,null,null,null,null,null,null,null,null,null,null,null,null,null,null,null,null,null,null,null,null,null,null,null,null,null,null,null,null,null,null,null,null,null,null,null,null,null,{"$f":"C160 & \"-II\"","v":"2.0-II"}]
[null,null,null,null,null,{"$f":"F160 & \".11\"","v":"2.11"},"ноябрь",null,null,null,null,null,null,null,null,null,null,null,null,null,null,null,null,null,null,null,null,null,null,null,null,null,null,null,null,null,null,null,null,null,null,null,null,null,null,null,null,null,null,null,null,null,{"$f":"C160 & \"-II\"","v":"2.0-II"}]
[null,null,null,null,null,{"$f":"F160 & \".12\"","v":"2.12"},"декабрь",null,null,null,null,null,null,null,null,null,null,null,null,null,null,null,null,null,null,null,null,null,null,null,null,null,null,null,null,null,null,null,null,null,null,null,null,null,null,null,null,null,null,null,null,null,{"$f":"C160 & \"-II\"","v":"2.0-II"}]
[]
[]
[]
[]
[]
[]
[]
[]
[]
[]
[]
[]
[]
[null,null,null,null,null,null,"Добавить"]

{"sheet":"РО","index":14,"n_rows":411,"n_cols":52,"rows_kept":411,"cut":false,"hidden":false,"merged":[[21,48,21,50],[13,48,13,50],[17,48,17,50],[18,48,18,50],[19,48,19,50],[20,48,20,50],[21,45,21,47],[12,38,13,39],[13,41,13,43],[18,38,19,38],[18,39,19,39],[18,40,19,40],[18,41,19,43],[13,45,13,47],[17,45,17,47],[18,45,18,47],[19,45,19,47],[20,45,20,47]]}
[]
[]
[]
[]
[]
[null,null,null,null,null,null,null,null,null,null,null,null,null,null,null,null,null,null,null,null,null,null,null,null,null,null,null,null,null,null,null,null,null,null,null,null,null,null,null,null,null,12,6,6,null,12,6,6,12,6,6]
[]
[]
[null,null,null,null,null,null,null,null,null,null,null,null,null,null,null,null,null,null,null,null,null,null,null,null,null,null,null,null,null,null,null,null,null,null,null,null,null,null,null,null,null,"Y","I","II",null,"Y","I","II","Y","I","II"]
[null,null,null,null,null,null,null,null,null,null,null,null,null,null,null,null,null,null,null,null,null,null,null,null,null,null,null,null,null,null,null,null,null,null,null,null,null,null,null,null,null,null,null,null,"START",null,null,null,null,null,null,"END"]
[]
[null,null,null,null,null,null,null,null,null,null,null,null,null,null,null,null,null,null,null,null,null,null,null,null,null,null,null,null,null,null,null,null,null,null,null,null,null,null,null,"Необходимо указывать значения по полугодиям (6 и 6 месяцев)"]
["FULL_MODE",null,null,null,null,null,null,null,null,null,null,null,null,null,null,null,null,null,null,null,null,null,null,null,null,null,null,null,null,null,null,null,null,null,null,null,null,null,"Расходы организации",null,"Период","Год","I полугодие","II полугодие",null,"Год","I полугодие","II полугодие","Год","I полугодие","II полугодие"]
[]
[null,null,null,null,null,null,null,null,null,null,null,null,null,null,null,null,null,null,null,null,null,null,null,null,null,null,null,null,null,null,null,null,null,null,null,null,null,null,null,null,null,null,null,null,null,{"$f":"AT17 & \"_\" & AT9","v":"1_Y"},"1_I","1_II","2_Y","2_I","2_II"]
[null,null,null,null,null,null,null,null,null,null,null,null,null,null,null,null,null,null,null,null,null,null,null,null,null,null,null,null,null,null,null,null,null,null,null,null,null,null,null,null,null,null,null,null,null,"NO_TRANSPORT","NO_TRANSPORT","NO_TRANSPORT","NO_TRANSPORT","NO_TRANSPORT","NO_TRANSPORT"]
[null,null,null,null,null,null,null,null,null,null,null,null,null,null,null,null,null,null,null,null,null,null,null,null,null,null,null,null,null,null,null,null,null,null,null,null,null,null,null,null,null,null,null,null,null,{"$f":"AT19","v":1},{"$f":"AT19","v":1},{"$f":"AT19","v":1},{"$f":"AW19","v":2},{"$f":"AW19","v":2},{"$f":"AW19","v":2}]
[null,null,null,null,null,null,null,null,null,null,null,null,null,null,null,null,null,null,null,null,null,null,null,null,null,null,null,null,null,null,null,null,null,null,null,null,null,null,null,null,null,null,null,null,null,"Удалить",null,null,"Удалить",null,null,"Добавить"]
[null,null,null,null,null,null,null,null,null,null,null,null,null,null,null,null,null,null,null,null,null,null,null,null,null,null,null,null,null,null,null,null,null,null,null,null,null,null,"№ п/п","Наименование показателя","Единица измерения","Всего по организации",null,null,0,1,null,null,2]
[null,null,null,null,null,null,null,null,null,null,null,null,null,null,null,null,null,null,null,null,null,null,null,null,null,null,null,null,null,null,null,null,null,null,null,null,null,null,null,null,null,null,null,null,null,{"$f":"IF('Список территорий'!$I$16=\"\",\"Не определено\",'Список территорий'!$G$16 & \" / \" & 'Список территорий'!$H$16 & \" / \" & 'Список территорий'!$I$16)","v":"город Салехард / город Салехард / 71951000"},null,null,{"$f":"IF('Список территорий'!$I$17=\"\",\"Не определено\",'Список территорий'!$G$17 & \" / \" & 'Список территорий'!$H$17 & \" / \" & 'Список территорий'!$I$17)","v":"город Салехард / город Салехард / 71951000"}]
[null,null,null,null,null,null,null,null,null,null,null,null,null,null,null,null,null,null,null,null,null,null,null,null,null,null,null,null,null,null,null,null,null,null,null,null,null,null,null,"Является ли организация плательщиком НДС",null,null,null,null,null,{"$f":"IF('Список территорий'!$M$16=\"\",\"Не определено\",'Список территорий'!$M$16)","v":"да"},null,null,{"$f":"IF('Список территорий'!$M$17=\"\",\"Не определено\",'Список территорий'!$M$17)","v":"да"}]
[null,null,null,null,null,null,null,null,null,null,null,null,null,null,null,null,null,null,null,null,null,null,null,null,null,null,null,null,null,null,null,null,null,null,null,null,null,null,null,null,null,null,null,null,null,{"$f":"IF('Список территорий'!$AC$16=\"\",\"Не определено\",'Список территорий'!$AC$16)","v":"Тариф: Носитель - горячая вода (Т)"},null,null,{"$f":"IF('Список территорий'!$AC$17=\"\",\"Не определено\",'Список территорий'!$AC$17)","v":"Тариф: Носитель - горячая вода (К)"}]
[]
[]
[]
[]
[]
[]
[]
[]
[]
[]
[]
[]
[]
[null,null,null,null,null,null,null,null,null,null,null,null,null,null,null,null,null,null,null,null,null,null,null,null,null,null,null,null,null,null,null,null,null,null,null,null,null,null,"4","Стоимость натурального топлива с учётом транспортировки (перевозки) (топливо на технологические цели)","тыс.руб.",{"$f":"SUMIF($AS$9:$AZ$9,AP$9,$AS36:$AZ36)","v":204099.41274490958},106827.3190611796,97272.093683729996,null,{"$f":"Т!AT36","v":198845.42626379422},{"$f":"Т!AU36","v":104237.3342118384},{"$f":"Т!AV36","v":94608.092051955828},{"$f":"Т!AW36","v":5253.9864811153748},{"$f":"Т!AX36","v":2589.9848493411996},{"$f":"Т!AY36","v":2664.0016317741752}]
[null,null,null,null,null,null,null,null,null,null,null,null,null,null,null,null,null,null,null,null,null,null,null,null,null,null,null,null,null,null,null,null,null,null,null,null,null,null,"4.NG","Газ природный","тыс.руб.",203456.57952202958,106583.79291205959,96872.78660996999,null,{"$f":"Т!AT37","v":198202.59304091422},{"$f":"Т!AU37","v":103993.8080627184},{"$f":"Т!AV37","v":94208.784978195821},{"$f":"Т!AW37","v":5253.9864811153748},{"$f":"Т!AX37","v":2589.9848493411996},{"$f":"Т!AY37","v":2664.0016317741752}]
[null,null,null,null,null,null,null,null,null,null,null,null,null,null,null,null,null,null,null,null,null,null,null,null,null,null,null,null,null,null,null,null,null,null,null,null,null,null,"4.NGL","Газ лимитный","тыс.руб.",203456.57952202958,106583.79291205959,96872.78660996999,null,{"$f":"Т!AT38","v":198202.59304091422},{"$f":"Т!AU38","v":103993.8080627184},{"$f":"Т!AV38","v":94208.784978195821},{"$f":"Т!AW38","v":5253.9864811153748},{"$f":"Т!AX38","v":2589.9848493411996},{"$f":"Т!AY38","v":2664.0016317741752}]
[null,null,null,null,null,null,null,null,null,null,null,null,null,null,null,null,null,null,null,null,null,null,null,null,null,null,null,null,null,null,null,null,null,null,null,null,null,null,"4.NGU","Газ сверхлимитный","тыс.руб.",0,0,0,null,{"$f":"Т!AT39","v":0},{"$f":"Т!AU39","v":0},{"$f":"Т!AV39","v":0},{"$f":"Т!AW39","v":0},{"$f":"Т!AX39","v":0},{"$f":"Т!AY39","v":0}]
[null,null,null,null,null,null,null,null,null,null,null,null,null,null,null,null,null,null,null,null,null,null,null,null,null,null,null,null,null,null,null,null,null,null,null,null,null,null,"4.NGC","Газ коммерческий","тыс.руб.",0,0,0,null,{"$f":"Т!AT40","v":0},{"$f":"Т!AU40","v":0},{"$f":"Т!AV40","v":0},{"$f":"Т!AW40","v":0},{"$f":"Т!AX40","v":0},{"$f":"Т!AY40","v":0}]
[null,null,null,null,null,null,null,null,null,null,null,null,null,null,null,null,null,null,null,null,null,null,null,null,null,null,null,null,null,null,null,null,null,null,null,null,null,null,"4.GBL","Газ доменный","тыс.руб.",0,0,0,null,{"$f":"Т!AT41","v":0},{"$f":"Т!AU41","v":0},{"$f":"Т!AV41","v":0},{"$f":"Т!AW41","v":0},{"$f":"Т!AX41","v":0},{"$f":"Т!AY41","v":0}]
[null,null,null,null,null,null,null,null,null,null,null,null,null,null,null,null,null,null,null,null,null,null,null,null,null,null,null,null,null,null,null,null,null,null,null,null,null,null,"4.GCK","Газ коксовый","тыс.руб.",0,0,0,null,{"$f":"Т!AT42","v":0},{"$f":"Т!AU42","v":0},{"$f":"Т!AV42","v":0},{"$f":"Т!AW42","v":0},{"$f":"Т!AX42","v":0},{"$f":"Т!AY42","v":0}]
[null,null,null,null,null,null,null,null,null,null,null,null,null,null,null,null,null,null,null,null,null,null,null,null,null,null,null,null,null,null,null,null,null,null,null,null,null,null,"4.GOA","Газ нефтяной (попутный)","тыс.руб.",0,0,0,null,{"$f":"Т!AT43","v":0},{"$f":"Т!AU43","v":0},{"$f":"Т!AV43","v":0},{"$f":"Т!AW43","v":0},{"$f":"Т!AX43","v":0},{"$f":"Т!AY43","v":0}]
[null,null,null,null,null,null,null,null,null,null,null,null,null,null,null,null,null,null,null,null,null,null,null,null,null,null,null,null,null,null,null,null,null,null,null,null,null,null,"4.DSG","Газ сухой отбензиненный","тыс.руб.",0,0,0,null,{"$f":"Т!AT44","v":0},{"$f":"Т!AU44","v":0},{"$f":"Т!AV44","v":0},{"$f":"Т!AW44","v":0},{"$f":"Т!AX44","v":0},{"$f":"Т!AY44","v":0}]
[null,null,null,null,null,null,null,null,null,null,null,null,null,null,null,null,null,null,null,null,null,null,null,null,null,null,null,null,null,null,null,null,null,null,null,null,null,null,"4.GCN","Газовый конденсат","тыс.руб.",0,0,0,null,{"$f":"Т!AT45","v":0},{"$f":"Т!AU45","v":0},{"$f":"Т!AV45","v":0},{"$f":"Т!AW45","v":0},{"$f":"Т!AX45","v":0},{"$f":"Т!AY45","v":0}]
[null,null,null,null,null,null,null,null,null,null,null,null,null,null,null,null,null,null,null,null,null,null,null,null,null,null,null,null,null,null,null,null,null,null,null,null,null,null,"4.LNG","Газ сжиженный","тыс.руб.",0,0,0,null,{"$f":"Т!AT46","v":0},{"$f":"Т!AU46","v":0},{"$f":"Т!AV46","v":0},{"$f":"Т!AW46","v":0},{"$f":"Т!AX46","v":0},{"$f":"Т!AY46","v":0}]
[null,null,null,null,null,null,null,null,null,null,null,null,null,null,null,null,null,null,null,null,null,null,null,null,null,null,null,null,null,null,null,null,null,null,null,null,null,null,"4.DSL","Дизельное топливо","тыс.руб.",642.83322287999988,243.52614911999999,399.30707375999992,null,{"$f":"Т!AT47","v":642.83322287999988},{"$f":"Т!AU47","v":243.52614911999999},{"$f":"Т!AV47","v":399.30707375999992},{"$f":"Т!AW47","v":0},{"$f":"Т!AX47","v":0},{"$f":"Т!AY47","v":0}]
[null,null,null,null,null,null,null,null,null,null,null,null,null,null,null,null,null,null,null,null,null,null,null,null,null,null,null,null,null,null,null,null,null,null,null,null,null,null,"4.DSLA","А (арктическое)","тыс.руб.",0,0,0,null,{"$f":"Т!AT48","v":0},{"$f":"Т!AU48","v":0},{"$f":"Т!AV48","v":0},{"$f":"Т!AW48","v":0},{"$f":"Т!AX48","v":0},{"$f":"Т!AY48","v":0}]
[null,null,null,null,null,null,null,null,null,null,null,null,null,null,null,null,null,null,null,null,null,null,null,null,null,null,null,null,null,null,null,null,null,null,null,null,null,null,"4.DSLW","З (зимнее)","тыс.руб.",642.83322287999988,243.52614911999999,399.30707375999992,null,{"$f":"Т!AT49","v":642.83322287999988},{"$f":"Т!AU49","v":243.52614911999999},{"$f":"Т!AV49","v":399.30707375999992},{"$f":"Т!AW49","v":0},{"$f":"Т!AX49","v":0},{"$f":"Т!AY49","v":0}]
[null,null,null,null,null,null,null,null,null,null,null,null,null,null,null,null,null,null,null,null,null,null,null,null,null,null,null,null,null,null,null,null,null,null,null,null,null,null,"4.DSLS","Л (летнее)","тыс.руб.",0,0,0,null,{"$f":"Т!AT50","v":0},{"$f":"Т!AU50","v":0},{"$f":"Т!AV50","v":0},{"$f":"Т!AW50","v":0},{"$f":"Т!AX50","v":0},{"$f":"Т!AY50","v":0}]
[null,null,null,null,null,null,null,null,null,null,null,null,null,null,null,null,null,null,null,null,null,null,null,null,null,null,null,null,null,null,null,null,null,null,null,null,null,null,"4.DSLO","Е (межсезонное)","тыс.руб.",0,0,0,null,{"$f":"Т!AT51","v":0},{"$f":"Т!AU51","v":0},{"$f":"Т!AV51","v":0},{"$f":"Т!AW51","v":0},{"$f":"Т!AX51","v":0},{"$f":"Т!AY51","v":0}]
[null,null,null,null,null,null,null,null,null,null,null,null,null,null,null,null,null,null,null,null,null,null,null,null,null,null,null,null,null,null,null,null,null,null,null,null,null,null,"4.MST","Мазут","тыс.руб.",0,0,0,null,{"$f":"Т!AT52","v":0},{"$f":"Т!AU52","v":0},{"$f":"Т!AV52","v":0},{"$f":"Т!AW52","v":0},{"$f":"Т!AX52","v":0},{"$f":"Т!AY52","v":0}]
[null,null,null,null,null,null,null,null,null,null,null,null,null,null,null,null,null,null,null,null,null,null,null,null,null,null,null,null,null,null,null,null,null,null,null,null,null,null,"4.MSTM40","М-40","тыс.руб.",0,0,0,null,{"$f":"Т!AT53","v":0},{"$f":"Т!AU53","v":0},{"$f":"Т!AV53","v":0},{"$f":"Т!AW53","v":0},{"$f":"Т!AX53","v":0},{"$f":"Т!AY53","v":0}]
[null,null,null,null,null,null,null,null,null,null,null,null,null,null,null,null,null,null,null,null,null,null,null,null,null,null,null,null,null,null,null,null,null,null,null,null,null,null,"4.MSTM100","М-100","тыс.руб.",0,0,0,null,{"$f":"Т!AT54","v":0},{"$f":"Т!AU54","v":0},{"$f":"Т!AV54","v":0},{"$f":"Т!AW54","v":0},{"$f":"Т!AX54","v":0},{"$f":"Т!AY54","v":0}]
[null,null,null,null,null,null,null,null,null,null,null,null,null,null,null,null,null,null,null,null,null,null,null,null,null,null,null,null,null,null,null,null,null,null,null,null,null,null,"4.MSTM200","М-200","тыс.руб.",0,0,0,null,{"$f":"Т!AT55","v":0},{"$f":"Т!AU55","v":0},{"$f":"Т!AV55","v":0},{"$f":"Т!AW55","v":0},{"$f":"Т!AX55","v":0},{"$f":"Т!AY55","v":0}]
[null,null,null,null,null,null,null,null,null,null,null,null,null,null,null,null,null,null,null,null,null,null,null,null,null,null,null,null,null,null,null,null,null,null,null,null,null,null,"4.MSTT","мазут марки \"Т\"","тыс.руб.",{"$f":"SUMIF($AS$9:$AZ$9,AP$9,$AS56:$AZ56)","v":0},0,0,null,{"$f":"Т!AT56","v":0},{"$f":"Т!AU56","v":0},{"$f":"Т!AV56","v":0},{"$f":"Т!AW56","v":0},{"$f":"Т!AX56","v":0},{"$f":"Т!AY56","v":0}]
[null,null,null,null,null,null,null,null,null,null,null,null,null,null,null,null,null,null,null,null,null,null,null,null,null,null,null,null,null,null,null,null,null,null,null,null,null,null,"4.MSTF5","Ф-5","тыс.руб.",0,0,0,null,{"$f":"Т!AT57","v":0},{"$f":"Т!AU57","v":0},{"$f":"Т!AV57","v":0},{"$f":"Т!AW57","v":0},{"$f":"Т!AX57","v":0},{"$f":"Т!AY57","v":0}]
[null,null,null,null,null,null,null,null,null,null,null,null,null,null,null,null,null,null,null,null,null,null,null,null,null,null,null,null,null,null,null,null,null,null,null,null,null,null,"4.MSTF12","Ф-12","тыс.руб.",0,0,0,null,{"$f":"Т!AT58","v":0},{"$f":"Т!AU58","v":0},{"$f":"Т!AV58","v":0},{"$f":"Т!AW58","v":0},{"$f":"Т!AX58","v":0},{"$f":"Т!AY58","v":0}]
[null,null,null,null,null,null,null,null,null,null,null,null,null,null,null,null,null,null,null,null,null,null,null,null,null,null,null,null,null,null,null,null,null,null,null,null,null,null,"4.OIL","Нефть","тыс.руб.",0,0,0,null,{"$f":"Т!AT59","v":0},{"$f":"Т!AU59","v":0},{"$f":"Т!AV59","v":0},{"$f":"Т!AW59","v":0},{"$f":"Т!AX59","v":0},{"$f":"Т!AY59","v":0}]
[null,null,null,null,null,null,null,null,null,null,null,null,null,null,null,null,null,null,null,null,null,null,null,null,null,null,null,null,null,null,null,null,null,null,null,null,null,null,"4.COA","Уголь","тыс.руб.",0,0,0,null,{"$f":"Т!AT60","v":0},{"$f":"Т!AU60","v":0},{"$f":"Т!AV60","v":0},{"$f":"Т!AW60","v":0},{"$f":"Т!AX60","v":0},{"$f":"Т!AY60","v":0}]
[null,null,null,null,null,null,null,null,null,null,null,null,null,null,null,null,null,null,null,null,null,null,null,null,null,null,null,null,null,null,null,null,null,null,null,null,null,null,"4.COAA","Уголь антрацит","тыс.руб.",0,0,0,null,{"$f":"Т!AT61","v":0},{"$f":"Т!AU61","v":0},{"$f":"Т!AV61","v":0},{"$f":"Т!AW61","v":0},{"$f":"Т!AX61","v":0},{"$f":"Т!AY61","v":0}]
[null,null,null,null,null,null,null,null,null,null,null,null,null,null,null,null,null,null,null,null,null,null,null,null,null,null,null,null,null,null,null,null,null,null,null,null,null,null,"4.COAB","Уголь бурый","тыс.руб.",0,0,0,null,{"$f":"Т!AT62","v":0},{"$f":"Т!AU62","v":0},{"$f":"Т!AV62","v":0},{"$f":"Т!AW62","v":0},{"$f":"Т!AX62","v":0},{"$f":"Т!AY62","v":0}]
[null,null,null,null,null,null,null,null,null,null,null,null,null,null,null,null,null,null,null,null,null,null,null,null,null,null,null,null,null,null,null,null,null,null,null,null,null,null,"4.COAG","Уголь газовый","тыс.руб.",0,0,0,null,{"$f":"Т!AT63","v":0},{"$f":"Т!AU63","v":0},{"$f":"Т!AV63","v":0},{"$f":"Т!AW63","v":0},{"$f":"Т!AX63","v":0},{"$f":"Т!AY63","v":0}]
[null,null,null,null,null,null,null,null,null,null,null,null,null,null,null,null,null,null,null,null,null,null,null,null,null,null,null,null,null,null,null,null,null,null,null,null,null,null,"4.COALF","Уголь длиннопламенный","тыс.руб.",0,0,0,null,{"$f":"Т!AT64","v":0},{"$f":"Т!AU64","v":0},{"$f":"Т!AV64","v":0},{"$f":"Т!AW64","v":0},{"$f":"Т!AX64","v":0},{"$f":"Т!AY64","v":0}]
[null,null,null,null,null,null,null,null,null,null,null,null,null,null,null,null,null,null,null,null,null,null,null,null,null,null,null,null,null,null,null,null,null,null,null,null,null,null,"4.COAF","Уголь жирный","тыс.руб.",0,0,0,null,{"$f":"Т!AT65","v":0},{"$f":"Т!AU65","v":0},{"$f":"Т!AV65","v":0},{"$f":"Т!AW65","v":0},{"$f":"Т!AX65","v":0},{"$f":"Т!AY65","v":0}]
[null,null,null,null,null,null,null,null,null,null,null,null,null,null,null,null,null,null,null,null,null,null,null,null,null,null,null,null,null,null,null,null,null,null,null,null,null,null,"4.COAC","Уголь коксовый","тыс.руб.",0,0,0,null,{"$f":"Т!AT66","v":0},{"$f":"Т!AU66","v":0},{"$f":"Т!AV66","v":0},{"$f":"Т!AW66","v":0},{"$f":"Т!AX66","v":0},{"$f":"Т!AY66","v":0}]
[null,null,null,null,null,null,null,null,null,null,null,null,null,null,null,null,null,null,null,null,null,null,null,null,null,null,null,null,null,null,null,null,null,null,null,null,null,null,"4.COASC","Уголь отощённо-спекающийся","тыс.руб.",0,0,0,null,{"$f":"Т!AT67","v":0},{"$f":"Т!AU67","v":0},{"$f":"Т!AV67","v":0},{"$f":"Т!AW67","v":0},{"$f":"Т!AX67","v":0},{"$f":"Т!AY67","v":0}]
[null,null,null,null,null,null,null,null,null,null,null,null,null,null,null,null,null,null,null,null,null,null,null,null,null,null,null,null,null,null,null,null,null,null,null,null,null,null,"4.COAWC","Уголь слабоспекающийся","тыс.руб.",0,0,0,null,{"$f":"Т!AT68","v":0},{"$f":"Т!AU68","v":0},{"$f":"Т!AV68","v":0},{"$f":"Т!AW68","v":0},{"$f":"Т!AX68","v":0},{"$f":"Т!AY68","v":0}]
[null,null,null,null,null,null,null,null,null,null,null,null,null,null,null,null,null,null,null,null,null,null,null,null,null,null,null,null,null,null,null,null,null,null,null,null,null,null,"4.COAS","Уголь тощий","тыс.руб.",0,0,0,null,{"$f":"Т!AT69","v":0},{"$f":"Т!AU69","v":0},{"$f":"Т!AV69","v":0},{"$f":"Т!AW69","v":0},{"$f":"Т!AX69","v":0},{"$f":"Т!AY69","v":0}]
[null,null,null,null,null,null,null,null,null,null,null,null,null,null,null,null,null,null,null,null,null,null,null,null,null,null,null,null,null,null,null,null,null,null,null,null,null,null,"4.ENR","Энергия","тыс.руб.",0,0,0,null,{"$f":"Т!AT70","v":0},{"$f":"Т!AU70","v":0},{"$f":"Т!AV70","v":0},{"$f":"Т!AW70","v":0},{"$f":"Т!AX70","v":0},{"$f":"Т!AY70","v":0}]
[null,null,null,null,null,null,null,null,null,null,null,null,null,null,null,null,null,null,null,null,null,null,null,null,null,null,null,null,null,null,null,null,null,null,null,null,null,null,"4.PWR","Заявленная мощность","тыс.руб.",0,0,0,null,{"$f":"Т!AT71","v":0},{"$f":"Т!AU71","v":0},{"$f":"Т!AV71","v":0},{"$f":"Т!AW71","v":0},{"$f":"Т!AX71","v":0},{"$f":"Т!AY71","v":0}]
[null,null,null,null,null,null,null,null,null,null,null,null,null,null,null,null,null,null,null,null,null,null,null,null,null,null,null,null,null,null,null,null,null,null,null,null,null,null,"4.CWD","Уголь древесный","тыс.руб.",0,0,0,null,{"$f":"Т!AT72","v":0},{"$f":"Т!AU72","v":0},{"$f":"Т!AV72","v":0},{"$f":"Т!AW72","v":0},{"$f":"Т!AX72","v":0},{"$f":"Т!AY72","v":0}]
[null,null,null,null,null,null,null,null,null,null,null,null,null,null,null,null,null,null,null,null,null,null,null,null,null,null,null,null,null,null,null,null,null,null,null,null,null,null,"4.WDS","Дрова","тыс.руб.",0,0,0,null,{"$f":"Т!AT73","v":0},{"$f":"Т!AU73","v":0},{"$f":"Т!AV73","v":0},{"$f":"Т!AW73","v":0},{"$f":"Т!AX73","v":0},{"$f":"Т!AY73","v":0}]
[null,null,null,null,null,null,null,null,null,null,null,null,null,null,null,null,null,null,null,null,null,null,null,null,null,null,null,null,null,null,null,null,null,null,null,null,null,null,"4.PLT","Пеллеты","тыс.руб.",0,0,0,null,{"$f":"Т!AT74","v":0},{"$f":"Т!AU74","v":0},{"$f":"Т!AV74","v":0},{"$f":"Т!AW74","v":0},{"$f":"Т!AX74","v":0},{"$f":"Т!AY74","v":0}]
[null,null,null,null,null,null,null,null,null,null,null,null,null,null,null,null,null,null,null,null,null,null,null,null,null,null,null,null,null,null,null,null,null,null,null,null,null,null,"4.SAW","Опилки","тыс.руб.",0,0,0,null,{"$f":"Т!AT75","v":0},{"$f":"Т!AU75","v":0},{"$f":"Т!AV75","v":0},{"$f":"Т!AW75","v":0},{"$f":"Т!AX75","v":0},{"$f":"Т!AY75","v":0}]
[null,null,null,null,null,null,null,null,null,null,null,null,null,null,null,null,null,null,null,null,null,null,null,null,null,null,null,null,null,null,null,null,null,null,null,null,null,null,"4.PEA","Торф","тыс.руб.",0,0,0,null,{"$f":"Т!AT76","v":0},{"$f":"Т!AU76","v":0},{"$f":"Т!AV76","v":0},{"$f":"Т!AW76","v":0},{"$f":"Т!AX76","v":0},{"$f":"Т!AY76","v":0}]
[null,null,null,null,null,null,null,null,null,null,null,null,null,null,null,null,null,null,null,null,null,null,null,null,null,null,null,null,null,null,null,null,null,null,null,null,null,null,"4.SHL","Сланцы","тыс.руб.",0,0,0,null,{"$f":"Т!AT77","v":0},{"$f":"Т!AU77","v":0},{"$f":"Т!AV77","v":0},{"$f":"Т!AW77","v":0},{"$f":"Т!AX77","v":0},{"$f":"Т!AY77","v":0}]
[null,null,null,null,null,null,null,null,null,null,null,null,null,null,null,null,null,null,null,null,null,null,null,null,null,null,null,null,null,null,null,null,null,null,null,null,null,null,"4.STF","Печное бытовое топливо","тыс.руб.",0,0,0,null,{"$f":"Т!AT78","v":0},{"$f":"Т!AU78","v":0},{"$f":"Т!AV78","v":0},{"$f":"Т!AW78","v":0},{"$f":"Т!AX78","v":0},{"$f":"Т!AY78","v":0}]
[null,null,null,null,null,null,null,null,null,null,null,null,null,null,null,null,null,null,null,null,null,null,null,null,null,null,null,null,null,null,null,null,null,null,null,null,null,null,"4.OTH","Прочие виды топлива","тыс.руб.",0,0,0,null,{"$f":"Т!AT79","v":0},{"$f":"Т!AU79","v":0},{"$f":"Т!AV79","v":0},{"$f":"Т!AW79","v":0},{"$f":"Т!AX79","v":0},{"$f":"Т!AY79","v":0}]
[]
[]
[]
[]
[]
[]
[]
[]
[]
[]
[null,null,null,null,null,null,null,null,null,null,null,null,null,null,null,null,null,null,null,null,null,null,null,null,null,null,null,null,null,null,null,null,null,null,null,null,null,null,"5","Энергия, в том числе ","тыс.руб.",{"$f":"SUMIF($AS$9:$AZ$9,AP$9,$AS90:$AZ90)","v":222487.09949214596},124962.40849999999,97524.690992145988,null,{"$f":"SUM(AT91,AT154)","v":219150.34459184197},123302.68272499999,95847.661866841983,3336.7549003039999,1659.7257749999999,1677.029125304]
[null,null,null,null,null,null,null,null,null,null,null,null,null,null,null,null,null,null,null,null,null,null,null,null,null,null,null,null,null,null,null,null,null,null,null,null,null,null,"5.1","энергия (покупная энергия) на технологические цели ","тыс.руб.",222487.09949214596,124962.40849999999,97524.690992145988,null,{"$f":"SUM(AT92,AT126,AT127)","v":219150.34459184197},123302.68272499999,95847.661866841983,3336.7549003039999,1659.7257749999999,1677.029125304]
[null,null,null,null,null,null,null,null,null,null,null,null,null,null,null,null,null,null,null,null,null,null,null,null,null,null,null,null,null,null,null,null,null,null,null,null,null,null,"5.1.1","затраты на покупную тепловую энергию ","тыс.руб.",103033.76,58573.328999999998,44460.430999999997,null,{"$f":"SUM(AT93,AT109)","v":103033.76},58573.328999999998,44460.430999999997,0,0,0]
[null,null,null,null,null,null,null,null,null,null,null,null,null,null,null,null,null,null,null,null,null,null,null,null,null,null,null,null,null,null,null,null,null,null,null,null,null,null,{"$f":"AM92 & \".1\"","v":"5.1.1.1"},"С коллекторов, всего","тыс.руб.",103033.76,58573.328999999998,44460.430999999997,null,{"$f":"SUM(AT94,AT98,AT102)","v":103033.76},58573.328999999998,44460.430999999997,0,0,0]
[null,null,null,null,null,null,null,null,null,null,null,null,null,null,null,null,null,null,null,null,null,null,null,null,null,null,null,null,null,null,null,null,null,null,null,null,null,null,{"$f":"AM92 & \".1.1\"","v":"5.1.1.1.1"},"от станций с мощностью производства >= 25 МВт","тыс.руб.",79597.862999999998,39936.019999999997,39661.843000000001,null,{"$f":"AU94+AV94","v":79597.862999999998},{"$f":"39936.02","v":39936.019999999997},{"$f":"79597.863-AU94","v":39661.843000000001},{"$f":"AX94+AY94","v":0}]
[null,null,null,null,null,null,null,null,null,null,null,null,null,null,null,null,null,null,null,null,null,null,null,null,null,null,null,null,null,null,null,null,null,null,null,null,null,null,{"$f":"AM92 & \".1.1.0.1\"","v":"5.1.1.1.1.0.1"},"объём ТЭ","тыс. Гкал",81.543999999999997,44.104999999999997,37.439,null,{"$f":"AU95+AV95","v":81.543999999999997},44.104999999999997,{"$f":"81.544-AU95","v":37.439},{"$f":"AX95+AY95","v":0}]
[null,null,null,null,null,null,null,null,null,null,null,null,null,null,null,null,null,null,null,null,null,null,null,null,null,null,null,null,null,null,null,null,null,null,null,null,null,null,{"$f":"AM92 & \".1.1.0.2\"","v":"5.1.1.1.1.0.2"},"цена ТЭ","руб./Гкал",{"$f":"IF(AP95=0,0,AP94/AP95)","v":976.13390316884136},{"$f":"IF(AQ95=0,0,AQ94/AQ95)","v":905.47602312662957},{"$f":"IF(AR95=0,0,AR94/AR95)","v":1059.3723924250114},null,{"$f":"IF(AT95=0,0,AT94/AT95)","v":976.13390316884136},905.47602312662957,1059.3723924250114,0,0,0]
[]
[null,null,null,null,null,null,null,null,null,null,null,null,null,null,null,null,null,null,null,null,null,null,null,null,null,null,null,null,null,null,null,null,null,null,null,null,null,null,{"$f":"AM92 & \".1.2\"","v":"5.1.1.1.2"},"от станций с мощностью производства < 25 МВт","тыс.руб.",{"$f":"SUMIF($AS$9:$AZ$9,AP$9,$AS98:$AZ98)","v":23435.897000000001},18637.309000000001,4798.5879999999997,null,{"$f":"AU98+AV98","v":23435.897000000001},18637.309000000001,{"$f":"23435.897-AU98","v":4798.5879999999997},{"$f":"AX98+AY98","v":0}]
[null,null,null,null,null,null,null,null,null,null,null,null,null,null,null,null,null,null,null,null,null,null,null,null,null,null,null,null,null,null,null,null,null,null,null,null,null,null,{"$f":"AM92 & \".1.2.0.1\"","v":"5.1.1.1.2.0.1"},"объём ТЭ","тыс. Гкал",5.2249999999999996,3.1120000000000001,2.1129999999999995,null,{"$f":"AU99+AV99","v":5.2249999999999996},3.1120000000000001,{"$f":"5.225-AU99","v":2.1129999999999995},{"$f":"AX99+AY99","v":0}]
[null,null,null,null,null,null,null,null,null,null,null,null,null,null,null,null,null,null,null,null,null,null,null,null,null,null,null,null,null,null,null,null,null,null,null,null,null,null,{"$f":"AM92 & \".1.2.0.2\"","v":"5.1.1.1.2.0.2"},"цена ТЭ","руб./Гкал",{"$f":"IF(AP99=0,0,AP98/AP99)","v":4485.3391387559814},{"$f":"IF(AQ99=0,0,AQ98/AQ99)","v":5988.8525064267351},{"$f":"IF(AR99=0,0,AR98/AR99)","v":2270.9834358731664},null,{"$f":"IF(AT99=0,0,AT98/AT99)","v":4485.3391387559814},5988.8525064267351,2270.9834358731664,0,0,0]
[]
[null,null,null,null,null,null,null,null,null,null,null,null,null,null,null,null,null,null,null,null,null,null,null,null,null,null,null,null,null,null,null,null,null,null,null,null,null,null,{"$f":"AM92 & \".1.3\"","v":"5.1.1.1.3"},"от котельных","тыс.руб.",{"$f":"SUMIF($AS$9:$AZ$9,AP$9,$AS102:$AZ102)","v":0},0,0,null,{"$f":"AU102+AV102","v":0},null,null,{"$f":"AX102+AY102","v":0}]
[null,null,null,null,null,null,null,null,null,null,null,null,null,null,null,null,null,null,null,null,null,null,null,null,null,null,null,null,null,null,null,null,null,null,null,null,null,null,{"$f":"AM92 & \".1.3.0.1\"","v":"5.1.1.1.3.0.1"},"объём ТЭ","тыс. Гкал",0,0,0,null,{"$f":"AU103+AV103","v":0},null,null,{"$f":"AX103+AY103","v":0}]
[null,null,null,null,null,null,null,null,null,null,null,null,null,null,null,null,null,null,null,null,null,null,null,null,null,null,null,null,null,null,null,null,null,null,null,null,null,null,{"$f":"AM92 & \".1.3.0.2\"","v":"5.1.1.1.3.0.2"},"цена ТЭ","руб./Гкал",{"$f":"IF(AP103=0,0,AP102/AP103)","v":0},{"$f":"IF(AQ103=0,0,AQ102/AQ103)","v":0},{"$f":"IF(AR103=0,0,AR102/AR103)","v":0},null,{"$f":"IF(AT103=0,0,AT102/AT103)","v":0},0,0,0,0,0]
[null,null,null,null,null,null,null,null,null,null,null,null,null,null,null,null,null,null,null,null,null,null,null,null,null,null,null,null,null,null,null,null,null,null,null,null,null,null,{"$f":"AM92 & \".2\"","v":"5.1.1.2"},"в том числе покупка потерь с коллекторов","тыс.руб.",{"$f":"SUMIF($AS$9:$AZ$9,AP$9,$AS105:$AZ105)","v":0},0,0,null,{"$f":"SUM(AT106:AT108)","v":0},0,0,0,0,0]
[null,null,null,null,null,null,null,null,null,null,null,null,null,null,null,null,null,null,null,null,null,null,null,null,null,null,null,null,null,null,null,null,null,null,null,null,null,null,{"$f":"AM92 & \".2.1\"","v":"5.1.1.2.1"},"от станций с мощностью производства >= 25 МВт","тыс.руб.",0,0,0,null,{"$f":"AU106+AV106","v":0},null,null,{"$f":"AX106+AY106","v":0}]
[null,null,null,null,null,null,null,null,null,null,null,null,null,null,null,null,null,null,null,null,null,null,null,null,null,null,null,null,null,null,null,null,null,null,null,null,null,null,{"$f":"AM92 & \".2.2\"","v":"5.1.1.2.2"},"от станций с мощностью производства < 25 МВт","тыс.руб.",0,0,0,null,{"$f":"AU107+AV107","v":0},null,null,{"$f":"AX107+AY107","v":0}]
[null,null,null,null,null,null,null,null,null,null,null,null,null,null,null,null,null,null,null,null,null,null,null,null,null,null,null,null,null,null,null,null,null,null,null,null,null,null,{"$f":"AM92 & \".2.3\"","v":"5.1.1.2.3"},"от котельных","тыс.руб."]
[null,null,null,null,null,null,null,null,null,null,null,null,null,null,null,null,null,null,null,null,null,null,null,null,null,null,null,null,null,null,null,null,null,null,null,null,null,null,{"$f":"AM92 & \".3\"","v":"5.1.1.3"},"Из тепловой сети, всего","тыс.руб.",{"$f":"SUMIF($AS$9:$AZ$9,AP$9,$AS109:$AZ109)","v":0},0,0,null,{"$f":"SUM(AT110,AT114,AT118)","v":0},0,0,0,0,0]
[null,null,null,null,null,null,null,null,null,null,null,null,null,null,null,null,null,null,null,null,null,null,null,null,null,null,null,null,null,null,null,null,null,null,null,null,null,null,{"$f":"AM92 & \".3.1\"","v":"5.1.1.3.1"},"от станций с мощностью производства >= 25 МВт","тыс.руб.",0,0,0,null,{"$f":"AU110+AV110","v":0},null,null,{"$f":"AX110+AY110","v":0}]
[null,null,null,null,null,null,null,null,null,null,null,null,null,null,null,null,null,null,null,null,null,null,null,null,null,null,null,null,null,null,null,null,null,null,null,null,null,null,{"$f":"AM92 & \".3.1.0.1\"","v":"5.1.1.3.1.0.1"},"объём ТЭ","тыс. Гкал",0,0,0,null,{"$f":"AU111+AV111","v":0},null,null,{"$f":"AX111+AY111","v":0}]
[null,null,null,null,null,null,null,null,null,null,null,null,null,null,null,null,null,null,null,null,null,null,null,null,null,null,null,null,null,null,null,null,null,null,null,null,null,null,{"$f":"AM92 & \".3.1.0.2\"","v":"5.1.1.3.1.0.2"},"цена ТЭ","руб./Гкал",{"$f":"IF(AP111=0,0,AP110/AP111)","v":0},{"$f":"IF(AQ111=0,0,AQ110/AQ111)","v":0},{"$f":"IF(AR111=0,0,AR110/AR111)","v":0},null,{"$f":"IF(AT111=0,0,AT110/AT111)","v":0},0,0,0,0,0]
[]
[null,null,null,null,null,null,null,null,null,null,null,null,null,null,null,null,null,null,null,null,null,null,null,null,null,null,null,null,null,null,null,null,null,null,null,null,null,null,{"$f":"AM92 & \".3.2\"","v":"5.1.1.3.2"},"от станций с мощностью производства < 25 МВт","тыс.руб.",{"$f":"SUMIF($AS$9:$AZ$9,AP$9,$AS114:$AZ114)","v":0},0,0,null,{"$f":"AU114+AV114","v":0},null,null,{"$f":"AX114+AY114","v":0}]
[null,null,null,null,null,null,null,null,null,null,null,null,null,null,null,null,null,null,null,null,null,null,null,null,null,null,null,null,null,null,null,null,null,null,null,null,null,null,{"$f":"AM92 & \".3.2.0.1\"","v":"5.1.1.3.2.0.1"},"объём ТЭ","тыс. Гкал",0,0,0,null,{"$f":"AU115+AV115","v":0},null,null,{"$f":"AX115+AY115","v":0}]
[null,null,null,null,null,null,null,null,null,null,null,null,null,null,null,null,null,null,null,null,null,null,null,null,null,null,null,null,null,null,null,null,null,null,null,null,null,null,{"$f":"AM92 & \".3.2.0.2\"","v":"5.1.1.3.2.0.2"},"цена ТЭ","руб./Гкал",{"$f":"IF(AP115=0,0,AP114/AP115)","v":0},{"$f":"IF(AQ115=0,0,AQ114/AQ115)","v":0},{"$f":"IF(AR115=0,0,AR114/AR115)","v":0},null,{"$f":"IF(AT115=0,0,AT114/AT115)","v":0},0,0,0,0,0]
[]
[null,null,null,null,null,null,null,null,null,null,null,null,null,null,null,null,null,null,null,null,null,null,null,null,null,null,null,null,null,null,null,null,null,null,null,null,null,null,{"$f":"AM92 & \".3.3\"","v":"5.1.1.3.3"},"от котельных (некомбинированная выработка)","тыс.руб.",{"$f":"SUMIF($AS$9:$AZ$9,AP$9,$AS118:$AZ118)","v":0},0,0,null,{"$f":"AU118+AV118","v":0},null,null,{"$f":"AX118+AY118","v":0}]
[null,null,null,null,null,null,null,null,null,null,null,null,null,null,null,null,null,null,null,null,null,null,null,null,null,null,null,null,null,null,null,null,null,null,null,null,null,null,{"$f":"AM92 & \".3.3.0.1\"","v":"5.1.1.3.3.0.1"},"объём ТЭ","тыс. Гкал",0,0,0,null,{"$f":"AU119+AV119","v":0},null,null,{"$f":"AX119+AY119","v":0}]
[null,null,null,null,null,null,null,null,null,null,null,null,null,null,null,null,null,null,null,null,null,null,null,null,null,null,null,null,null,null,null,null,null,null,null,null,null,null,{"$f":"AM92 & \".3.3.0.2\"","v":"5.1.1.3.3.0.2"},"цена ТЭ","руб./Гкал",{"$f":"IF(AP119=0,0,AP118/AP119)","v":0},{"$f":"IF(AQ119=0,0,AQ118/AQ119)","v":0},{"$f":"IF(AR119=0,0,AR118/AR119)","v":0},null,{"$f":"IF(AT119=0,0,AT118/AT119)","v":0},0,0,0,0,0]
[]
[null,null,null,null,null,null,null,null,null,null,null,null,null,null,null,null,null,null,null,null,null,null,null,null,null,null,null,null,null,null,null,null,null,null,null,null,null,null,{"$f":"AM92 & \".4\"","v":"5.1.1.4"},"в том числе покупка потерь из тепловой сети","тыс.руб.",{"$f":"SUMIF($AS$9:$AZ$9,AP$9,$AS122:$AZ122)","v":0},0,0,null,{"$f":"SUM(AT123:AT125)","v":0},0,0,0,0,0]
[null,null,null,null,null,null,null,null,null,null,null,null,null,null,null,null,null,null,null,null,null,null,null,null,null,null,null,null,null,null,null,null,null,null,null,null,null,null,{"$f":"AM92 & \".4.1\"","v":"5.1.1.4.1"},"от станций с мощностью производства >= 25 МВт","тыс.руб.",0,0,0,null,{"$f":"AU123+AV123","v":0},null,null,{"$f":"AX123+AY123","v":0}]
[null,null,null,null,null,null,null,null,null,null,null,null,null,null,null,null,null,null,null,null,null,null,null,null,null,null,null,null,null,null,null,null,null,null,null,null,null,null,{"$f":"AM92 & \".4.2\"","v":"5.1.1.4.2"},"от станций с мощностью производства < 25 МВт","тыс.руб.",0,0,0,null,0,null,null,0]
[null,null,null,null,null,null,null,null,null,null,null,null,null,null,null,null,null,null,null,null,null,null,null,null,null,null,null,null,null,null,null,null,null,null,null,null,null,null,{"$f":"AM92 & \".4.3\"","v":"5.1.1.4.3"},"от котельных (некомбинированная выработка)","тыс.руб.",0,0,0,null,0,null,null,0]
[null,null,null,null,null,null,null,null,null,null,null,null,null,null,null,null,null,null,null,null,null,null,null,null,null,null,null,null,null,null,null,null,null,null,null,null,null,null,"5.1.2","затраты на оплату услуг по передаче тепловой энергии","тыс.руб.",0,0,0,null,0,null,null,0]
[null,null,null,null,null,null,null,null,null,null,null,null,null,null,null,null,null,null,null,null,null,null,null,null,null,null,null,null,null,null,null,null,null,null,null,null,null,null,"5.1.3","затраты на покупную электрическую энергию, по уровням напряжения:","тыс.руб.",119453.339492146,66389.079499999993,53064.259992145991,null,116116.58459184199,{"$f":"SUM(AU130,AU133,AU136,AU139,AU142,AU145,AU148,AU151)","v":64729.353724999994},{"$f":"SUM(AV130,AV133,AV136,AV139,AV142,AV145,AV148,AV151)","v":51387.230866841994},3336.7549003039999,{"$f":"SUM(AX130,AX133,AX136,AX139,AX142,AX145,AX148,AX151)","v":1659.7257749999999},{"$f":"SUM(AY130,AY133,AY136,AY139,AY142,AY145,AY148,AY151)","v":1677.029125304}]
[null,null,null,null,null,null,null,null,null,null,null,null,null,null,null,null,null,null,null,null,null,null,null,null,null,null,null,null,null,null,null,null,null,null,null,null,null,null,"5.1.3.0.1","объём энергии","тыс.кВт*ч",22955.52,13688.47,9267.0499999999993,null,22320.469720000001,{"$f":"AU132+AU138+AU144+AU150","v":13346.2585},{"$f":"AV132+AV138+AV144+AV150","v":8974.2112199999992},635.05027999999993,{"$f":"AX132+AX138+AX144+AX150","v":342.2115},{"$f":"AY132+AY138+AY144+AY150","v":292.83877999999999}]
[null,null,null,null,null,null,null,null,null,null,null,null,null,null,null,null,null,null,null,null,null,null,null,null,null,null,null,null,null,null,null,null,null,null,null,null,null,null,"5.1.3.0.2","объём заявленной мощности","МВт",0,0,0,null,0,{"$f":"AU135+AU141+AU147+AU153","v":0},{"$f":"AV135+AV141+AV147+AV153","v":0},0,{"$f":"AX135+AX141+AX147+AX153","v":0},{"$f":"AY135+AY141+AY147+AY153","v":0}]
[null,null,null,null,null,null,null,null,null,null,null,null,null,null,null,null,null,null,null,null,null,null,null,null,null,null,null,null,null,null,null,null,null,null,null,null,null,null,"5.1.3.1.1","энергия НН (0,4 кВ и ниже)","тыс.руб.",119453.339492146,66389.079499999993,53064.259992145991,null,116116.58459184199,{"$f":"AU131*AU132","v":64729.353724999994},{"$f":"AV131*AV132","v":51387.230866841994},3336.7549003039999,{"$f":"AX131*AX132","v":1659.7257749999999},{"$f":"AY131*AY132","v":1677.029125304}]
[null,null,null,null,null,null,null,null,null,null,null,null,null,null,null,null,null,null,null,null,null,null,null,null,null,null,null,null,null,null,null,null,null,null,null,null,null,null,"5.1.3.1.1.1","тариф на энергию","руб./кВт*ч",{"$f":"IF(AP132=0,0,AP130/AP132)","v":5.2036869342165195},{"$f":"IF(AQ132=0,0,AQ130/AQ132)","v":4.8499999999999996},{"$f":"IF(AR132=0,0,AR130/AR132)","v":5.7261221199999994},null,{"$f":"IF(AT132=0,0,AT130/AT132)","v":5.2022464602434892},4.8499999999999996,5.7260999999999997,{"$f":"IF(AW132=0,0,AW130/AW132)","v":5.2543160839233076},4.8499999999999996,5.7267999999999999]
[null,null,null,null,null,null,null,null,null,null,null,null,null,null,null,null,null,null,null,null,null,null,null,null,null,null,null,null,null,null,null,null,null,null,null,null,null,null,"5.1.3.1.1.2","объём энергии","тыс.кВт*ч",{"$f":"SUMIF($AS$9:$AZ$9,AP$9,$AS132:$AZ132)","v":22955.52},13688.47,9267.0499999999993,null,{"$f":"AU132+AV132","v":22320.469720000001},{"$f":"13688.47-AX132","v":13346.2585},{"$f":"9267.05-AY132","v":8974.2112199999992},{"$f":"AX132+AY132","v":635.05027999999993},{"$f":"13688.46*0.025","v":342.2115},{"$f":"9267.05*0.0316","v":292.83877999999999}]
[null,null,null,null,null,null,null,null,null,null,null,null,null,null,null,null,null,null,null,null,null,null,null,null,null,null,null,null,null,null,null,null,null,null,null,null,null,null,"5.1.3.1.2","заявленная мощность по НН (0,4 кВ и ниже)","тыс.руб.",0,0,0,null,{"$f":"AU133+AV133","v":0},{"$f":"AU134*AU135","v":0},{"$f":"AV134*AV135","v":0},{"$f":"AX133+AY133","v":0},{"$f":"AX134*AX135","v":0},{"$f":"AY134*AY135","v":0}]
[null,null,null,null,null,null,null,null,null,null,null,null,null,null,null,null,null,null,null,null,null,null,null,null,null,null,null,null,null,null,null,null,null,null,null,null,null,null,"5.1.3.1.2.1","тариф на заявленную мощность","руб./кВт*мес",{"$f":"IF(AP135=0,0,AP133/AP135)","v":0},{"$f":"IF(AQ135=0,0,AQ133/AQ135)","v":0},{"$f":"IF(AR135=0,0,AR133/AR135)","v":0},null,{"$f":"IF(AT135=0,0,AT133/AT135)","v":0},null,null,{"$f":"IF(AW135=0,0,AW133/AW135)","v":0}]
[null,null,null,null,null,null,null,null,null,null,null,null,null,null,null,null,null,null,null,null,null,null,null,null,null,null,null,null,null,null,null,null,null,null,null,null,null,null,"5.1.3.1.2.2","годовой объём мощности","МВт",{"$f":"SUMIF($AS$9:$AZ$9,AP$9,$AS135:$AZ135)","v":0},0,0,null,{"$f":"AU135+AV135","v":0},null,null,{"$f":"AX135+AY135","v":0}]
[null,null,null,null,null,null,null,null,null,null,null,null,null,null,null,null,null,null,null,null,null,null,null,null,null,null,null,null,null,null,null,null,null,null,null,null,null,null,"5.1.3.2.1","энергия СН 2 (1-20 кВ)","тыс.руб.",0,0,0,null,{"$f":"AU136+AV136","v":0},{"$f":"AU137*AU138","v":0},{"$f":"AV137*AV138","v":0},{"$f":"AX136+AY136","v":0},{"$f":"AX137*AX138","v":0},{"$f":"AY137*AY138","v":0}]
[null,null,null,null,null,null,null,null,null,null,null,null,null,null,null,null,null,null,null,null,null,null,null,null,null,null,null,null,null,null,null,null,null,null,null,null,null,null,"5.1.3.2.1.1","тариф на энергию","руб./кВт*ч",{"$f":"IF(AP138=0,0,AP136/AP138)","v":0},{"$f":"IF(AQ138=0,0,AQ136/AQ138)","v":0},{"$f":"IF(AR138=0,0,AR136/AR138)","v":0},null,{"$f":"IF(AT138=0,0,AT136/AT138)","v":0},null,null,{"$f":"IF(AW138=0,0,AW136/AW138)","v":0}]
[null,null,null,null,null,null,null,null,null,null,null,null,null,null,null,null,null,null,null,null,null,null,null,null,null,null,null,null,null,null,null,null,null,null,null,null,null,null,"5.1.3.2.1.2","объём энергии","тыс.кВт*ч",{"$f":"SUMIF($AS$9:$AZ$9,AP$9,$AS138:$AZ138)","v":0},0,0,null,{"$f":"AU138+AV138","v":0},null,null,{"$f":"AX138+AY138","v":0}]
[null,null,null,null,null,null,null,null,null,null,null,null,null,null,null,null,null,null,null,null,null,null,null,null,null,null,null,null,null,null,null,null,null,null,null,null,null,null,"5.1.3.2.2","заявленная мощность по СН 2 (1-20 кВ)","тыс.руб.",0,0,0,null,{"$f":"AU139+AV139","v":0},{"$f":"AU140*AU141","v":0},{"$f":"AV140*AV141","v":0},{"$f":"AX139+AY139","v":0},{"$f":"AX140*AX141","v":0},{"$f":"AY140*AY141","v":0}]
[null,null,null,null,null,null,null,null,null,null,null,null,null,null,null,null,null,null,null,null,null,null,null,null,null,null,null,null,null,null,null,null,null,null,null,null,null,null,"5.1.3.2.2.1","тариф на заявленную мощность","руб./кВт*мес",{"$f":"IF(AP141=0,0,AP139/AP141)","v":0},{"$f":"IF(AQ141=0,0,AQ139/AQ141)","v":0},{"$f":"IF(AR141=0,0,AR139/AR141)","v":0},null,{"$f":"IF(AT141=0,0,AT139/AT141)","v":0},null,null,{"$f":"IF(AW141=0,0,AW139/AW141)","v":0}]
[null,null,null,null,null,null,null,null,null,null,null,null,null,null,null,null,null,null,null,null,null,null,null,null,null,null,null,null,null,null,null,null,null,null,null,null,null,null,"5.1.3.2.2.2","годовой объём мощности","МВт",{"$f":"SUMIF($AS$9:$AZ$9,AP$9,$AS141:$AZ141)","v":0},0,0,null,{"$f":"AU141+AV141","v":0},null,null,{"$f":"AX141+AY141","v":0}]
[null,null,null,null,null,null,null,null,null,null,null,null,null,null,null,null,null,null,null,null,null,null,null,null,null,null,null,null,null,null,null,null,null,null,null,null,null,null,"5.1.3.3.1","энергия СН 1 (35 кВ)","тыс.руб.",0,0,0,null,{"$f":"AU142+AV142","v":0},{"$f":"AU143*AU144","v":0},{"$f":"AV143*AV144","v":0},{"$f":"AX142+AY142","v":0},{"$f":"AX143*AX144","v":0},{"$f":"AY143*AY144","v":0}]
[null,null,null,null,null,null,null,null,null,null,null,null,null,null,null,null,null,null,null,null,null,null,null,null,null,null,null,null,null,null,null,null,null,null,null,null,null,null,"5.1.3.3.1.1","тариф на энергию","руб./кВт*ч",{"$f":"IF(AP144=0,0,AP142/AP144)","v":0},{"$f":"IF(AQ144=0,0,AQ142/AQ144)","v":0},{"$f":"IF(AR144=0,0,AR142/AR144)","v":0},null,{"$f":"IF(AT144=0,0,AT142/AT144)","v":0},null,null,{"$f":"IF(AW144=0,0,AW142/AW144)","v":0}]
[null,null,null,null,null,null,null,null,null,null,null,null,null,null,null,null,null,null,null,null,null,null,null,null,null,null,null,null,null,null,null,null,null,null,null,null,null,null,"5.1.3.3.1.2","объём энергии","тыс.кВт*ч",{"$f":"SUMIF($AS$9:$AZ$9,AP$9,$AS144:$AZ144)","v":0},0,0,null,{"$f":"AU144+AV144","v":0},null,null,{"$f":"AX144+AY144","v":0}]
[null,null,null,null,null,null,null,null,null,null,null,null,null,null,null,null,null,null,null,null,null,null,null,null,null,null,null,null,null,null,null,null,null,null,null,null,null,null,"5.1.3.3.2","заявленная мощность по СН 1 (35 кВ)","тыс.руб.",0,0,0,null,{"$f":"AU145+AV145","v":0},{"$f":"AU146*AU147","v":0},{"$f":"AV146*AV147","v":0},{"$f":"AX145+AY145","v":0},{"$f":"AX146*AX147","v":0},{"$f":"AY146*AY147","v":0}]
[null,null,null,null,null,null,null,null,null,null,null,null,null,null,null,null,null,null,null,null,null,null,null,null,null,null,null,null,null,null,null,null,null,null,null,null,null,null,"5.1.3.3.2.1","тариф на заявленную мощность","руб./кВт*мес",{"$f":"IF(AP147=0,0,AP145/AP147)","v":0},{"$f":"IF(AQ147=0,0,AQ145/AQ147)","v":0},{"$f":"IF(AR147=0,0,AR145/AR147)","v":0},null,{"$f":"IF(AT147=0,0,AT145/AT147)","v":0},null,null,{"$f":"IF(AW147=0,0,AW145/AW147)","v":0}]
[null,null,null,null,null,null,null,null,null,null,null,null,null,null,null,null,null,null,null,null,null,null,null,null,null,null,null,null,null,null,null,null,null,null,null,null,null,null,"5.1.3.3.2.2","годовой объём мощности","МВт",{"$f":"SUMIF($AS$9:$AZ$9,AP$9,$AS147:$AZ147)","v":0},0,0,null,{"$f":"AU147+AV147","v":0},null,null,{"$f":"AX147+AY147","v":0}]
[null,null,null,null,null,null,null,null,null,null,null,null,null,null,null,null,null,null,null,null,null,null,null,null,null,null,null,null,null,null,null,null,null,null,null,null,null,null,"5.1.3.4.1","энергия ВН (110 кВ и выше)","тыс.руб.",0,0,0,null,{"$f":"AU148+AV148","v":0},{"$f":"AU149*AU150","v":0},{"$f":"AV149*AV150","v":0},{"$f":"AX148+AY148","v":0},{"$f":"AX149*AX150","v":0},{"$f":"AY149*AY150","v":0}]
[null,null,null,null,null,null,null,null,null,null,null,null,null,null,null,null,null,null,null,null,null,null,null,null,null,null,null,null,null,null,null,null,null,null,null,null,null,null,"5.1.3.4.1.1","тариф на энергию","руб./кВт*ч",{"$f":"IF(AP150=0,0,AP148/AP150)","v":0},{"$f":"IF(AQ150=0,0,AQ148/AQ150)","v":0},{"$f":"IF(AR150=0,0,AR148/AR150)","v":0},null,{"$f":"IF(AT150=0,0,AT148/AT150)","v":0},null,null,{"$f":"IF(AW150=0,0,AW148/AW150)","v":0}]
[null,null,null,null,null,null,null,null,null,null,null,null,null,null,null,null,null,null,null,null,null,null,null,null,null,null,null,null,null,null,null,null,null,null,null,null,null,null,"5.1.3.4.1.2","объём энергии","тыс.кВт*ч",{"$f":"SUMIF($AS$9:$AZ$9,AP$9,$AS150:$AZ150)","v":0},0,0,null,{"$f":"AU150+AV150","v":0},null,null,{"$f":"AX150+AY150","v":0}]
[null,null,null,null,null,null,null,null,null,null,null,null,null,null,null,null,null,null,null,null,null,null,null,null,null,null,null,null,null,null,null,null,null,null,null,null,null,null,"5.1.3.4.2","заявленная мощность по ВН (110 кВ и выше)","тыс.руб.",0,0,0,null,{"$f":"AU151+AV151","v":0},{"$f":"AU152*AU153","v":0},{"$f":"AV152*AV153","v":0},{"$f":"AX151+AY151","v":0},{"$f":"AX152*AX153","v":0},{"$f":"AY152*AY153","v":0}]
[null,null,null,null,null,null,null,null,null,null,null,null,null,null,null,null,null,null,null,null,null,null,null,null,null,null,null,null,null,null,null,null,null,null,null,null,null,null,"5.1.3.4.2.1","тариф на заявленную мощность","руб./кВт*мес",{"$f":"IF(AP153=0,0,AP151/AP153)","v":0},{"$f":"IF(AQ153=0,0,AQ151/AQ153)","v":0},{"$f":"IF(AR153=0,0,AR151/AR153)","v":0},null,{"$f":"IF(AT153=0,0,AT151/AT153)","v":0},null,null,{"$f":"IF(AW153=0,0,AW151/AW153)","v":0}]
[null,null,null,null,null,null,null,null,null,null,null,null,null,null,null,null,null,null,null,null,null,null,null,null,null,null,null,null,null,null,null,null,null,null,null,null,null,null,"5.1.3.4.2.2","годовой объём мощности","МВт",{"$f":"SUMIF($AS$9:$AZ$9,AP$9,$AS153:$AZ153)","v":0},0,0,null,{"$f":"AU153+AV153","v":0},null,null,{"$f":"AX153+AY153","v":0}]
[null,null,null,null,null,null,null,null,null,null,null,null,null,null,null,null,null,null,null,null,null,null,null,null,null,null,null,null,null,null,null,null,null,null,null,null,null,null,"5.2","энергия на хозяйственные нужды ","тыс.руб.",0,0,0,null,{"$f":"SUM(AT155,AT189)","v":0},0,0,0,0,0]
[null,null,null,null,null,null,null,null,null,null,null,null,null,null,null,null,null,null,null,null,null,null,null,null,null,null,null,null,null,null,null,null,null,null,null,null,null,null,"5.2.1","тепловая энергия ","тыс.руб.",0,0,0,null,{"$f":"SUM(AT156,AT172)","v":0},0,0,0,0,0]
[null,null,null,null,null,null,null,null,null,null,null,null,null,null,null,null,null,null,null,null,null,null,null,null,null,null,null,null,null,null,null,null,null,null,null,null,null,null,{"$f":"AM155 & \".1\"","v":"5.2.1.1"},"С коллекторов, всего","тыс.руб.",0,0,0,null,{"$f":"SUM(AT157,AT161,AT165)","v":0},0,0,0,0,0]
[null,null,null,null,null,null,null,null,null,null,null,null,null,null,null,null,null,null,null,null,null,null,null,null,null,null,null,null,null,null,null,null,null,null,null,null,null,null,{"$f":"AM155 & \".1.1\"","v":"5.2.1.1.1"},"от станций с мощностью производства >= 25 МВт","тыс.руб.",0,0,0,null,{"$f":"AU157+AV157","v":0},null,null,{"$f":"AX157+AY157","v":0}]
[null,null,null,null,null,null,null,null,null,null,null,null,null,null,null,null,null,null,null,null,null,null,null,null,null,null,null,null,null,null,null,null,null,null,null,null,null,null,{"$f":"AM155 & \".1.1.0.1\"","v":"5.2.1.1.1.0.1"},"объём ТЭ","тыс. Гкал",0,0,0,null,{"$f":"AU158+AV158","v":0},null,null,{"$f":"AX158+AY158","v":0}]
[null,null,null,null,null,null,null,null,null,null,null,null,null,null,null,null,null,null,null,null,null,null,null,null,null,null,null,null,null,null,null,null,null,null,null,null,null,null,{"$f":"AM155 & \".1.1.0.2\"","v":"5.2.1.1.1.0.2"},"цена ТЭ","руб./Гкал",{"$f":"IF(AP158=0,0,AP157/AP158)","v":0},{"$f":"IF(AQ158=0,0,AQ157/AQ158)","v":0},{"$f":"IF(AR158=0,0,AR157/AR158)","v":0},null,{"$f":"IF(AT158=0,0,AT157/AT158)","v":0},0,0,0,0,0]
[]
[null,null,null,null,null,null,null,null,null,null,null,null,null,null,null,null,null,null,null,null,null,null,null,null,null,null,null,null,null,null,null,null,null,null,null,null,null,null,{"$f":"AM155 & \".1.2\"","v":"5.2.1.1.2"},"от станций с мощностью производства < 25 МВт","тыс.руб.",{"$f":"SUMIF($AS$9:$AZ$9,AP$9,$AS161:$AZ161)","v":0},0,0,null,{"$f":"AU161+AV161","v":0},null,null,{"$f":"AX161+AY161","v":0}]
[null,null,null,null,null,null,null,null,null,null,null,null,null,null,null,null,null,null,null,null,null,null,null,null,null,null,null,null,null,null,null,null,null,null,null,null,null,null,{"$f":"AM155 & \".1.2.0.1\"","v":"5.2.1.1.2.0.1"},"объём ТЭ","тыс. Гкал",0,0,0,null,{"$f":"AU162+AV162","v":0},null,null,{"$f":"AX162+AY162","v":0}]
[null,null,null,null,null,null,null,null,null,null,null,null,null,null,null,null,null,null,null,null,null,null,null,null,null,null,null,null,null,null,null,null,null,null,null,null,null,null,{"$f":"AM155 & \".1.2.0.2\"","v":"5.2.1.1.2.0.2"},"цена ТЭ","руб./Гкал",{"$f":"IF(AP162=0,0,AP161/AP162)","v":0},{"$f":"IF(AQ162=0,0,AQ161/AQ162)","v":0},{"$f":"IF(AR162=0,0,AR161/AR162)","v":0},null,{"$f":"IF(AT162=0,0,AT161/AT162)","v":0},0,0,0,0,0]
[]
[null,null,null,null,null,null,null,null,null,null,null,null,null,null,null,null,null,null,null,null,null,null,null,null,null,null,null,null,null,null,null,null,null,null,null,null,null,null,{"$f":"AM155 & \".1.3\"","v":"5.2.1.1.3"},"от котельных","тыс.руб.",{"$f":"SUMIF($AS$9:$AZ$9,AP$9,$AS165:$AZ165)","v":0},0,0,null,{"$f":"AU165+AV165","v":0},null,null,{"$f":"AX165+AY165","v":0}]
[null,null,null,null,null,null,null,null,null,null,null,null,null,null,null,null,null,null,null,null,null,null,null,null,null,null,null,null,null,null,null,null,null,null,null,null,null,null,{"$f":"AM155 & \".1.3.0.1\"","v":"5.2.1.1.3.0.1"},"объём ТЭ","тыс. Гкал",0,0,0,null,{"$f":"AU166+AV166","v":0},null,null,{"$f":"AX166+AY166","v":0}]
[null,null,null,null,null,null,null,null,null,null,null,null,null,null,null,null,null,null,null,null,null,null,null,null,null,null,null,null,null,null,null,null,null,null,null,null,null,null,{"$f":"AM155 & \".1.3.0.2\"","v":"5.2.1.1.3.0.2"},"цена ТЭ","руб./Гкал",{"$f":"IF(AP166=0,0,AP165/AP166)","v":0},{"$f":"IF(AQ166=0,0,AQ165/AQ166)","v":0},{"$f":"IF(AR166=0,0,AR165/AR166)","v":0},null,{"$f":"IF(AT166=0,0,AT165/AT166)","v":0},0,0,0,0,0]
[null,null,null,null,null,null,null,null,null,null,null,null,null,null,null,null,null,null,null,null,null,null,null,null,null,null,null,null,null,null,null,null,null,null,null,null,null,null,{"$f":"AM155 & \".2\"","v":"5.2.1.2"},"в том числе покупка потерь с коллекторов","тыс.руб.",{"$f":"SUMIF($AS$9:$AZ$9,AP$9,$AS168:$AZ168)","v":0},0,0,null,{"$f":"SUM(AT169:AT171)","v":0},0,0,0,0,0]
[null,null,null,null,null,null,null,null,null,null,null,null,null,null,null,null,null,null,null,null,null,null,null,null,null,null,null,null,null,null,null,null,null,null,null,null,null,null,{"$f":"AM155 & \".2.1\"","v":"5.2.1.2.1"},"от станций с мощностью производства >= 25 МВт","тыс.руб.",0,0,0,null,{"$f":"AU169+AV169","v":0},null,null,{"$f":"AX169+AY169","v":0}]
[null,null,null,null,null,null,null,null,null,null,null,null,null,null,null,null,null,null,null,null,null,null,null,null,null,null,null,null,null,null,null,null,null,null,null,null,null,null,{"$f":"AM155 & \".2.2\"","v":"5.2.1.2.2"},"от станций с мощностью производства < 25 МВт","тыс.руб.",0,0,0,null,{"$f":"AU170+AV170","v":0},null,null,{"$f":"AX170+AY170","v":0}]
[null,null,null,null,null,null,null,null,null,null,null,null,null,null,null,null,null,null,null,null,null,null,null,null,null,null,null,null,null,null,null,null,null,null,null,null,null,null,{"$f":"AM155 & \".2.3\"","v":"5.2.1.2.3"},"от котельных","тыс.руб."]
[null,null,null,null,null,null,null,null,null,null,null,null,null,null,null,null,null,null,null,null,null,null,null,null,null,null,null,null,null,null,null,null,null,null,null,null,null,null,{"$f":"AM155 & \".3\"","v":"5.2.1.3"},"Из тепловой сети, всего","тыс.руб.",{"$f":"SUMIF($AS$9:$AZ$9,AP$9,$AS172:$AZ172)","v":0},0,0,null,{"$f":"SUM(AT173,AT177,AT181)","v":0},0,0,0,0,0]
[null,null,null,null,null,null,null,null,null,null,null,null,null,null,null,null,null,null,null,null,null,null,null,null,null,null,null,null,null,null,null,null,null,null,null,null,null,null,{"$f":"AM155 & \".3.1\"","v":"5.2.1.3.1"},"от станций с мощностью производства >= 25 МВт","тыс.руб.",0,0,0,null,{"$f":"AU173+AV173","v":0},null,null,{"$f":"AX173+AY173","v":0}]
[null,null,null,null,null,null,null,null,null,null,null,null,null,null,null,null,null,null,null,null,null,null,null,null,null,null,null,null,null,null,null,null,null,null,null,null,null,null,{"$f":"AM155 & \".3.1.0.1\"","v":"5.2.1.3.1.0.1"},"объём ТЭ","тыс. Гкал",0,0,0,null,{"$f":"AU174+AV174","v":0},null,null,{"$f":"AX174+AY174","v":0}]
[null,null,null,null,null,null,null,null,null,null,null,null,null,null,null,null,null,null,null,null,null,null,null,null,null,null,null,null,null,null,null,null,null,null,null,null,null,null,{"$f":"AM155 & \".3.1.0.2\"","v":"5.2.1.3.1.0.2"},"цена ТЭ","руб./Гкал",{"$f":"IF(AP174=0,0,AP173/AP174)","v":0},{"$f":"IF(AQ174=0,0,AQ173/AQ174)","v":0},{"$f":"IF(AR174=0,0,AR173/AR174)","v":0},null,{"$f":"IF(AT174=0,0,AT173/AT174)","v":0},0,0,0,0,0]
[]
[null,null,null,null,null,null,null,null,null,null,null,null,null,null,null,null,null,null,null,null,null,null,null,null,null,null,null,null,null,null,null,null,null,null,null,null,null,null,{"$f":"AM155 & \".3.2\"","v":"5.2.1.3.2"},"от станций с мощностью производства < 25 МВт","тыс.руб.",{"$f":"SUMIF($AS$9:$AZ$9,AP$9,$AS177:$AZ177)","v":0},0,0,null,{"$f":"AU177+AV177","v":0},null,null,{"$f":"AX177+AY177","v":0}]
[null,null,null,null,null,null,null,null,null,null,null,null,null,null,null,null,null,null,null,null,null,null,null,null,null,null,null,null,null,null,null,null,null,null,null,null,null,null,{"$f":"AM155 & \".3.2.0.1\"","v":"5.2.1.3.2.0.1"},"объём ТЭ","тыс. Гкал",0,0,0,null,{"$f":"AU178+AV178","v":0},null,null,{"$f":"AX178+AY178","v":0}]
[null,null,null,null,null,null,null,null,null,null,null,null,null,null,null,null,null,null,null,null,null,null,null,null,null,null,null,null,null,null,null,null,null,null,null,null,null,null,{"$f":"AM155 & \".3.2.0.2\"","v":"5.2.1.3.2.0.2"},"цена ТЭ","руб./Гкал",{"$f":"IF(AP178=0,0,AP177/AP178)","v":0},{"$f":"IF(AQ178=0,0,AQ177/AQ178)","v":0},{"$f":"IF(AR178=0,0,AR177/AR178)","v":0},null,{"$f":"IF(AT178=0,0,AT177/AT178)","v":0},0,0,0,0,0]
[]
[null,null,null,null,null,null,null,null,null,null,null,null,null,null,null,null,null,null,null,null,null,null,null,null,null,null,null,null,null,null,null,null,null,null,null,null,null,null,{"$f":"AM155 & \".3.3\"","v":"5.2.1.3.3"},"от котельных (некомбинированная выработка)","тыс.руб.",{"$f":"SUMIF($AS$9:$AZ$9,AP$9,$AS181:$AZ181)","v":0},0,0,null,{"$f":"AU181+AV181","v":0},null,null,{"$f":"AX181+AY181","v":0}]
[null,null,null,null,null,null,null,null,null,null,null,null,null,null,null,null,null,null,null,null,null,null,null,null,null,null,null,null,null,null,null,null,null,null,null,null,null,null,{"$f":"AM155 & \".3.3.0.1\"","v":"5.2.1.3.3.0.1"},"объём ТЭ","тыс. Гкал",0,0,0,null,{"$f":"AU182+AV182","v":0},null,null,{"$f":"AX182+AY182","v":0}]
[null,null,null,null,null,null,null,null,null,null,null,null,null,null,null,null,null,null,null,null,null,null,null,null,null,null,null,null,null,null,null,null,null,null,null,null,null,null,{"$f":"AM155 & \".3.3.0.2\"","v":"5.2.1.3.3.0.2"},"цена ТЭ","руб./Гкал",{"$f":"IF(AP182=0,0,AP181/AP182)","v":0},{"$f":"IF(AQ182=0,0,AQ181/AQ182)","v":0},{"$f":"IF(AR182=0,0,AR181/AR182)","v":0},null,{"$f":"IF(AT182=0,0,AT181/AT182)","v":0},0,0,0,0,0]
[]
[null,null,null,null,null,null,null,null,null,null,null,null,null,null,null,null,null,null,null,null,null,null,null,null,null,null,null,null,null,null,null,null,null,null,null,null,null,null,{"$f":"AM155 & \".4\"","v":"5.2.1.4"},"в том числе покупка потерь из тепловой сети","тыс.руб.",{"$f":"SUMIF($AS$9:$AZ$9,AP$9,$AS185:$AZ185)","v":0},0,0,null,{"$f":"SUM(AT186:AT188)","v":0},0,0,0,0,0]
[null,null,null,null,null,null,null,null,null,null,null,null,null,null,null,null,null,null,null,null,null,null,null,null,null,null,null,null,null,null,null,null,null,null,null,null,null,null,{"$f":"AM155 & \".4.1\"","v":"5.2.1.4.1"},"от станций с мощностью производства >= 25 МВт","тыс.руб.",0,0,0,null,{"$f":"AU186+AV186","v":0},null,null,{"$f":"AX186+AY186","v":0}]
[null,null,null,null,null,null,null,null,null,null,null,null,null,null,null,null,null,null,null,null,null,null,null,null,null,null,null,null,null,null,null,null,null,null,null,null,null,null,{"$f":"AM155 & \".4.2\"","v":"5.2.1.4.2"},"от станций с мощностью производства < 25 МВт","тыс.руб.",0,0,0,null,0,null,null,0]
[null,null,null,null,null,null,null,null,null,null,null,null,null,null,null,null,null,null,null,null,null,null,null,null,null,null,null,null,null,null,null,null,null,null,null,null,null,null,{"$f":"AM155 & \".4.3\"","v":"5.2.1.4.3"},"от котельных (некомбинированная выработка)","тыс.руб.",0,0,0,null,0,null,null,0]
[null,null,null,null,null,null,null,null,null,null,null,null,null,null,null,null,null,null,null,null,null,null,null,null,null,null,null,null,null,null,null,null,null,null,null,null,null,null,"5.2.2","электрическая энергия ","тыс.руб.",0,0,0,null,0,{"$f":"SUM(AU192,AU195,AU198,AU201,AU204,AU207,AU210,AU213)","v":0},{"$f":"SUM(AV192,AV195,AV198,AV201,AV204,AV207,AV210,AV213)","v":0},0,{"$f":"SUM(AX192,AX195,AX198,AX201,AX204,AX207,AX210,AX213)","v":0},{"$f":"SUM(AY192,AY195,AY198,AY201,AY204,AY207,AY210,AY213)","v":0}]
[null,null,null,null,null,null,null,null,null,null,null,null,null,null,null,null,null,null,null,null,null,null,null,null,null,null,null,null,null,null,null,null,null,null,null,null,null,null,"5.2.2.0.1","объём энергии","тыс.кВт*ч",0,0,0,null,0,{"$f":"AU194+AU200+AU206+AU212","v":0},{"$f":"AV194+AV200+AV206+AV212","v":0},0,{"$f":"AX194+AX200+AX206+AX212","v":0},{"$f":"AY194+AY200+AY206+AY212","v":0}]
[null,null,null,null,null,null,null,null,null,null,null,null,null,null,null,null,null,null,null,null,null,null,null,null,null,null,null,null,null,null,null,null,null,null,null,null,null,null,"5.2.2.0.2","объём заявленной мощности","МВт",0,0,0,null,0,{"$f":"AU197+AU203+AU209+AU215","v":0},{"$f":"AV197+AV203+AV209+AV215","v":0},0,{"$f":"AX197+AX203+AX209+AX215","v":0},{"$f":"AY197+AY203+AY209+AY215","v":0}]
[null,null,null,null,null,null,null,null,null,null,null,null,null,null,null,null,null,null,null,null,null,null,null,null,null,null,null,null,null,null,null,null,null,null,null,null,null,null,"5.2.2.1.1","энергия НН (0,4 кВ и ниже)","тыс.руб.",0,0,0,null,0,{"$f":"AU193*AU194","v":0},{"$f":"AV193*AV194","v":0},0,{"$f":"AX193*AX194","v":0},{"$f":"AY193*AY194","v":0}]
[null,null,null,null,null,null,null,null,null,null,null,null,null,null,null,null,null,null,null,null,null,null,null,null,null,null,null,null,null,null,null,null,null,null,null,null,null,null,"5.2.2.1.1.1","тариф на энергию","руб./кВт*ч",{"$f":"IF(AP194=0,0,AP192/AP194)","v":0},{"$f":"IF(AQ194=0,0,AQ192/AQ194)","v":0},{"$f":"IF(AR194=0,0,AR192/AR194)","v":0},null,{"$f":"IF(AT194=0,0,AT192/AT194)","v":0},null,null,{"$f":"IF(AW194=0,0,AW192/AW194)","v":0}]
[null,null,null,null,null,null,null,null,null,null,null,null,null,null,null,null,null,null,null,null,null,null,null,null,null,null,null,null,null,null,null,null,null,null,null,null,null,null,"5.2.2.1.1.2","объём энергии","тыс.кВт*ч",{"$f":"SUMIF($AS$9:$AZ$9,AP$9,$AS194:$AZ194)","v":0},0,0,null,{"$f":"AU194+AV194","v":0},null,null,{"$f":"AX194+AY194","v":0}]
[null,null,null,null,null,null,null,null,null,null,null,null,null,null,null,null,null,null,null,null,null,null,null,null,null,null,null,null,null,null,null,null,null,null,null,null,null,null,"5.2.2.1.2","заявленная мощность по НН (0,4 кВ и ниже)","тыс.руб.",0,0,0,null,{"$f":"AU195+AV195","v":0},{"$f":"AU196*AU197","v":0},{"$f":"AV196*AV197","v":0},{"$f":"AX195+AY195","v":0},{"$f":"AX196*AX197","v":0},{"$f":"AY196*AY197","v":0}]
[null,null,null,null,null,null,null,null,null,null,null,null,null,null,null,null,null,null,null,null,null,null,null,null,null,null,null,null,null,null,null,null,null,null,null,null,null,null,"5.2.2.1.2.1","тариф на заявленную мощность","руб./кВт*мес",{"$f":"IF(AP197=0,0,AP195/AP197)","v":0},{"$f":"IF(AQ197=0,0,AQ195/AQ197)","v":0},{"$f":"IF(AR197=0,0,AR195/AR197)","v":0},null,{"$f":"IF(AT197=0,0,AT195/AT197)","v":0},null,null,{"$f":"IF(AW197=0,0,AW195/AW197)","v":0}]
[null,null,null,null,null,null,null,null,null,null,null,null,null,null,null,null,null,null,null,null,null,null,null,null,null,null,null,null,null,null,null,null,null,null,null,null,null,null,"5.2.2.1.2.2","годовой объём мощности","МВт",{"$f":"SUMIF($AS$9:$AZ$9,AP$9,$AS197:$AZ197)","v":0},0,0,null,{"$f":"AU197+AV197","v":0},null,null,{"$f":"AX197+AY197","v":0}]
[null,null,null,null,null,null,null,null,null,null,null,null,null,null,null,null,null,null,null,null,null,null,null,null,null,null,null,null,null,null,null,null,null,null,null,null,null,null,"5.2.2.2.1","энергия СН 2 (1-20 кВ)","тыс.руб.",0,0,0,null,{"$f":"AU198+AV198","v":0},{"$f":"AU199*AU200","v":0},{"$f":"AV199*AV200","v":0},{"$f":"AX198+AY198","v":0},{"$f":"AX199*AX200","v":0},{"$f":"AY199*AY200","v":0}]
[null,null,null,null,null,null,null,null,null,null,null,null,null,null,null,null,null,null,null,null,null,null,null,null,null,null,null,null,null,null,null,null,null,null,null,null,null,null,"5.2.2.2.1.1","тариф на энергию","руб./кВт*ч",{"$f":"IF(AP200=0,0,AP198/AP200)","v":0},{"$f":"IF(AQ200=0,0,AQ198/AQ200)","v":0},{"$f":"IF(AR200=0,0,AR198/AR200)","v":0},null,{"$f":"IF(AT200=0,0,AT198/AT200)","v":0},null,null,{"$f":"IF(AW200=0,0,AW198/AW200)","v":0}]
[null,null,null,null,null,null,null,null,null,null,null,null,null,null,null,null,null,null,null,null,null,null,null,null,null,null,null,null,null,null,null,null,null,null,null,null,null,null,"5.2.2.2.1.2","объём энергии","тыс.кВт*ч",{"$f":"SUMIF($AS$9:$AZ$9,AP$9,$AS200:$AZ200)","v":0},0,0,null,{"$f":"AU200+AV200","v":0},null,null,{"$f":"AX200+AY200","v":0}]
[null,null,null,null,null,null,null,null,null,null,null,null,null,null,null,null,null,null,null,null,null,null,null,null,null,null,null,null,null,null,null,null,null,null,null,null,null,null,"5.2.2.2.2","заявленная мощность по СН 2 (1-20 кВ)","тыс.руб.",0,0,0,null,{"$f":"AU201+AV201","v":0},{"$f":"AU202*AU203","v":0},{"$f":"AV202*AV203","v":0},{"$f":"AX201+AY201","v":0},{"$f":"AX202*AX203","v":0},{"$f":"AY202*AY203","v":0}]
[null,null,null,null,null,null,null,null,null,null,null,null,null,null,null,null,null,null,null,null,null,null,null,null,null,null,null,null,null,null,null,null,null,null,null,null,null,null,"5.2.2.2.2.1","тариф на заявленную мощность","руб./кВт*мес",{"$f":"IF(AP203=0,0,AP201/AP203)","v":0},{"$f":"IF(AQ203=0,0,AQ201/AQ203)","v":0},{"$f":"IF(AR203=0,0,AR201/AR203)","v":0},null,{"$f":"IF(AT203=0,0,AT201/AT203)","v":0},null,null,{"$f":"IF(AW203=0,0,AW201/AW203)","v":0}]
[null,null,null,null,null,null,null,null,null,null,null,null,null,null,null,null,null,null,null,null,null,null,null,null,null,null,null,null,null,null,null,null,null,null,null,null,null,null,"5.2.2.2.2.2","годовой объём мощности","МВт",{"$f":"SUMIF($AS$9:$AZ$9,AP$9,$AS203:$AZ203)","v":0},0,0,null,{"$f":"AU203+AV203","v":0},null,null,{"$f":"AX203+AY203","v":0}]
[null,null,null,null,null,null,null,null,null,null,null,null,null,null,null,null,null,null,null,null,null,null,null,null,null,null,null,null,null,null,null,null,null,null,null,null,null,null,"5.2.2.3.1","энергия СН 1 (35 кВ)","тыс.руб.",0,0,0,null,{"$f":"AU204+AV204","v":0},{"$f":"AU205*AU206","v":0},{"$f":"AV205*AV206","v":0},{"$f":"AX204+AY204","v":0},{"$f":"AX205*AX206","v":0},{"$f":"AY205*AY206","v":0}]
[null,null,null,null,null,null,null,null,null,null,null,null,null,null,null,null,null,null,null,null,null,null,null,null,null,null,null,null,null,null,null,null,null,null,null,null,null,null,"5.2.2.3.1.1","тариф на энергию","руб./кВт*ч",{"$f":"IF(AP206=0,0,AP204/AP206)","v":0},{"$f":"IF(AQ206=0,0,AQ204/AQ206)","v":0},{"$f":"IF(AR206=0,0,AR204/AR206)","v":0},null,{"$f":"IF(AT206=0,0,AT204/AT206)","v":0},null,null,{"$f":"IF(AW206=0,0,AW204/AW206)","v":0}]
[null,null,null,null,null,null,null,null,null,null,null,null,null,null,null,null,null,null,null,null,null,null,null,null,null,null,null,null,null,null,null,null,null,null,null,null,null,null,"5.2.2.3.1.2","объём энергии","тыс.кВт*ч",{"$f":"SUMIF($AS$9:$AZ$9,AP$9,$AS206:$AZ206)","v":0},0,0,null,{"$f":"AU206+AV206","v":0},null,null,{"$f":"AX206+AY206","v":0}]
[null,null,null,null,null,null,null,null,null,null,null,null,null,null,null,null,null,null,null,null,null,null,null,null,null,null,null,null,null,null,null,null,null,null,null,null,null,null,"5.2.2.3.2","заявленная мощность по СН 1 (35 кВ)","тыс.руб.",0,0,0,null,{"$f":"AU207+AV207","v":0},{"$f":"AU208*AU209","v":0},{"$f":"AV208*AV209","v":0},{"$f":"AX207+AY207","v":0},{"$f":"AX208*AX209","v":0},{"$f":"AY208*AY209","v":0}]
[null,null,null,null,null,null,null,null,null,null,null,null,null,null,null,null,null,null,null,null,null,null,null,null,null,null,null,null,null,null,null,null,null,null,null,null,null,null,"5.2.2.3.2.1","тариф на заявленную мощность","руб./кВт*мес",{"$f":"IF(AP209=0,0,AP207/AP209)","v":0},{"$f":"IF(AQ209=0,0,AQ207/AQ209)","v":0},{"$f":"IF(AR209=0,0,AR207/AR209)","v":0},null,{"$f":"IF(AT209=0,0,AT207/AT209)","v":0},null,null,{"$f":"IF(AW209=0,0,AW207/AW209)","v":0}]
[null,null,null,null,null,null,null,null,null,null,null,null,null,null,null,null,null,null,null,null,null,null,null,null,null,null,null,null,null,null,null,null,null,null,null,null,null,null,"5.2.2.3.2.2","годовой объём мощности","МВт",{"$f":"SUMIF($AS$9:$AZ$9,AP$9,$AS209:$AZ209)","v":0},0,0,null,{"$f":"AU209+AV209","v":0},null,null,{"$f":"AX209+AY209","v":0}]
[null,null,null,null,null,null,null,null,null,null,null,null,null,null,null,null,null,null,null,null,null,null,null,null,null,null,null,null,null,null,null,null,null,null,null,null,null,null,"5.2.2.4.1","энергия ВН (110 кВ и выше)","тыс.руб.",0,0,0,null,{"$f":"AU210+AV210","v":0},{"$f":"AU211*AU212","v":0},{"$f":"AV211*AV212","v":0},{"$f":"AX210+AY210","v":0},{"$f":"AX211*AX212","v":0},{"$f":"AY211*AY212","v":0}]
[null,null,null,null,null,null,null,null,null,null,null,null,null,null,null,null,null,null,null,null,null,null,null,null,null,null,null,null,null,null,null,null,null,null,null,null,null,null,"5.2.2.4.1.1","тариф на энергию","руб./кВт*ч",{"$f":"IF(AP212=0,0,AP210/AP212)","v":0},{"$f":"IF(AQ212=0,0,AQ210/AQ212)","v":0},{"$f":"IF(AR212=0,0,AR210/AR212)","v":0},null,{"$f":"IF(AT212=0,0,AT210/AT212)","v":0},null,null,{"$f":"IF(AW212=0,0,AW210/AW212)","v":0}]
[null,null,null,null,null,null,null,null,null,null,null,null,null,null,null,null,null,null,null,null,null,null,null,null,null,null,null,null,null,null,null,null,null,null,null,null,null,null,"5.2.2.4.1.2","объём энергии","тыс.кВт*ч",{"$f":"SUMIF($AS$9:$AZ$9,AP$9,$AS212:$AZ212)","v":0},0,0,null,{"$f":"AU212+AV212","v":0},null,null,{"$f":"AX212+AY212","v":0}]
[null,null,null,null,null,null,null,null,null,null,null,null,null,null,null,null,null,null,null,null,null,null,null,null,null,null,null,null,null,null,null,null,null,null,null,null,null,null,"5.2.2.4.2","заявленная мощность по ВН (110 кВ и выше)","тыс.руб.",0,0,0,null,{"$f":"AU213+AV213","v":0},{"$f":"AU214*AU215","v":0},{"$f":"AV214*AV215","v":0},{"$f":"AX213+AY213","v":0},{"$f":"AX214*AX215","v":0},{"$f":"AY214*AY215","v":0}]
[null,null,null,null,null,null,null,null,null,null,null,null,null,null,null,null,null,null,null,null,null,null,null,null,null,null,null,null,null,null,null,null,null,null,null,null,null,null,"5.2.2.4.2.1","тариф на заявленную мощность","руб./кВт*мес",{"$f":"IF(AP215=0,0,AP213/AP215)","v":0},{"$f":"IF(AQ215=0,0,AQ213/AQ215)","v":0},{"$f":"IF(AR215=0,0,AR213/AR215)","v":0},null,{"$f":"IF(AT215=0,0,AT213/AT215)","v":0},null,null,{"$f":"IF(AW215=0,0,AW213/AW215)","v":0}]
[null,null,null,null,null,null,null,null,null,null,null,null,null,null,null,null,null,null,null,null,null,null,null,null,null,null,null,null,null,null,null,null,null,null,null,null,null,null,"5.2.2.4.2.2","годовой объём мощности","МВт",{"$f":"SUMIF($AS$9:$AZ$9,AP$9,$AS215:$AZ215)","v":0},0,0,null,{"$f":"AU215+AV215","v":0},null,null,{"$f":"AX215+AY215","v":0}]
[null,null,null,null,null,null,null,null,null,null,null,null,null,null,null,null,null,null,null,null,null,null,null,null,null,null,null,null,null,null,null,null,null,null,null,null,null,null,"6","Затраты на оплату труда ","тыс.руб.",556081.72661999997,278062.37161999999,278019.35500000004,null,{"$f":"AU216+AV216","v":541136.75681799999},{"$f":"SUM(AU222,AU229,AU236,AU240,AU244)","v":271635.18186999997},{"$f":"SUM(AV222,AV229,AV236,AV240,AV244)","v":269501.57494800002},{"$f":"AX216+AY216","v":14944.969802},{"$f":"SUM(AX222,AX229,AX236,AX240,AX244)","v":6427.1897500000005},{"$f":"SUM(AY222,AY229,AY236,AY240,AY244)","v":8517.7800520000001}]
[null,null,null,null,null,null,null,null,null,null,null,null,null,null,null,null,null,null,null,null,null,null,null,null,null,null,null,null,null,null,null,null,null,null,null,null,null,null,"6.0.1","Справочно: среднемесячная оплата труда в целом по организации","руб./мес.",null,{"$f":"IF(AQ218=0,0,(1000*AQ216/AQ218)/AQ$6)","v":82323.390071286849},{"$f":"IF(AR218=0,0,(1000*AR216/AR218)/AR$6)","v":84783.060242077525},null,null,{"$f":"IF(AU218=0,0,(1000*AU216/AU218)/AU$6)","v":82132.998878225466},{"$f":"IF(AV218=0,0,(1000*AV216/AV218)/AV$6)","v":83936.481150374675},null,{"$f":"IF(AX218=0,0,(1000*AX216/AX218)/AX$6)","v":91264.603076868181},{"$f":"IF(AY218=0,0,(1000*AY216/AY218)/AY$6)","v":124519.51086046343}]
[null,null,null,null,null,null,null,null,null,null,null,null,null,null,null,null,null,null,null,null,null,null,null,null,null,null,null,null,null,null,null,null,null,null,null,null,null,null,"6.0.2","Справочно: численность персонала в целом по организации","ед.",null,{"$f":"SUMIF($AS$9:$AZ$9,AQ$9,$AS218:$AZ218)","v":562.94728100000009},{"$f":"SUMIF($AS$9:$AZ$9,AR$9,$AS218:$AZ218)","v":546.53086399999995},null,null,{"$f":"SUM(AU224,AU231,AU238,AU242,AU246)","v":551.21},{"$f":"SUM(AV224,AV231,AV238,AV242,AV246)","v":535.13},null,{"$f":"SUM(AX224,AX231,AX238,AX242,AX246)","v":11.737281000000001},{"$f":"SUM(AY224,AY231,AY238,AY242,AY246)","v":11.400864}]
[null,null,null,null,null,null,null,null,null,null,null,null,null,null,null,null,null,null,null,null,null,null,null,null,null,null,null,null,null,null,null,null,null,null,null,null,null,null,{"$f":"AM218 & \".1\"","v":"6.0.2.1"},"Справочно: нормативная численность персонала в целом по организации","ед.",null,{"$f":"SUMIF($AS$9:$AZ$9,AQ$9,$AS219:$AZ219)","v":743.80232599999999},{"$f":"SUMIF($AS$9:$AZ$9,AR$9,$AS219:$AZ219)","v":743.65952600000003},null,null,{"$f":"SUM(AU225,AU232,AU239,AU243,AU247)","v":727.98},{"$f":"SUM(AV225,AV232,AV239,AV243,AV247)","v":727.84},null,{"$f":"SUM(AX225,AX232,AX239,AX243,AX247)","v":15.822326},{"$f":"SUM(AY225,AY232,AY239,AY243,AY247)","v":15.819526}]
[null,null,null,null,null,null,null,null,null,null,null,null,null,null,null,null,null,null,null,null,null,null,null,null,null,null,null,null,null,null,null,null,null,null,null,null,null,null,{"$f":"AM218 & \".2\"","v":"6.0.2.2"},"Отношение фактической численности персонала к нормативной","%",null,{"$f":"IF(AQ219=0,0,AQ218/AQ219*100)","v":75.685065953934654},{"$f":"IF(AR219=0,0,AR218/AR219*100)","v":73.492081374884449},null,null,{"$f":"IF(AU219=0,0,AU218/AU219*100)","v":75.717739498337863},{"$f":"IF(AV219=0,0,AV218/AV219*100)","v":73.523027038909646},null,{"$f":"IF(AX219=0,0,AX218/AX219*100)","v":74.18176695386002},{"$f":"IF(AY219=0,0,AY218/AY219*100)","v":72.06830343715734}]
[null,null,null,null,null,null,null,null,null,null,null,null,null,null,null,null,null,null,null,null,null,null,null,null,null,null,null,null,null,null,null,null,null,null,null,null,null,null,"6.0.3","Справочно: минимальный размер оплаты труда в целом по организации","руб./мес."]
[null,null,null,null,null,null,null,null,null,null,null,null,null,null,null,null,null,null,null,null,null,null,null,null,null,null,null,null,null,null,null,null,null,null,null,null,null,null,"6.1","оплата труда основных производственных рабочих","тыс.руб.",{"$f":"SUMIF($AS$9:$AZ$9,AP$9,$AS222:$AZ222)","v":429317.00999999995},{"$f":"SUMIF($AS$9:$AZ$9,AQ$9,$AS222:$AZ222)","v":213825.8},{"$f":"SUMIF($AS$9:$AZ$9,AR$9,$AS222:$AZ222)","v":215491.21},null,{"$f":"AU222+AV222","v":417481.36438399996},{"$f":"213825.8-AX222","v":208799.67661999998},{"$f":"215491.21-AY222","v":208681.687764},{"$f":"AX222+AY222","v":11835.645616000002},{"$f":"213825.8*0.025-AX229","v":5026.12338},{"$f":"215491.21*0.0316","v":6809.5222360000007}]
[null,null,null,null,null,null,null,null,null,null,null,null,null,null,null,null,null,null,null,null,null,null,null,null,null,null,null,null,null,null,null,null,null,null,null,null,null,null,"6.1.1","среднемесячная оплата труда основных производственных рабочих","руб./мес.",null,{"$f":"IF(AQ224=0,0,(1000*AQ222/AQ224)/AQ$6)","v":79207.589972002868},{"$f":"IF(AR224=0,0,(1000*AR222/AR224)/AR$6)","v":80202.412348772283},null,null,{"$f":"IF(AU224=0,0,(1000*AU222/AU224)/AU$6)","v":78920.390301243518},{"$f":"IF(AV224=0,0,(1000*AV222/AV224)/AV$6)","v":79256.845006038784},null,{"$f":"IF(AX224=0,0,(1000*AX222/AX224)/AX$6)","v":93314.830121421415},{"$f":"IF(AY224=0,0,(1000*AY222/AY224)/AY$6)","v":126425.35063681261}]
[null,null,null,null,null,null,null,null,null,null,null,null,null,null,null,null,null,null,null,null,null,null,null,null,null,null,null,null,null,null,null,null,null,null,null,null,null,null,"6.1.2","численность основного производственного персонала, относимого на регулируемый вид деятельности","ед.",null,{"$f":"SUMIF($AS$9:$AZ$9,AQ$9,$AS224:$AZ224)","v":449.92699999999996},{"$f":"SUMIF($AS$9:$AZ$9,AR$9,$AS224:$AZ224)","v":447.80699999999996},null,null,{"$f":"502.73-AU231-8.98","v":440.95},{"$f":"492.44-AV231-8.98","v":438.83},null,{"$f":"502.73*0.02-AX231","v":8.9770000000000003},{"$f":"AX224","v":8.9770000000000003}]
[null,null,null,null,null,null,null,null,null,null,null,null,null,null,null,null,null,null,null,null,null,null,null,null,null,null,null,null,null,null,null,null,null,null,null,null,null,null,{"$f":"AM224 & \".0\"","v":"6.1.2.0"},{"$f":"\"справочно: нормативная \" & AN224","v":"справочно: нормативная численность основного производственного персонала, относимого на регулируемый вид деятельности"},"ед.",null,{"$f":"SUMIF($AS$9:$AZ$9,AQ$9,$AS225:$AZ225)","v":586.35720000000003},{"$f":"SUMIF($AS$9:$AZ$9,AR$9,$AS225:$AZ225)","v":593.41840000000002},null,null,{"$f":"630.95-AU232-11.73","v":574.63},{"$f":"630.95-AV232-11.87","v":581.55000000000007},null,{"$f":"586.36*0.02","v":11.7272},{"$f":"593.42*0.02","v":11.868399999999999}]
[null,null,null,null,null,null,null,null,null,null,null,null,null,null,null,null,null,null,null,null,null,null,null,null,null,null,null,null,null,null,null,null,null,null,null,null,null,null,"6.1.3","Тарифная ставка рабочего 1-го разряда","руб./мес.",null,null,null,null,null,8908.35,9086.52,null,8908.35,9086.52]
[null,null,null,null,null,null,null,null,null,null,null,null,null,null,null,null,null,null,null,null,null,null,null,null,null,null,null,null,null,null,null,null,null,null,null,null,null,null,"6.1.4","Базовая тарифная ставка рабочего 1-го разряда","руб./мес.",null,null,null,null,null,{"$f":"8908.35/1.4","v":6363.1071428571431},{"$f":"9086.52/1.4","v":6490.3714285714295},null,{"$f":"8908.35/1.4","v":6363.1071428571431},{"$f":"9086.52/1.4","v":6490.3714285714295}]
[null,null,null,null,null,null,null,null,null,null,null,null,null,null,null,null,null,null,null,null,null,null,null,null,null,null,null,null,null,null,null,null,null,null,null,null,null,null,"6.1.5","Минимальная тарифная ставка рабочего 1-го разряда","руб./мес.",null,null,null,null,null,8908.35,9086.52,null,8908.35,9086.52]
[null,null,null,null,null,null,null,null,null,null,null,null,null,null,null,null,null,null,null,null,null,null,null,null,null,null,null,null,null,null,null,null,null,null,null,null,null,null,"6.2","оплата труда ремонтного персонала","тыс.руб.",{"$f":"SUMIF($AS$9:$AZ$9,AP$9,$AS229:$AZ229)","v":39184.166620000004},{"$f":"SUMIF($AS$9:$AZ$9,AQ$9,$AS229:$AZ229)","v":20974.781619999998},{"$f":"SUMIF($AS$9:$AZ$9,AR$9,$AS229:$AZ229)","v":18209.384999999998},null,{"$f":"AU229+AV229","v":38556.86},{"$f":"20974.78-319.52","v":20655.259999999998},{"$f":"18209.39-307.79","v":17901.599999999999},{"$f":"AX229+AY229","v":627.30662000000007},{"$f":"305.47*1.046","v":319.52162000000004},{"$f":"301.75*1.02","v":307.78500000000003}]
[null,null,null,null,null,null,null,null,null,null,null,null,null,null,null,null,null,null,null,null,null,null,null,null,null,null,null,null,null,null,null,null,null,null,null,null,null,null,"6.2.1","среднемесячная оплата труда ремонтного персонала","руб./мес.",null,{"$f":"IF(AQ231=0,0,(1000*AQ229/AQ231)/AQ$6)","v":64884.050823842677},{"$f":"IF(AR231=0,0,(1000*AR229/AR231)/AR$6)","v":66641.286494747561},null,null,{"$f":"IF(AU231=0,0,(1000*AU229/AU231)/AU$6)","v":65199.684343434339},{"$f":"IF(AV231=0,0,(1000*AV229/AV231)/AV$6)","v":66851.893345283446},null,{"$f":"IF(AX231=0,0,(1000*AX229/AX231)/AX$6)","v":49418.711333828258},{"$f":"IF(AY231=0,0,(1000*AY229/AY231)/AY$6)","v":56321.365832235395}]
[null,null,null,null,null,null,null,null,null,null,null,null,null,null,null,null,null,null,null,null,null,null,null,null,null,null,null,null,null,null,null,null,null,null,null,null,null,null,"6.2.2","численность ремонтного персонала, относимого на регулируемый вид деятельности","ед.",null,{"$f":"SUMIF($AS$9:$AZ$9,AQ$9,$AS231:$AZ231)","v":53.877600000000001},{"$f":"SUMIF($AS$9:$AZ$9,AR$9,$AS231:$AZ231)","v":45.540800000000004},null,null,{"$f":"53.88-1.08","v":52.800000000000004},{"$f":"45.54-0.91","v":44.63},null,{"$f":"53.88*0.02","v":1.0776000000000001},{"$f":"45.54*0.02","v":0.91080000000000005}]
[null,null,null,null,null,null,null,null,null,null,null,null,null,null,null,null,null,null,null,null,null,null,null,null,null,null,null,null,null,null,null,null,null,null,null,null,null,null,{"$f":"AM231 & \".0\"","v":"6.2.2.0"},{"$f":"\"справочно: нормативная \" & AN231","v":"справочно: нормативная численность ремонтного персонала, относимого на регулируемый вид деятельности"},"ед.",null,{"$f":"SUMIF($AS$9:$AZ$9,AQ$9,$AS232:$AZ232)","v":45.5},{"$f":"SUMIF($AS$9:$AZ$9,AR$9,$AS232:$AZ232)","v":38.295999999999992},null,null,{"$f":"45.5-0.91","v":44.59},{"$f":"38.3-0.77","v":37.529999999999994},null,{"$f":"45.5*0.02","v":0.91},{"$f":"38.3*0.02","v":0.76600000000000001}]
[null,null,null,null,null,null,null,null,null,null,null,null,null,null,null,null,null,null,null,null,null,null,null,null,null,null,null,null,null,null,null,null,null,null,null,null,null,null,"6.2.3","Тарифная ставка рабочего 1-го разряда","руб./мес.",null,null,null,null,null,8908.35,9086.52,null,8908.35,9086.52]
[null,null,null,null,null,null,null,null,null,null,null,null,null,null,null,null,null,null,null,null,null,null,null,null,null,null,null,null,null,null,null,null,null,null,null,null,null,null,"6.2.4","Базовая тарифная ставка рабочего 1-го разряда","руб./мес.",null,null,null,null,null,{"$f":"8908.35/1.4","v":6363.1071428571431},{"$f":"9086.52/1.4","v":6490.3714285714295},null,{"$f":"8908.35/1.4","v":6363.1071428571431},{"$f":"9086.52/1.4","v":6490.3714285714295}]
[null,null,null,null,null,null,null,null,null,null,null,null,null,null,null,null,null,null,null,null,null,null,null,null,null,null,null,null,null,null,null,null,null,null,null,null,null,null,"6.2.5","Минимальная тарифная ставка рабочего 1-го разряда","руб./мес.",null,null,null,null,null,8908.35,9086.52,null,8908.35,9086.52]
[null,null,null,null,null,null,null,null,null,null,null,null,null,null,null,null,null,null,null,null,null,null,null,null,null,null,null,null,null,null,null,null,null,null,null,null,null,null,"6.3","оплата труда цехового персонала","тыс.руб.",{"$f":"SUMIF($AS$9:$AZ$9,AP$9,$AS236:$AZ236)","v":0},{"$f":"SUMIF($AS$9:$AZ$9,AQ$9,$AS236:$AZ236)","v":0},{"$f":"SUMIF($AS$9:$AZ$9,AR$9,$AS236:$AZ236)","v":0},null,{"$f":"AU236+AV236","v":0},null,null,{"$f":"AX236+AY236","v":0}]
[null,null,null,null,null,null,null,null,null,null,null,null,null,null,null,null,null,null,null,null,null,null,null,null,null,null,null,null,null,null,null,null,null,null,null,null,null,null,"6.3.1","среднемесячная оплата труда цехового персонала","руб./мес.",null,{"$f":"IF(AQ238=0,0,(1000*AQ236/AQ238)/AQ$6)","v":0},{"$f":"IF(AR238=0,0,(1000*AR236/AR238)/AR$6)","v":0},null,null,{"$f":"IF(AU238=0,0,(1000*AU236/AU238)/AU$6)","v":0},{"$f":"IF(AV238=0,0,(1000*AV236/AV238)/AV$6)","v":0},null,{"$f":"IF(AX238=0,0,(1000*AX236/AX238)/AX$6)","v":0},{"$f":"IF(AY238=0,0,(1000*AY236/AY238)/AY$6)","v":0}]
[null,null,null,null,null,null,null,null,null,null,null,null,null,null,null,null,null,null,null,null,null,null,null,null,null,null,null,null,null,null,null,null,null,null,null,null,null,null,"6.3.2","численность цехового персонала, относимого на регулируемый вид деятельности","ед.",null,{"$f":"SUMIF($AS$9:$AZ$9,AQ$9,$AS238:$AZ238)","v":0},0]
[null,null,null,null,null,null,null,null,null,null,null,null,null,null,null,null,null,null,null,null,null,null,null,null,null,null,null,null,null,null,null,null,null,null,null,null,null,null,{"$f":"AM238 & \".0\"","v":"6.3.2.0"},{"$f":"\"справочно: нормативная \" & AN238","v":"справочно: нормативная численность цехового персонала, относимого на регулируемый вид деятельности"},"ед.",null,0,0]
[null,null,null,null,null,null,null,null,null,null,null,null,null,null,null,null,null,null,null,null,null,null,null,null,null,null,null,null,null,null,null,null,null,null,null,null,null,null,"6.4","оплата труда АУП","тыс.руб.",{"$f":"SUMIF($AS$9:$AZ$9,AP$9,$AS240:$AZ240)","v":87580.549999999988},43261.79,44318.76,null,{"$f":"AU240+AV240","v":85098.532433999993},{"$f":"43261.79-AX240","v":42180.24525},{"$f":"44318.76-AY240","v":42918.287184000001},{"$f":"AX240+AY240","v":2482.0175660000004},{"$f":"43261.79*0.025","v":1081.54475},{"$f":"44318.76*0.0316","v":1400.4728160000002}]
[null,null,null,null,null,null,null,null,null,null,null,null,null,null,null,null,null,null,null,null,null,null,null,null,null,null,null,null,null,null,null,null,null,null,null,null,null,null,"6.4.1","среднемесячная оплата труда АУП","руб./мес.",null,{"$f":"IF(AQ242=0,0,(1000*AQ240/AQ242)/AQ$6)","v":121913.61993436403},{"$f":"IF(AR242=0,0,(1000*AR240/AR242)/AR$6)","v":138887.4473272168},null,null,{"$f":"IF(AU242=0,0,(1000*AU240/AU242)/AU$6)","v":122346.69117647059},{"$f":"IF(AV242=0,0,(1000*AV240/AV242)/AV$6)","v":138437.15626088638},null,{"$f":"IF(AX242=0,0,(1000*AX240/AX242)/AX$6)","v":107125.15226197557},{"$f":"IF(AY242=0,0,(1000*AY240/AY242)/AY$6)","v":154264.54928542351}]
[null,null,null,null,null,null,null,null,null,null,null,null,null,null,null,null,null,null,null,null,null,null,null,null,null,null,null,null,null,null,null,null,null,null,null,null,null,null,"6.4.2","численность АУП, относимого на регулируемый вид деятельности","ед.",null,{"$f":"SUMIF($AS$9:$AZ$9,AQ$9,$AS242:$AZ242)","v":59.142681000000003},53.183064000000002,null,null,{"$f":"58.63-1.17","v":57.46},{"$f":"52.72-1.05","v":51.67},null,{"$f":"58.63*0.0287","v":1.6826810000000001},{"$f":"52.72*0.0287","v":1.513064}]
[null,null,null,null,null,null,null,null,null,null,null,null,null,null,null,null,null,null,null,null,null,null,null,null,null,null,null,null,null,null,null,null,null,null,null,null,null,null,{"$f":"AM242 & \".0\"","v":"6.4.2.0"},{"$f":"\"справочно: нормативная \" & AN242","v":"справочно: нормативная численность АУП, относимого на регулируемый вид деятельности"},"ед.",null,111.945126,111.945126,null,null,{"$f":"110.98-2.22","v":108.76},{"$f":"110.98-2.22","v":108.76},null,{"$f":"110.98*0.0287","v":3.1851259999999999},{"$f":"110.98*0.0287","v":3.1851259999999999}]
[null,null,null,null,null,null,null,null,null,null,null,null,null,null,null,null,null,null,null,null,null,null,null,null,null,null,null,null,null,null,null,null,null,null,null,null,null,null,"6.5","оплата труда прочего персонала, относимого на регулируемый вид деятельности","тыс.руб.",{"$f":"SUMIF($AS$9:$AZ$9,AP$9,$AS244:$AZ244)","v":0},0,0,null,{"$f":"AU244+AV244","v":0},null,null,{"$f":"AX244+AY244","v":0}]
[null,null,null,null,null,null,null,null,null,null,null,null,null,null,null,null,null,null,null,null,null,null,null,null,null,null,null,null,null,null,null,null,null,null,null,null,null,null,"6.5.1","среднемесячная оплата труда прочего персонала, относимого на регулируемый вид деятельности","руб./мес.",null,{"$f":"IF(AQ246=0,0,(1000*AQ244/AQ246)/AQ$6)","v":0},{"$f":"IF(AR246=0,0,(1000*AR244/AR246)/AR$6)","v":0},null,null,{"$f":"IF(AU246=0,0,(1000*AU244/AU246)/AU$6)","v":0},{"$f":"IF(AV246=0,0,(1000*AV244/AV246)/AV$6)","v":0},null,{"$f":"IF(AX246=0,0,(1000*AX244/AX246)/AX$6)","v":0},{"$f":"IF(AY246=0,0,(1000*AY244/AY246)/AY$6)","v":0}]
[null,null,null,null,null,null,null,null,null,null,null,null,null,null,null,null,null,null,null,null,null,null,null,null,null,null,null,null,null,null,null,null,null,null,null,null,null,null,"6.5.2","численность прочего персонала, относимого на регулируемый вид деятельности","ед.",null,{"$f":"SUMIF($AS$9:$AZ$9,AQ$9,$AS246:$AZ246)","v":0},0]
[null,null,null,null,null,null,null,null,null,null,null,null,null,null,null,null,null,null,null,null,null,null,null,null,null,null,null,null,null,null,null,null,null,null,null,null,null,null,{"$f":"AM246 & \".0\"","v":"6.5.2.0"},{"$f":"\"справочно: нормативная \" & AN246","v":"справочно: нормативная численность прочего персонала, относимого на регулируемый вид деятельности"},"ед.",null,0,0]
[null,null,null,null,null,null,null,null,null,null,null,null,null,null,null,null,null,null,null,null,null,null,null,null,null,null,null,null,null,null,null,null,null,null,null,null,null,null,"7","Отчисления на социальные нужды, в том числе ","тыс.руб.",{"$f":"SUMIF($AS$9:$AZ$9,AP$9,$AS248:$AZ248)","v":160762.88016732401},83521.000960323989,77241.879207000005,null,{"$f":"AU248+AV248","v":156419.4989376372},{"$f":"SUM(AU250:AU254)","v":81591.558597373994},{"$f":"SUM(AV250:AV254)","v":74827.940340263202},{"$f":"AX248+AY248","v":4343.3812296868},{"$f":"SUM(AX250:AX254)","v":1929.4423629500002},{"$f":"SUM(AY250:AY254)","v":2413.9388667368003}]
[null,null,null,null,null,null,null,null,null,null,null,null,null,null,null,null,null,null,null,null,null,null,null,null,null,null,null,null,null,null,null,null,null,null,null,null,null,null,"7.0","процент отчислений на социальные нужды","%",null,null,null,null,null,30.02,28.34,null,30.02,28.34]
[null,null,null,null,null,null,null,null,null,null,null,null,null,null,null,null,null,null,null,null,null,null,null,null,null,null,null,null,null,null,null,null,null,null,null,null,null,null,"7.1","отчисления на соц. нужды от заработной платы основных производственных рабочих","тыс.руб.",{"$f":"SUMIF($AS$9:$AZ$9,AP$9,$AS250:$AZ250)","v":123758.58507399999},64237.182159999997,59521.402914000006,null,{"$f":"AU250+AV250","v":120319.92423364159},{"$f":"AU222*AU249/100+46.677","v":62728.339921323997},{"$f":"AV222*AV249/100-1548.806","v":57591.584312317602},{"$f":"AX250+AY250","v":3438.6608403584005},{"$f":"AX222*AX249/100","v":1508.8422386760001},{"$f":"AY222*AY249/100","v":1929.8186016824004}]
[null,null,null,null,null,null,null,null,null,null,null,null,null,null,null,null,null,null,null,null,null,null,null,null,null,null,null,null,null,null,null,null,null,null,null,null,null,null,"7.2","отчисления на соц. нужды от заработной платы ремонтного персонала","тыс.руб.",11457.169151324,6296.6294423239997,5160.5397089999997,null,{"$f":"AU251+AV251","v":11274.022492},{"$f":"AU229*AU249/100","v":6200.7090519999992},{"$f":"AV229*AV249/100","v":5073.3134399999999},{"$f":"AX251+AY251","v":183.14665932400004},{"$f":"AX229*AX249/100","v":95.920390324000024},{"$f":"AY229*AY249/100","v":87.226269000000016}]
[null,null,null,null,null,null,null,null,null,null,null,null,null,null,null,null,null,null,null,null,null,null,null,null,null,null,null,null,null,null,null,null,null,null,null,null,null,null,"7.3","отчисления на соц. нужды от заработной платы цехового персонала","тыс.руб.",0,0,0,null,{"$f":"AU252+AV252","v":0},{"$f":"AU236*AU249/100","v":0},{"$f":"AV236*AV249/100","v":0},{"$f":"AX252+AY252","v":0},{"$f":"AX236*AX249/100","v":0},{"$f":"AY236*AY249/100","v":0}]
[null,null,null,null,null,null,null,null,null,null,null,null,null,null,null,null,null,null,null,null,null,null,null,null,null,null,null,null,null,null,null,null,null,null,null,null,null,null,"7.4","отчисления на соц. нужды от заработной платы АУП","тыс.руб.",25547.125941999999,12987.189358,12559.936584000001,null,{"$f":"AU253+AV253","v":24825.5522119956},{"$f":"AU240*AU249/100","v":12662.509624049999},{"$f":"AV240*AV249/100","v":12163.042587945602},{"$f":"AX253+AY253","v":721.57373000440009},{"$f":"AX240*AX249/100","v":324.67973395000001},{"$f":"AY240*AY249/100","v":396.89399605440008}]
[null,null,null,null,null,null,null,null,null,null,null,null,null,null,null,null,null,null,null,null,null,null,null,null,null,null,null,null,null,null,null,null,null,null,null,null,null,null,"7.5","отчисления на соц. нужды от заработной платы прочего персонала","тыс.руб.",0,0,0,null,{"$f":"AU254+AV254","v":0},{"$f":"AU244*AU249/100","v":0},{"$f":"AV244*AV249/100","v":0},{"$f":"AX254+AY254","v":0},{"$f":"AX244*AX249/100","v":0},{"$f":"AY244*AY249/100","v":0}]
[]
[null,null,null,null,null,null,null,null,null,null,null,null,null,null,null,null,null,null,null,null,null,null,null,null,null,null,null,null,null,null,null,null,null,null,null,null,null,null,"8","Холодная вода","тыс.руб.",{"$f":"SUMIF($AS$9:$AZ$9,AP$9,$AS256:$AZ256)","v":19885.309685500004},{"$f":"SUMIF($AS$9:$AZ$9,AQ$9,$AS256:$AZ256)","v":10454.009962500002},{"$f":"SUMIF($AS$9:$AZ$9,AR$9,$AS256:$AZ256)","v":9431.2997230000001},null,{"$f":"AU256+AV256","v":19372.468535500004},{"$f":"AU257*AU258","v":10200.463462500002},{"$f":"AV257*AV258","v":9172.0050730000003},{"$f":"AX256+AY256","v":512.84114999999997},{"$f":"AX257*AX258","v":253.54650000000001},{"$f":"AY257*AY258","v":259.29464999999999}]
[null,null,null,null,null,null,null,null,null,null,null,null,null,null,null,null,null,null,null,null,null,null,null,null,null,null,null,null,null,null,null,null,null,null,null,null,null,null,"8.1","Цена","руб./куб.м",null,null,null,null,{"$f":"IF(AT258=0,0,AT256/AT258)","v":156.97464486074836},155.55000000000001,158.59,{"$f":"IF(AW258=0,0,AW256/AW258)","v":157.07232771822359},155.55000000000001,158.59]
[null,null,null,null,null,null,null,null,null,null,null,null,null,null,null,null,null,null,null,null,null,null,null,null,null,null,null,null,null,null,null,null,null,null,null,null,null,null,"8.2","Объём","тыс.куб.м",{"$f":"SUMIF($AS$9:$AZ$9,AP$9,$AS258:$AZ258)","v":126.67645},67.20675,59.469699999999996,null,123.41145,{"$f":"67.20675-AX258","v":65.576750000000004},57.834699999999998,3.2649999999999997,1.63,1.635]
[null,null,null,null,null,null,null,null,null,null,null,null,null,null,null,null,null,null,null,null,null,null,null,null,null,null,null,null,null,null,null,null,null,null,null,null,null,null,"9","Водоотведение","тыс.руб.",1052.9208920999999,477.29338410000003,575.62750800000003,null,1025.4052523999999,{"$f":"AU260*AU261","v":465.59873640000001},{"$f":"AV260*AV261","v":559.80651599999999},27.515639699999998,{"$f":"AX260*AX261","v":11.694647699999999},{"$f":"AY260*AY261","v":15.820991999999999}]
[null,null,null,null,null,null,null,null,null,null,null,null,null,null,null,null,null,null,null,null,null,null,null,null,null,null,null,null,null,null,null,null,null,null,null,null,null,null,"9.1","Цена","руб./куб.м",null,null,null,null,{"$f":"IF(AT261=0,0,AT259/AT261)","v":151.74283648439072},139.72,163.44,{"$f":"IF(AW261=0,0,AW259/AW261)","v":152.44121717451523},139.721,163.44]
[null,null,null,null,null,null,null,null,null,null,null,null,null,null,null,null,null,null,null,null,null,null,null,null,null,null,null,null,null,null,null,null,null,null,null,null,null,null,"9.2","Объём","тыс.куб.м",{"$f":"SUMIF($AS$9:$AZ$9,AP$9,$AS261:$AZ261)","v":6.9380199999999999},3.4160699999999999,3.5219499999999999,null,6.7575199999999995,{"$f":"3.41607-AX261","v":3.3323700000000001},{"$f":"3.52195-AY261","v":3.4251499999999999},0.18049999999999999,8.3699999999999997E-2,9.6799999999999997E-2]
[null,null,null,null,null,null,null,null,null,null,null,null,null,null,null,null,null,null,null,null,null,null,null,null,null,null,null,null,null,null,null,null,null,null,null,null,null,null,"10","Теплоноситель","тыс.руб.",0,0,0,null,0,null,null,0]
[null,null,null,null,null,null,null,null,null,null,null,null,null,null,null,null,null,null,null,null,null,null,null,null,null,null,null,null,null,null,null,null,null,null,null,null,null,null,"11","Расходы, связанные с созданием нормативных запасов топлива","тыс.руб.",0,0,0,null,0,null,null,0]
[]
[null,null,null,null,null,null,null,null,null,null,null,null,null,null,null,null,null,null,null,null,null,null,null,null,null,null,null,null,null,null,null,null,null,null,null,null,null,null,"12","Расходы на приобретение сырья и материалов","тыс.руб.",{"$f":"SUMIF($AS$9:$AZ$9,AP$9,$AS265:$AZ265)","v":40796.163509999998},11058.13789,29738.02562,null,{"$f":"AU265+AV265","v":39579.988358358001},{"$f":"SUM(AU266:AU272)","v":10781.68444275},{"$f":"SUM(AV266:AV272)","v":28798.303915608001},{"$f":"AX265+AY265","v":1216.1751516420002},{"$f":"SUM(AX266:AX272)","v":276.45344725000001},{"$f":"SUM(AY266:AY272)","v":939.72170439200022}]
[null,null,null,null,null,null,null,null,null,null,null,null,null,null,null,null,null,null,null,null,null,null,null,null,null,null,null,null,null,null,null,null,null,null,null,null,null,null,{"$f":"AM265 & \".1\"","v":"12.1"},"Реагенты, фильтрующие и ионообменные материалы для водоподготовки","тыс.руб.",1549.2055399999999,406.72289000000001,1142.4826499999999,null,1502.9349212099999,{"$f":"(406722.89/1000)-AX266","v":396.55481774999998},{"$f":"(1142482.65/1000)-AY266","v":1106.3801034599999},46.270618790000007,{"$f":"(406722.89*0.025)/1000","v":10.168072250000002},{"$f":"(1142485.65*0.0316)/1000","v":36.102546540000006}]
[null,null,null,null,null,null,null,null,null,null,null,null,null,null,null,null,null,null,null,null,null,null,null,null,null,null,null,null,null,null,null,null,null,null,null,null,null,null,{"$f":"AM265 & \".2\"","v":"12.2"},"ГСМ","тыс.руб.",0,0,0,null,0,null,null,0]
[null,null,null,null,null,null,null,null,null,null,null,null,null,null,null,null,null,null,null,null,null,null,null,null,null,null,null,null,null,null,null,null,null,null,null,null,null,null,{"$f":"AM265 & \".3\"","v":"12.3"},"На текущий и капитальный ремонт","тыс.руб.",32613.949969999998,7410.2000000000007,25203.749970000001,null,31632.256470947999,{"$f":"(3133.189+328.74+3948.271)-AX268","v":7224.9450000000006},{"$f":"(11733.137+4013.23697+9457.376)-AY268","v":24407.311470948},981.69349905200011,{"$f":"7410.2*0.025","v":185.255},{"$f":"(11733.137+4013.23697+9457.376)*0.0316","v":796.43849905200011}]
[null,null,null,null,null,null,null,null,null,null,null,null,null,null,null,null,null,null,null,null,null,null,null,null,null,null,null,null,null,null,null,null,null,null,null,null,null,null,{"$f":"AM265 & \".4\"","v":"12.4"},"На текущее содержание и техническое обслуживание","тыс.руб.",0,0,0,null,0,null,null,0]
[null,null,null,null,null,null,null,null,null,null,null,null,null,null,null,null,null,null,null,null,null,null,null,null,null,null,null,null,null,null,null,null,null,null,null,null,null,null,{"$f":"AM265 & \".5\"","v":"12.5"},"Специальная одежда","тыс.руб.",6633.0080000000007,3241.2150000000001,3391.7930000000001,null,6444.7969662000005,{"$f":"3241.215-AX270","v":3160.1846250000003},{"$f":"3391.793-AY270","v":3284.6123412000002},188.21103380000002,{"$f":"3241.215*0.025","v":81.030375000000006},{"$f":"3391.793*0.0316","v":107.18065880000002}]
[null,null,null,null,null,null,null,null,null,null,null,null,null,null,null,null,null,null,null,null,null,null,null,null,null,null,null,null,null,null,null,null,null,null,null,null,null,null,{"$f":"AM265 & \".6\"","v":"12.6"},"Хозяйственный инвентарь и другие вспомогательные материалы","тыс.руб.",0,0,0,null,0,null,null,0]
[null,null,null,null,null,null,null,null,null,null,null,null,null,null,null,null,null,null,null,null,null,null,null,null,null,null,null,null,null,null,null,null,null,null,null,null,null,null,{"$f":"AM265 & \".7\"","v":"12.7"},"Прочие расходы","тыс.руб.",0,0,0,null,0,null,null,0]
[null,null,null,null,null,null,null,null,null,null,null,null,null,null,null,null,null,null,null,null,null,null,null,null,null,null,null,null,null,null,null,null,null,null,null,null,null,null,"13","Ремонт основных средств, выполняемый подрядным способом","тыс.руб.",54648.964999999997,16668.061000000002,37980.904000000002,null,53032.067035,{"$f":"16668.061-AX273","v":16251.359475000001},{"$f":"37980.904-AY273","v":36780.707560000003},1616.8979650000001,{"$f":"16668.061*0.025","v":416.70152500000006},{"$f":"37980.9*0.0316","v":1200.1964400000002}]
[null,null,null,null,null,null,null,null,null,null,null,null,null,null,null,null,null,null,null,null,null,null,null,null,null,null,null,null,null,null,null,null,null,null,null,null,null,null,"14","Расходы на оплату работ и услуг производственного характера, выполняемых по договорам со сторонними организациями","тыс.руб.",118915.247,61368.305,57546.942000000003,null,113482.05507100001,{"$f":"SUM(AU275,AU276,AU277,AU278)","v":58553.809374999997},{"$f":"SUM(AV275,AV276,AV277,AV278)","v":54928.245696000005},5433.1919290000005,{"$f":"SUM(AX275,AX276,AX277,AX278)","v":2814.495625},{"$f":"SUM(AY275,AY276,AY277,AY278)","v":2618.6963040000001}]
[null,null,null,null,null,null,null,null,null,null,null,null,null,null,null,null,null,null,null,null,null,null,null,null,null,null,null,null,null,null,null,null,null,null,null,null,null,null,{"$f":"AM274 & \".1\"","v":"14.1"},"транспортные услуги","тыс.руб.",118915.247,61368.305,57546.942000000003,null,113482.05507100001,{"$f":"61368.305-AX275","v":58553.809374999997},{"$f":"(118915.247-61368.305)-AY275","v":54928.245696000005},5433.1919290000005,{"$f":"61368.305*0.025+1280.288","v":2814.495625},{"$f":"57546.94*0.0316+800.213","v":2618.6963040000001}]
[null,null,null,null,null,null,null,null,null,null,null,null,null,null,null,null,null,null,null,null,null,null,null,null,null,null,null,null,null,null,null,null,null,null,null,null,null,null,{"$f":"AM274 & \".2\"","v":"14.2"},"работы по техническому регламенту","тыс.руб.",0,0,0,null,0,null,null,0]
[null,null,null,null,null,null,null,null,null,null,null,null,null,null,null,null,null,null,null,null,null,null,null,null,null,null,null,null,null,null,null,null,null,null,null,null,null,null,{"$f":"AM274 & \".3\"","v":"14.3"},"прочие услуги вспомогательных производств","тыс.руб.",0,0,0,null,0,null,null,0]
[null,null,null,null,null,null,null,null,null,null,null,null,null,null,null,null,null,null,null,null,null,null,null,null,null,null,null,null,null,null,null,null,null,null,null,null,null,null,{"$f":"AM274 & \".4\"","v":"14.4"},"иные работы и услуги производственного характера","тыс.руб.",0,0,0,null,0,null,null,0]
[null,null,null,null,null,null,null,null,null,null,null,null,null,null,null,null,null,null,null,null,null,null,null,null,null,null,null,null,null,null,null,null,null,null,null,null,null,null,"15","Расходы на оплату иных работ и услуг, выполняемых по договорам с организациями, включая:","тыс.руб.",45396.322,17077.516000000003,28318.805999999997,null,44066.016700200002,{"$f":"SUM(AU280:AU291)","v":16667.206875000003},{"$f":"SUM(AV280:AV291)","v":27398.809825199998},1330.3052998000001,{"$f":"SUM(AX280:AX291)","v":410.30912499999999},{"$f":"SUM(AY280:AY291)","v":919.99617480000006}]
[null,null,null,null,null,null,null,null,null,null,null,null,null,null,null,null,null,null,null,null,null,null,null,null,null,null,null,null,null,null,null,null,null,null,null,null,null,null,{"$f":"AM279 & \".1\"","v":"15.1"},"услуги связи","тыс.руб.",7735.4699999999993,4452.1589999999997,3283.3110000000001,null,7519.4133973999997,{"$f":"4452.159-AX280","v":4339.8550249999998},{"$f":"3283.311-AY280","v":3179.5583724000003},216.05660260000002,{"$f":"4492.159*0.025","v":112.30397499999999},{"$f":"3283.311*0.0316","v":103.75262760000001}]
[null,null,null,null,null,null,null,null,null,null,null,null,null,null,null,null,null,null,null,null,null,null,null,null,null,null,null,null,null,null,null,null,null,null,null,null,null,null,{"$f":"AM279 & \".2\"","v":"15.2"},"услуги вневедомственной охраны ","тыс.руб.",3856.1840000000002,1880.575,1975.6089999999999,null,3746.7403806000002,{"$f":"1880.575-AX281","v":1833.5606250000001},{"$f":"1975.609-AY281","v":1913.1797555999999},109.4436194,{"$f":"1880.575*0.025","v":47.014375000000001},{"$f":"1975.609*0.0316","v":62.429244400000002}]
[null,null,null,null,null,null,null,null,null,null,null,null,null,null,null,null,null,null,null,null,null,null,null,null,null,null,null,null,null,null,null,null,null,null,null,null,null,null,{"$f":"AM279 & \".3\"","v":"15.3"},"коммунальные услуги ","тыс.руб.",389.28100000000001,188.42099999999999,200.86,null,378.223299,{"$f":"188.421-AX282","v":183.710475},{"$f":"200.86-AY282","v":194.51282400000002},11.057701000000002,{"$f":"188.421*0.025","v":4.7105249999999996},{"$f":"200.86*0.0316","v":6.347176000000001}]
[null,null,null,null,null,null,null,null,null,null,null,null,null,null,null,null,null,null,null,null,null,null,null,null,null,null,null,null,null,null,null,null,null,null,null,null,null,null,{"$f":"AM279 & \".4\"","v":"15.4"},"расходы на консультационные услуги","тыс.руб.",82.027000000000001,41.012,41.015000000000001,null,79.705625999999995,{"$f":"41.012-AX283","v":39.986699999999999},{"$f":"41.015-AY283","v":39.718926000000003},2.3213740000000005,{"$f":"41.012*0.025","v":1.0253000000000001},{"$f":"41.015*0.0316","v":1.2960740000000002}]
[null,null,null,null,null,null,null,null,null,null,null,null,null,null,null,null,null,null,null,null,null,null,null,null,null,null,null,null,null,null,null,null,null,null,null,null,null,null,{"$f":"AM279 & \".5\"","v":"15.5"},"расходы на юридические услуги","тыс.руб.",1624.2460000000001,533.298,1090.9480000000001,null,1576.4392272,{"$f":"533.298-AX284","v":519.96550000000002},{"$f":"(1624.248-533.3)-AY284","v":1056.4737272},47.806772800000005,{"$f":"533.3*0.025","v":13.3325},{"$f":"1090.958*0.0316","v":34.474272800000008}]
[null,null,null,null,null,null,null,null,null,null,null,null,null,null,null,null,null,null,null,null,null,null,null,null,null,null,null,null,null,null,null,null,null,null,null,null,null,null,{"$f":"AM279 & \".6\"","v":"15.6"},"расходы на информационные услуги","тыс.руб.",2035.694,1011.018,1024.6759999999999,null,1978.0386619999999,{"$f":"1011.018-AX285","v":985.74255000000005},{"$f":"(2035.694-1011.018)-AY285","v":992.29611199999988},57.655338000000015,{"$f":"1011.018*0.025","v":25.275450000000003},{"$f":"1024.68*0.0316","v":32.379888000000008}]
[null,null,null,null,null,null,null,null,null,null,null,null,null,null,null,null,null,null,null,null,null,null,null,null,null,null,null,null,null,null,null,null,null,null,null,null,null,null,{"$f":"AM279 & \".7\"","v":"15.7"},"расходы на аудиторские услуги","тыс.руб.",135.47999999999999,135.47999999999999,0,null,132.09299999999999,{"$f":"135.48-AX286","v":132.09299999999999},null,3.387,{"$f":"135.48*0.025","v":3.387}]
[null,null,null,null,null,null,null,null,null,null,null,null,null,null,null,null,null,null,null,null,null,null,null,null,null,null,null,null,null,null,null,null,null,null,null,null,null,null,{"$f":"AM279 & \".8\"","v":"15.8"},"услуги по стратегическому управлению организацией","тыс.руб.",0,0,0,null,0,null,null,0]
[null,null,null,null,null,null,null,null,null,null,null,null,null,null,null,null,null,null,null,null,null,null,null,null,null,null,null,null,null,null,null,null,null,null,null,null,null,null,{"$f":"AM279 & \".9\"","v":"15.9"},"расходы по подготовке и освоению производства (пуско-наладочные работы)","тыс.руб.",0,0,0,null,0,null,null,0]
[null,null,null,null,null,null,null,null,null,null,null,null,null,null,null,null,null,null,null,null,null,null,null,null,null,null,null,null,null,null,null,null,null,null,null,null,null,null,{"$f":"AM279 & \".10\"","v":"15.10"},"целевые средства на НИОКР","тыс.руб.",0,0,0,null,0,null,null,0]
[null,null,null,null,null,null,null,null,null,null,null,null,null,null,null,null,null,null,null,null,null,null,null,null,null,null,null,null,null,null,null,null,null,null,null,null,null,null,{"$f":"AM279 & \".11\"","v":"15.11"},"средства на необязательное (дополнительное) страхование","тыс.руб.",0,0,0,null,0,null,null,0]
[null,null,null,null,null,null,null,null,null,null,null,null,null,null,null,null,null,null,null,null,null,null,null,null,null,null,null,null,null,null,null,null,null,null,null,null,null,null,{"$f":"AM279 & \".12\"","v":"15.12"},"иные работы и услуги","тыс.руб.",29537.940000000002,8835.5530000000017,20702.386999999999,null,28655.363108000001,{"$f":"(6292.977+41.475+3.72+358.737+417.386+75.252+474.067+329.327+137.463)-AX291+705.149","v":8632.2930000000015},{"$f":"(6007.338+1147.702+183.914+1412.321+717.473+73.316+981.056+1369.186+302.326+15454.859+1978.278)-8130.4-AY291-794.982","v":20023.070108},882.57689200000004,{"$f":"8130.4*0.025","v":203.26},{"$f":"21497.37*0.0316","v":679.31689200000005}]
[]
[null,null,null,null,null,null,null,null,null,null,null,null,null,null,null,null,null,null,null,null,null,null,null,null,null,null,null,null,null,null,null,null,null,null,null,null,null,null,"RENT","Аренда имущества","тыс.руб.",{"$f":"SUMIF($AS$9:$AZ$9,AP$9,$AS293:$AZ293)","v":0},0,0,null,{"$f":"AU293+AV293","v":0},{"$f":"SUM(AU294:AU296)","v":0},{"$f":"SUM(AV294:AV296)","v":0},{"$f":"AX293+AY293","v":0},{"$f":"SUM(AX294:AX296)","v":0},{"$f":"SUM(AY294:AY296)","v":0}]
[null,null,null,null,null,null,null,null,null,null,null,null,null,null,null,null,null,null,null,null,null,null,null,null,null,null,null,null,null,null,null,null,null,null,null,null,null,null,"RENT.1","Аренда объектов в государственной собственности","тыс.руб.",0,0,0,null,0,null,null,0]
[null,null,null,null,null,null,null,null,null,null,null,null,null,null,null,null,null,null,null,null,null,null,null,null,null,null,null,null,null,null,null,null,null,null,null,null,null,null,"RENT.2","Аренда объектов в муниципальной собственности","тыс.руб.",0,0,0,null,0,null,null,0]
[null,null,null,null,null,null,null,null,null,null,null,null,null,null,null,null,null,null,null,null,null,null,null,null,null,null,null,null,null,null,null,null,null,null,null,null,null,null,"RENT.3","Прочее","тыс.руб.",0,0,0,null,0,null,null,0]
[null,null,null,null,null,null,null,null,null,null,null,null,null,null,null,null,null,null,null,null,null,null,null,null,null,null,null,null,null,null,null,null,null,null,null,null,null,null,"16","Расходы на служебные командировки","тыс.руб.",400.62799999999999,197.518,203.10999999999999,null,389.27177399999999,{"$f":"197.518-AX297","v":192.58005},{"$f":"400.63-197.52-AY297","v":196.69172399999999},11.356226000000003,{"$f":"197.518*0.025","v":4.9379500000000007},{"$f":"203.11*0.0316","v":6.4182760000000014}]
[null,null,null,null,null,null,null,null,null,null,null,null,null,null,null,null,null,null,null,null,null,null,null,null,null,null,null,null,null,null,null,null,null,null,null,null,null,null,"17","Расходы на обучение персонала","тыс.руб.",1028.152,170.624,857.52800000000002,null,996.78855199999998,{"$f":"170.624-AX298","v":166.35849999999999},{"$f":"1028.152-170.624-AY298","v":830.43005200000005},31.363448000000002,{"$f":"170.62*0.025","v":4.2655000000000003},{"$f":"857.53*0.0316","v":27.097948000000002}]
[null,null,null,null,null,null,null,null,null,null,null,null,null,null,null,null,null,null,null,null,null,null,null,null,null,null,null,null,null,null,null,null,null,null,null,null,null,null,"18","Расходы на вывод из эксплуатации (в том числе на консервацию) и вывод из консервации","тыс.руб.",0,0,0,null,0,null,null,0]
[null,null,null,null,null,null,null,null,null,null,null,null,null,null,null,null,null,null,null,null,null,null,null,null,null,null,null,null,null,null,null,null,null,null,null,null,null,null,"19","Услуги банков","тыс.руб.",1.679,0,1.679,null,1.679,null,1.679,0]
[null,null,null,null,null,null,null,null,null,null,null,null,null,null,null,null,null,null,null,null,null,null,null,null,null,null,null,null,null,null,null,null,null,null,null,null,null,null,"20","Прочие операционные расходы","тыс.руб.",0,0,0,null,0,{"$f":"SUM(AU302,AU303)","v":0},{"$f":"SUM(AV302,AV303)","v":0},0,{"$f":"SUM(AX302,AX303)","v":0},{"$f":"SUM(AY302,AY303)","v":0}]
[null,null,null,null,null,null,null,null,null,null,null,null,null,null,null,null,null,null,null,null,null,null,null,null,null,null,null,null,null,null,null,null,null,null,null,null,null,null,{"$f":"AM301 & \".1\"","v":"20.1"},"Общехозяйственные расходы","тыс.руб.",0,0,0,null,0,null,null,0]
[null,null,null,null,null,null,null,null,null,null,null,null,null,null,null,null,null,null,null,null,null,null,null,null,null,null,null,null,null,null,null,null,null,null,null,null,null,null,{"$f":"AM301 & \".2\"","v":"20.2"},"Иные расходы","тыс.руб.",0,0,0,null,0,null,null,0]
[null,null,null,null,null,null,null,null,null,null,null,null,null,null,null,null,null,null,null,null,null,null,null,null,null,null,null,null,null,null,null,null,null,null,null,null,null,null,"21","Расходы на оплату услуг, оказываемых организациями, осуществляющими регулируемые виды деятельности","тыс.руб.",0,0,0,null,0,null,null,0]
[null,null,null,null,null,null,null,null,null,null,null,null,null,null,null,null,null,null,null,null,null,null,null,null,null,null,null,null,null,null,null,null,null,null,null,null,null,null,"22","Арендная плата","тыс.руб.",0,0,0,null,0,{"$f":"SUM(AU306,AU307)","v":0},{"$f":"SUM(AV306,AV307)","v":0},0,{"$f":"SUM(AX306,AX307)","v":0},{"$f":"SUM(AY306,AY307)","v":0}]
[null,null,null,null,null,null,null,null,null,null,null,null,null,null,null,null,null,null,null,null,null,null,null,null,null,null,null,null,null,null,null,null,null,null,null,null,null,null,{"$f":"AM305 & \".1\"","v":"22.1"},"аренда производственных объектов","тыс.руб.",0,0,0,null,0,null,null,0]
[null,null,null,null,null,null,null,null,null,null,null,null,null,null,null,null,null,null,null,null,null,null,null,null,null,null,null,null,null,null,null,null,null,null,null,null,null,null,{"$f":"AM305 & \".2\"","v":"22.2"},"аренда непроизводственных объектов","тыс.руб.",0,0,0,null,0,null,null,0]
[null,null,null,null,null,null,null,null,null,null,null,null,null,null,null,null,null,null,null,null,null,null,null,null,null,null,null,null,null,null,null,null,null,null,null,null,null,null,"23","Концессионная плата","тыс.руб.",0,0,0,null,0,null,null,0]
[null,null,null,null,null,null,null,null,null,null,null,null,null,null,null,null,null,null,null,null,null,null,null,null,null,null,null,null,null,null,null,null,null,null,null,null,null,null,"24","Лизинговый платеж","тыс.руб.",0,0,0,null,0,{"$f":"SUM(AU310,AU311,AU312)","v":0},{"$f":"SUM(AV310,AV311,AV312)","v":0},0,{"$f":"SUM(AX310,AX311,AX312)","v":0},{"$f":"SUM(AY310,AY311,AY312)","v":0}]
[null,null,null,null,null,null,null,null,null,null,null,null,null,null,null,null,null,null,null,null,null,null,null,null,null,null,null,null,null,null,null,null,null,null,null,null,null,null,{"$f":"AM309 & \".1\"","v":"24.1"},"лизинг производственных объектов","тыс.руб.",0,0,0,null,0,null,null,0]
[null,null,null,null,null,null,null,null,null,null,null,null,null,null,null,null,null,null,null,null,null,null,null,null,null,null,null,null,null,null,null,null,null,null,null,null,null,null,{"$f":"AM309 & \".2\"","v":"24.2"},"лизинг непроизводственных объектов (без перехода права собственности на предмет лизинга к лизингополучателю)","тыс.руб.",0,0,0,null,0,null,null,0]
[null,null,null,null,null,null,null,null,null,null,null,null,null,null,null,null,null,null,null,null,null,null,null,null,null,null,null,null,null,null,null,null,null,null,null,null,null,null,{"$f":"AM309 & \".3\"","v":"24.3"},"лизинг непроизводственных объектов  (с переходом права собственности на предмет лизинга к лизингополучателю)","тыс.руб.",0,0,0,null,0,null,null,0]
[null,null,null,null,null,null,null,null,null,null,null,null,null,null,null,null,null,null,null,null,null,null,null,null,null,null,null,null,null,null,null,null,null,null,null,null,null,null,"25","Расходы на уплату налогов, сборов и других обязательных платежей, в том числе:","тыс.руб.",{"$f":"SUMIF($AS$9:$AZ$9,AP$9,$AS313:$AZ313)","v":19070.672869999999},8526.2879999999986,10544.384870000002,null,18531.664121308,{"$f":"SUM(AU314:AU317)","v":8313.130799999999},{"$f":"SUM(AV314:AV317)","v":10218.533321308001},539.00874869200004,{"$f":"SUM(AX314:AX317)","v":213.15720000000002},{"$f":"SUM(AY314:AY317)","v":325.85154869200005}]
[null,null,null,null,null,null,null,null,null,null,null,null,null,null,null,null,null,null,null,null,null,null,null,null,null,null,null,null,null,null,null,null,null,null,null,null,null,null,{"$f":"AM313 & \".1\"","v":"25.1"},"плата за выбросы и сбросы загрязняющих веществ в окружающую среду, размещение отходов и другие виды негативного воздействия на окружающую среду в пределах установленных нормативов и (или) лимитов","тыс.руб.",25.682870000000005,9.0519999999999996,16.630870000000002,null,24.931034508000003,{"$f":"9.052-AX314","v":8.8256999999999994},{"$f":"16.63087-AY314","v":16.105334508000002},0.75183549200000011,{"$f":"9.052*0.025","v":0.2263},{"$f":"16.63087*0.0316","v":0.52553549200000005}]
[null,null,null,null,null,null,null,null,null,null,null,null,null,null,null,null,null,null,null,null,null,null,null,null,null,null,null,null,null,null,null,null,null,null,null,null,null,null,{"$f":"AM313 & \".2\"","v":"25.2"},"расходы на обязательное страхование","тыс.руб.",11.507999999999999,10.548,0.95999999999999908,null,11.213963999999999,{"$f":"10.548-AX315","v":10.2843},{"$f":"11.508-10.548-AY315","v":0.92966399999999905},0.29403599999999996,{"$f":"10.548*0.025","v":0.26369999999999999},{"$f":"0.96*0.0316","v":3.0336000000000002E-2}]
[null,null,null,null,null,null,null,null,null,null,null,null,null,null,null,null,null,null,null,null,null,null,null,null,null,null,null,null,null,null,null,null,null,null,null,null,null,null,{"$f":"AM313 & \".3\"","v":"25.3"},"иные расходы","тыс.руб.",0,0,0,null,0,null,null,0]
[null,null,null,null,null,null,null,null,null,null,null,null,null,null,null,null,null,null,null,null,null,null,null,null,null,null,null,null,null,null,null,null,null,null,null,null,null,null,{"$f":"AM313 & \".4\"","v":"25.4"},"уплата налогов, всего","тыс.руб.",19033.482,8506.6879999999983,10526.794000000002,null,18495.5191228,{"$f":"SUM(AU318:AU322)","v":8294.0207999999984},{"$f":"SUM(AV318:AV322)","v":10201.498322800002},537.96287720000009,{"$f":"SUM(AX318:AX322)","v":212.66720000000001},{"$f":"SUM(AY318:AY322)","v":325.29567720000006}]
[null,null,null,null,null,null,null,null,null,null,null,null,null,null,null,null,null,null,null,null,null,null,null,null,null,null,null,null,null,null,null,null,null,null,null,null,null,null,{"$f":"AM317 & \".1\"","v":"25.4.1"},"налог на имущество организаций","тыс.руб.",18333.887999999999,7921.9699999999993,10411.918000000001,null,17814.173154399999,{"$f":"8561.953-639.983-AX318","v":7723.9207499999993},{"$f":"10817.849-638.558-AY318+232.627","v":10090.252404400002},519.7148456000001,{"$f":"(8561.953-639.983)*0.025","v":198.04925},{"$f":"(10817.849-638.558)*0.0316","v":321.66559560000007}]
[null,null,null,null,null,null,null,null,null,null,null,null,null,null,null,null,null,null,null,null,null,null,null,null,null,null,null,null,null,null,null,null,null,null,null,null,null,null,{"$f":"AM317 & \".2\"","v":"25.4.2"},"земельный налог","тыс.руб.",699.59400000000005,584.71799999999996,114.876,null,681.34596840000006,{"$f":"584.718-AX319","v":570.10005000000001},{"$f":"114.876-AY319","v":111.24591840000001},18.248031600000001,{"$f":"584.718*0.025","v":14.61795},{"$f":"114.876*0.0316","v":3.6300816000000005}]
[null,null,null,null,null,null,null,null,null,null,null,null,null,null,null,null,null,null,null,null,null,null,null,null,null,null,null,null,null,null,null,null,null,null,null,null,null,null,{"$f":"AM317 & \".3\"","v":"25.4.3"},"транспортный налог","тыс.руб.",0,0,0,null,0,null,null,0]
[null,null,null,null,null,null,null,null,null,null,null,null,null,null,null,null,null,null,null,null,null,null,null,null,null,null,null,null,null,null,null,null,null,null,null,null,null,null,{"$f":"AM317 & \".4\"","v":"25.4.4"},"водный налог","тыс.руб.",0,0,0,null,0,null,null,0]
[null,null,null,null,null,null,null,null,null,null,null,null,null,null,null,null,null,null,null,null,null,null,null,null,null,null,null,null,null,null,null,null,null,null,null,null,null,null,{"$f":"AM317 & \".5\"","v":"25.4.5"},"прочие налоги","тыс.руб.",0,0,0,null,0,null,null,0]
[null,null,null,null,null,null,null,null,null,null,null,null,null,null,null,null,null,null,null,null,null,null,null,null,null,null,null,null,null,null,null,null,null,null,null,null,null,null,"26","Расходы по сомнительным долгам","тыс.руб.",0,0,0,null,0,null,null,0]
[null,null,null,null,null,null,null,null,null,null,null,null,null,null,null,null,null,null,null,null,null,null,null,null,null,null,null,null,null,null,null,null,null,null,null,null,null,null,"27","Амортизация основных средств и нематериальных активов","тыс.руб.",139149.353,61402.71,77746.642999999996,null,135190.496678,{"$f":"SUM(AU325:AU326)","v":59867.642249999997},{"$f":"SUM(AV325:AV326)","v":75322.854427999991},3958.8563220000005,{"$f":"SUM(AX325:AX326)","v":1535.0677500000002},{"$f":"SUM(AY325:AY326)","v":2423.7885720000004}]
[null,null,null,null,null,null,null,null,null,null,null,null,null,null,null,null,null,null,null,null,null,null,null,null,null,null,null,null,null,null,null,null,null,null,null,null,null,null,{"$f":"AM324 & \".1\"","v":"27.1"},"Амортизация производственного оборудования","тыс.руб.",139149.353,61402.71,77746.642999999996,null,135190.496678,{"$f":"61402.71-AX325","v":59867.642249999997},{"$f":"77746.643-AY325","v":75322.854427999991},3958.8563220000005,{"$f":"61402.71*0.025","v":1535.0677500000002},{"$f":"76702.17*0.0316","v":2423.7885720000004}]
[null,null,null,null,null,null,null,null,null,null,null,null,null,null,null,null,null,null,null,null,null,null,null,null,null,null,null,null,null,null,null,null,null,null,null,null,null,null,{"$f":"AM324 & \".2\"","v":"27.2"},"Амортизация иных основных средств и нематериальных активов","тыс.руб.",0,0,0,null,0,null,null,0]
[null,null,null,null,null,null,null,null,null,null,null,null,null,null,null,null,null,null,null,null,null,null,null,null,null,null,null,null,null,null,null,null,null,null,null,null,null,null,"28","Расходы на выплаты по договорам займа и кредитным договорам, включая проценты по ним","тыс.руб.",0,0,0,null,0,null,null,0]
[null,null,null,null,null,null,null,null,null,null,null,null,null,null,null,null,null,null,null,null,null,null,null,null,null,null,null,null,null,null,null,null,null,null,null,null,null,null,"29","Прочие неподконтрольные расходы","тыс.руб.",0,0,0,null,0,null,null,0]
[null,null,null,null,null,null,null,null,null,null,null,null,null,null,null,null,null,null,null,null,null,null,null,null,null,null,null,null,null,null,null,null,null,null,null,null,null,null,"30","Налог на прибыль","тыс.руб.",0,0,0,null,0,null,null,0]
[]
[null,null,null,null,null,null,null,null,null,null,null,null,null,null,null,null,null,null,null,null,null,null,null,null,null,null,null,null,null,null,null,null,null,null,null,null,null,null,"РО","Итого расходы","тыс.руб.",{"$f":"SUMIF($AS$9:$AZ$9,AP$9,$AS331:$AZ331)","v":1583776.5319819793},{"$f":"SUMIF($AS$9:$AZ$9,AQ$9,$AS331:$AZ331)","v":780773.56337810354},{"$f":"SUMIF($AS$9:$AZ$9,AR$9,$AS331:$AZ331)","v":803002.96860387595},null,{"$f":"AU331+AV331","v":1541219.9276890391},{"$f":"SUM(AU36,AU90,AU216,AU248,AU256,AU259,AU262,AU263,AU265,AU273,AU274,AU279,AU297,AU298,AU299,AU300,AU301,AU304,AU305,AU308,AU309,AU313,AU323,AU324,AU327,AU328,AU329)","v":762226.59137086233},{"$f":"SUM(AV36,AV90,AV216,AV248,AV256,AV259,AV262,AV263,AV265,AV273,AV274,AV279,AV297,AV298,AV299,AV300,AV301,AV304,AV305,AV308,AV309,AV313,AV323,AV324,AV327,AV328,AV329)","v":778993.33631817694},{"$f":"AX331+AY331","v":42556.604292940174},{"$f":"SUM(AX36,AX90,AX216,AX248,AX256,AX259,AX262,AX263,AX265,AX273,AX274,AX279,AX297,AX298,AX299,AX300,AX301,AX304,AX305,AX308,AX309,AX313,AX323,AX324,AX327,AX328,AX329)","v":18546.972007241202},{"$f":"SUM(AY36,AY90,AY216,AY248,AY256,AY259,AY262,AY263,AY265,AY273,AY274,AY279,AY297,AY298,AY299,AY300,AY301,AY304,AY305,AY308,AY309,AY313,AY323,AY324,AY327,AY328,AY329)","v":24009.632285698975}]
[]
[null,null,null,null,null,null,null,null,null,null,null,null,null,null,null,null,null,null,null,null,null,null,null,null,null,null,null,null,null,null,null,null,null,null,null,null,null,null,"РР","Итого расходы на реализацию","тыс.руб.",{"$f":"SUMIF($AS$9:$AZ$9,AP$9,$AS333:$AZ333)","v":1553298.1809836105},{"$f":"SUMIF($AS$9:$AZ$9,AQ$9,$AS333:$AZ333)","v":764715.96575678256},{"$f":"SUMIF($AS$9:$AZ$9,AR$9,$AS333:$AZ333)","v":788582.215226828},null,{"$f":"AU333+AV333","v":1510741.5766906703},{"$f":"AU331*AU$372","v":746168.99374954135},{"$f":"AV331*AV$372","v":764572.58294112899},{"$f":"AX333+AY333","v":42556.604292940174},{"$f":"AX331*AX$372","v":18546.972007241202},{"$f":"AY331*AY$372","v":24009.632285698975}]
[]
[null,null,null,null,null,null,null,null,null,null,null,null,null,null,null,null,null,null,null,null,null,null,null,null,null,null,null,null,null,null,null,null,null,null,null,null,null,null,"У","Убыток","тыс.руб.",{"$f":"SUMIF($AS$9:$AZ$9,AP$9,$AS335:$AZ335)","v":132486.57},0,132486.57,null,{"$f":"AU335+AV335","v":129007.03999999999},null,129007.03999999999,{"$f":"AX335+AY335","v":3479.53},null,3479.53]
[null,null,null,null,null,null,null,null,null,null,null,null,null,null,null,null,null,null,null,null,null,null,null,null,null,null,null,null,null,null,null,null,null,null,null,null,null,null,"П","Прибыль","тыс.руб.",100836.87,95632.87,5204,null,{"$f":"AU336+AV336","v":99168.83},{"$f":"SUM(AU338:AU341)","v":93964.83},{"$f":"SUM(AV338:AV341)","v":5204},{"$f":"AX336+AY336","v":1668.04},{"$f":"SUM(AX338:AX341)","v":1668.04},{"$f":"SUM(AY338:AY341)","v":0}]
[]
[null,null,null,null,null,null,null,null,null,null,null,null,null,null,null,null,null,null,null,null,null,null,null,null,null,null,null,null,null,null,null,null,null,null,null,null,null,null,"П.1","Прибыль на развитие производства (капитальные вложения)","тыс.руб.",{"$f":"SUMIF($AS$9:$AZ$9,AP$9,$AS338:$AZ338)","v":10408},5204,5204,null,{"$f":"AU338+AV338","v":10408},{"$f":"10408/2","v":5204},{"$f":"10408/2","v":5204},{"$f":"AX338+AY338","v":0}]
[null,null,null,null,null,null,null,null,null,null,null,null,null,null,null,null,null,null,null,null,null,null,null,null,null,null,null,null,null,null,null,null,null,null,null,null,null,null,"П.2","Прибыль на социальное развитие","тыс.руб.",0,0,0,null,{"$f":"AU339+AV339","v":0},null,null,{"$f":"AX339+AY339","v":0}]
[null,null,null,null,null,null,null,null,null,null,null,null,null,null,null,null,null,null,null,null,null,null,null,null,null,null,null,null,null,null,null,null,null,null,null,null,null,null,"П.3","Прибыль на поощрение","тыс.руб.",0,0,0,null,{"$f":"AU340+AV340","v":0},null,null,{"$f":"AX340+AY340","v":0}]
[null,null,null,null,null,null,null,null,null,null,null,null,null,null,null,null,null,null,null,null,null,null,null,null,null,null,null,null,null,null,null,null,null,null,null,null,null,null,"П.4","Прибыль на прочие цели","тыс.руб.",90428.87,90428.87,0,null,{"$f":"AU341+AV341","v":88760.83},88760.83,null,{"$f":"AX341+AY341","v":1668.04},1668.04]
[]
[]
[]
[]
[]
[]
[]
[]
[null,null,null,null,null,null,null,null,null,null,null,null,null,null,null,null,null,null,null,null,null,null,null,null,null,null,null,null,null,null,null,null,null,null,null,null,null,null,"РП","Итого расходы с учётом расходов из прибыли","тыс.руб.",{"$f":"SUMIF($AS$9:$AZ$9,AP$9,$AS350:$AZ350)","v":1684613.4019819794},{"$f":"SUMIF($AS$9:$AZ$9,AQ$9,$AS350:$AZ350)","v":876406.43337810354},{"$f":"SUMIF($AS$9:$AZ$9,AR$9,$AS350:$AZ350)","v":808206.96860387595},null,{"$f":"AU350+AV350","v":1640388.7576890392},{"$f":"AU331+AU336","v":856191.42137086228},{"$f":"AV331+AV336","v":784197.33631817694},{"$f":"AX350+AY350","v":44224.644292940182},{"$f":"AX331+AX336","v":20215.012007241203},{"$f":"AY331+AY336","v":24009.632285698975}]
[]
[]
[]
[]
[]
[]
[]
[]
[]
[]
[]
[]
[]
[]
[]
[]
[]
[]
[]
[null,null,null,null,null,null,null,null,null,null,null,null,null,null,null,null,null,null,null,null,null,null,null,null,null,null,null,null,null,null,null,null,null,null,null,null,null,null,"UI.TOTAL","Полезный отпуск продукции всего:\n[БТр!п.3] - транспортировка\n[БПр!п.3 - БПр!п.3.1.2 - БПр!п.3.6 + БПр!п.5.2] - производство","Гкал",{"$f":"SUMIF($AS$9:$AZ$9,AP$9,$AS370:$AZ370)","v":428953.74200000003},246957.70699999999,181996.035,null,{"$f":"AU370+AV370","v":417721.90100000001},{"$f":"SUMIF(БПр!$BA$131:$BA$188,AU$17 & \".0-\" & AU$9,БПр!$M$131:$M$188)-SUMIF(БПр!$BA$131:$BA$188,AU$17 & \".0-\" & AU$9,БПр!$Q$131:$Q$188)-SUMIF(БПр!$BA$131:$BA$188,AU$17 & \".0-\" & AU$9,БПр!$V$131:$V$188)+SUMIF(БПр!$BA$131:$BA$188,AU$17 & \".0-\" & AU$9,БПр!$AO$131:$AO$188)+SUMIF(БТр!$BA$131:$BA$188,AU$17 & \".0-\" & AU$9,БТр!$M$131:$M$188)","v":241274.54300000001},{"$f":"SUMIF(БПр!$BA$131:$BA$188,AV$17 & \".0-\" & AV$9,БПр!$M$131:$M$188)-SUMIF(БПр!$BA$131:$BA$188,AV$17 & \".0-\" & AV$9,БПр!$Q$131:$Q$188)-SUMIF(БПр!$BA$131:$BA$188,AV$17 & \".0-\" & AV$9,БПр!$V$131:$V$188)+SUMIF(БПр!$BA$131:$BA$188,AV$17 & \".0-\" & AV$9,БПр!$AO$131:$AO$188)+SUMIF(БТр!$BA$131:$BA$188,AV$17 & \".0-\" & AV$9,БТр!$M$131:$M$188)","v":176447.35800000001},{"$f":"AX370+AY370","v":11231.841},{"$f":"SUMIF(БПр!$BA$131:$BA$188,AX$17 & \".0-\" & AX$9,БПр!$M$131:$M$188)-SUMIF(БПр!$BA$131:$BA$188,AX$17 & \".0-\" & AX$9,БПр!$Q$131:$Q$188)-SUMIF(БПр!$BA$131:$BA$188,AX$17 & \".0-\" & AX$9,БПр!$V$131:$V$188)+SUMIF(БПр!$BA$131:$BA$188,AX$17 & \".0-\" & AX$9,БПр!$AO$131:$AO$188)+SUMIF(БТр!$BA$131:$BA$188,AX$17 & \".0-\" & AX$9,БТр!$M$131:$M$188)","v":5683.1639999999998},{"$f":"SUMIF(БПр!$BA$131:$BA$188,AY$17 & \".0-\" & AY$9,БПр!$M$131:$M$188)-SUMIF(БПр!$BA$131:$BA$188,AY$17 & \".0-\" & AY$9,БПр!$Q$131:$Q$188)-SUMIF(БПр!$BA$131:$BA$188,AY$17 & \".0-\" & AY$9,БПр!$V$131:$V$188)+SUMIF(БПр!$BA$131:$BA$188,AY$17 & \".0-\" & AY$9,БПр!$AO$131:$AO$188)+SUMIF(БТр!$BA$131:$BA$188,AY$17 & \".0-\" & AY$9,БТр!$M$131:$M$188)","v":5548.6770000000006}]
[null,null,null,null,null,null,null,null,null,null,null,null,null,null,null,null,null,null,null,null,null,null,null,null,null,null,null,null,null,null,null,null,null,null,null,null,null,null,"UI.EC","Полезный отпуск продукции на реализацию потребителям:\n[БТр!п.3.2:3.5] - транспортировка\n[БПр!п.3.2:3.5 + БПр!п.5.2.2 + БПр!п.5.2.3] - производство","Гкал",420604.48400000005,241874.84899999999,178729.63500000001,null,{"$f":"AU371+AV371","v":409372.64300000004},{"$f":"SUMIF(БПр!$BA$131:$BA$188,AU$17 & \".0-\" & AU$9,БПр!$R$131:$R$188)+SUMIF(БПр!$BA$131:$BA$188,AU$17 & \".0-\" & AU$9,БПр!$S$131:$S$188)+SUMIF(БПр!$BA$131:$BA$188,AU$17 & \".0-\" & AU$9,БПр!$T$131:$T$188)+SUMIF(БПр!$BA$131:$BA$188,AU$17 & \".0-\" & AU$9,БПр!$U$131:$U$188)+SUMIF(БПр!$BA$131:$BA$188,AU$17 & \".0-\" & AU$9,БПр!$AT$131:$AT$188)+SUMIF(БПр!$BA$131:$BA$188,AU$17 & \".0-\" & AU$9,БПр!$AU$131:$AU$188)+SUMIF(БТр!$BA$131:$BA$188,AU$17 & \".0-\" & AU$9,БТр!$Q$131:$Q$188)+SUMIF(БТр!$BA$131:$BA$188,AU$17 & \".0-\" & AU$9,БТр!$R$131:$R$188)+SUMIF(БТр!$BA$131:$BA$188,AU$17 & \".0-\" & AU$9,БТр!$S$131:$S$188)+SUMIF(БТр!$BA$131:$BA$188,AU$17 & \".0-\" & AU$9,БТр!$T$131:$T$188)","v":236191.685},{"$f":"SUMIF(БПр!$BA$131:$BA$188,AV$17 & \".0-\" & AV$9,БПр!$R$131:$R$188)+SUMIF(БПр!$BA$131:$BA$188,AV$17 & \".0-\" & AV$9,БПр!$S$131:$S$188)+SUMIF(БПр!$BA$131:$BA$188,AV$17 & \".0-\" & AV$9,БПр!$T$131:$T$188)+SUMIF(БПр!$BA$131:$BA$188,AV$17 & \".0-\" & AV$9,БПр!$U$131:$U$188)+SUMIF(БПр!$BA$131:$BA$188,AV$17 & \".0-\" & AV$9,БПр!$AT$131:$AT$188)+SUMIF(БПр!$BA$131:$BA$188,AV$17 & \".0-\" & AV$9,БПр!$AU$131:$AU$188)+SUMIF(БТр!$BA$131:$BA$188,AV$17 & \".0-\" & AV$9,БТр!$Q$131:$Q$188)+SUMIF(БТр!$BA$131:$BA$188,AV$17 & \".0-\" & AV$9,БТр!$R$131:$R$188)+SUMIF(БТр!$BA$131:$BA$188,AV$17 & \".0-\" & AV$9,БТр!$S$131:$S$188)+SUMIF(БТр!$BA$131:$BA$188,AV$17 & \".0-\" & AV$9,БТр!$T$131:$T$188)","v":173180.95800000001},{"$f":"AX371+AY371","v":11231.841},{"$f":"SUMIF(БПр!$BA$131:$BA$188,AX$17 & \".0-\" & AX$9,БПр!$R$131:$R$188)+SUMIF(БПр!$BA$131:$BA$188,AX$17 & \".0-\" & AX$9,БПр!$S$131:$S$188)+SUMIF(БПр!$BA$131:$BA$188,AX$17 & \".0-\" & AX$9,БПр!$T$131:$T$188)+SUMIF(БПр!$BA$131:$BA$188,AX$17 & \".0-\" & AX$9,БПр!$U$131:$U$188)+SUMIF(БПр!$BA$131:$BA$188,AX$17 & \".0-\" & AX$9,БПр!$AT$131:$AT$188)+SUMIF(БПр!$BA$131:$BA$188,AX$17 & \".0-\" & AX$9,БПр!$AU$131:$AU$188)+SUMIF(БТр!$BA$131:$BA$188,AX$17 & \".0-\" & AX$9,БТр!$Q$131:$Q$188)+SUMIF(БТр!$BA$131:$BA$188,AX$17 & \".0-\" & AX$9,БТр!$R$131:$R$188)+SUMIF(БТр!$BA$131:$BA$188,AX$17 & \".0-\" & AX$9,БТр!$S$131:$S$188)+SUMIF(БТр!$BA$131:$BA$188,AX$17 & \".0-\" & AX$9,БТр!$T$131:$T$188)","v":5683.1639999999998},{"$f":"SUMIF(БПр!$BA$131:$BA$188,AY$17 & \".0-\" & AY$9,БПр!$R$131:$R$188)+SUMIF(БПр!$BA$131:$BA$188,AY$17 & \".0-\" & AY$9,БПр!$S$131:$S$188)+SUMIF(БПр!$BA$131:$BA$188,AY$17 & \".0-\" & AY$9,БПр!$T$131:$T$188)+SUMIF(БПр!$BA$131:$BA$188,AY$17 & \".0-\" & AY$9,БПр!$U$131:$U$188)+SUMIF(БПр!$BA$131:$BA$188,AY$17 & \".0-\" & AY$9,БПр!$AT$131:$AT$188)+SUMIF(БПр!$BA$131:$BA$188,AY$17 & \".0-\" & AY$9,БПр!$AU$131:$AU$188)+SUMIF(БТр!$BA$131:$BA$188,AY$17 & \".0-\" & AY$9,БТр!$Q$131:$Q$188)+SUMIF(БТр!$BA$131:$BA$188,AY$17 & \".0-\" & AY$9,БТр!$R$131:$R$188)+SUMIF(БТр!$BA$131:$BA$188,AY$17 & \".0-\" & AY$9,БТр!$S$131:$S$188)+SUMIF(БТр!$BA$131:$BA$188,AY$17 & \".0-\" & AY$9,БТр!$T$131:$T$188)","v":5548.6770000000006}]
[null,null,null,null,null,null,null,null,null,null,null,null,null,null,null,null,null,null,null,null,null,null,null,null,null,null,null,null,null,null,null,null,null,null,null,null,null,null,"UI.COEF","Коэффициент (доля) на реализацию потребителям",null,{"$f":"IF(AP370=0,0,AP371/AP370)","v":0.98053576135955478},{"$f":"IF(AQ370=0,0,AQ371/AQ370)","v":0.97941810335969792},{"$f":"IF(AR370=0,0,AR371/AR370)","v":0.98205235625050846},null,{"$f":"IF(AT370=0,0,AT371/AT370)","v":0.98001240064259887},0.97893330172010729,0.9814879631124882,1,1,1]
[null,null,null,null,null,null,null,null,null,null,null,null,null,null,null,null,null,null,null,null,null,null,null,null,null,null,null,null,null,null,null,null,null,null,null,null,null,null,"UI.PURE.EC","Полезный отпуск продукции на реализацию потребителям без учёта перепродажи:\n[БТр!п.3.3:3.5] - транспортировка\n[БПр!п.3.2:3.4 + БПр!п.5.2.3] - производство","Гкал",{"$f":"SUMIF($AS$9:$AZ$9,AP$9,$AS373:$AZ373)","v":420604.48400000005},{"$f":"SUMIF($AS$9:$AZ$9,AQ$9,$AS373:$AZ373)","v":241874.84899999999},{"$f":"SUMIF($AS$9:$AZ$9,AR$9,$AS373:$AZ373)","v":178729.63500000001},null,{"$f":"AU373+AV373","v":409372.64300000004},{"$f":"SUMIF(БПр!$BA$131:$BA$188,AU$17 & \".0-\" & AU$9,БПр!$R$131:$R$188)+SUMIF(БПр!$BA$131:$BA$188,AU$17 & \".0-\" & AU$9,БПр!$S$131:$S$188)+SUMIF(БПр!$BA$131:$BA$188,AU$17 & \".0-\" & AU$9,БПр!$T$131:$T$188)+SUMIF(БПр!$BA$131:$BA$188,AU$17 & \".0-\" & AU$9,БПр!$AU$131:$AU$188)+SUMIF(БТр!$BA$131:$BA$188,AU$17 & \".0-\" & AU$9,БТр!$R$131:$R$188)+SUMIF(БТр!$BA$131:$BA$188,AU$17 & \".0-\" & AU$9,БТр!$S$131:$S$188)+SUMIF(БТр!$BA$131:$BA$188,AU$17 & \".0-\" & AU$9,БТр!$T$131:$T$188)","v":236191.685},{"$f":"SUMIF(БПр!$BA$131:$BA$188,AV$17 & \".0-\" & AV$9,БПр!$R$131:$R$188)+SUMIF(БПр!$BA$131:$BA$188,AV$17 & \".0-\" & AV$9,БПр!$S$131:$S$188)+SUMIF(БПр!$BA$131:$BA$188,AV$17 & \".0-\" & AV$9,БПр!$T$131:$T$188)+SUMIF(БПр!$BA$131:$BA$188,AV$17 & \".0-\" & AV$9,БПр!$AU$131:$AU$188)+SUMIF(БТр!$BA$131:$BA$188,AV$17 & \".0-\" & AV$9,БТр!$R$131:$R$188)+SUMIF(БТр!$BA$131:$BA$188,AV$17 & \".0-\" & AV$9,БТр!$S$131:$S$188)+SUMIF(БТр!$BA$131:$BA$188,AV$17 & \".0-\" & AV$9,БТр!$T$131:$T$188)","v":173180.95800000001},{"$f":"AX373+AY373","v":11231.841},{"$f":"SUMIF(БПр!$BA$131:$BA$188,AX$17 & \".0-\" & AX$9,БПр!$R$131:$R$188)+SUMIF(БПр!$BA$131:$BA$188,AX$17 & \".0-\" & AX$9,БПр!$S$131:$S$188)+SUMIF(БПр!$BA$131:$BA$188,AX$17 & \".0-\" & AX$9,БПр!$T$131:$T$188)+SUMIF(БПр!$BA$131:$BA$188,AX$17 & \".0-\" & AX$9,БПр!$AU$131:$AU$188)+SUMIF(БТр!$BA$131:$BA$188,AX$17 & \".0-\" & AX$9,БТр!$R$131:$R$188)+SUMIF(БТр!$BA$131:$BA$188,AX$17 & \".0-\" & AX$9,БТр!$S$131:$S$188)+SUMIF(БТр!$BA$131:$BA$188,AX$17 & \".0-\" & AX$9,БТр!$T$131:$T$188)","v":5683.1639999999998},{"$f":"SUMIF(БПр!$BA$131:$BA$188,AY$17 & \".0-\" & AY$9,БПр!$R$131:$R$188)+SUMIF(БПр!$BA$131:$BA$188,AY$17 & \".0-\" & AY$9,БПр!$S$131:$S$188)+SUMIF(БПр!$BA$131:$BA$188,AY$17 & \".0-\" & AY$9,БПр!$T$131:$T$188)+SUMIF(БПр!$BA$131:$BA$188,AY$17 & \".0-\" & AY$9,БПр!$AU$131:$AU$188)+SUMIF(БТр!$BA$131:$BA$188,AY$17 & \".0-\" & AY$9,БТр!$R$131:$R$188)+SUMIF(БТр!$BA$131:$BA$188,AY$17 & \".0-\" & AY$9,БТр!$S$131:$S$188)+SUMIF(БТр!$BA$131:$BA$188,AY$17 & \".0-\" & AY$9,БТр!$T$131:$T$188)","v":5548.6770000000006}]
[]
[null,null,null,null,null,null,null,null,null,null,null,null,null,null,null,null,null,null,null,null,null,null,null,null,null,null,null,null,null,null,null,null,null,null,null,null,null,null,"PROFITABILITY","Рентабельность","%",{"$f":"IF(AP331=0,0,(AP336-AP335)/AP331*100)","v":-1.9983690477085647},{"$f":"IF(AQ331=0,0,(AQ336-AQ335)/AQ331*100)","v":12.24847695742076},{"$f":"IF(AR331=0,0,(AR336-AR335)/AR331*100)","v":-15.850821849550211},null,{"$f":"IF(AT331=0,0,(AT336-AT335)/AT331*100)","v":-1.9360124706368471},12.327676712380832,-15.892695640394169,-4.256660112095723,8.9935974419369131,-14.492225281069951]
[null,null,null,null,null,null,null,null,null,null,null,null,null,null,null,null,null,null,null,null,null,null,null,null,null,null,null,null,null,null,null,null,null,null,null,null,null,null,null,"Подстановка тарифов I и II полугодий одновременно","a"]
[null,null,null,null,null,null,null,null,null,null,null,null,null,null,null,null,null,null,null,null,null,null,null,null,null,null,null,null,null,null,null,null,null,null,null,null,null,null,"D","Справочно: результат деятельности в периоде регулирования","тыс.руб.",{"$f":"SUMIF($AS$9:$AZ$9,AP$9,$AS377:$AZ377)","v":6.4093893961398862E-3},2.1362174229579978E-3,4.2731719731818885E-3,null,{"$f":"AU377+AV377","v":1.4543295837938786E-3},{"$f":"AU378-(AU333+AU336-AU335)","v":-2.0454137120395899E-4},{"$f":"AV378-(AV333+AV336-AV335)","v":1.6588709549978375E-3},{"$f":"AX377+AY377","v":4.9550598123460077E-3},{"$f":"AX378-(AX333+AX336-AX335)","v":2.3407587941619568E-3},{"$f":"AY378-(AY333+AY336-AY335)","v":2.6143010181840509E-3}]
[null,null,null,null,null,null,null,null,null,null,null,null,null,null,null,null,null,null,null,null,null,null,null,null,null,null,null,null,null,null,null,null,null,null,null,null,null,null,{"$f":"AM377 & \".0.1\"","v":"D.0.1"},"Общий доход от реализации потребителям без учёта НДС, исходя из утверждённых тарифов","тыс.руб.",1521648.4873929997,860348.83789299987,661299.64949999994,null,{"$f":"AU378+AV378","v":1480903.3681449997},{"$f":"AU380+AU383+AU386+AU389+AU392+AU393","v":840133.82354499993},{"$f":"AV380+AV383+AV386+AV389+AV392+AV393","v":640769.54459999991},{"$f":"AX378+AY378","v":40745.119247999988},{"$f":"AX380+AX383+AX386+AX389+AX392+AX393","v":20215.014347999997},{"$f":"AY380+AY383+AY386+AY389+AY392+AY393","v":20530.104899999995}]
[null,null,null,null,null,null,null,null,null,null,null,null,null,null,null,null,null,null,null,null,null,null,null,null,null,null,null,null,null,null,null,null,null,null,null,null,null,null,{"$f":"AM377 & \".0.2\"","v":"D.0.2"},"Полезный отпуск продукции на реализацию потребителям","Гкал",420604.48400000005,241874.84899999999,178729.63500000001,null,{"$f":"AU379+AV379","v":409372.64300000004},{"$f":"AU382+AU385+AU388+AU391","v":236191.685},{"$f":"AV382+AV385+AV388+AV391","v":173180.95800000001},{"$f":"AX379+AY379","v":11231.841},{"$f":"AX382+AX385+AX388+AX391","v":5683.1639999999998},{"$f":"AY382+AY385+AY388+AY391","v":5548.6769999999997}]
[null,null,null,null,null,null,null,null,null,null,null,null,null,null,null,null,null,null,null,null,null,null,null,null,null,null,null,null,null,null,null,null,null,null,null,null,null,null,{"$f":"AM377 & \".1\"","v":"D.1"},"Организации-перепродавцы / энергоснабжающие организации","тыс.руб.",0,0,0,null,{"$f":"AU380+AV380","v":0},{"$f":"AU381*AU382/1000","v":0},{"$f":"AV381*AV382/1000","v":0},{"$f":"AX380+AY380","v":0},{"$f":"AX381*AX382/1000","v":0},{"$f":"AY381*AY382/1000","v":0}]
[null,null,null,null,null,null,null,null,null,null,null,null,null,null,null,null,null,null,null,null,null,null,null,null,null,null,null,null,null,null,null,null,null,null,null,null,null,null,{"$f":"AM380 & \".1\"","v":"D.1.1"},"средневзвешенный тариф","руб./Гкал",{"$f":"IF(AP382=0,0,AP380*1000/AP382)","v":0},{"$f":"IF(AQ382=0,0,AQ380*1000/AQ382)","v":0},{"$f":"IF(AR382=0,0,AR380*1000/AR382)","v":0},null,{"$f":"IF(AT382=0,0,AT380*1000/AT382)","v":0},null,null,{"$f":"IF(AW382=0,0,AW380*1000/AW382)","v":0}]
[null,null,null,null,null,null,null,null,null,null,null,null,null,null,null,null,null,null,null,null,null,null,null,null,null,null,null,null,null,null,null,null,null,null,null,null,null,null,{"$f":"AM380 & \".2\"","v":"D.1.2"},"объём","Гкал",{"$f":"SUMIF($AS$9:$AZ$9,AP$9,$AS382:$AZ382)","v":0},0,0,null,{"$f":"AU382+AV382","v":0},{"$f":"SUMIF(БПр!$BA$131:$BA$188,AU$17 & \".0-\" & AU$9,БПр!$U$131:$U$188)+SUMIF(БПр!$BA$131:$BA$188,AU$17 & \".0-\" & AU$9,БПр!$AT$131:$AT$188)+IF(AU$16&\"::\"&VDET=\"TRANSPORT::руб/Гкал/час в мес::Передача\",SUMIF(БТр!$BB$131:$BB$188,AU$17 & \".0.YEAR\",БТр!$I$131:$I$188)*AU$6,SUMIF(БТр!$BA$131:$BA$188,AU$17 & \".0-\" & AU$9,БТр!$Q$131:$Q$188))","v":0},{"$f":"SUMIF(БПр!$BA$131:$BA$188,AV$17 & \".0-\" & AV$9,БПр!$U$131:$U$188)+SUMIF(БПр!$BA$131:$BA$188,AV$17 & \".0-\" & AV$9,БПр!$AT$131:$AT$188)+IF(AV$16&\"::\"&VDET=\"TRANSPORT::руб/Гкал/час в мес::Передача\",SUMIF(БТр!$BB$131:$BB$188,AV$17 & \".0.YEAR\",БТр!$I$131:$I$188)*AV$6,SUMIF(БТр!$BA$131:$BA$188,AV$17 & \".0-\" & AV$9,БТр!$Q$131:$Q$188))","v":0},{"$f":"AX382+AY382","v":0},{"$f":"SUMIF(БПр!$BA$131:$BA$188,AX$17 & \".0-\" & AX$9,БПр!$U$131:$U$188)+SUMIF(БПр!$BA$131:$BA$188,AX$17 & \".0-\" & AX$9,БПр!$AT$131:$AT$188)+IF(AX$16&\"::\"&VDET=\"TRANSPORT::руб/Гкал/час в мес::Передача\",SUMIF(БТр!$BB$131:$BB$188,AX$17 & \".0.YEAR\",БТр!$I$131:$I$188)*AX$6,SUMIF(БТр!$BA$131:$BA$188,AX$17 & \".0-\" & AX$9,БТр!$Q$131:$Q$188))","v":0},{"$f":"SUMIF(БПр!$BA$131:$BA$188,AY$17 & \".0-\" & AY$9,БПр!$U$131:$U$188)+SUMIF(БПр!$BA$131:$BA$188,AY$17 & \".0-\" & AY$9,БПр!$AT$131:$AT$188)+IF(AY$16&\"::\"&VDET=\"TRANSPORT::руб/Гкал/час в мес::Передача\",SUMIF(БТр!$BB$131:$BB$188,AY$17 & \".0.YEAR\",БТр!$I$131:$I$188)*AY$6,SUMIF(БТр!$BA$131:$BA$188,AY$17 & \".0-\" & AY$9,БТр!$Q$131:$Q$188))","v":0}]
[null,null,null,null,null,null,null,null,null,null,null,null,null,null,null,null,null,null,null,null,null,null,null,null,null,null,null,null,null,null,null,null,null,null,null,null,null,null,{"$f":"AM377 & \".2\"","v":"D.2"},"Бюджетные потребители","тыс.руб.",357453.8539000001,219938.91390000004,137514.94,null,{"$f":"AU383+AV383","v":352116.62004300009},{"$f":"AU384*AU385/1000","v":217397.07814300005},{"$f":"AV384*AV385/1000","v":134719.54190000001},{"$f":"AX383+AY383","v":5337.2338570000002},{"$f":"AX384*AX385/1000","v":2541.8357570000003},{"$f":"AY384*AY385/1000","v":2795.3980999999999}]
[null,null,null,null,null,null,null,null,null,null,null,null,null,null,null,null,null,null,null,null,null,null,null,null,null,null,null,null,null,null,null,null,null,null,null,null,null,null,{"$f":"AM383 & \".1\"","v":"D.2.1"},"средневзвешенный тариф","руб./Гкал",{"$f":"IF(AP385=0,0,AP383*1000/AP385)","v":3610.6851076123071},{"$f":"IF(AQ385=0,0,AQ383*1000/AQ385)","v":3557},{"$f":"IF(AR385=0,0,AR383*1000/AR385)","v":3699.9999999999995},null,{"$f":"IF(AT385=0,0,AT383*1000/AT385)","v":3610.386579024987},3557,3700,{"$f":"IF(AW385=0,0,AW383*1000/AW385)","v":3630.4897831052558},3557,3700]
[null,null,null,null,null,null,null,null,null,null,null,null,null,null,null,null,null,null,null,null,null,null,null,null,null,null,null,null,null,null,null,null,null,null,null,null,null,null,{"$f":"AM383 & \".2\"","v":"D.2.2"},"объём","Гкал",{"$f":"SUMIF($AS$9:$AZ$9,AP$9,$AS385:$AZ385)","v":98998.900000000023},61832.700000000012,37166.200000000004,null,{"$f":"AU385+AV385","v":97528.786000000022},{"$f":"SUMIF(БПр!$BA$131:$BA$188,AU$17 & \".0-\" & AU$9,БПр!$R$131:$R$188)+SUMIF(БПр!$BA$131:$BA$188,AU$17 & \".0-\" & AU$9,БПр!$AV$131:$AV$188)+IF(AU$16&\"::\"&VDET=\"TRANSPORT::руб/Гкал/час в мес::Передача\",SUMIF(БТр!$BB$131:$BB$188,AU$17 & \".0.YEAR\",БТр!$I$131:$I$188)*AU$6,SUMIF(БТр!$BA$131:$BA$188,AU$17 & \".0-\" & AU$9,БТр!$R$131:$R$188))","v":61118.099000000009},{"$f":"SUMIF(БПр!$BA$131:$BA$188,AV$17 & \".0-\" & AV$9,БПр!$R$131:$R$188)+SUMIF(БПр!$BA$131:$BA$188,AV$17 & \".0-\" & AV$9,БПр!$AV$131:$AV$188)+IF(AV$16&\"::\"&VDET=\"TRANSPORT::руб/Гкал/час в мес::Передача\",SUMIF(БТр!$BB$131:$BB$188,AV$17 & \".0.YEAR\",БТр!$I$131:$I$188)*AV$6,SUMIF(БТр!$BA$131:$BA$188,AV$17 & \".0-\" & AV$9,БТр!$R$131:$R$188))","v":36410.687000000005},{"$f":"AX385+AY385","v":1470.114},{"$f":"SUMIF(БПр!$BA$131:$BA$188,AX$17 & \".0-\" & AX$9,БПр!$R$131:$R$188)+SUMIF(БПр!$BA$131:$BA$188,AX$17 & \".0-\" & AX$9,БПр!$AV$131:$AV$188)+IF(AX$16&\"::\"&VDET=\"TRANSPORT::руб/Гкал/час в мес::Передача\",SUMIF(БТр!$BB$131:$BB$188,AX$17 & \".0.YEAR\",БТр!$I$131:$I$188)*AX$6,SUMIF(БТр!$BA$131:$BA$188,AX$17 & \".0-\" & AX$9,БТр!$R$131:$R$188))","v":714.601},{"$f":"SUMIF(БПр!$BA$131:$BA$188,AY$17 & \".0-\" & AY$9,БПр!$R$131:$R$188)+SUMIF(БПр!$BA$131:$BA$188,AY$17 & \".0-\" & AY$9,БПр!$AV$131:$AV$188)+IF(AY$16&\"::\"&VDET=\"TRANSPORT::руб/Гкал/час в мес::Передача\",SUMIF(БТр!$BB$131:$BB$188,AY$17 & \".0.YEAR\",БТр!$I$131:$I$188)*AY$6,SUMIF(БТр!$BA$131:$BA$188,AY$17 & \".0-\" & AY$9,БТр!$R$131:$R$188))","v":755.51300000000003}]
[null,null,null,null,null,null,null,null,null,null,null,null,null,null,null,null,null,null,null,null,null,null,null,null,null,null,null,null,null,null,null,null,null,null,null,null,null,null,{"$f":"AM377 & \".3\"","v":"D.3"},"Население","тыс.руб.",1014893.6405509999,546135.88605099998,468757.75449999998,null,{"$f":"AU386+AV386","v":979596.54301199992},{"$f":"AU387*AU388/1000","v":528512.98921199993},{"$f":"AV387*AV388/1000","v":451083.55379999999},{"$f":"AX386+AY386","v":35297.097538999995},{"$f":"AX387*AX388/1000","v":17622.896838999997},{"$f":"AY387*AY388/1000","v":17674.200699999998}]
[null,null,null,null,null,null,null,null,null,null,null,null,null,null,null,null,null,null,null,null,null,null,null,null,null,null,null,null,null,null,null,null,null,null,null,null,null,null,{"$f":"AM386 & \".1\"","v":"D.3.1"},"средневзвешенный тариф","руб./Гкал",{"$f":"IF(AP388=0,0,AP386*1000/AP388)","v":3621.6500296356958},{"$f":"IF(AQ388=0,0,AQ386*1000/AQ388)","v":3557.0000000000009},{"$f":"IF(AR388=0,0,AR386*1000/AR388)","v":3700},null,{"$f":"IF(AT388=0,0,AT386*1000/AT388)","v":3621.4505491585369},3557,3700,{"$f":"IF(AW388=0,0,AW386*1000/AW388)","v":3627.194971390074},3557,3700]
[null,null,null,null,null,null,null,null,null,null,null,null,null,null,null,null,null,null,null,null,null,null,null,null,null,null,null,null,null,null,null,null,null,null,null,null,null,null,{"$f":"AM386 & \".2\"","v":"D.3.2"},"объём","Гкал",{"$f":"SUMIF($AS$9:$AZ$9,AP$9,$AS388:$AZ388)","v":280229.62799999997},153538.34299999996,126691.285,null,{"$f":"AU388+AV388","v":270498.38999999996},{"$f":"SUMIF(БПр!$BA$131:$BA$188,AU$17 & \".0-\" & AU$9,БПр!$S$131:$S$188)+SUMIF(БПр!$BA$131:$BA$188,AU$17 & \".0-\" & AU$9,БПр!$AW$131:$AW$188)+IF(AU$16&\"::\"&VDET=\"TRANSPORT::руб/Гкал/час в мес::Передача\",SUMIF(БТр!$BB$131:$BB$188,AU$17 & \".0.YEAR\",БТр!$I$131:$I$188)*AU$6,SUMIF(БТр!$BA$131:$BA$188,AU$17 & \".0-\" & AU$9,БТр!$S$131:$S$188))","v":148583.91599999997},{"$f":"SUMIF(БПр!$BA$131:$BA$188,AV$17 & \".0-\" & AV$9,БПр!$S$131:$S$188)+SUMIF(БПр!$BA$131:$BA$188,AV$17 & \".0-\" & AV$9,БПр!$AW$131:$AW$188)+IF(AV$16&\"::\"&VDET=\"TRANSPORT::руб/Гкал/час в мес::Передача\",SUMIF(БТр!$BB$131:$BB$188,AV$17 & \".0.YEAR\",БТр!$I$131:$I$188)*AV$6,SUMIF(БТр!$BA$131:$BA$188,AV$17 & \".0-\" & AV$9,БТр!$S$131:$S$188))","v":121914.474},{"$f":"AX388+AY388","v":9731.2379999999994},{"$f":"SUMIF(БПр!$BA$131:$BA$188,AX$17 & \".0-\" & AX$9,БПр!$S$131:$S$188)+SUMIF(БПр!$BA$131:$BA$188,AX$17 & \".0-\" & AX$9,БПр!$AW$131:$AW$188)+IF(AX$16&\"::\"&VDET=\"TRANSPORT::руб/Гкал/час в мес::Передача\",SUMIF(БТр!$BB$131:$BB$188,AX$17 & \".0.YEAR\",БТр!$I$131:$I$188)*AX$6,SUMIF(БТр!$BA$131:$BA$188,AX$17 & \".0-\" & AX$9,БТр!$S$131:$S$188))","v":4954.4269999999997},{"$f":"SUMIF(БПр!$BA$131:$BA$188,AY$17 & \".0-\" & AY$9,БПр!$S$131:$S$188)+SUMIF(БПр!$BA$131:$BA$188,AY$17 & \".0-\" & AY$9,БПр!$AW$131:$AW$188)+IF(AY$16&\"::\"&VDET=\"TRANSPORT::руб/Гкал/час в мес::Передача\",SUMIF(БТр!$BB$131:$BB$188,AY$17 & \".0.YEAR\",БТр!$I$131:$I$188)*AY$6,SUMIF(БТр!$BA$131:$BA$188,AY$17 & \".0-\" & AY$9,БТр!$S$131:$S$188))","v":4776.8109999999997}]
[null,null,null,null,null,null,null,null,null,null,null,null,null,null,null,null,null,null,null,null,null,null,null,null,null,null,null,null,null,null,null,null,null,null,null,null,null,null,{"$f":"AM377 & \".4\"","v":"D.4"},"Прочие","тыс.руб.",149300.99294200001,94274.03794200001,55026.954999999994,null,{"$f":"AU389+AV389","v":149190.20509},{"$f":"AU390*AU391/1000","v":94223.756190000015},{"$f":"AV390*AV391/1000","v":54966.448899999996},{"$f":"AX389+AY389","v":110.787852},{"$f":"AX390*AX391/1000","v":50.281751999999997},{"$f":"AY390*AY391/1000","v":60.506100000000004}]
[null,null,null,null,null,null,null,null,null,null,null,null,null,null,null,null,null,null,null,null,null,null,null,null,null,null,null,null,null,null,null,null,null,null,null,null,null,null,{"$f":"AM389 & \".1\"","v":"D.4.1"},"средневзвешенный тариф","руб./Гкал",{"$f":"IF(AP391=0,0,AP389*1000/AP391)","v":3608.3998383505623},{"$f":"IF(AQ391=0,0,AQ389*1000/AQ391)","v":3557},{"$f":"IF(AR391=0,0,AR389*1000/AR391)","v":3700},null,{"$f":"IF(AT391=0,0,AT389*1000/AT391)","v":3608.3811821499075},3557,3700,{"$f":"IF(AW391=0,0,AW389*1000/AW391)","v":3633.6991045950995},3557,3700]
[null,null,null,null,null,null,null,null,null,null,null,null,null,null,null,null,null,null,null,null,null,null,null,null,null,null,null,null,null,null,null,null,null,null,null,null,null,null,{"$f":"AM389 & \".2\"","v":"D.4.2"},"объём","Гкал",{"$f":"SUMIF($AS$9:$AZ$9,AP$9,$AS391:$AZ391)","v":41375.956000000006},26503.806000000004,14872.149999999998,null,{"$f":"AU391+AV391","v":41345.467000000004},{"$f":"SUMIF(БПр!$BA$131:$BA$188,AU$17 & \".0-\" & AU$9,БПр!$T$131:$T$188)+SUMIF(БПр!$BA$131:$BA$188,AU$17 & \".0-\" & AU$9,БПр!$AX$131:$AX$188)+IF(AU$16&\"::\"&VDET=\"TRANSPORT::руб/Гкал/час в мес::Передача\",SUMIF(БТр!$BB$131:$BB$188,AU$17 & \".0.YEAR\",БТр!$I$131:$I$188)*AU$6,SUMIF(БТр!$BA$131:$BA$188,AU$17 & \".0-\" & AU$9,БТр!$T$131:$T$188))","v":26489.670000000006},{"$f":"SUMIF(БПр!$BA$131:$BA$188,AV$17 & \".0-\" & AV$9,БПр!$T$131:$T$188)+SUMIF(БПр!$BA$131:$BA$188,AV$17 & \".0-\" & AV$9,БПр!$AX$131:$AX$188)+IF(AV$16&\"::\"&VDET=\"TRANSPORT::руб/Гкал/час в мес::Передача\",SUMIF(БТр!$BB$131:$BB$188,AV$17 & \".0.YEAR\",БТр!$I$131:$I$188)*AV$6,SUMIF(БТр!$BA$131:$BA$188,AV$17 & \".0-\" & AV$9,БТр!$T$131:$T$188))","v":14855.796999999999},{"$f":"AX391+AY391","v":30.489000000000004},{"$f":"SUMIF(БПр!$BA$131:$BA$188,AX$17 & \".0-\" & AX$9,БПр!$T$131:$T$188)+SUMIF(БПр!$BA$131:$BA$188,AX$17 & \".0-\" & AX$9,БПр!$AX$131:$AX$188)+IF(AX$16&\"::\"&VDET=\"TRANSPORT::руб/Гкал/час в мес::Передача\",SUMIF(БТр!$BB$131:$BB$188,AX$17 & \".0.YEAR\",БТр!$I$131:$I$188)*AX$6,SUMIF(БТр!$BA$131:$BA$188,AX$17 & \".0-\" & AX$9,БТр!$T$131:$T$188))","v":14.136000000000001},{"$f":"SUMIF(БПр!$BA$131:$BA$188,AY$17 & \".0-\" & AY$9,БПр!$T$131:$T$188)+SUMIF(БПр!$BA$131:$BA$188,AY$17 & \".0-\" & AY$9,БПр!$AX$131:$AX$188)+IF(AY$16&\"::\"&VDET=\"TRANSPORT::руб/Гкал/час в мес::Передача\",SUMIF(БТр!$BB$131:$BB$188,AY$17 & \".0.YEAR\",БТр!$I$131:$I$188)*AY$6,SUMIF(БТр!$BA$131:$BA$188,AY$17 & \".0-\" & AY$9,БТр!$T$131:$T$188))","v":16.353000000000002}]
[null,null,null,null,null,null,null,null,null,null,null,null,null,null,null,null,null,null,null,null,null,null,null,null,null,null,null,null,null,null,null,null,null,null,null,null,null,null,{"$f":"AM377 & \".5\"","v":"D.5"},"Объём дотаций из всех уровней бюджета","тыс.руб.",0,0,0,null,{"$f":"AU392+AV392","v":0},null,null,{"$f":"AX392+AY392","v":0}]
[null,null,null,null,null,null,null,null,null,null,null,null,null,null,null,null,null,null,null,null,null,null,null,null,null,null,null,null,null,null,null,null,null,null,null,null,null,null,{"$f":"AM377 & \".6\"","v":"D.6"},"Доходы, полученные сверх реализации по утверждённым тарифам","тыс.руб.",0,0,0,null,{"$f":"AU393+AV393","v":0},null,null,{"$f":"AX393+AY393","v":0}]
[]
[]
[]
[]
[]
[]
[null,null,null,null,null,null,null,null,null,null,null,null,null,null,null,null,null,null,null,null,null,null,null,null,null,null,null,null,null,null,null,null,null,null,null,null,null,null,null,"Дополнительные показатели"]
[null,null,null,null,null,null,null,null,null,null,null,null,null,null,null,null,null,null,null,null,null,null,null,null,null,null,null,null,null,null,null,null,null,null,null,null,null,null,null,"Производство"]
[null,null,null,null,null,null,null,null,null,null,null,null,null,null,null,null,null,null,null,null,null,null,null,null,null,null,null,null,null,null,null,null,null,null,null,null,null,null,null,{"$f":"\"Стоимость основных средств, относимых на источники производства \" & RESOURCE_IDENTIFIER","v":"Стоимость основных средств, относимых на источники производства ТЭ"},"тыс.руб.",868169]
[null,null,null,null,null,null,null,null,null,null,null,null,null,null,null,null,null,null,null,null,null,null,null,null,null,null,null,null,null,null,null,null,null,null,null,null,null,null,null,"Износ основных средств","%",58]
[null,null,null,null,null,null,null,null,null,null,null,null,null,null,null,null,null,null,null,null,null,null,null,null,null,null,null,null,null,null,null,null,null,null,null,null,null,null,null,"Передача"]
[null,null,null,null,null,null,null,null,null,null,null,null,null,null,null,null,null,null,null,null,null,null,null,null,null,null,null,null,null,null,null,null,null,null,null,null,null,null,null,{"$f":"\"Стоимость основных средств, относимых на передачу \" & RESOURCE_IDENTIFIER","v":"Стоимость основных средств, относимых на передачу ТЭ"},"тыс.руб.",1153224]
[null,null,null,null,null,null,null,null,null,null,null,null,null,null,null,null,null,null,null,null,null,null,null,null,null,null,null,null,null,null,null,null,null,null,null,null,null,null,null,"Протяженность сетей (в двухтрубном исчислении)","км",161.82]
[null,null,null,null,null,null,null,null,null,null,null,null,null,null,null,null,null,null,null,null,null,null,null,null,null,null,null,null,null,null,null,null,null,null,null,null,null,null,null,"Протяженность сетей, подлежащих замене (износ 100%)","км",39.299999999999997]
[null,null,null,null,null,null,null,null,null,null,null,null,null,null,null,null,null,null,null,null,null,null,null,null,null,null,null,null,null,null,null,null,null,null,null,null,null,null,null,"Сбыт"]
[null,null,null,null,null,null,null,null,null,null,null,null,null,null,null,null,null,null,null,null,null,null,null,null,null,null,null,null,null,null,null,null,null,null,null,null,null,null,null,"Полезный отпуск наиболее крупному единичному потребителю","Гкал",9417.7369999999992]
[null,null,null,null,null,null,null,null,null,null,null,null,null,null,null,null,null,null,null,null,null,null,null,null,null,null,null,null,null,null,null,null,null,null,null,null,null,null,null,"Численность обслуживаемого населения","чел.",40214]
[null,null,null,null,null,null,null,null,null,null,null,null,null,null,null,null,null,null,null,null,null,null,null,null,null,null,null,null,null,null,null,null,null,null,null,null,null,null,null,"Количество абонентов","тыс.ед.",{"$f":"(795+1396)/1000","v":2.1909999999999998}]

{"sheet":"Т","index":15,"n_rows":960,"n_cols":52,"rows_kept":960,"cut":false,"hidden":false,"merged":[[21,48,21,50],[13,48,13,50],[17,48,17,50],[18,48,18,50],[19,48,19,50],[20,48,20,50],[12,38,13,39],[13,41,13,43],[21,45,21,47],[18,38,19,38],[18,39,19,39],[18,41,19,43],[18,40,19,40],[13,45,13,47],[17,45,17,47],[18,45,18,47],[19,45,19,47],[20,45,20,47]]}
[]
[]
[]
[]
[]
[null,null,null,null,null,null,null,null,null,null,null,null,null,null,null,null,null,null,null,null,null,null,null,null,null,null,null,null,null,null,null,null,null,null,null,null,null,null,null,null,null,12,6,6,null,12,6,6,12,6,6]
[]
[]
[null,null,null,null,null,null,null,null,null,null,null,null,null,null,null,null,null,null,null,null,null,null,null,null,null,null,null,null,null,null,null,null,null,null,null,null,null,null,null,null,null,"Y","I","II",null,"Y","I","II","Y","I","II"]
[null,null,null,null,null,null,null,null,null,null,null,null,null,null,null,null,null,null,null,null,null,null,null,null,null,null,null,null,null,null,null,null,null,null,null,null,null,null,null,null,null,null,null,null,"START",null,null,null,null,null,null,"END"]
[null,null,null,null,null,null,null,null,null,null,null,null,null,null,null,null,null,null,null,null,null,null,null,null,null,null,null,null,null,null,null,null,null,null,null,null,null,null,null,null,null,"Y","I","II",null,"Y","I","II","Y","I","II"]
[null,null,null,null,null,null,null,null,null,null,null,null,null,null,null,null,null,null,null,null,null,null,null,null,null,null,null,null,null,null,null,null,null,null,null,null,null,null,null,"Необходимо указывать значения по полугодиям (6 и 6 месяцев)"]
["FULL_MODE",null,null,null,null,null,null,null,null,null,null,null,null,null,null,null,null,null,null,null,null,null,null,null,null,null,null,null,null,null,null,null,null,null,null,null,null,null,"Топливо на технологические цели",null,"Период","Год","I полугодие","II полугодие",null,"Год","I полугодие","II полугодие","Год","I полугодие","II полугодие"]
[]
[null,null,null,null,null,null,null,null,null,null,null,null,null,null,null,null,null,null,null,null,null,null,null,null,null,null,null,null,null,null,null,null,null,null,null,null,null,null,null,null,null,null,null,null,null,{"$f":"AT17 & \"_\" & AT9","v":"1_Y"},"1_I","1_II","2_Y","2_I","2_II"]
[]
[null,null,null,null,null,null,null,null,null,null,null,null,null,null,null,null,null,null,null,null,null,null,null,null,null,null,null,null,null,null,null,null,null,null,null,null,null,null,null,null,null,null,null,null,null,{"$f":"AT19","v":1},{"$f":"AT19","v":1},{"$f":"AT19","v":1},{"$f":"AW19","v":2},{"$f":"AW19","v":2},{"$f":"AW19","v":2}]
[null,null,null,null,null,null,null,null,null,null,null,null,null,null,null,null,null,null,null,null,null,null,null,null,null,null,null,null,null,null,null,null,null,null,null,null,null,null,null,null,null,null,null,null,null,"Удалить",null,null,"Удалить",null,null,"Добавить"]
[null,null,null,null,null,null,null,null,null,null,null,null,null,null,null,null,null,null,null,null,null,null,null,null,null,null,null,null,null,null,null,null,null,null,null,null,null,null,"№ п/п","Наименование показателя","Единица измерения","Всего по организации",null,null,0,1,null,null,2]
[null,null,null,null,null,null,null,null,null,null,null,null,null,null,null,null,null,null,null,null,null,null,null,null,null,null,null,null,null,null,null,null,null,null,null,null,null,null,null,null,null,null,null,null,null,{"$f":"IF('Список территорий'!$I$16=\"\",\"Не определено\",'Список территорий'!$G$16 & \" / \" & 'Список территорий'!$H$16 & \" / \" & 'Список территорий'!$I$16)","v":"город Салехард / город Салехард / 71951000"},null,null,{"$f":"IF('Список территорий'!$I$17=\"\",\"Не определено\",'Список территорий'!$G$17 & \" / \" & 'Список территорий'!$H$17 & \" / \" & 'Список территорий'!$I$17)","v":"город Салехард / город Салехард / 71951000"}]
[null,null,null,null,null,null,null,null,null,null,null,null,null,null,null,null,null,null,null,null,null,null,null,null,null,null,null,null,null,null,null,null,null,null,null,null,null,null,null,"Является ли организация плательщиком НДС",null,null,null,null,null,{"$f":"IF('Список территорий'!$M$16=\"\",\"Не определено\",'Список территорий'!$M$16)","v":"да"},null,null,{"$f":"IF('Список территорий'!$M$17=\"\",\"Не определено\",'Список территорий'!$M$17)","v":"да"}]
[null,null,null,null,null,null,null,null,null,null,null,null,null,null,null,null,null,null,null,null,null,null,null,null,null,null,null,null,null,null,null,null,null,null,null,null,null,null,null,"Выбор используемых видов (марок) топлива - двойным щелчком мыши над расчётным блоком",null,null,null,null,null,"NG;NGL;DSL;DSLW;",null,null,"NG;NGL;"]
[]
[]
[]
[]
[]
[]
[]
[]
[]
[]
[]
[]
[]
[null,null,null,null,null,null,null,null,null,null,null,null,null,null,null,null,null,null,null,null,null,null,null,null,null,null,null,null,null,null,null,null,null,null,null,null,null,null,"4","Стоимость натурального топлива с учётом транспортировки (перевозки) (топливо на технологические цели)","тыс.руб.",{"$f":"SUMIF($AS$9:$AZ$9,AP$9,$AS36:$AZ36)","v":204099.41274490958},106827.3190611796,97272.093683729996,null,{"$f":"SUM(AT37,AT41:AT46,AT47,AT52,AT59,AT60,AT70:AT79)","v":198845.42626379422},104237.3342118384,94608.092051955828,5253.9864811153748,2589.9848493411996,2664.0016317741752]
[null,null,null,null,null,null,null,null,null,null,null,null,null,null,null,null,null,null,null,null,null,null,null,null,null,null,null,null,null,null,null,"NG",null,null,null,null,null,null,"4.NG","Газ природный","тыс.руб.",203456.57952202958,106583.79291205959,96872.78660996999,null,{"$f":"SUM(AT38:AT40)","v":198202.59304091422},103993.8080627184,94208.784978195821,5253.9864811153748,2589.9848493411996,2664.0016317741752]
[null,null,null,null,null,null,null,null,null,null,null,null,null,null,null,null,null,null,null,null,null,null,null,null,null,null,null,null,null,null,null,"NGL",null,null,null,null,null,null,"4.NGL","Газ лимитный","тыс.руб.",203456.57952202958,106583.79291205959,96872.78660996999,null,{"$f":"AT410+AT471+AT479+AT487","v":198202.59304091422},103993.8080627184,94208.784978195821,5253.9864811153748,2589.9848493411996,2664.0016317741752]
[null,null,null,null,null,null,null,null,null,null,null,null,null,null,null,null,null,null,null,null,null,null,null,null,null,null,null,null,null,null,null,"NGU",null,null,null,null,null,null,"4.NGU","Газ сверхлимитный","тыс.руб.",0,0,0]
[null,null,null,null,null,null,null,null,null,null,null,null,null,null,null,null,null,null,null,null,null,null,null,null,null,null,null,null,null,null,null,"NGC",null,null,null,null,null,null,"4.NGC","Газ коммерческий","тыс.руб.",0,0,0]
[null,null,null,null,null,null,null,null,null,null,null,null,null,null,null,null,null,null,null,null,null,null,null,null,null,null,null,null,null,null,null,"GBL",null,null,null,null,null,null,"4.GBL","Газ доменный","тыс.руб.",0,0,0]
[null,null,null,null,null,null,null,null,null,null,null,null,null,null,null,null,null,null,null,null,null,null,null,null,null,null,null,null,null,null,null,"GCK",null,null,null,null,null,null,"4.GCK","Газ коксовый","тыс.руб.",0,0,0]
[null,null,null,null,null,null,null,null,null,null,null,null,null,null,null,null,null,null,null,null,null,null,null,null,null,null,null,null,null,null,null,"GOA",null,null,null,null,null,null,"4.GOA","Газ нефтяной (попутный)","тыс.руб.",0,0,0]
[null,null,null,null,null,null,null,null,null,null,null,null,null,null,null,null,null,null,null,null,null,null,null,null,null,null,null,null,null,null,null,"DSG",null,null,null,null,null,null,"4.DSG","Газ сухой отбензиненный","тыс.руб.",0,0,0]
[null,null,null,null,null,null,null,null,null,null,null,null,null,null,null,null,null,null,null,null,null,null,null,null,null,null,null,null,null,null,null,"GCN",null,null,null,null,null,null,"4.GCN","Газовый конденсат","тыс.руб.",0,0,0]
[null,null,null,null,null,null,null,null,null,null,null,null,null,null,null,null,null,null,null,null,null,null,null,null,null,null,null,null,null,null,null,"LNG",null,null,null,null,null,null,"4.LNG","Газ сжиженный","тыс.руб.",0,0,0]
[null,null,null,null,null,null,null,null,null,null,null,null,null,null,null,null,null,null,null,null,null,null,null,null,null,null,null,null,null,null,null,"DSL",null,null,null,null,null,null,"4.DSL","Дизельное топливо","тыс.руб.",642.83322287999988,243.52614911999999,399.30707375999992,null,{"$f":"AT419+AT624+AT756+AT888","v":642.83322287999988},243.52614911999999,399.30707375999992]
[null,null,null,null,null,null,null,null,null,null,null,null,null,null,null,null,null,null,null,null,null,null,null,null,null,null,null,null,null,null,null,"DSLA",null,null,null,null,null,null,"4.DSLA","А (арктическое)","тыс.руб.",0,0,0]
[null,null,null,null,null,null,null,null,null,null,null,null,null,null,null,null,null,null,null,null,null,null,null,null,null,null,null,null,null,null,null,"DSLW",null,null,null,null,null,null,"4.DSLW","З (зимнее)","тыс.руб.",642.83322287999988,243.52614911999999,399.30707375999992,null,{"$f":"AT421+AT626+AT758+AT890","v":642.83322287999988},243.52614911999999,399.30707375999992]
[null,null,null,null,null,null,null,null,null,null,null,null,null,null,null,null,null,null,null,null,null,null,null,null,null,null,null,null,null,null,null,"DSLS",null,null,null,null,null,null,"4.DSLS","Л (летнее)","тыс.руб.",0,0,0]
[null,null,null,null,null,null,null,null,null,null,null,null,null,null,null,null,null,null,null,null,null,null,null,null,null,null,null,null,null,null,null,"DSLO",null,null,null,null,null,null,"4.DSLO","Е (межсезонное)","тыс.руб.",0,0,0]
[null,null,null,null,null,null,null,null,null,null,null,null,null,null,null,null,null,null,null,null,null,null,null,null,null,null,null,null,null,null,null,"MST",null,null,null,null,null,null,"4.MST","Мазут","тыс.руб.",0,0,0]
[null,null,null,null,null,null,null,null,null,null,null,null,null,null,null,null,null,null,null,null,null,null,null,null,null,null,null,null,null,null,null,"MSTM40",null,null,null,null,null,null,"4.MSTM40","М-40","тыс.руб.",0,0,0]
[null,null,null,null,null,null,null,null,null,null,null,null,null,null,null,null,null,null,null,null,null,null,null,null,null,null,null,null,null,null,null,"MSTM100",null,null,null,null,null,null,"4.MSTM100","М-100","тыс.руб.",0,0,0]
[null,null,null,null,null,null,null,null,null,null,null,null,null,null,null,null,null,null,null,null,null,null,null,null,null,null,null,null,null,null,null,"MSTM200",null,null,null,null,null,null,"4.MSTM200","М-200","тыс.руб.",0,0,0]
[null,null,null,null,null,null,null,null,null,null,null,null,null,null,null,null,null,null,null,null,null,null,null,null,null,null,null,null,null,null,null,"MSTT",null,null,null,null,null,null,"4.MSTT","мазут марки \"Т\"","тыс.руб.",{"$f":"SUMIF($AS$9:$AZ$9,AP$9,$AS56:$AZ56)","v":0},0,0]
[null,null,null,null,null,null,null,null,null,null,null,null,null,null,null,null,null,null,null,null,null,null,null,null,null,null,null,null,null,null,null,"MSTF5",null,null,null,null,null,null,"4.MSTF5","Ф-5","тыс.руб.",0,0,0]
[null,null,null,null,null,null,null,null,null,null,null,null,null,null,null,null,null,null,null,null,null,null,null,null,null,null,null,null,null,null,null,"MSTF12",null,null,null,null,null,null,"4.MSTF12","Ф-12","тыс.руб.",0,0,0]
[null,null,null,null,null,null,null,null,null,null,null,null,null,null,null,null,null,null,null,null,null,null,null,null,null,null,null,null,null,null,null,"OIL",null,null,null,null,null,null,"4.OIL","Нефть","тыс.руб.",0,0,0]
[null,null,null,null,null,null,null,null,null,null,null,null,null,null,null,null,null,null,null,null,null,null,null,null,null,null,null,null,null,null,null,"COA",null,null,null,null,null,null,"4.COA","Уголь","тыс.руб.",0,0,0]
[null,null,null,null,null,null,null,null,null,null,null,null,null,null,null,null,null,null,null,null,null,null,null,null,null,null,null,null,null,null,null,"COAA",null,null,null,null,null,null,"4.COAA","Уголь антрацит","тыс.руб.",0,0,0]
[null,null,null,null,null,null,null,null,null,null,null,null,null,null,null,null,null,null,null,null,null,null,null,null,null,null,null,null,null,null,null,"COAB",null,null,null,null,null,null,"4.COAB","Уголь бурый","тыс.руб.",0,0,0]
[null,null,null,null,null,null,null,null,null,null,null,null,null,null,null,null,null,null,null,null,null,null,null,null,null,null,null,null,null,null,null,"COAG",null,null,null,null,null,null,"4.COAG","Уголь газовый","тыс.руб.",0,0,0]
[null,null,null,null,null,null,null,null,null,null,null,null,null,null,null,null,null,null,null,null,null,null,null,null,null,null,null,null,null,null,null,"COALF",null,null,null,null,null,null,"4.COALF","Уголь длиннопламенный","тыс.руб.",0,0,0]
[null,null,null,null,null,null,null,null,null,null,null,null,null,null,null,null,null,null,null,null,null,null,null,null,null,null,null,null,null,null,null,"COAF",null,null,null,null,null,null,"4.COAF","Уголь жирный","тыс.руб.",0,0,0]
[null,null,null,null,null,null,null,null,null,null,null,null,null,null,null,null,null,null,null,null,null,null,null,null,null,null,null,null,null,null,null,"COAC",null,null,null,null,null,null,"4.COAC","Уголь коксовый","тыс.руб.",0,0,0]
[null,null,null,null,null,null,null,null,null,null,null,null,null,null,null,null,null,null,null,null,null,null,null,null,null,null,null,null,null,null,null,"COASC",null,null,null,null,null,null,"4.COASC","Уголь отощённо-спекающийся","тыс.руб.",0,0,0]
[null,null,null,null,null,null,null,null,null,null,null,null,null,null,null,null,null,null,null,null,null,null,null,null,null,null,null,null,null,null,null,"COAWC",null,null,null,null,null,null,"4.COAWC","Уголь слабоспекающийся","тыс.руб.",0,0,0]
[null,null,null,null,null,null,null,null,null,null,null,null,null,null,null,null,null,null,null,null,null,null,null,null,null,null,null,null,null,null,null,"COAS",null,null,null,null,null,null,"4.COAS","Уголь тощий","тыс.руб.",0,0,0]
[null,null,null,null,null,null,null,null,null,null,null,null,null,null,null,null,null,null,null,null,null,null,null,null,null,null,null,null,null,null,null,"ENR",null,null,null,null,null,null,"4.ENR","Энергия","тыс.руб.",0,0,0]
[null,null,null,null,null,null,null,null,null,null,null,null,null,null,null,null,null,null,null,null,null,null,null,null,null,null,null,null,null,null,null,"PWR",null,null,null,null,null,null,"4.PWR","Заявленная мощность","тыс.руб.",0,0,0]
[null,null,null,null,null,null,null,null,null,null,null,null,null,null,null,null,null,null,null,null,null,null,null,null,null,null,null,null,null,null,null,"CWD",null,null,null,null,null,null,"4.CWD","Уголь древесный","тыс.руб.",0,0,0]
[null,null,null,null,null,null,null,null,null,null,null,null,null,null,null,null,null,null,null,null,null,null,null,null,null,null,null,null,null,null,null,"WDS",null,null,null,null,null,null,"4.WDS","Дрова","тыс.руб.",0,0,0]
[null,null,null,null,null,null,null,null,null,null,null,null,null,null,null,null,null,null,null,null,null,null,null,null,null,null,null,null,null,null,null,"PLT",null,null,null,null,null,null,"4.PLT","Пеллеты","тыс.руб.",0,0,0]
[null,null,null,null,null,null,null,null,null,null,null,null,null,null,null,null,null,null,null,null,null,null,null,null,null,null,null,null,null,null,null,"SAW",null,null,null,null,null,null,"4.SAW","Опилки","тыс.руб.",0,0,0]
[null,null,null,null,null,null,null,null,null,null,null,null,null,null,null,null,null,null,null,null,null,null,null,null,null,null,null,null,null,null,null,"PEA",null,null,null,null,null,null,"4.PEA","Торф","тыс.руб.",0,0,0]
[null,null,null,null,null,null,null,null,null,null,null,null,null,null,null,null,null,null,null,null,null,null,null,null,null,null,null,null,null,null,null,"SHL",null,null,null,null,null,null,"4.SHL","Сланцы","тыс.руб.",0,0,0]
[null,null,null,null,null,null,null,null,null,null,null,null,null,null,null,null,null,null,null,null,null,null,null,null,null,null,null,null,null,null,null,"STF",null,null,null,null,null,null,"4.STF","Печное бытовое топливо","тыс.руб.",0,0,0]
[null,null,null,null,null,null,null,null,null,null,null,null,null,null,null,null,null,null,null,null,null,null,null,null,null,null,null,null,null,null,null,"OTH",null,null,null,null,null,null,"4.OTH","Прочие виды топлива","тыс.руб.",0,0,0]
[null,null,null,null,null,null,null,null,null,null,null,null,null,null,null,null,null,null,null,null,null,null,null,null,null,null,null,null,null,null,null,null,null,null,null,null,null,null,"4.CFPTR","Цена условного топлива с учётом транспортировки (перевозки)","тыс.руб./тут",{"$f":"IF(AP168=0,0,AP36/AP168)","v":3.4868196246716736},3.3326904506180863,3.6733937537266739,null,{"$f":"IF(AT168=0,0,AT36/AT168)","v":3.486803612551411},3.3328581548046263,3.6737670458962985,3.4874257368070021,3.3259549557522123,3.6601858407079653]
[null,null,null,null,null,null,null,null,null,null,null,null,null,null,null,null,null,null,null,null,null,null,null,null,null,null,null,null,null,null,null,"NG",null,null,null,null,null,null,"4.CFPTR.NG","Газ природный","тыс.руб./тут",3.4771352112124183,3.3259549557522128,3.6601858407079653,null,3.476863254477732,3.3259549557522128,3.6601858407079653,3.4874257368070021,3.3259549557522123,3.6601858407079653]
[null,null,null,null,null,null,null,null,null,null,null,null,null,null,null,null,null,null,null,null,null,null,null,null,null,null,null,null,null,null,null,"NGL",null,null,null,null,null,null,"4.CFPTR.NGL","Газ лимитный","тыс.руб./тут",3.4771352112124183,3.3259549557522128,3.6601858407079653,null,3.476863254477732,3.3259549557522128,3.6601858407079653,3.4874257368070021,3.3259549557522123,3.6601858407079653]
[null,null,null,null,null,null,null,null,null,null,null,null,null,null,null,null,null,null,null,null,null,null,null,null,null,null,null,null,null,null,null,"NGU",null,null,null,null,null,null,"4.CFPTR.NGU","Газ сверхлимитный","тыс.руб./тут",0,0,0]
[null,null,null,null,null,null,null,null,null,null,null,null,null,null,null,null,null,null,null,null,null,null,null,null,null,null,null,null,null,null,null,"NGC",null,null,null,null,null,null,"4.CFPTR.NGC","Газ коммерческий","тыс.руб./тут",0,0,0]
[null,null,null,null,null,null,null,null,null,null,null,null,null,null,null,null,null,null,null,null,null,null,null,null,null,null,null,null,null,null,null,"GBL",null,null,null,null,null,null,"4.CFPTR.GBL","Газ доменный","тыс.руб./тут",0,0,0]
[null,null,null,null,null,null,null,null,null,null,null,null,null,null,null,null,null,null,null,null,null,null,null,null,null,null,null,null,null,null,null,"GCK",null,null,null,null,null,null,"4.CFPTR.GCK","Газ коксовый","тыс.руб./тут",0,0,0]
[null,null,null,null,null,null,null,null,null,null,null,null,null,null,null,null,null,null,null,null,null,null,null,null,null,null,null,null,null,null,null,"GOA",null,null,null,null,null,null,"4.CFPTR.GOA","Газ нефтяной (попутный)","тыс.руб./тут",0,0,0]
[null,null,null,null,null,null,null,null,null,null,null,null,null,null,null,null,null,null,null,null,null,null,null,null,null,null,null,null,null,null,null,"DSG",null,null,null,null,null,null,"4.CFPTR.DSG","Газ сухой отбензиненный","тыс.руб./тут",0,0,0]
[null,null,null,null,null,null,null,null,null,null,null,null,null,null,null,null,null,null,null,null,null,null,null,null,null,null,null,null,null,null,null,"GCN",null,null,null,null,null,null,"4.CFPTR.GCN","Газовый конденсат","тыс.руб./тут",0,0,0]
[null,null,null,null,null,null,null,null,null,null,null,null,null,null,null,null,null,null,null,null,null,null,null,null,null,null,null,null,null,null,null,"LNG",null,null,null,null,null,null,"4.CFPTR.LNG","Газ сжиженный","тыс.руб./тут",0,0,0]
[null,null,null,null,null,null,null,null,null,null,null,null,null,null,null,null,null,null,null,null,null,null,null,null,null,null,null,null,null,null,null,"DSL",null,null,null,null,null,null,"4.CFPTR.DSL","Дизельное топливо","тыс.руб./тут",29.426075743967914,29.32071724137931,29.490703448275859,null,{"$f":"IF(AT179=0,0,AT47/AT179)","v":29.426075743967914},29.32071724137931,29.490703448275859]
[null,null,null,null,null,null,null,null,null,null,null,null,null,null,null,null,null,null,null,null,null,null,null,null,null,null,null,null,null,null,null,"DSLA",null,null,null,null,null,null,"4.CFPTR.DSLA","А (арктическое)","тыс.руб./тут",0,0,0]
[null,null,null,null,null,null,null,null,null,null,null,null,null,null,null,null,null,null,null,null,null,null,null,null,null,null,null,null,null,null,null,"DSLW",null,null,null,null,null,null,"4.CFPTR.DSLW","З (зимнее)","тыс.руб./тут",29.426075743967914,29.32071724137931,29.490703448275859,null,{"$f":"IF(AT181=0,0,AT49/AT181)","v":29.426075743967914},29.32071724137931,29.490703448275859]
[null,null,null,null,null,null,null,null,null,null,null,null,null,null,null,null,null,null,null,null,null,null,null,null,null,null,null,null,null,null,null,"DSLS",null,null,null,null,null,null,"4.CFPTR.DSLS","Л (летнее)","тыс.руб./тут",0,0,0]
[null,null,null,null,null,null,null,null,null,null,null,null,null,null,null,null,null,null,null,null,null,null,null,null,null,null,null,null,null,null,null,"DSLO",null,null,null,null,null,null,"4.CFPTR.DSLO","Е (межсезонное)","тыс.руб./тут",0,0,0]
[null,null,null,null,null,null,null,null,null,null,null,null,null,null,null,null,null,null,null,null,null,null,null,null,null,null,null,null,null,null,null,"MST",null,null,null,null,null,null,"4.CFPTR.MST","Мазут","тыс.руб./тут",0,0,0]
[null,null,null,null,null,null,null,null,null,null,null,null,null,null,null,null,null,null,null,null,null,null,null,null,null,null,null,null,null,null,null,"MSTM40",null,null,null,null,null,null,"4.CFPTR.MSTM40","М-40","тыс.руб./тут",0,0,0]
[null,null,null,null,null,null,null,null,null,null,null,null,null,null,null,null,null,null,null,null,null,null,null,null,null,null,null,null,null,null,null,"MSTM100",null,null,null,null,null,null,"4.CFPTR.MSTM100","М-100","тыс.руб./тут",0,0,0]
[null,null,null,null,null,null,null,null,null,null,null,null,null,null,null,null,null,null,null,null,null,null,null,null,null,null,null,null,null,null,null,"MSTM200",null,null,null,null,null,null,"4.CFPTR.MSTM200","М-200","тыс.руб./тут",0,0,0]
[null,null,null,null,null,null,null,null,null,null,null,null,null,null,null,null,null,null,null,null,null,null,null,null,null,null,null,null,null,null,null,"MSTT",null,null,null,null,null,null,"4.CFPTR.MSTT","мазут марки \"Т\"","тыс.руб./тут",{"$f":"IF(AP188=0,0,AP56/AP188)","v":0},0,0]
[null,null,null,null,null,null,null,null,null,null,null,null,null,null,null,null,null,null,null,null,null,null,null,null,null,null,null,null,null,null,null,"MSTF5",null,null,null,null,null,null,"4.CFPTR.MSTF5","Ф-5","тыс.руб./тут",0,0,0]
[null,null,null,null,null,null,null,null,null,null,null,null,null,null,null,null,null,null,null,null,null,null,null,null,null,null,null,null,null,null,null,"MSTF12",null,null,null,null,null,null,"4.CFPTR.MSTF12","Ф-12","тыс.руб./тут",0,0,0]
[null,null,null,null,null,null,null,null,null,null,null,null,null,null,null,null,null,null,null,null,null,null,null,null,null,null,null,null,null,null,null,"OIL",null,null,null,null,null,null,"4.CFPTR.OIL","Нефть","тыс.руб./тут",0,0,0]
[null,null,null,null,null,null,null,null,null,null,null,null,null,null,null,null,null,null,null,null,null,null,null,null,null,null,null,null,null,null,null,"COA",null,null,null,null,null,null,"4.CFPTR.COA","Уголь","тыс.руб./тут",0,0,0]
[null,null,null,null,null,null,null,null,null,null,null,null,null,null,null,null,null,null,null,null,null,null,null,null,null,null,null,null,null,null,null,"COAA",null,null,null,null,null,null,"4.CFPTR.COAA","Уголь антрацит","тыс.руб./тут",{"$f":"IF(AP193=0,0,AP61/AP193)","v":0},0,0]
[null,null,null,null,null,null,null,null,null,null,null,null,null,null,null,null,null,null,null,null,null,null,null,null,null,null,null,null,null,null,null,"COAB",null,null,null,null,null,null,"4.CFPTR.COAB","Уголь бурый","тыс.руб./тут",0,0,0]
[null,null,null,null,null,null,null,null,null,null,null,null,null,null,null,null,null,null,null,null,null,null,null,null,null,null,null,null,null,null,null,"COAG",null,null,null,null,null,null,"4.CFPTR.COAG","Уголь газовый","тыс.руб./тут",0,0,0]
[null,null,null,null,null,null,null,null,null,null,null,null,null,null,null,null,null,null,null,null,null,null,null,null,null,null,null,null,null,null,null,"COALF",null,null,null,null,null,null,"4.CFPTR.COALF","Уголь длиннопламенный","тыс.руб./тут",0,0,0]
[null,null,null,null,null,null,null,null,null,null,null,null,null,null,null,null,null,null,null,null,null,null,null,null,null,null,null,null,null,null,null,"COAF",null,null,null,null,null,null,"4.CFPTR.COAF","Уголь жирный","тыс.руб./тут",0,0,0]
[null,null,null,null,null,null,null,null,null,null,null,null,null,null,null,null,null,null,null,null,null,null,null,null,null,null,null,null,null,null,null,"COAC",null,null,null,null,null,null,"4.CFPTR.COAC","Уголь коксовый","тыс.руб./тут",0,0,0]
[null,null,null,null,null,null,null,null,null,null,null,null,null,null,null,null,null,null,null,null,null,null,null,null,null,null,null,null,null,null,null,"COASC",null,null,null,null,null,null,"4.CFPTR.COASC","Уголь отощённо-спекающийся","тыс.руб./тут",0,0,0]
[null,null,null,null,null,null,null,null,null,null,null,null,null,null,null,null,null,null,null,null,null,null,null,null,null,null,null,null,null,null,null,"COAWC",null,null,null,null,null,null,"4.CFPTR.COAWC","Уголь слабоспекающийся","тыс.руб./тут",0,0,0]
[null,null,null,null,null,null,null,null,null,null,null,null,null,null,null,null,null,null,null,null,null,null,null,null,null,null,null,null,null,null,null,"COAS",null,null,null,null,null,null,"4.CFPTR.COAS","Уголь тощий","тыс.руб./тут",0,0,0]
[]
[]
[null,null,null,null,null,null,null,null,null,null,null,null,null,null,null,null,null,null,null,null,null,null,null,null,null,null,null,null,null,null,null,"CWD",null,null,null,null,null,null,"4.CFPTR.CWD","Уголь древесный","тыс.руб./тут",{"$f":"IF(AP204=0,0,AP72/AP204)","v":0},0,0]
[null,null,null,null,null,null,null,null,null,null,null,null,null,null,null,null,null,null,null,null,null,null,null,null,null,null,null,null,null,null,null,"WDS",null,null,null,null,null,null,"4.CFPTR.WDS","Дрова","тыс.руб./тут",0,0,0]
[null,null,null,null,null,null,null,null,null,null,null,null,null,null,null,null,null,null,null,null,null,null,null,null,null,null,null,null,null,null,null,"PLT",null,null,null,null,null,null,"4.CFPTR.PLT","Пеллеты","тыс.руб./тут",0,0,0]
[null,null,null,null,null,null,null,null,null,null,null,null,null,null,null,null,null,null,null,null,null,null,null,null,null,null,null,null,null,null,null,"SAW",null,null,null,null,null,null,"4.CFPTR.SAW","Опилки","тыс.руб./тут",0,0,0]
[null,null,null,null,null,null,null,null,null,null,null,null,null,null,null,null,null,null,null,null,null,null,null,null,null,null,null,null,null,null,null,"PEA",null,null,null,null,null,null,"4.CFPTR.PEA","Торф","тыс.руб./тут",0,0,0]
[null,null,null,null,null,null,null,null,null,null,null,null,null,null,null,null,null,null,null,null,null,null,null,null,null,null,null,null,null,null,null,"SHL",null,null,null,null,null,null,"4.CFPTR.SHL","Сланцы","тыс.руб./тут",0,0,0]
[null,null,null,null,null,null,null,null,null,null,null,null,null,null,null,null,null,null,null,null,null,null,null,null,null,null,null,null,null,null,null,"STF",null,null,null,null,null,null,"4.CFPTR.STF","Печное бытовое топливо","тыс.руб./тут",0,0,0]
[]
[null,null,null,null,null,null,null,null,null,null,null,null,null,null,null,null,null,null,null,null,null,null,null,null,null,null,null,null,null,null,null,null,null,null,null,null,null,null,"4.NFPTR","Цена натурального топлива с учётом транспортировки (перевозки)"]
[null,null,null,null,null,null,null,null,null,null,null,null,null,null,null,null,null,null,null,null,null,null,null,null,null,null,null,null,null,null,null,"NG",null,null,null,null,null,null,"4.NFPTR.NG","Газ природный","руб./тыс.м3",{"$f":"IF(AP301=0,0,AP37/AP301*1000)","v":3929.1627886700317},3758.3290999999995,4136.0099999999993,null,{"$f":"IF(AT301=0,0,AT37/AT301*1000)","v":3928.8554775598363},3758.3290999999999,4136.01,3940.7910825919125,3758.3290999999995,4136.01]
[null,null,null,null,null,null,null,null,null,null,null,null,null,null,null,null,null,null,null,null,null,null,null,null,null,null,null,null,null,null,null,"NGL",null,null,null,null,null,null,"4.NFPTR.NGL","Газ лимитный","руб./тыс.м3",3929.1627886700317,3758.3290999999995,4136.0099999999993,null,3928.8554775598363,3758.3290999999999,4136.01,3940.7910825919125,3758.3290999999995,4136.01]
[null,null,null,null,null,null,null,null,null,null,null,null,null,null,null,null,null,null,null,null,null,null,null,null,null,null,null,null,null,null,null,"NGU",null,null,null,null,null,null,"4.NFPTR.NGU","Газ сверхлимитный","руб./тыс.м3",0,0,0]
[null,null,null,null,null,null,null,null,null,null,null,null,null,null,null,null,null,null,null,null,null,null,null,null,null,null,null,null,null,null,null,"NGC",null,null,null,null,null,null,"4.NFPTR.NGC","Газ коммерческий","руб./тыс.м3",0,0,0]
[null,null,null,null,null,null,null,null,null,null,null,null,null,null,null,null,null,null,null,null,null,null,null,null,null,null,null,null,null,null,null,"GBL",null,null,null,null,null,null,"4.NFPTR.GBL","Газ доменный","руб./тнт",0,0,0]
[null,null,null,null,null,null,null,null,null,null,null,null,null,null,null,null,null,null,null,null,null,null,null,null,null,null,null,null,null,null,null,"GCK",null,null,null,null,null,null,"4.NFPTR.GCK","Газ коксовый","руб./тнт",0,0,0]
[null,null,null,null,null,null,null,null,null,null,null,null,null,null,null,null,null,null,null,null,null,null,null,null,null,null,null,null,null,null,null,"GOA",null,null,null,null,null,null,"4.NFPTR.GOA","Газ нефтяной (попутный)","руб./тнт",0,0,0]
[null,null,null,null,null,null,null,null,null,null,null,null,null,null,null,null,null,null,null,null,null,null,null,null,null,null,null,null,null,null,null,"DSG",null,null,null,null,null,null,"4.NFPTR.DSG","Газ сухой отбензиненный","руб./тнт",0,0,0]
[null,null,null,null,null,null,null,null,null,null,null,null,null,null,null,null,null,null,null,null,null,null,null,null,null,null,null,null,null,null,null,"GCN",null,null,null,null,null,null,"4.NFPTR.GCN","Газовый конденсат","руб./тнт",0,0,0]
[null,null,null,null,null,null,null,null,null,null,null,null,null,null,null,null,null,null,null,null,null,null,null,null,null,null,null,null,null,null,null,"LNG",null,null,null,null,null,null,"4.NFPTR.LNG","Газ сжиженный","руб./тнт",0,0,0]
[null,null,null,null,null,null,null,null,null,null,null,null,null,null,null,null,null,null,null,null,null,null,null,null,null,null,null,null,null,null,null,"DSL",null,null,null,null,null,null,"4.NFPTR.DSL","Дизельное топливо","руб./тнт",42667.809828753474,42515.040000000001,42761.52,null,{"$f":"IF(AT311=0,0,AT47/AT311*1000)","v":42667.809828753474},42515.040000000001,42761.52]
[null,null,null,null,null,null,null,null,null,null,null,null,null,null,null,null,null,null,null,null,null,null,null,null,null,null,null,null,null,null,null,"DSLA",null,null,null,null,null,null,"4.NFPTR.DSLA","А (арктическое)","руб./тнт",0,0,0]
[null,null,null,null,null,null,null,null,null,null,null,null,null,null,null,null,null,null,null,null,null,null,null,null,null,null,null,null,null,null,null,"DSLW",null,null,null,null,null,null,"4.NFPTR.DSLW","З (зимнее)","руб./тнт",42667.809828753474,42515.040000000001,42761.52,null,{"$f":"IF(AT313=0,0,AT49/AT313*1000)","v":42667.809828753474},42515.040000000001,42761.52]
[null,null,null,null,null,null,null,null,null,null,null,null,null,null,null,null,null,null,null,null,null,null,null,null,null,null,null,null,null,null,null,"DSLS",null,null,null,null,null,null,"4.NFPTR.DSLS","Л (летнее)","руб./тнт",0,0,0]
[null,null,null,null,null,null,null,null,null,null,null,null,null,null,null,null,null,null,null,null,null,null,null,null,null,null,null,null,null,null,null,"DSLO",null,null,null,null,null,null,"4.NFPTR.DSLO","Е (межсезонное)","руб./тнт",0,0,0]
[null,null,null,null,null,null,null,null,null,null,null,null,null,null,null,null,null,null,null,null,null,null,null,null,null,null,null,null,null,null,null,"MST",null,null,null,null,null,null,"4.NFPTR.MST","Мазут","руб./тнт",0,0,0]
[null,null,null,null,null,null,null,null,null,null,null,null,null,null,null,null,null,null,null,null,null,null,null,null,null,null,null,null,null,null,null,"MSTM40",null,null,null,null,null,null,"4.NFPTR.MSTM40","М-40","руб./тнт",0,0,0]
[null,null,null,null,null,null,null,null,null,null,null,null,null,null,null,null,null,null,null,null,null,null,null,null,null,null,null,null,null,null,null,"MSTM100",null,null,null,null,null,null,"4.NFPTR.MSTM100","М-100","руб./тнт",0,0,0]
[null,null,null,null,null,null,null,null,null,null,null,null,null,null,null,null,null,null,null,null,null,null,null,null,null,null,null,null,null,null,null,"MSTM200",null,null,null,null,null,null,"4.NFPTR.MSTM200","М-200","руб./тнт",0,0,0]
[null,null,null,null,null,null,null,null,null,null,null,null,null,null,null,null,null,null,null,null,null,null,null,null,null,null,null,null,null,null,null,"MSTT",null,null,null,null,null,null,"4.NFPTR.MSTT","мазут марки \"Т\"","руб./тнт",0,0,0]
[null,null,null,null,null,null,null,null,null,null,null,null,null,null,null,null,null,null,null,null,null,null,null,null,null,null,null,null,null,null,null,"MSTF5",null,null,null,null,null,null,"4.NFPTR.MSTF5","Ф-5","руб./тнт",{"$f":"IF(AP321=0,0,AP57/AP321*1000)","v":0},0,0]
[null,null,null,null,null,null,null,null,null,null,null,null,null,null,null,null,null,null,null,null,null,null,null,null,null,null,null,null,null,null,null,"MSTF12",null,null,null,null,null,null,"4.NFPTR.MSTF12","Ф-12","руб./тнт",0,0,0]
[null,null,null,null,null,null,null,null,null,null,null,null,null,null,null,null,null,null,null,null,null,null,null,null,null,null,null,null,null,null,null,"OIL",null,null,null,null,null,null,"4.NFPTR.OIL","Нефть","руб./тнт",0,0,0]
[null,null,null,null,null,null,null,null,null,null,null,null,null,null,null,null,null,null,null,null,null,null,null,null,null,null,null,null,null,null,null,"COA",null,null,null,null,null,null,"4.NFPTR.COA","Уголь","руб./тнт",0,0,0]
[null,null,null,null,null,null,null,null,null,null,null,null,null,null,null,null,null,null,null,null,null,null,null,null,null,null,null,null,null,null,null,"COAA",null,null,null,null,null,null,"4.NFPTR.COAA","Уголь антрацит","руб./тнт",0,0,0]
[null,null,null,null,null,null,null,null,null,null,null,null,null,null,null,null,null,null,null,null,null,null,null,null,null,null,null,null,null,null,null,"COAB",null,null,null,null,null,null,"4.NFPTR.COAB","Уголь бурый","руб./тнт",0,0,0]
[null,null,null,null,null,null,null,null,null,null,null,null,null,null,null,null,null,null,null,null,null,null,null,null,null,null,null,null,null,null,null,"COAG",null,null,null,null,null,null,"4.NFPTR.COAG","Уголь газовый","руб./тнт",0,0,0]
[null,null,null,null,null,null,null,null,null,null,null,null,null,null,null,null,null,null,null,null,null,null,null,null,null,null,null,null,null,null,null,"COALF",null,null,null,null,null,null,"4.NFPTR.COALF","Уголь длиннопламенный","руб./тнт",0,0,0]
[null,null,null,null,null,null,null,null,null,null,null,null,null,null,null,null,null,null,null,null,null,null,null,null,null,null,null,null,null,null,null,"COAF",null,null,null,null,null,null,"4.NFPTR.COAF","Уголь жирный","руб./тнт",0,0,0]
[null,null,null,null,null,null,null,null,null,null,null,null,null,null,null,null,null,null,null,null,null,null,null,null,null,null,null,null,null,null,null,"COAC",null,null,null,null,null,null,"4.NFPTR.COAC","Уголь коксовый","руб./тнт",0,0,0]
[null,null,null,null,null,null,null,null,null,null,null,null,null,null,null,null,null,null,null,null,null,null,null,null,null,null,null,null,null,null,null,"COASC",null,null,null,null,null,null,"4.NFPTR.COASC","Уголь отощённо-спекающийся","руб./тнт",0,0,0]
[null,null,null,null,null,null,null,null,null,null,null,null,null,null,null,null,null,null,null,null,null,null,null,null,null,null,null,null,null,null,null,"COAWC",null,null,null,null,null,null,"4.NFPTR.COAWC","Уголь слабоспекающийся","руб./тнт",0,0,0]
[null,null,null,null,null,null,null,null,null,null,null,null,null,null,null,null,null,null,null,null,null,null,null,null,null,null,null,null,null,null,null,"COAS",null,null,null,null,null,null,"4.NFPTR.COAS","Уголь тощий","руб./тнт",0,0,0]
[null,null,null,null,null,null,null,null,null,null,null,null,null,null,null,null,null,null,null,null,null,null,null,null,null,null,null,null,null,null,null,"ENR",null,null,null,null,null,null,"4.NFPTR.ENR","Энергия","руб./кВт*ч",{"$f":"IF(AP924=0,0,AP70/AP924)","v":0},0,0]
[null,null,null,null,null,null,null,null,null,null,null,null,null,null,null,null,null,null,null,null,null,null,null,null,null,null,null,null,null,null,null,"PWR",null,null,null,null,null,null,"4.NFPTR.PWR","Заявленная мощность","руб./кВт*мес",0,0,0]
[null,null,null,null,null,null,null,null,null,null,null,null,null,null,null,null,null,null,null,null,null,null,null,null,null,null,null,null,null,null,null,"CWD",null,null,null,null,null,null,"4.NFPTR.CWD","Уголь древесный","руб./тнт",{"$f":"IF(AP336=0,0,AP72/AP336*1000)","v":0},0,0]
[null,null,null,null,null,null,null,null,null,null,null,null,null,null,null,null,null,null,null,null,null,null,null,null,null,null,null,null,null,null,null,"WDS",null,null,null,null,null,null,"4.NFPTR.WDS","Дрова","руб./тнт",0,0,0]
[null,null,null,null,null,null,null,null,null,null,null,null,null,null,null,null,null,null,null,null,null,null,null,null,null,null,null,null,null,null,null,"PLT",null,null,null,null,null,null,"4.NFPTR.PLT","Пеллеты","руб./тнт",0,0,0]
[null,null,null,null,null,null,null,null,null,null,null,null,null,null,null,null,null,null,null,null,null,null,null,null,null,null,null,null,null,null,null,"SAW",null,null,null,null,null,null,"4.NFPTR.SAW","Опилки","руб./тнт",0,0,0]
[null,null,null,null,null,null,null,null,null,null,null,null,null,null,null,null,null,null,null,null,null,null,null,null,null,null,null,null,null,null,null,"PEA",null,null,null,null,null,null,"4.NFPTR.PEA","Торф","руб./тнт",0,0,0]
[null,null,null,null,null,null,null,null,null,null,null,null,null,null,null,null,null,null,null,null,null,null,null,null,null,null,null,null,null,null,null,"SHL",null,null,null,null,null,null,"4.NFPTR.SHL","Сланцы","руб./тнт",0,0,0]
[null,null,null,null,null,null,null,null,null,null,null,null,null,null,null,null,null,null,null,null,null,null,null,null,null,null,null,null,null,null,null,"STF",null,null,null,null,null,null,"4.NFPTR.STF","Печное бытовое топливо","руб./тнт",0,0,0]
[]
[null,null,null,null,null,null,null,null,null,null,null,null,null,null,null,null,null,null,null,null,null,null,null,null,null,null,null,null,null,null,null,null,null,null,null,null,null,null,"4.CFV","Расход условного топлива","тут",{"$f":"SUMIF($AS$9:$AZ$9,AP$9,$AS168:$AZ168)","v":58534.548589999984},32054.377879999996,26480.170709999991,null,{"$f":"SUM(AT169,AT173:AT178,AT179,AT184,AT191,AT192,AT204:AT210)","v":57027.997088224984},31275.658719999996,25752.338368224991,1506.5515017749999,778.71915999999987,727.83234177499992]
[null,null,null,null,null,null,null,null,null,null,null,null,null,null,null,null,null,null,null,null,null,null,null,null,null,null,null,null,null,null,null,"NG",null,null,null,null,null,null,"4.CFV.NG","Газ природный","тут",58512.702889999986,32046.072279999997,26466.630609999993,null,{"$f":"AU169+AV169","v":57006.151388224986},{"$f":"SUM(AU170:AU172)","v":31267.353119999996},{"$f":"SUM(AV170:AV172)","v":25738.798268224993},{"$f":"AX169+AY169","v":1506.5515017749999},{"$f":"SUM(AX170:AX172)","v":778.71915999999987},{"$f":"SUM(AY170:AY172)","v":727.83234177499992}]
[null,null,null,null,null,null,null,null,null,null,null,null,null,null,null,null,null,null,null,null,null,null,null,null,null,null,null,null,null,null,null,"NGL",null,null,null,null,null,null,"4.CFV.NGL","Газ лимитный","тут",58512.702889999986,32046.072279999997,26466.630609999993,null,57006.151388224986,{"$f":"AU258*AU302","v":31267.353119999996},25738.798268224993,1506.5515017749999,{"$f":"AX258*AX302","v":778.71915999999987},727.83234177499992]
[null,null,null,null,null,null,null,null,null,null,null,null,null,null,null,null,null,null,null,null,null,null,null,null,null,null,null,null,null,null,null,"NGU",null,null,null,null,null,null,"4.CFV.NGU","Газ сверхлимитный","тут",0,0,0]
[null,null,null,null,null,null,null,null,null,null,null,null,null,null,null,null,null,null,null,null,null,null,null,null,null,null,null,null,null,null,null,"NGC",null,null,null,null,null,null,"4.CFV.NGC","Газ коммерческий","тут",0,0,0]
[null,null,null,null,null,null,null,null,null,null,null,null,null,null,null,null,null,null,null,null,null,null,null,null,null,null,null,null,null,null,null,"GBL",null,null,null,null,null,null,"4.CFV.GBL","Газ доменный","тут",0,0,0]
[null,null,null,null,null,null,null,null,null,null,null,null,null,null,null,null,null,null,null,null,null,null,null,null,null,null,null,null,null,null,null,"GCK",null,null,null,null,null,null,"4.CFV.GCK","Газ коксовый","тут",0,0,0]
[null,null,null,null,null,null,null,null,null,null,null,null,null,null,null,null,null,null,null,null,null,null,null,null,null,null,null,null,null,null,null,"GOA",null,null,null,null,null,null,"4.CFV.GOA","Газ нефтяной (попутный)","тут",0,0,0]
[null,null,null,null,null,null,null,null,null,null,null,null,null,null,null,null,null,null,null,null,null,null,null,null,null,null,null,null,null,null,null,"DSG",null,null,null,null,null,null,"4.CFV.DSG","Газ сухой отбензиненный","тут",0,0,0]
[null,null,null,null,null,null,null,null,null,null,null,null,null,null,null,null,null,null,null,null,null,null,null,null,null,null,null,null,null,null,null,"GCN",null,null,null,null,null,null,"4.CFV.GCN","Газовый конденсат","тут",0,0,0]
[null,null,null,null,null,null,null,null,null,null,null,null,null,null,null,null,null,null,null,null,null,null,null,null,null,null,null,null,null,null,null,"LNG",null,null,null,null,null,null,"4.CFV.LNG","Газ сжиженный","тут",0,0,0]
[null,null,null,null,null,null,null,null,null,null,null,null,null,null,null,null,null,null,null,null,null,null,null,null,null,null,null,null,null,null,null,"DSL",null,null,null,null,null,null,"4.CFV.DSL","Дизельное топливо","тут",21.845700000000001,8.3056000000000001,13.540099999999999,null,{"$f":"AU179+AV179","v":21.845700000000001},{"$f":"SUM(AU180:AU183)","v":8.3056000000000001},{"$f":"SUM(AV180:AV183)","v":13.540099999999999}]
[null,null,null,null,null,null,null,null,null,null,null,null,null,null,null,null,null,null,null,null,null,null,null,null,null,null,null,null,null,null,null,"DSLA",null,null,null,null,null,null,"4.CFV.DSLA","А (арктическое)","тут",0,0,0]
[null,null,null,null,null,null,null,null,null,null,null,null,null,null,null,null,null,null,null,null,null,null,null,null,null,null,null,null,null,null,null,"DSLW",null,null,null,null,null,null,"4.CFV.DSLW","З (зимнее)","тут",21.845700000000001,8.3056000000000001,13.540099999999999,null,{"$f":"AU181+AV181","v":21.845700000000001},{"$f":"AU269*AU313","v":8.3056000000000001},13.540099999999999]
[null,null,null,null,null,null,null,null,null,null,null,null,null,null,null,null,null,null,null,null,null,null,null,null,null,null,null,null,null,null,null,"DSLS",null,null,null,null,null,null,"4.CFV.DSLS","Л (летнее)","тут",0,0,0]
[null,null,null,null,null,null,null,null,null,null,null,null,null,null,null,null,null,null,null,null,null,null,null,null,null,null,null,null,null,null,null,"DSLO",null,null,null,null,null,null,"4.CFV.DSLO","Е (межсезонное)","тут",0,0,0]
[null,null,null,null,null,null,null,null,null,null,null,null,null,null,null,null,null,null,null,null,null,null,null,null,null,null,null,null,null,null,null,"MST",null,null,null,null,null,null,"4.CFV.MST","Мазут","тут",0,0,0]
[null,null,null,null,null,null,null,null,null,null,null,null,null,null,null,null,null,null,null,null,null,null,null,null,null,null,null,null,null,null,null,"MSTM40",null,null,null,null,null,null,"4.CFV.MSTM40","М-40","тут",0,0,0]
[null,null,null,null,null,null,null,null,null,null,null,null,null,null,null,null,null,null,null,null,null,null,null,null,null,null,null,null,null,null,null,"MSTM100",null,null,null,null,null,null,"4.CFV.MSTM100","М-100","тут",0,0,0]
[null,null,null,null,null,null,null,null,null,null,null,null,null,null,null,null,null,null,null,null,null,null,null,null,null,null,null,null,null,null,null,"MSTM200",null,null,null,null,null,null,"4.CFV.MSTM200","М-200","тут",0,0,0]
[null,null,null,null,null,null,null,null,null,null,null,null,null,null,null,null,null,null,null,null,null,null,null,null,null,null,null,null,null,null,null,"MSTT",null,null,null,null,null,null,"4.CFV.MSTT","мазут марки \"Т\"","тут",{"$f":"SUMIF($AS$9:$AZ$9,AP$9,$AS188:$AZ188)","v":0},0,0]
[null,null,null,null,null,null,null,null,null,null,null,null,null,null,null,null,null,null,null,null,null,null,null,null,null,null,null,null,null,null,null,"MSTF5",null,null,null,null,null,null,"4.CFV.MSTF5","Ф-5","тут",0,0,0]
[null,null,null,null,null,null,null,null,null,null,null,null,null,null,null,null,null,null,null,null,null,null,null,null,null,null,null,null,null,null,null,"MSTF12",null,null,null,null,null,null,"4.CFV.MSTF12","Ф-12","тут",0,0,0]
[null,null,null,null,null,null,null,null,null,null,null,null,null,null,null,null,null,null,null,null,null,null,null,null,null,null,null,null,null,null,null,"OIL",null,null,null,null,null,null,"4.CFV.OIL","Нефть","тут",0,0,0]
[null,null,null,null,null,null,null,null,null,null,null,null,null,null,null,null,null,null,null,null,null,null,null,null,null,null,null,null,null,null,null,"COA",null,null,null,null,null,null,"4.CFV.COA","Уголь","тут",0,0,0]
[null,null,null,null,null,null,null,null,null,null,null,null,null,null,null,null,null,null,null,null,null,null,null,null,null,null,null,null,null,null,null,"COAA",null,null,null,null,null,null,"4.CFV.COAA","Уголь антрацит","тут",0,0,0]
[null,null,null,null,null,null,null,null,null,null,null,null,null,null,null,null,null,null,null,null,null,null,null,null,null,null,null,null,null,null,null,"COAB",null,null,null,null,null,null,"4.CFV.COAB","Уголь бурый","тут",0,0,0]
[null,null,null,null,null,null,null,null,null,null,null,null,null,null,null,null,null,null,null,null,null,null,null,null,null,null,null,null,null,null,null,"COAG",null,null,null,null,null,null,"4.CFV.COAG","Уголь газовый","тут",0,0,0]
[null,null,null,null,null,null,null,null,null,null,null,null,null,null,null,null,null,null,null,null,null,null,null,null,null,null,null,null,null,null,null,"COALF",null,null,null,null,null,null,"4.CFV.COALF","Уголь длиннопламенный","тут",0,0,0]
[null,null,null,null,null,null,null,null,null,null,null,null,null,null,null,null,null,null,null,null,null,null,null,null,null,null,null,null,null,null,null,"COAF",null,null,null,null,null,null,"4.CFV.COAF","Уголь жирный","тут",0,0,0]
[null,null,null,null,null,null,null,null,null,null,null,null,null,null,null,null,null,null,null,null,null,null,null,null,null,null,null,null,null,null,null,"COAC",null,null,null,null,null,null,"4.CFV.COAC","Уголь коксовый","тут",0,0,0]
[null,null,null,null,null,null,null,null,null,null,null,null,null,null,null,null,null,null,null,null,null,null,null,null,null,null,null,null,null,null,null,"COASC",null,null,null,null,null,null,"4.CFV.COASC","Уголь отощённо-спекающийся","тут",0,0,0]
[null,null,null,null,null,null,null,null,null,null,null,null,null,null,null,null,null,null,null,null,null,null,null,null,null,null,null,null,null,null,null,"COAWC",null,null,null,null,null,null,"4.CFV.COAWC","Уголь слабоспекающийся","тут",0,0,0]
[null,null,null,null,null,null,null,null,null,null,null,null,null,null,null,null,null,null,null,null,null,null,null,null,null,null,null,null,null,null,null,"COAS",null,null,null,null,null,null,"4.CFV.COAS","Уголь тощий","тут",0,0,0]
[]
[]
[null,null,null,null,null,null,null,null,null,null,null,null,null,null,null,null,null,null,null,null,null,null,null,null,null,null,null,null,null,null,null,"CWD",null,null,null,null,null,null,"4.CFV.CWD","Уголь древесный","тут",{"$f":"SUMIF($AS$9:$AZ$9,AP$9,$AS204:$AZ204)","v":0},0,0]
[null,null,null,null,null,null,null,null,null,null,null,null,null,null,null,null,null,null,null,null,null,null,null,null,null,null,null,null,null,null,null,"WDS",null,null,null,null,null,null,"4.CFV.WDS","Дрова","тут",0,0,0]
[null,null,null,null,null,null,null,null,null,null,null,null,null,null,null,null,null,null,null,null,null,null,null,null,null,null,null,null,null,null,null,"PLT",null,null,null,null,null,null,"4.CFV.PLT","Пеллеты","тут",0,0,0]
[null,null,null,null,null,null,null,null,null,null,null,null,null,null,null,null,null,null,null,null,null,null,null,null,null,null,null,null,null,null,null,"SAW",null,null,null,null,null,null,"4.CFV.SAW","Опилки","тут",0,0,0]
[null,null,null,null,null,null,null,null,null,null,null,null,null,null,null,null,null,null,null,null,null,null,null,null,null,null,null,null,null,null,null,"PEA",null,null,null,null,null,null,"4.CFV.PEA","Торф","тут",0,0,0]
[null,null,null,null,null,null,null,null,null,null,null,null,null,null,null,null,null,null,null,null,null,null,null,null,null,null,null,null,null,null,null,"SHL",null,null,null,null,null,null,"4.CFV.SHL","Сланцы","тут",0,0,0]
[null,null,null,null,null,null,null,null,null,null,null,null,null,null,null,null,null,null,null,null,null,null,null,null,null,null,null,null,null,null,null,"STF",null,null,null,null,null,null,"4.CFV.STF","Печное бытовое топливо","тут",0,0,0]
[]
[null,null,null,null,null,null,null,null,null,null,null,null,null,null,null,null,null,null,null,null,null,null,null,null,null,null,null,null,null,null,null,null,null,null,null,null,null,null,"4.P","Доля","%",{"$f":"SUM(AP213,AP217:AP222,AP223,AP228,AP235,AP236,AP248:AP254)","v":100.00000000000001},{"$f":"SUM(AQ213,AQ217:AQ222,AQ223,AQ228,AQ235,AQ236,AQ248:AQ254)","v":100},{"$f":"SUM(AR213,AR217:AR222,AR223,AR228,AR235,AR236,AR248:AR254)","v":100.00000000000001},null,{"$f":"SUM(AT213,AT217:AT222,AT223,AT228,AT235,AT236,AT248:AT254)","v":100},100,100.00000000000001,100,100,100]
[null,null,null,null,null,null,null,null,null,null,null,null,null,null,null,null,null,null,null,null,null,null,null,null,null,null,null,null,null,null,null,"NG",null,null,null,null,null,null,"4.P.NG","Газ природный","%",{"$f":"IF(AP$168=0,0,AP169/AP$168*100)","v":99.962678963917512},99.974089030736792,99.94886702148456,null,{"$f":"IF(AT168=0,0,AT169/AT168*100)","v":99.961693026030346},99.973443884669678,99.947421862021258,100,100,100]
[null,null,null,null,null,null,null,null,null,null,null,null,null,null,null,null,null,null,null,null,null,null,null,null,null,null,null,null,null,null,null,"NGL",null,null,null,null,null,null,"4.P.NGL","Газ лимитный","%",99.962678963917512,99.974089030736792,99.94886702148456,null,{"$f":"IF(AT168=0,0,AT170/AT168*100)","v":99.961693026030346},99.973443884669678,99.947421862021258,100,100,100]
[null,null,null,null,null,null,null,null,null,null,null,null,null,null,null,null,null,null,null,null,null,null,null,null,null,null,null,null,null,null,null,"NGU",null,null,null,null,null,null,"4.P.NGU","Газ сверхлимитный","%",0,0,0]
[null,null,null,null,null,null,null,null,null,null,null,null,null,null,null,null,null,null,null,null,null,null,null,null,null,null,null,null,null,null,null,"NGC",null,null,null,null,null,null,"4.P.NGC","Газ коммерческий","%",0,0,0]
[null,null,null,null,null,null,null,null,null,null,null,null,null,null,null,null,null,null,null,null,null,null,null,null,null,null,null,null,null,null,null,"GBL",null,null,null,null,null,null,"4.P.GBL","Газ доменный","%",0,0,0]
[null,null,null,null,null,null,null,null,null,null,null,null,null,null,null,null,null,null,null,null,null,null,null,null,null,null,null,null,null,null,null,"GCK",null,null,null,null,null,null,"4.P.GCK","Газ коксовый","%",0,0,0]
[null,null,null,null,null,null,null,null,null,null,null,null,null,null,null,null,null,null,null,null,null,null,null,null,null,null,null,null,null,null,null,"GOA",null,null,null,null,null,null,"4.P.GOA","Газ нефтяной (попутный)","%",0,0,0]
[null,null,null,null,null,null,null,null,null,null,null,null,null,null,null,null,null,null,null,null,null,null,null,null,null,null,null,null,null,null,null,"DSG",null,null,null,null,null,null,"4.P.DSG","Газ сухой отбензиненный","%",0,0,0]
[null,null,null,null,null,null,null,null,null,null,null,null,null,null,null,null,null,null,null,null,null,null,null,null,null,null,null,null,null,null,null,"GCN",null,null,null,null,null,null,"4.P.GCN","Газовый конденсат","%",0,0,0]
[null,null,null,null,null,null,null,null,null,null,null,null,null,null,null,null,null,null,null,null,null,null,null,null,null,null,null,null,null,null,null,"LNG",null,null,null,null,null,null,"4.P.LNG","Газ сжиженный","%",0,0,0]
[null,null,null,null,null,null,null,null,null,null,null,null,null,null,null,null,null,null,null,null,null,null,null,null,null,null,null,null,null,null,null,"DSL",null,null,null,null,null,null,"4.P.DSL","Дизельное топливо","%",3.7321036082495922E-2,2.5910969263210046E-2,5.1132978515454605E-2,null,{"$f":"IF(AT168=0,0,AT179/AT168*100)","v":3.8306973969651575E-2},{"$f":"IF(AU168=0,0,AU179/AU168*100)","v":2.6556115330318458E-2},{"$f":"IF(AV168=0,0,AV179/AV168*100)","v":5.2578137978750335E-2}]
[null,null,null,null,null,null,null,null,null,null,null,null,null,null,null,null,null,null,null,null,null,null,null,null,null,null,null,null,null,null,null,"DSLA",null,null,null,null,null,null,"4.P.DSLA","А (арктическое)","%",0,0,0]
[null,null,null,null,null,null,null,null,null,null,null,null,null,null,null,null,null,null,null,null,null,null,null,null,null,null,null,null,null,null,null,"DSLW",null,null,null,null,null,null,"4.P.DSLW","З (зимнее)","%",3.7321036082495922E-2,2.5910969263210046E-2,5.1132978515454605E-2,null,{"$f":"IF(AT168=0,0,AT181/AT168*100)","v":3.8306973969651575E-2},{"$f":"IF(AU168=0,0,AU181/AU168*100)","v":2.6556115330318458E-2},{"$f":"IF(AV168=0,0,AV181/AV168*100)","v":5.2578137978750335E-2}]
[null,null,null,null,null,null,null,null,null,null,null,null,null,null,null,null,null,null,null,null,null,null,null,null,null,null,null,null,null,null,null,"DSLS",null,null,null,null,null,null,"4.P.DSLS","Л (летнее)","%",0,0,0]
[null,null,null,null,null,null,null,null,null,null,null,null,null,null,null,null,null,null,null,null,null,null,null,null,null,null,null,null,null,null,null,"DSLO",null,null,null,null,null,null,"4.P.DSLO","Е (межсезонное)","%",0,0,0]
[null,null,null,null,null,null,null,null,null,null,null,null,null,null,null,null,null,null,null,null,null,null,null,null,null,null,null,null,null,null,null,"MST",null,null,null,null,null,null,"4.P.MST","Мазут","%",0,0,0]
[null,null,null,null,null,null,null,null,null,null,null,null,null,null,null,null,null,null,null,null,null,null,null,null,null,null,null,null,null,null,null,"MSTM40",null,null,null,null,null,null,"4.P.MSTM40","М-40","%",0,0,0]
[null,null,null,null,null,null,null,null,null,null,null,null,null,null,null,null,null,null,null,null,null,null,null,null,null,null,null,null,null,null,null,"MSTM100",null,null,null,null,null,null,"4.P.MSTM100","М-100","%",0,0,0]
[null,null,null,null,null,null,null,null,null,null,null,null,null,null,null,null,null,null,null,null,null,null,null,null,null,null,null,null,null,null,null,"MSTM200",null,null,null,null,null,null,"4.P.MSTM200","М-200","%",0,0,0]
[null,null,null,null,null,null,null,null,null,null,null,null,null,null,null,null,null,null,null,null,null,null,null,null,null,null,null,null,null,null,null,"MSTT",null,null,null,null,null,null,"4.P.MSTT","мазут марки \"Т\"","%",0,0,0]
[null,null,null,null,null,null,null,null,null,null,null,null,null,null,null,null,null,null,null,null,null,null,null,null,null,null,null,null,null,null,null,"MSTF5",null,null,null,null,null,null,"4.P.MSTF5","Ф-5","%",{"$f":"IF(AP$168=0,0,AP189/AP$168*100)","v":0},0,0]
[null,null,null,null,null,null,null,null,null,null,null,null,null,null,null,null,null,null,null,null,null,null,null,null,null,null,null,null,null,null,null,"MSTF12",null,null,null,null,null,null,"4.P.MSTF12","Ф-12","%",0,0,0]
[null,null,null,null,null,null,null,null,null,null,null,null,null,null,null,null,null,null,null,null,null,null,null,null,null,null,null,null,null,null,null,"OIL",null,null,null,null,null,null,"4.P.OIL","Нефть","%",0,0,0]
[null,null,null,null,null,null,null,null,null,null,null,null,null,null,null,null,null,null,null,null,null,null,null,null,null,null,null,null,null,null,null,"COA",null,null,null,null,null,null,"4.P.COA","Уголь","%",0,0,0]
[null,null,null,null,null,null,null,null,null,null,null,null,null,null,null,null,null,null,null,null,null,null,null,null,null,null,null,null,null,null,null,"COAA",null,null,null,null,null,null,"4.P.COAA","Уголь антрацит","%",0,0,0]
[null,null,null,null,null,null,null,null,null,null,null,null,null,null,null,null,null,null,null,null,null,null,null,null,null,null,null,null,null,null,null,"COAB",null,null,null,null,null,null,"4.P.COAB","Уголь бурый","%",0,0,0]
[null,null,null,null,null,null,null,null,null,null,null,null,null,null,null,null,null,null,null,null,null,null,null,null,null,null,null,null,null,null,null,"COAG",null,null,null,null,null,null,"4.P.COAG","Уголь газовый","%",0,0,0]
[null,null,null,null,null,null,null,null,null,null,null,null,null,null,null,null,null,null,null,null,null,null,null,null,null,null,null,null,null,null,null,"COALF",null,null,null,null,null,null,"4.P.COALF","Уголь длиннопламенный","%",0,0,0]
[null,null,null,null,null,null,null,null,null,null,null,null,null,null,null,null,null,null,null,null,null,null,null,null,null,null,null,null,null,null,null,"COAF",null,null,null,null,null,null,"4.P.COAF","Уголь жирный","%",0,0,0]
[null,null,null,null,null,null,null,null,null,null,null,null,null,null,null,null,null,null,null,null,null,null,null,null,null,null,null,null,null,null,null,"COAC",null,null,null,null,null,null,"4.P.COAC","Уголь коксовый","%",0,0,0]
[null,null,null,null,null,null,null,null,null,null,null,null,null,null,null,null,null,null,null,null,null,null,null,null,null,null,null,null,null,null,null,"COASC",null,null,null,null,null,null,"4.P.COASC","Уголь отощённо-спекающийся","%",0,0,0]
[null,null,null,null,null,null,null,null,null,null,null,null,null,null,null,null,null,null,null,null,null,null,null,null,null,null,null,null,null,null,null,"COAWC",null,null,null,null,null,null,"4.P.COAWC","Уголь слабоспекающийся","%",0,0,0]
[null,null,null,null,null,null,null,null,null,null,null,null,null,null,null,null,null,null,null,null,null,null,null,null,null,null,null,null,null,null,null,"COAS",null,null,null,null,null,null,"4.P.COAS","Уголь тощий","%",0,0,0]
[]
[]
[null,null,null,null,null,null,null,null,null,null,null,null,null,null,null,null,null,null,null,null,null,null,null,null,null,null,null,null,null,null,null,"CWD",null,null,null,null,null,null,"4.P.CWD","Уголь древесный","%",{"$f":"IF(AP$168=0,0,AP204/AP$168*100)","v":0},0,0]
[null,null,null,null,null,null,null,null,null,null,null,null,null,null,null,null,null,null,null,null,null,null,null,null,null,null,null,null,null,null,null,"WDS",null,null,null,null,null,null,"4.P.WDS","Дрова","%",0,0,0]
[null,null,null,null,null,null,null,null,null,null,null,null,null,null,null,null,null,null,null,null,null,null,null,null,null,null,null,null,null,null,null,"PLT",null,null,null,null,null,null,"4.P.PLT","Пеллеты","%",0,0,0]
[null,null,null,null,null,null,null,null,null,null,null,null,null,null,null,null,null,null,null,null,null,null,null,null,null,null,null,null,null,null,null,"SAW",null,null,null,null,null,null,"4.P.SAW","Опилки","%",0,0,0]
[null,null,null,null,null,null,null,null,null,null,null,null,null,null,null,null,null,null,null,null,null,null,null,null,null,null,null,null,null,null,null,"PEA",null,null,null,null,null,null,"4.P.PEA","Торф","%",0,0,0]
[null,null,null,null,null,null,null,null,null,null,null,null,null,null,null,null,null,null,null,null,null,null,null,null,null,null,null,null,null,null,null,"SHL",null,null,null,null,null,null,"4.P.SHL","Сланцы","%",0,0,0]
[null,null,null,null,null,null,null,null,null,null,null,null,null,null,null,null,null,null,null,null,null,null,null,null,null,null,null,null,null,null,null,"STF",null,null,null,null,null,null,"4.P.STF","Печное бытовое топливо","%",0,0,0]
[]
[null,null,null,null,null,null,null,null,null,null,null,null,null,null,null,null,null,null,null,null,null,null,null,null,null,null,null,null,null,null,null,null,null,null,null,null,null,null,"4.CF","Переводной коэффициент"]
[null,null,null,null,null,null,null,null,null,null,null,null,null,null,null,null,null,null,null,null,null,null,null,null,null,null,null,null,null,null,null,"NG",null,null,null,null,null,null,"4.CF.NG","Газ природный",null,null,null,null,null,{"$f":"IF(AT301=0,0,AT169/AT301)","v":1.1299999999999997},1.1299999999999999,1.1299999999999999,1.1300000000000001,1.1299999999999999,1.1299999999999999]
[null,null,null,null,null,null,null,null,null,null,null,null,null,null,null,null,null,null,null,null,null,null,null,null,null,null,null,null,null,null,null,"NGL",null,null,null,null,null,null,"4.CF.NGL","Газ лимитный",null,null,null,null,null,1.1299999999999999,{"$f":"AT258","v":1.1299999999999999},1.1299999999999999,1.1299999999999999,{"$f":"AW258","v":1.1299999999999999},1.1299999999999999]
[null,null,null,null,null,null,null,null,null,null,null,null,null,null,null,null,null,null,null,null,null,null,null,null,null,null,null,null,null,null,null,"NGU",null,null,null,null,null,null,"4.CF.NGU","Газ сверхлимитный"]
[null,null,null,null,null,null,null,null,null,null,null,null,null,null,null,null,null,null,null,null,null,null,null,null,null,null,null,null,null,null,null,"NGC",null,null,null,null,null,null,"4.CF.NGC","Газ коммерческий"]
[null,null,null,null,null,null,null,null,null,null,null,null,null,null,null,null,null,null,null,null,null,null,null,null,null,null,null,null,null,null,null,"GBL",null,null,null,null,null,null,"4.CF.GBL","Газ доменный"]
[null,null,null,null,null,null,null,null,null,null,null,null,null,null,null,null,null,null,null,null,null,null,null,null,null,null,null,null,null,null,null,"GCK",null,null,null,null,null,null,"4.CF.GCK","Газ коксовый"]
[null,null,null,null,null,null,null,null,null,null,null,null,null,null,null,null,null,null,null,null,null,null,null,null,null,null,null,null,null,null,null,"GOA",null,null,null,null,null,null,"4.CF.GOA","Газ нефтяной (попутный)"]
[null,null,null,null,null,null,null,null,null,null,null,null,null,null,null,null,null,null,null,null,null,null,null,null,null,null,null,null,null,null,null,"DSG",null,null,null,null,null,null,"4.CF.DSG","Газ сухой отбензиненный"]
[null,null,null,null,null,null,null,null,null,null,null,null,null,null,null,null,null,null,null,null,null,null,null,null,null,null,null,null,null,null,null,"GCN",null,null,null,null,null,null,"4.CF.GCN","Газовый конденсат"]
[null,null,null,null,null,null,null,null,null,null,null,null,null,null,null,null,null,null,null,null,null,null,null,null,null,null,null,null,null,null,null,"LNG",null,null,null,null,null,null,"4.CF.LNG","Газ сжиженный"]
[null,null,null,null,null,null,null,null,null,null,null,null,null,null,null,null,null,null,null,null,null,null,null,null,null,null,null,null,null,null,null,"DSL",null,null,null,null,null,null,"4.CF.DSL","Дизельное топливо",null,null,null,null,null,{"$f":"IF(AT311=0,0,AT179/AT311)","v":1.4500000000000002},{"$f":"IF(AU311=0,0,AU179/AU311)","v":1.4500000000000002},{"$f":"IF(AV311=0,0,AV179/AV311)","v":1.45}]
[null,null,null,null,null,null,null,null,null,null,null,null,null,null,null,null,null,null,null,null,null,null,null,null,null,null,null,null,null,null,null,"DSLA",null,null,null,null,null,null,"4.CF.DSLA","А (арктическое)"]
[null,null,null,null,null,null,null,null,null,null,null,null,null,null,null,null,null,null,null,null,null,null,null,null,null,null,null,null,null,null,null,"DSLW",null,null,null,null,null,null,"4.CF.DSLW","З (зимнее)",null,null,null,null,null,1.45,{"$f":"AT269","v":1.45},1.45]
[null,null,null,null,null,null,null,null,null,null,null,null,null,null,null,null,null,null,null,null,null,null,null,null,null,null,null,null,null,null,null,"DSLS",null,null,null,null,null,null,"4.CF.DSLS","Л (летнее)"]
[null,null,null,null,null,null,null,null,null,null,null,null,null,null,null,null,null,null,null,null,null,null,null,null,null,null,null,null,null,null,null,"DSLO",null,null,null,null,null,null,"4.CF.DSLO","Е (межсезонное)"]
[null,null,null,null,null,null,null,null,null,null,null,null,null,null,null,null,null,null,null,null,null,null,null,null,null,null,null,null,null,null,null,"MST",null,null,null,null,null,null,"4.CF.MST","Мазут"]
[null,null,null,null,null,null,null,null,null,null,null,null,null,null,null,null,null,null,null,null,null,null,null,null,null,null,null,null,null,null,null,"MSTM40",null,null,null,null,null,null,"4.CF.MSTM40","М-40"]
[null,null,null,null,null,null,null,null,null,null,null,null,null,null,null,null,null,null,null,null,null,null,null,null,null,null,null,null,null,null,null,"MSTM100",null,null,null,null,null,null,"4.CF.MSTM100","М-100"]
[null,null,null,null,null,null,null,null,null,null,null,null,null,null,null,null,null,null,null,null,null,null,null,null,null,null,null,null,null,null,null,"MSTM200",null,null,null,null,null,null,"4.CF.MSTM200","М-200"]
[null,null,null,null,null,null,null,null,null,null,null,null,null,null,null,null,null,null,null,null,null,null,null,null,null,null,null,null,null,null,null,"MSTT",null,null,null,null,null,null,"4.CF.MSTT","мазут марки \"Т\""]
[null,null,null,null,null,null,null,null,null,null,null,null,null,null,null,null,null,null,null,null,null,null,null,null,null,null,null,null,null,null,null,"MSTF5",null,null,null,null,null,null,"4.CF.MSTF5","Ф-5"]
[null,null,null,null,null,null,null,null,null,null,null,null,null,null,null,null,null,null,null,null,null,null,null,null,null,null,null,null,null,null,null,"MSTF12",null,null,null,null,null,null,"4.CF.MSTF12","Ф-12"]
[null,null,null,null,null,null,null,null,null,null,null,null,null,null,null,null,null,null,null,null,null,null,null,null,null,null,null,null,null,null,null,"OIL",null,null,null,null,null,null,"4.CF.OIL","Нефть"]
[null,null,null,null,null,null,null,null,null,null,null,null,null,null,null,null,null,null,null,null,null,null,null,null,null,null,null,null,null,null,null,"COA",null,null,null,null,null,null,"4.CF.COA","Уголь"]
[null,null,null,null,null,null,null,null,null,null,null,null,null,null,null,null,null,null,null,null,null,null,null,null,null,null,null,null,null,null,null,"COAA",null,null,null,null,null,null,"4.CF.COAA","Уголь антрацит"]
[null,null,null,null,null,null,null,null,null,null,null,null,null,null,null,null,null,null,null,null,null,null,null,null,null,null,null,null,null,null,null,"COAB",null,null,null,null,null,null,"4.CF.COAB","Уголь бурый"]
[null,null,null,null,null,null,null,null,null,null,null,null,null,null,null,null,null,null,null,null,null,null,null,null,null,null,null,null,null,null,null,"COAG",null,null,null,null,null,null,"4.CF.COAG","Уголь газовый"]
[null,null,null,null,null,null,null,null,null,null,null,null,null,null,null,null,null,null,null,null,null,null,null,null,null,null,null,null,null,null,null,"COALF",null,null,null,null,null,null,"4.CF.COALF","Уголь длиннопламенный"]
[null,null,null,null,null,null,null,null,null,null,null,null,null,null,null,null,null,null,null,null,null,null,null,null,null,null,null,null,null,null,null,"COAF",null,null,null,null,null,null,"4.CF.COAF","Уголь жирный"]
[null,null,null,null,null,null,null,null,null,null,null,null,null,null,null,null,null,null,null,null,null,null,null,null,null,null,null,null,null,null,null,"COAC",null,null,null,null,null,null,"4.CF.COAC","Уголь коксовый"]
[null,null,null,null,null,null,null,null,null,null,null,null,null,null,null,null,null,null,null,null,null,null,null,null,null,null,null,null,null,null,null,"COASC",null,null,null,null,null,null,"4.CF.COASC","Уголь отощённо-спекающийся"]
[null,null,null,null,null,null,null,null,null,null,null,null,null,null,null,null,null,null,null,null,null,null,null,null,null,null,null,null,null,null,null,"COAWC",null,null,null,null,null,null,"4.CF.COAWC","Уголь слабоспекающийся"]
[null,null,null,null,null,null,null,null,null,null,null,null,null,null,null,null,null,null,null,null,null,null,null,null,null,null,null,null,null,null,null,"COAS",null,null,null,null,null,null,"4.CF.COAS","Уголь тощий"]
[]
[]
[null,null,null,null,null,null,null,null,null,null,null,null,null,null,null,null,null,null,null,null,null,null,null,null,null,null,null,null,null,null,null,"CWD",null,null,null,null,null,null,"4.CF.CWD","Уголь древесный"]
[null,null,null,null,null,null,null,null,null,null,null,null,null,null,null,null,null,null,null,null,null,null,null,null,null,null,null,null,null,null,null,"WDS",null,null,null,null,null,null,"4.CF.WDS","Дрова"]
[null,null,null,null,null,null,null,null,null,null,null,null,null,null,null,null,null,null,null,null,null,null,null,null,null,null,null,null,null,null,null,"PLT",null,null,null,null,null,null,"4.CF.PLT","Пеллеты"]
[null,null,null,null,null,null,null,null,null,null,null,null,null,null,null,null,null,null,null,null,null,null,null,null,null,null,null,null,null,null,null,"SAW",null,null,null,null,null,null,"4.CF.SAW","Опилки"]
[null,null,null,null,null,null,null,null,null,null,null,null,null,null,null,null,null,null,null,null,null,null,null,null,null,null,null,null,null,null,null,"PEA",null,null,null,null,null,null,"4.CF.PEA","Торф"]
[null,null,null,null,null,null,null,null,null,null,null,null,null,null,null,null,null,null,null,null,null,null,null,null,null,null,null,null,null,null,null,"SHL",null,null,null,null,null,null,"4.CF.SHL","Сланцы"]
[null,null,null,null,null,null,null,null,null,null,null,null,null,null,null,null,null,null,null,null,null,null,null,null,null,null,null,null,null,null,null,"STF",null,null,null,null,null,null,"4.CF.STF","Печное бытовое топливо"]
[]
[null,null,null,null,null,null,null,null,null,null,null,null,null,null,null,null,null,null,null,null,null,null,null,null,null,null,null,null,null,null,null,null,null,null,null,null,null,null,"4.NFV","Расход натурального топлива"]
[null,null,null,null,null,null,null,null,null,null,null,null,null,null,null,null,null,null,null,null,null,null,null,null,null,null,null,null,null,null,null,"NG",null,null,null,null,null,null,"4.NFV.NG","Газ природный","тыс.м3",{"$f":"SUMIF($AS$9:$AZ$9,AP$9,$AS301:$AZ301)","v":51781.152999999998},28359.356,23421.796999999999,null,{"$f":"AU301+AV301","v":50447.921582499999},{"$f":"SUM(AU302:AU304)","v":27670.223999999998},{"$f":"SUM(AV302:AV304)","v":22777.697582499997},{"$f":"AX301+AY301","v":1333.2314174999999},{"$f":"SUM(AX302:AX304)","v":689.13199999999995},{"$f":"SUM(AY302:AY304)","v":644.09941749999996}]
[null,null,null,null,null,null,null,null,null,null,null,null,null,null,null,null,null,null,null,null,null,null,null,null,null,null,null,null,null,null,null,"NGL",null,null,null,null,null,null,"4.NFV.NGL","Газ лимитный","тыс.м3",51781.152999999998,28359.356,23421.796999999999,null,{"$f":"AT345","v":50447.921582499999},27670.223999999998,22777.697582499997,1333.2314174999999,689.13199999999995,644.09941749999996]
[null,null,null,null,null,null,null,null,null,null,null,null,null,null,null,null,null,null,null,null,null,null,null,null,null,null,null,null,null,null,null,"NGU",null,null,null,null,null,null,"4.NFV.NGU","Газ сверхлимитный","тыс.м3",0,0,0]
[null,null,null,null,null,null,null,null,null,null,null,null,null,null,null,null,null,null,null,null,null,null,null,null,null,null,null,null,null,null,null,"NGC",null,null,null,null,null,null,"4.NFV.NGC","Газ коммерческий","тыс.м3",0,0,0]
[null,null,null,null,null,null,null,null,null,null,null,null,null,null,null,null,null,null,null,null,null,null,null,null,null,null,null,null,null,null,null,"GBL",null,null,null,null,null,null,"4.NFV.GBL","Газ доменный","тнт",0,0,0]
[null,null,null,null,null,null,null,null,null,null,null,null,null,null,null,null,null,null,null,null,null,null,null,null,null,null,null,null,null,null,null,"GCK",null,null,null,null,null,null,"4.NFV.GCK","Газ коксовый","тнт",0,0,0]
[null,null,null,null,null,null,null,null,null,null,null,null,null,null,null,null,null,null,null,null,null,null,null,null,null,null,null,null,null,null,null,"GOA",null,null,null,null,null,null,"4.NFV.GOA","Газ нефтяной (попутный)","тнт",0,0,0]
[null,null,null,null,null,null,null,null,null,null,null,null,null,null,null,null,null,null,null,null,null,null,null,null,null,null,null,null,null,null,null,"DSG",null,null,null,null,null,null,"4.NFV.DSG","Газ сухой отбензиненный","тнт",0,0,0]
[null,null,null,null,null,null,null,null,null,null,null,null,null,null,null,null,null,null,null,null,null,null,null,null,null,null,null,null,null,null,null,"GCN",null,null,null,null,null,null,"4.NFV.GCN","Газовый конденсат","тнт",0,0,0]
[null,null,null,null,null,null,null,null,null,null,null,null,null,null,null,null,null,null,null,null,null,null,null,null,null,null,null,null,null,null,null,"LNG",null,null,null,null,null,null,"4.NFV.LNG","Газ сжиженный","тнт",0,0,0]
[null,null,null,null,null,null,null,null,null,null,null,null,null,null,null,null,null,null,null,null,null,null,null,null,null,null,null,null,null,null,null,"DSL",null,null,null,null,null,null,"4.NFV.DSL","Дизельное топливо","тнт",15.065999999999999,5.7279999999999998,9.3379999999999992,null,{"$f":"AU311+AV311","v":15.065999999999999},{"$f":"SUM(AU312:AU315)","v":5.7279999999999998},{"$f":"SUM(AV312:AV315)","v":9.3379999999999992}]
[null,null,null,null,null,null,null,null,null,null,null,null,null,null,null,null,null,null,null,null,null,null,null,null,null,null,null,null,null,null,null,"DSLA",null,null,null,null,null,null,"4.NFV.DSLA","А (арктическое)","тнт",0,0,0]
[null,null,null,null,null,null,null,null,null,null,null,null,null,null,null,null,null,null,null,null,null,null,null,null,null,null,null,null,null,null,null,"DSLW",null,null,null,null,null,null,"4.NFV.DSLW","З (зимнее)","тнт",15.065999999999999,5.7279999999999998,9.3379999999999992,null,{"$f":"AU313+AV313","v":15.065999999999999},{"$f":"5.728","v":5.7279999999999998},{"$f":"9.338","v":9.3379999999999992}]
[null,null,null,null,null,null,null,null,null,null,null,null,null,null,null,null,null,null,null,null,null,null,null,null,null,null,null,null,null,null,null,"DSLS",null,null,null,null,null,null,"4.NFV.DSLS","Л (летнее)","тнт",0,0,0]
[null,null,null,null,null,null,null,null,null,null,null,null,null,null,null,null,null,null,null,null,null,null,null,null,null,null,null,null,null,null,null,"DSLO",null,null,null,null,null,null,"4.NFV.DSLO","Е (межсезонное)","тнт",0,0,0]
[null,null,null,null,null,null,null,null,null,null,null,null,null,null,null,null,null,null,null,null,null,null,null,null,null,null,null,null,null,null,null,"MST",null,null,null,null,null,null,"4.NFV.MST","Мазут","тнт",0,0,0]
[null,null,null,null,null,null,null,null,null,null,null,null,null,null,null,null,null,null,null,null,null,null,null,null,null,null,null,null,null,null,null,"MSTM40",null,null,null,null,null,null,"4.NFV.MSTM40","М-40","тнт",0,0,0]
[null,null,null,null,null,null,null,null,null,null,null,null,null,null,null,null,null,null,null,null,null,null,null,null,null,null,null,null,null,null,null,"MSTM100",null,null,null,null,null,null,"4.NFV.MSTM100","М-100","тнт",0,0,0]
[null,null,null,null,null,null,null,null,null,null,null,null,null,null,null,null,null,null,null,null,null,null,null,null,null,null,null,null,null,null,null,"MSTM200",null,null,null,null,null,null,"4.NFV.MSTM200","М-200","тнт",0,0,0]
[null,null,null,null,null,null,null,null,null,null,null,null,null,null,null,null,null,null,null,null,null,null,null,null,null,null,null,null,null,null,null,"MSTT",null,null,null,null,null,null,"4.NFV.MSTT","мазут марки \"Т\"","тнт",0,0,0]
[null,null,null,null,null,null,null,null,null,null,null,null,null,null,null,null,null,null,null,null,null,null,null,null,null,null,null,null,null,null,null,"MSTF5",null,null,null,null,null,null,"4.NFV.MSTF5","Ф-5","тнт",{"$f":"SUMIF($AS$9:$AZ$9,AP$9,$AS321:$AZ321)","v":0},0,0]
[null,null,null,null,null,null,null,null,null,null,null,null,null,null,null,null,null,null,null,null,null,null,null,null,null,null,null,null,null,null,null,"MSTF12",null,null,null,null,null,null,"4.NFV.MSTF12","Ф-12","тнт",0,0,0]
[null,null,null,null,null,null,null,null,null,null,null,null,null,null,null,null,null,null,null,null,null,null,null,null,null,null,null,null,null,null,null,"OIL",null,null,null,null,null,null,"4.NFV.OIL","Нефть","тнт",0,0,0]
[null,null,null,null,null,null,null,null,null,null,null,null,null,null,null,null,null,null,null,null,null,null,null,null,null,null,null,null,null,null,null,"COA",null,null,null,null,null,null,"4.NFV.COA","Уголь","тнт",0,0,0]
[null,null,null,null,null,null,null,null,null,null,null,null,null,null,null,null,null,null,null,null,null,null,null,null,null,null,null,null,null,null,null,"COAA",null,null,null,null,null,null,"4.NFV.COAA","Уголь антрацит","тнт",0,0,0]
[null,null,null,null,null,null,null,null,null,null,null,null,null,null,null,null,null,null,null,null,null,null,null,null,null,null,null,null,null,null,null,"COAB",null,null,null,null,null,null,"4.NFV.COAB","Уголь бурый","тнт",0,0,0]
[null,null,null,null,null,null,null,null,null,null,null,null,null,null,null,null,null,null,null,null,null,null,null,null,null,null,null,null,null,null,null,"COAG",null,null,null,null,null,null,"4.NFV.COAG","Уголь газовый","тнт",0,0,0]
[null,null,null,null,null,null,null,null,null,null,null,null,null,null,null,null,null,null,null,null,null,null,null,null,null,null,null,null,null,null,null,"COALF",null,null,null,null,null,null,"4.NFV.COALF","Уголь длиннопламенный","тнт",0,0,0]
[null,null,null,null,null,null,null,null,null,null,null,null,null,null,null,null,null,null,null,null,null,null,null,null,null,null,null,null,null,null,null,"COAF",null,null,null,null,null,null,"4.NFV.COAF","Уголь жирный","тнт",0,0,0]
[null,null,null,null,null,null,null,null,null,null,null,null,null,null,null,null,null,null,null,null,null,null,null,null,null,null,null,null,null,null,null,"COAC",null,null,null,null,null,null,"4.NFV.COAC","Уголь коксовый","тнт",0,0,0]
[null,null,null,null,null,null,null,null,null,null,null,null,null,null,null,null,null,null,null,null,null,null,null,null,null,null,null,null,null,null,null,"COASC",null,null,null,null,null,null,"4.NFV.COASC","Уголь отощённо-спекающийся","тнт",0,0,0]
[null,null,null,null,null,null,null,null,null,null,null,null,null,null,null,null,null,null,null,null,null,null,null,null,null,null,null,null,null,null,null,"COAWC",null,null,null,null,null,null,"4.NFV.COAWC","Уголь слабоспекающийся","тнт",0,0,0]
[null,null,null,null,null,null,null,null,null,null,null,null,null,null,null,null,null,null,null,null,null,null,null,null,null,null,null,null,null,null,null,"COAS",null,null,null,null,null,null,"4.NFV.COAS","Уголь тощий","тнт",0,0,0]
[null,null,null,null,null,null,null,null,null,null,null,null,null,null,null,null,null,null,null,null,null,null,null,null,null,null,null,null,null,null,null,"ENR",null,null,null,null,null,null,"4.NFV.ENR","Энергия","тыс.кВт*ч",0,0,0]
[null,null,null,null,null,null,null,null,null,null,null,null,null,null,null,null,null,null,null,null,null,null,null,null,null,null,null,null,null,null,null,"PWR",null,null,null,null,null,null,"4.NFV.PWR","Заявленная мощность","МВт",0,0,0]
[null,null,null,null,null,null,null,null,null,null,null,null,null,null,null,null,null,null,null,null,null,null,null,null,null,null,null,null,null,null,null,"CWD",null,null,null,null,null,null,"4.NFV.CWD","Уголь древесный","тнт",0,0,0]
[null,null,null,null,null,null,null,null,null,null,null,null,null,null,null,null,null,null,null,null,null,null,null,null,null,null,null,null,null,null,null,"WDS",null,null,null,null,null,null,"4.NFV.WDS","Дрова","тнт",0,0,0]
[null,null,null,null,null,null,null,null,null,null,null,null,null,null,null,null,null,null,null,null,null,null,null,null,null,null,null,null,null,null,null,"PLT",null,null,null,null,null,null,"4.NFV.PLT","Пеллеты","тнт",0,0,0]
[null,null,null,null,null,null,null,null,null,null,null,null,null,null,null,null,null,null,null,null,null,null,null,null,null,null,null,null,null,null,null,"SAW",null,null,null,null,null,null,"4.NFV.SAW","Опилки","тнт",0,0,0]
[null,null,null,null,null,null,null,null,null,null,null,null,null,null,null,null,null,null,null,null,null,null,null,null,null,null,null,null,null,null,null,"PEA",null,null,null,null,null,null,"4.NFV.PEA","Торф","тнт",0,0,0]
[null,null,null,null,null,null,null,null,null,null,null,null,null,null,null,null,null,null,null,null,null,null,null,null,null,null,null,null,null,null,null,"SHL",null,null,null,null,null,null,"4.NFV.SHL","Сланцы","тнт",0,0,0]
[null,null,null,null,null,null,null,null,null,null,null,null,null,null,null,null,null,null,null,null,null,null,null,null,null,null,null,null,null,null,null,"STF",null,null,null,null,null,null,"4.NFV.STF","Печное бытовое топливо","тнт",0,0,0]
[]
[null,null,null,null,null,null,null,null,null,null,null,null,null,null,null,null,null,null,null,null,null,null,null,null,null,null,null,null,null,null,null,null,null,null,null,null,null,null,"4.NGV","Расход природного газа"]
[null,null,null,null,null,null,null,null,null,null,null,null,null,null,null,null,null,null,null,null,null,null,null,null,null,null,null,null,null,null,null,"NGL",null,null,null,null,null,null,"4.NGV.NGL","Газ лимитный","тыс.м3",{"$f":"SUMIF($AS$9:$AZ$9,AP$9,$AS345:$AZ345)","v":51781.152999999998},28359.356,23421.796999999999,null,{"$f":"AU345+AV345","v":50447.921582499999},{"$f":"SUM(AU346:AU352)","v":27670.223999999998},{"$f":"SUM(AV346:AV352)","v":22777.697582499997},{"$f":"AX345+AY345","v":1333.2314174999999},{"$f":"SUM(AX346:AX352)","v":689.13199999999995},{"$f":"SUM(AY346:AY352)","v":644.09941749999996}]
[null,null,null,null,null,null,null,null,null,null,null,null,null,null,null,null,null,null,null,null,null,null,null,null,null,null,null,null,null,null,null,"NGL",null,null,null,null,null,null,"4.NGV.1.NGL","1 группа: свыше 500 млн.м3","тыс.м3",0,0,0,null,0,null,null,0]
[null,null,null,null,null,null,null,null,null,null,null,null,null,null,null,null,null,null,null,null,null,null,null,null,null,null,null,null,null,null,null,"NGL",null,null,null,null,null,null,"4.NGV.2.NGL","2 группа: от 100 до 500 млн.м3 включительно","тыс.м3",0,0,0,null,0,null,null,0]
[null,null,null,null,null,null,null,null,null,null,null,null,null,null,null,null,null,null,null,null,null,null,null,null,null,null,null,null,null,null,null,"NGL",null,null,null,null,null,null,"4.NGV.3.NGL","3 группа: от 10 до 100 млн.м3 включительно","тыс.м3",51781.152999999998,28359.356,23421.796999999999,null,50447.921582499999,{"$f":"28359.356-AX348","v":27670.223999999998},{"$f":"23421.797-AY348","v":22777.697582499997},1333.2314174999999,689.13199999999995,{"$f":"23421.797*0.0275","v":644.09941749999996}]
[null,null,null,null,null,null,null,null,null,null,null,null,null,null,null,null,null,null,null,null,null,null,null,null,null,null,null,null,null,null,null,"NGL",null,null,null,null,null,null,"4.NGV.4.NGL","4 группа: от 1 до 10 млн.м3 включительно","тыс.м3",0,0,0,null,0,null,null,0]
[null,null,null,null,null,null,null,null,null,null,null,null,null,null,null,null,null,null,null,null,null,null,null,null,null,null,null,null,null,null,null,"NGL",null,null,null,null,null,null,"4.NGV.5.NGL","5 группа: от 0,1 до 1 млн.м3 включительно","тыс.м3",0,0,0,null,0,null,null,0]
[null,null,null,null,null,null,null,null,null,null,null,null,null,null,null,null,null,null,null,null,null,null,null,null,null,null,null,null,null,null,null,"NGL",null,null,null,null,null,null,"4.NGV.6.NGL","6 группа: от 0,01 до 0,1 млн.м3 включительно","тыс.м3",0,0,0,null,0,null,null,0]
[null,null,null,null,null,null,null,null,null,null,null,null,null,null,null,null,null,null,null,null,null,null,null,null,null,null,null,null,null,null,null,"NGL",null,null,null,null,null,null,"4.NGV.7.NGL","7 группа: до 0,01 млн.м3 включительно","тыс.м3",0,0,0,null,0,null,null,0]
[null,null,null,null,null,null,null,null,null,null,null,null,null,null,null,null,null,null,null,null,null,null,null,null,null,null,null,null,null,null,null,"NGU",null,null,null,null,null,null,"4.NGV.NGU","Газ сверхлимитный","тыс.м3",0,0,0]
[null,null,null,null,null,null,null,null,null,null,null,null,null,null,null,null,null,null,null,null,null,null,null,null,null,null,null,null,null,null,null,"NGU",null,null,null,null,null,null,"4.NGV.1.NGU","1 группа: свыше 500 млн.м3","тыс.м3",0,0,0]
[null,null,null,null,null,null,null,null,null,null,null,null,null,null,null,null,null,null,null,null,null,null,null,null,null,null,null,null,null,null,null,"NGU",null,null,null,null,null,null,"4.NGV.2.NGU","2 группа: от 100 до 500 млн.м3 включительно","тыс.м3",0,0,0]
[null,null,null,null,null,null,null,null,null,null,null,null,null,null,null,null,null,null,null,null,null,null,null,null,null,null,null,null,null,null,null,"NGU",null,null,null,null,null,null,"4.NGV.3.NGU","3 группа: от 10 до 100 млн.м3 включительно","тыс.м3",0,0,0]
[null,null,null,null,null,null,null,null,null,null,null,null,null,null,null,null,null,null,null,null,null,null,null,null,null,null,null,null,null,null,null,"NGU",null,null,null,null,null,null,"4.NGV.4.NGU","4 группа: от 1 до 10 млн.м3 включительно","тыс.м3",0,0,0]
[null,null,null,null,null,null,null,null,null,null,null,null,null,null,null,null,null,null,null,null,null,null,null,null,null,null,null,null,null,null,null,"NGU",null,null,null,null,null,null,"4.NGV.5.NGU","5 группа: от 0,1 до 1 млн.м3 включительно","тыс.м3",0,0,0]
[null,null,null,null,null,null,null,null,null,null,null,null,null,null,null,null,null,null,null,null,null,null,null,null,null,null,null,null,null,null,null,"NGU",null,null,null,null,null,null,"4.NGV.6.NGU","6 группа: от 0,01 до 0,1 млн.м3 включительно","тыс.м3",0,0,0]
[null,null,null,null,null,null,null,null,null,null,null,null,null,null,null,null,null,null,null,null,null,null,null,null,null,null,null,null,null,null,null,"NGU",null,null,null,null,null,null,"4.NGV.7.NGU","7 группа: до 0,01 млн.м3 включительно","тыс.м3",0,0,0]
[]
[null,null,null,null,null,null,null,null,null,null,null,null,null,null,null,null,null,null,null,null,null,null,null,null,null,null,null,null,null,null,null,null,null,null,null,null,null,null,null,"Показатели себестоимости топлива "]
[]
[null,null,null,null,null,null,null,null,null,null,null,null,null,null,null,null,null,null,null,null,null,null,null,null,null,null,null,null,null,null,null,null,null,null,null,null,null,null,"4.NFP","Цена натурального топлива без учёта транспортировки (перевозки)"]
[null,null,null,null,null,null,null,null,null,null,null,null,null,null,null,null,null,null,null,null,null,null,null,null,null,null,null,null,null,null,null,"NG",null,null,null,null,null,null,"4.NFP.NG","Газ природный","руб./тыс.м3",{"$f":"IF(AP301=0,0,AP409/AP301*1000)","v":3929.1627886700317},{"$f":"IF(AQ301=0,0,AQ409/AQ301*1000)","v":3758.3290999999995},{"$f":"IF(AR301=0,0,AR409/AR301*1000)","v":4136.0099999999993},null,{"$f":"IF(AT301=0,0,AT409/AT301*1000)","v":3928.8554775598363},3758.3290999999999,4136.01,3940.7910825919125,3758.3290999999995,4136.01]
[null,null,null,null,null,null,null,null,null,null,null,null,null,null,null,null,null,null,null,null,null,null,null,null,null,null,null,null,null,null,null,"NGL",null,null,null,null,null,null,"4.NFP.NGL","Газ лимитный","руб./тыс.м3",{"$f":"IF(AP302=0,0,AP410/AP302*1000)","v":3929.1627886700317},3758.3290999999995,4136.0099999999993,null,{"$f":"IF(AT302=0,0,AT410/AT302*1000)","v":3928.8554775598363},3758.3290999999999,4136.01,{"$f":"IF(AW302=0,0,AW410/AW302*1000)","v":3940.7910825919125},3758.3290999999999,4136.01]
[null,null,null,null,null,null,null,null,null,null,null,null,null,null,null,null,null,null,null,null,null,null,null,null,null,null,null,null,null,null,null,"NGU",null,null,null,null,null,null,"4.NFP.NGU","Газ сверхлимитный","руб./тыс.м3",0,0,0]
[null,null,null,null,null,null,null,null,null,null,null,null,null,null,null,null,null,null,null,null,null,null,null,null,null,null,null,null,null,null,null,"NGC",null,null,null,null,null,null,"4.NFP.NGC","Газ коммерческий","руб./тыс.м3",{"$f":"IF(AP304=0,0,AP412/AP304*1000)","v":0},0,0]
[null,null,null,null,null,null,null,null,null,null,null,null,null,null,null,null,null,null,null,null,null,null,null,null,null,null,null,null,null,null,null,"GBL",null,null,null,null,null,null,"4.NFP.GBL","Газ доменный","руб./тнт",0,0,0]
[null,null,null,null,null,null,null,null,null,null,null,null,null,null,null,null,null,null,null,null,null,null,null,null,null,null,null,null,null,null,null,"GCK",null,null,null,null,null,null,"4.NFP.GCK","Газ коксовый","руб./тнт",0,0,0]
[null,null,null,null,null,null,null,null,null,null,null,null,null,null,null,null,null,null,null,null,null,null,null,null,null,null,null,null,null,null,null,"GOA",null,null,null,null,null,null,"4.NFP.GOA","Газ нефтяной (попутный)","руб./тнт",0,0,0]
[null,null,null,null,null,null,null,null,null,null,null,null,null,null,null,null,null,null,null,null,null,null,null,null,null,null,null,null,null,null,null,"DSG",null,null,null,null,null,null,"4.NFP.DSG","Газ сухой отбензиненный","руб./тнт",0,0,0]
[null,null,null,null,null,null,null,null,null,null,null,null,null,null,null,null,null,null,null,null,null,null,null,null,null,null,null,null,null,null,null,"GCN",null,null,null,null,null,null,"4.NFP.GCN","Газовый конденсат","руб./тнт",0,0,0]
[null,null,null,null,null,null,null,null,null,null,null,null,null,null,null,null,null,null,null,null,null,null,null,null,null,null,null,null,null,null,null,"LNG",null,null,null,null,null,null,"4.NFP.LNG","Газ сжиженный","руб./тнт",0,0,0]
[null,null,null,null,null,null,null,null,null,null,null,null,null,null,null,null,null,null,null,null,null,null,null,null,null,null,null,null,null,null,null,"DSL",null,null,null,null,null,null,"4.NFP.DSL","Дизельное топливо","руб./тнт",42667.809828753474,42515.040000000001,42761.52,null,{"$f":"IF(AT311=0,0,AT419/AT311*1000)","v":42667.809828753474},{"$f":"IF(AU311=0,0,AU419/AU311*1000)","v":42515.040000000001},{"$f":"IF(AV311=0,0,AV419/AV311*1000)","v":42761.52}]
[null,null,null,null,null,null,null,null,null,null,null,null,null,null,null,null,null,null,null,null,null,null,null,null,null,null,null,null,null,null,null,"DSLA",null,null,null,null,null,null,"4.NFP.DSLA","А (арктическое)","руб./тнт",0,0,0]
[null,null,null,null,null,null,null,null,null,null,null,null,null,null,null,null,null,null,null,null,null,null,null,null,null,null,null,null,null,null,null,"DSLW",null,null,null,null,null,null,"4.NFP.DSLW","З (зимнее)","руб./тнт",42667.809828753474,42515.040000000001,42761.52,null,{"$f":"IF(AT313=0,0,AT421/AT313*1000)","v":42667.809828753474},42515.040000000001,42761.52]
[null,null,null,null,null,null,null,null,null,null,null,null,null,null,null,null,null,null,null,null,null,null,null,null,null,null,null,null,null,null,null,"DSLS",null,null,null,null,null,null,"4.NFP.DSLS","Л (летнее)","руб./тнт",0,0,0]
[null,null,null,null,null,null,null,null,null,null,null,null,null,null,null,null,null,null,null,null,null,null,null,null,null,null,null,null,null,null,null,"DSLO",null,null,null,null,null,null,"4.NFP.DSLO","Е (межсезонное)","руб./тнт",0,0,0]
[null,null,null,null,null,null,null,null,null,null,null,null,null,null,null,null,null,null,null,null,null,null,null,null,null,null,null,null,null,null,null,"MST",null,null,null,null,null,null,"4.NFP.MST","Мазут","руб./тнт",0,0,0]
[null,null,null,null,null,null,null,null,null,null,null,null,null,null,null,null,null,null,null,null,null,null,null,null,null,null,null,null,null,null,null,"MSTM40",null,null,null,null,null,null,"4.NFP.MSTM40","М-40","руб./тнт",0,0,0]
[null,null,null,null,null,null,null,null,null,null,null,null,null,null,null,null,null,null,null,null,null,null,null,null,null,null,null,null,null,null,null,"MSTM100",null,null,null,null,null,null,"4.NFP.MSTM100","М-100","руб./тнт",0,0,0]
[null,null,null,null,null,null,null,null,null,null,null,null,null,null,null,null,null,null,null,null,null,null,null,null,null,null,null,null,null,null,null,"MSTM200",null,null,null,null,null,null,"4.NFP.MSTM200","М-200","руб./тнт",0,0,0]
[null,null,null,null,null,null,null,null,null,null,null,null,null,null,null,null,null,null,null,null,null,null,null,null,null,null,null,null,null,null,null,"MSTT",null,null,null,null,null,null,"4.NFP.MSTT","мазут марки \"Т\"","руб./тнт",0,0,0]
[null,null,null,null,null,null,null,null,null,null,null,null,null,null,null,null,null,null,null,null,null,null,null,null,null,null,null,null,null,null,null,"MSTF5",null,null,null,null,null,null,"4.NFP.MSTF5","Ф-5","руб./тнт",0,0,0]
[null,null,null,null,null,null,null,null,null,null,null,null,null,null,null,null,null,null,null,null,null,null,null,null,null,null,null,null,null,null,null,"MSTF12",null,null,null,null,null,null,"4.NFP.MSTF12","Ф-12","руб./тнт",0,0,0]
[null,null,null,null,null,null,null,null,null,null,null,null,null,null,null,null,null,null,null,null,null,null,null,null,null,null,null,null,null,null,null,"OIL",null,null,null,null,null,null,"4.NFP.OIL","Нефть","руб./тнт",0,0,0]
[null,null,null,null,null,null,null,null,null,null,null,null,null,null,null,null,null,null,null,null,null,null,null,null,null,null,null,null,null,null,null,"COA",null,null,null,null,null,null,"4.NFP.COA","Уголь","руб./тнт",0,0,0]
[null,null,null,null,null,null,null,null,null,null,null,null,null,null,null,null,null,null,null,null,null,null,null,null,null,null,null,null,null,null,null,"COAA",null,null,null,null,null,null,"4.NFP.COAA","Уголь антрацит","руб./тнт",0,0,0]
[null,null,null,null,null,null,null,null,null,null,null,null,null,null,null,null,null,null,null,null,null,null,null,null,null,null,null,null,null,null,null,"COAB",null,null,null,null,null,null,"4.NFP.COAB","Уголь бурый","руб./тнт",0,0,0]
[null,null,null,null,null,null,null,null,null,null,null,null,null,null,null,null,null,null,null,null,null,null,null,null,null,null,null,null,null,null,null,"COAG",null,null,null,null,null,null,"4.NFP.COAG","Уголь газовый","руб./тнт",0,0,0]
[null,null,null,null,null,null,null,null,null,null,null,null,null,null,null,null,null,null,null,null,null,null,null,null,null,null,null,null,null,null,null,"COALF",null,null,null,null,null,null,"4.NFP.COALF","Уголь длиннопламенный","руб./тнт",0,0,0]
[null,null,null,null,null,null,null,null,null,null,null,null,null,null,null,null,null,null,null,null,null,null,null,null,null,null,null,null,null,null,null,"COAF",null,null,null,null,null,null,"4.NFP.COAF","Уголь жирный","руб./тнт",0,0,0]
[null,null,null,null,null,null,null,null,null,null,null,null,null,null,null,null,null,null,null,null,null,null,null,null,null,null,null,null,null,null,null,"COAC",null,null,null,null,null,null,"4.NFP.COAC","Уголь коксовый","руб./тнт",0,0,0]
[null,null,null,null,null,null,null,null,null,null,null,null,null,null,null,null,null,null,null,null,null,null,null,null,null,null,null,null,null,null,null,"COASC",null,null,null,null,null,null,"4.NFP.COASC","Уголь отощённо-спекающийся","руб./тнт",0,0,0]
[null,null,null,null,null,null,null,null,null,null,null,null,null,null,null,null,null,null,null,null,null,null,null,null,null,null,null,null,null,null,null,"COAWC",null,null,null,null,null,null,"4.NFP.COAWC","Уголь слабоспекающийся","руб./тнт",0,0,0]
[null,null,null,null,null,null,null,null,null,null,null,null,null,null,null,null,null,null,null,null,null,null,null,null,null,null,null,null,null,null,null,"COAS",null,null,null,null,null,null,"4.NFP.COAS","Уголь тощий","руб./тнт",0,0,0]
[]
[]
[null,null,null,null,null,null,null,null,null,null,null,null,null,null,null,null,null,null,null,null,null,null,null,null,null,null,null,null,null,null,null,"CWD",null,null,null,null,null,null,"4.NFP.CWD","Уголь древесный","руб./тнт",{"$f":"IF(AP336=0,0,AP444/AP336*1000)","v":0},0,0]
[null,null,null,null,null,null,null,null,null,null,null,null,null,null,null,null,null,null,null,null,null,null,null,null,null,null,null,null,null,null,null,"WDS",null,null,null,null,null,null,"4.NFP.WDS","Дрова","руб./тнт",0,0,0]
[null,null,null,null,null,null,null,null,null,null,null,null,null,null,null,null,null,null,null,null,null,null,null,null,null,null,null,null,null,null,null,"PLT",null,null,null,null,null,null,"4.NFP.PLT","Пеллеты","руб./тнт",0,0,0]
[null,null,null,null,null,null,null,null,null,null,null,null,null,null,null,null,null,null,null,null,null,null,null,null,null,null,null,null,null,null,null,"SAW",null,null,null,null,null,null,"4.NFP.SAW","Опилки","руб./тнт",0,0,0]
[null,null,null,null,null,null,null,null,null,null,null,null,null,null,null,null,null,null,null,null,null,null,null,null,null,null,null,null,null,null,null,"PEA",null,null,null,null,null,null,"4.NFP.PEA","Торф","руб./тнт",0,0,0]
[null,null,null,null,null,null,null,null,null,null,null,null,null,null,null,null,null,null,null,null,null,null,null,null,null,null,null,null,null,null,null,"SHL",null,null,null,null,null,null,"4.NFP.SHL","Сланцы","руб./тнт",0,0,0]
[null,null,null,null,null,null,null,null,null,null,null,null,null,null,null,null,null,null,null,null,null,null,null,null,null,null,null,null,null,null,null,"STF",null,null,null,null,null,null,"4.NFP.STF","Печное бытовое топливо","руб./тнт",0,0,0]
[]
[null,null,null,null,null,null,null,null,null,null,null,null,null,null,null,null,null,null,null,null,null,null,null,null,null,null,null,null,null,null,null,null,null,null,null,null,null,null,"4.NFC","Стоимость натурального топлива без учёта транспортировки (перевозки)","тыс.руб.",{"$f":"SUMIF($AS$9:$AZ$9,AP$9,$AS408:$AZ408)","v":204099.41274490958},106827.3190611796,97272.093683729996,null,{"$f":"SUM(AT409,AT413:AT418,AT419,AT424,AT431,AT432,AT444:AT450)","v":198845.42626379422},104237.3342118384,94608.092051955828,5253.9864811153748,2589.9848493411996,2664.0016317741752]
[null,null,null,null,null,null,null,null,null,null,null,null,null,null,null,null,null,null,null,null,null,null,null,null,null,null,null,null,null,null,null,"NG",null,null,null,null,null,null,"NFC.NG","Газ природный","тыс.руб.",203456.57952202958,106583.79291205959,96872.78660996999,null,{"$f":"AU409+AV409","v":198202.59304091422},{"$f":"SUM(AU410:AU412)","v":103993.8080627184},{"$f":"SUM(AV410:AV412)","v":94208.784978195821},{"$f":"AX409+AY409","v":5253.9864811153748},{"$f":"SUM(AX410:AX412)","v":2589.9848493411996},{"$f":"SUM(AY410:AY412)","v":2664.0016317741752}]
[null,null,null,null,null,null,null,null,null,null,null,null,null,null,null,null,null,null,null,null,null,null,null,null,null,null,null,null,null,null,null,"NGL",null,null,null,null,null,null,"NFC.NGL","Газ лимитный","тыс.руб.",203456.57952202958,106583.79291205959,96872.78660996999,null,198202.59304091422,{"$f":"AU366*AU302/1000","v":103993.8080627184},94208.784978195821,5253.9864811153748,{"$f":"AX366*AX302/1000","v":2589.9848493411996},2664.0016317741752]
[null,null,null,null,null,null,null,null,null,null,null,null,null,null,null,null,null,null,null,null,null,null,null,null,null,null,null,null,null,null,null,"NGU",null,null,null,null,null,null,"NFC.NGU","Газ сверхлимитный","тыс.руб.",0,0,0]
[null,null,null,null,null,null,null,null,null,null,null,null,null,null,null,null,null,null,null,null,null,null,null,null,null,null,null,null,null,null,null,"NGC",null,null,null,null,null,null,"NFC.NGC","Газ коммерческий","тыс.руб.",0,0,0]
[null,null,null,null,null,null,null,null,null,null,null,null,null,null,null,null,null,null,null,null,null,null,null,null,null,null,null,null,null,null,null,"GBL",null,null,null,null,null,null,"NFC.GBL","Газ доменный","тыс.руб.",0,0,0]
[null,null,null,null,null,null,null,null,null,null,null,null,null,null,null,null,null,null,null,null,null,null,null,null,null,null,null,null,null,null,null,"GCK",null,null,null,null,null,null,"NFC.GCK","Газ коксовый","тыс.руб.",0,0,0]
[null,null,null,null,null,null,null,null,null,null,null,null,null,null,null,null,null,null,null,null,null,null,null,null,null,null,null,null,null,null,null,"GOA",null,null,null,null,null,null,"NFC.GOA","Газ нефтяной (попутный)","тыс.руб.",0,0,0]
[null,null,null,null,null,null,null,null,null,null,null,null,null,null,null,null,null,null,null,null,null,null,null,null,null,null,null,null,null,null,null,"DSG",null,null,null,null,null,null,"NFC.DSG","Газ сухой отбензиненный","тыс.руб.",0,0,0]
[null,null,null,null,null,null,null,null,null,null,null,null,null,null,null,null,null,null,null,null,null,null,null,null,null,null,null,null,null,null,null,"GCN",null,null,null,null,null,null,"NFC.GCN","Газовый конденсат","тыс.руб.",0,0,0]
[null,null,null,null,null,null,null,null,null,null,null,null,null,null,null,null,null,null,null,null,null,null,null,null,null,null,null,null,null,null,null,"LNG",null,null,null,null,null,null,"NFC.LNG","Газ сжиженный","тыс.руб.",0,0,0]
[null,null,null,null,null,null,null,null,null,null,null,null,null,null,null,null,null,null,null,null,null,null,null,null,null,null,null,null,null,null,null,"DSL",null,null,null,null,null,null,"NFC.DSL","Дизельное топливо","тыс.руб.",642.83322287999988,243.52614911999999,399.30707375999992,null,{"$f":"AU419+AV419","v":642.83322287999988},{"$f":"SUM(AU420:AU423)","v":243.52614911999999},{"$f":"SUM(AV420:AV423)","v":399.30707375999992}]
[null,null,null,null,null,null,null,null,null,null,null,null,null,null,null,null,null,null,null,null,null,null,null,null,null,null,null,null,null,null,null,"DSLA",null,null,null,null,null,null,"NFC.DSLA","А (арктическое)","тыс.руб.",0,0,0]
[null,null,null,null,null,null,null,null,null,null,null,null,null,null,null,null,null,null,null,null,null,null,null,null,null,null,null,null,null,null,null,"DSLW",null,null,null,null,null,null,"NFC.DSLW","З (зимнее)","тыс.руб.",642.83322287999988,243.52614911999999,399.30707375999992,null,{"$f":"AU421+AV421","v":642.83322287999988},{"$f":"AU377*AU313/1000","v":243.52614911999999},399.30707375999992]
[null,null,null,null,null,null,null,null,null,null,null,null,null,null,null,null,null,null,null,null,null,null,null,null,null,null,null,null,null,null,null,"DSLS",null,null,null,null,null,null,"NFC.DSLS","Л (летнее)","тыс.руб.",0,0,0]
[null,null,null,null,null,null,null,null,null,null,null,null,null,null,null,null,null,null,null,null,null,null,null,null,null,null,null,null,null,null,null,"DSLO",null,null,null,null,null,null,"NFC.DSLO","Е (межсезонное)","тыс.руб.",0,0,0]
[null,null,null,null,null,null,null,null,null,null,null,null,null,null,null,null,null,null,null,null,null,null,null,null,null,null,null,null,null,null,null,"MST",null,null,null,null,null,null,"NFC.MST","Мазут","тыс.руб.",0,0,0]
[null,null,null,null,null,null,null,null,null,null,null,null,null,null,null,null,null,null,null,null,null,null,null,null,null,null,null,null,null,null,null,"MSTM40",null,null,null,null,null,null,"NFC.MSTM40","М-40","тыс.руб.",0,0,0]
[null,null,null,null,null,null,null,null,null,null,null,null,null,null,null,null,null,null,null,null,null,null,null,null,null,null,null,null,null,null,null,"MSTM100",null,null,null,null,null,null,"NFC.MSTM100","М-100","тыс.руб.",0,0,0]
[null,null,null,null,null,null,null,null,null,null,null,null,null,null,null,null,null,null,null,null,null,null,null,null,null,null,null,null,null,null,null,"MSTM200",null,null,null,null,null,null,"NFC.MSTM200","М-200","тыс.руб.",0,0,0]
[null,null,null,null,null,null,null,null,null,null,null,null,null,null,null,null,null,null,null,null,null,null,null,null,null,null,null,null,null,null,null,"MSTT",null,null,null,null,null,null,"NFC.MSTT","мазут марки \"Т\"","тыс.руб.",{"$f":"SUMIF($AS$9:$AZ$9,AP$9,$AS428:$AZ428)","v":0},0,0]
[null,null,null,null,null,null,null,null,null,null,null,null,null,null,null,null,null,null,null,null,null,null,null,null,null,null,null,null,null,null,null,"MSTF5",null,null,null,null,null,null,"NFC.MSTF5","Ф-5","тыс.руб.",0,0,0]
[null,null,null,null,null,null,null,null,null,null,null,null,null,null,null,null,null,null,null,null,null,null,null,null,null,null,null,null,null,null,null,"MSTF12",null,null,null,null,null,null,"NFC.MSTF12","Ф-12","тыс.руб.",0,0,0]
[null,null,null,null,null,null,null,null,null,null,null,null,null,null,null,null,null,null,null,null,null,null,null,null,null,null,null,null,null,null,null,"OIL",null,null,null,null,null,null,"NFC.OIL","Нефть","тыс.руб.",0,0,0]
[null,null,null,null,null,null,null,null,null,null,null,null,null,null,null,null,null,null,null,null,null,null,null,null,null,null,null,null,null,null,null,"COA",null,null,null,null,null,null,"NFC.COA","Уголь","тыс.руб.",0,0,0]
[null,null,null,null,null,null,null,null,null,null,null,null,null,null,null,null,null,null,null,null,null,null,null,null,null,null,null,null,null,null,null,"COAA",null,null,null,null,null,null,"NFC.COAA","Уголь антрацит","тыс.руб.",0,0,0]
[null,null,null,null,null,null,null,null,null,null,null,null,null,null,null,null,null,null,null,null,null,null,null,null,null,null,null,null,null,null,null,"COAB",null,null,null,null,null,null,"NFC.COAB","Уголь бурый","тыс.руб.",0,0,0]
[null,null,null,null,null,null,null,null,null,null,null,null,null,null,null,null,null,null,null,null,null,null,null,null,null,null,null,null,null,null,null,"COAG",null,null,null,null,null,null,"NFC.COAG","Уголь газовый","тыс.руб.",0,0,0]
[null,null,null,null,null,null,null,null,null,null,null,null,null,null,null,null,null,null,null,null,null,null,null,null,null,null,null,null,null,null,null,"COALF",null,null,null,null,null,null,"NFC.COALF","Уголь длиннопламенный","тыс.руб.",0,0,0]
[null,null,null,null,null,null,null,null,null,null,null,null,null,null,null,null,null,null,null,null,null,null,null,null,null,null,null,null,null,null,null,"COAF",null,null,null,null,null,null,"NFC.COAF","Уголь жирный","тыс.руб.",0,0,0]
[null,null,null,null,null,null,null,null,null,null,null,null,null,null,null,null,null,null,null,null,null,null,null,null,null,null,null,null,null,null,null,"COAC",null,null,null,null,null,null,"NFC.COAC","Уголь коксовый","тыс.руб.",0,0,0]
[null,null,null,null,null,null,null,null,null,null,null,null,null,null,null,null,null,null,null,null,null,null,null,null,null,null,null,null,null,null,null,"COASC",null,null,null,null,null,null,"NFC.COASC","Уголь отощённо-спекающийся","тыс.руб.",0,0,0]
[null,null,null,null,null,null,null,null,null,null,null,null,null,null,null,null,null,null,null,null,null,null,null,null,null,null,null,null,null,null,null,"COAWC",null,null,null,null,null,null,"NFC.COAWC","Уголь слабоспекающийся","тыс.руб.",0,0,0]
[null,null,null,null,null,null,null,null,null,null,null,null,null,null,null,null,null,null,null,null,null,null,null,null,null,null,null,null,null,null,null,"COAS",null,null,null,null,null,null,"NFC.COAS","Уголь тощий","тыс.руб.",0,0,0]
[]
[]
[null,null,null,null,null,null,null,null,null,null,null,null,null,null,null,null,null,null,null,null,null,null,null,null,null,null,null,null,null,null,null,"CWD",null,null,null,null,null,null,"NFC.CWD","Уголь древесный","тыс.руб.",{"$f":"SUMIF($AS$9:$AZ$9,AP$9,$AS444:$AZ444)","v":0},0,0]
[null,null,null,null,null,null,null,null,null,null,null,null,null,null,null,null,null,null,null,null,null,null,null,null,null,null,null,null,null,null,null,"WDS",null,null,null,null,null,null,"NFC.WDS","Дрова","тыс.руб.",0,0,0]
[null,null,null,null,null,null,null,null,null,null,null,null,null,null,null,null,null,null,null,null,null,null,null,null,null,null,null,null,null,null,null,"PLT",null,null,null,null,null,null,"NFC.PLT","Пеллеты","тыс.руб.",0,0,0]
[null,null,null,null,null,null,null,null,null,null,null,null,null,null,null,null,null,null,null,null,null,null,null,null,null,null,null,null,null,null,null,"SAW",null,null,null,null,null,null,"NFC.SAW","Опилки","тыс.руб.",0,0,0]
[null,null,null,null,null,null,null,null,null,null,null,null,null,null,null,null,null,null,null,null,null,null,null,null,null,null,null,null,null,null,null,"PEA",null,null,null,null,null,null,"NFC.PEA","Торф","тыс.руб.",0,0,0]
[null,null,null,null,null,null,null,null,null,null,null,null,null,null,null,null,null,null,null,null,null,null,null,null,null,null,null,null,null,null,null,"SHL",null,null,null,null,null,null,"NFC.SHL","Сланцы","тыс.руб.",0,0,0]
[null,null,null,null,null,null,null,null,null,null,null,null,null,null,null,null,null,null,null,null,null,null,null,null,null,null,null,null,null,null,null,"STF",null,null,null,null,null,null,"NFC.STF","Печное бытовое топливо","тыс.руб.",0,0,0]
[]
[]
[null,null,null,null,null,null,null,null,null,null,null,null,null,null,null,null,null,null,null,null,null,null,null,null,null,null,null,null,null,null,null,null,null,null,null,null,null,null,null,"Показатели транспортировки (перевозки) топлива"]
[]
[null,null,null,null,null,null,null,null,null,null,null,null,null,null,null,null,null,null,null,null,null,null,null,null,null,null,null,null,null,null,null,null,null,null,null,null,null,null,"4.0.3.1.1.1","Природный газ. Газ лимитный. Тариф на ССУ (cнабженческо-сбытовые услуги)"]
[null,null,null,null,null,null,null,null,null,null,null,null,null,null,null,null,null,null,null,null,null,null,null,null,null,null,null,null,null,null,null,"NGL",null,null,null,null,null,null,{"$f":"AM455 & \".1\"","v":"4.0.3.1.1.1.1"},"1 группа: свыше 500 млн.м3","руб./тыс.м3",{"$f":"IF(AP304=0,0,AP472/AP304*1000)","v":0},0,0,null,{"$f":"IF(AT346=0,0,AT472/AT346*1000)","v":0},null,null,{"$f":"IF(AW346=0,0,AW472/AW346*1000)","v":0}]
[null,null,null,null,null,null,null,null,null,null,null,null,null,null,null,null,null,null,null,null,null,null,null,null,null,null,null,null,null,null,null,"NGL",null,null,null,null,null,null,{"$f":"AM455 & \".2\"","v":"4.0.3.1.1.1.2"},"2 группа: от 100 до 500 млн.м3 включительно","руб./тыс.м3",0,0,0,null,{"$f":"IF(AT347=0,0,AT473/AT347*1000)","v":0},null,null,{"$f":"IF(AW347=0,0,AW473/AW347*1000)","v":0}]
[null,null,null,null,null,null,null,null,null,null,null,null,null,null,null,null,null,null,null,null,null,null,null,null,null,null,null,null,null,null,null,"NGL",null,null,null,null,null,null,{"$f":"AM455 & \".3\"","v":"4.0.3.1.1.1.3"},"3 группа: от 10 до 100 млн.м3 включительно","руб./тыс.м3",0,0,0,null,0,null,null,0]
[null,null,null,null,null,null,null,null,null,null,null,null,null,null,null,null,null,null,null,null,null,null,null,null,null,null,null,null,null,null,null,"NGL",null,null,null,null,null,null,{"$f":"AM455 & \".4\"","v":"4.0.3.1.1.1.4"},"4 группа: от 1 до 10 млн.м3 включительно","руб./тыс.м3",0,0,0,null,0,null,null,0]
[null,null,null,null,null,null,null,null,null,null,null,null,null,null,null,null,null,null,null,null,null,null,null,null,null,null,null,null,null,null,null,"NGL",null,null,null,null,null,null,{"$f":"AM455 & \".5\"","v":"4.0.3.1.1.1.5"},"5 группа: от 0,1 до 1 млн.м3 включительно","руб./тыс.м3",0,0,0,null,0,null,null,0]
[null,null,null,null,null,null,null,null,null,null,null,null,null,null,null,null,null,null,null,null,null,null,null,null,null,null,null,null,null,null,null,"NGL",null,null,null,null,null,null,{"$f":"AM455 & \".6\"","v":"4.0.3.1.1.1.6"},"6 группа: от 0,01 до 0,1 млн.м3 включительно","руб./тыс.м3",0,0,0,null,0,null,null,0]
[null,null,null,null,null,null,null,null,null,null,null,null,null,null,null,null,null,null,null,null,null,null,null,null,null,null,null,null,null,null,null,"NGL",null,null,null,null,null,null,{"$f":"AM455 & \".7\"","v":"4.0.3.1.1.1.7"},"7 группа: до 0,01 млн.м3 включительно","руб./тыс.м3",0,0,0,null,0,null,null,0]
[null,null,null,null,null,null,null,null,null,null,null,null,null,null,null,null,null,null,null,null,null,null,null,null,null,null,null,null,null,null,null,null,null,null,null,null,null,null,"4.0.3.1.1.2","Природный газ. Газ лимитный. Тариф ГРО (услуги газораспределительной организации)"]
[null,null,null,null,null,null,null,null,null,null,null,null,null,null,null,null,null,null,null,null,null,null,null,null,null,null,null,null,null,null,null,"NGL",null,null,null,null,null,null,{"$f":"AM463 & \".1\"","v":"4.0.3.1.1.2.1"},"1 группа: свыше 500 млн.м3","руб./тыс.м3",{"$f":"IF(AP304=0,0,AP480/AP304*1000)","v":0},0,0,null,{"$f":"IF(AT346=0,0,AT480/AT346*1000)","v":0},null,null,{"$f":"IF(AW346=0,0,AW480/AW346*1000)","v":0}]
[null,null,null,null,null,null,null,null,null,null,null,null,null,null,null,null,null,null,null,null,null,null,null,null,null,null,null,null,null,null,null,"NGL",null,null,null,null,null,null,{"$f":"AM463 & \".2\"","v":"4.0.3.1.1.2.2"},"2 группа: от 100 до 500 млн.м3 включительно","руб./тыс.м3",0,0,0,null,{"$f":"IF(AT347=0,0,AT481/AT347*1000)","v":0},null,null,{"$f":"IF(AW347=0,0,AW481/AW347*1000)","v":0}]
[null,null,null,null,null,null,null,null,null,null,null,null,null,null,null,null,null,null,null,null,null,null,null,null,null,null,null,null,null,null,null,"NGL",null,null,null,null,null,null,{"$f":"AM463 & \".3\"","v":"4.0.3.1.1.2.3"},"3 группа: от 10 до 100 млн.м3 включительно","руб./тыс.м3",0,0,0,null,0,null,null,0]
[null,null,null,null,null,null,null,null,null,null,null,null,null,null,null,null,null,null,null,null,null,null,null,null,null,null,null,null,null,null,null,"NGL",null,null,null,null,null,null,{"$f":"AM463 & \".4\"","v":"4.0.3.1.1.2.4"},"4 группа: от 1 до 10 млн.м3 включительно","руб./тыс.м3",0,0,0,null,0,null,null,0]
[null,null,null,null,null,null,null,null,null,null,null,null,null,null,null,null,null,null,null,null,null,null,null,null,null,null,null,null,null,null,null,"NGL",null,null,null,null,null,null,{"$f":"AM463 & \".5\"","v":"4.0.3.1.1.2.5"},"5 группа: от 0,1 до 1 млн.м3 включительно","руб./тыс.м3",0,0,0,null,0,null,null,0]
[null,null,null,null,null,null,null,null,null,null,null,null,null,null,null,null,null,null,null,null,null,null,null,null,null,null,null,null,null,null,null,"NGL",null,null,null,null,null,null,{"$f":"AM463 & \".6\"","v":"4.0.3.1.1.2.6"},"6 группа: от 0,01 до 0,1 млн.м3 включительно","руб./тыс.м3",0,0,0,null,0,null,null,0]
[null,null,null,null,null,null,null,null,null,null,null,null,null,null,null,null,null,null,null,null,null,null,null,null,null,null,null,null,null,null,null,"NGL",null,null,null,null,null,null,{"$f":"AM463 & \".7\"","v":"4.0.3.1.1.2.7"},"7 группа: до 0,01 млн.м3 включительно","руб./тыс.м3",0,0,0,null,0,null,null,0]
[null,null,null,null,null,null,null,null,null,null,null,null,null,null,null,null,null,null,null,null,null,null,null,null,null,null,null,null,null,null,null,"NGL",null,null,null,null,null,null,"4.0.3.1.1.3","Природный газ. Газ лимитный. ПССУ (плата за cнабженческо-сбытовые услуги), всего","тыс.руб.",{"$f":"SUMIF($AS$9:$AZ$9,AP$9,$AS471:$AZ471)","v":0},0,0,null,{"$f":"AU471+AV471","v":0},{"$f":"SUM(AU472:AU478)","v":0},{"$f":"SUM(AV472:AV478)","v":0},{"$f":"AX471+AY471","v":0},{"$f":"SUM(AX472:AX478)","v":0},{"$f":"SUM(AY472:AY478)","v":0}]
[null,null,null,null,null,null,null,null,null,null,null,null,null,null,null,null,null,null,null,null,null,null,null,null,null,null,null,null,null,null,null,"NGL",null,null,null,null,null,null,{"$f":"AM471 & \".1\"","v":"4.0.3.1.1.3.1"},"1 группа: свыше 500 млн.м3","тыс.руб.",0,0,0,null,0,{"$f":"AU456*AU346/1000","v":0},{"$f":"AV456*AV346/1000","v":0},0,{"$f":"AX456*AX346/1000","v":0},{"$f":"AY456*AY346/1000","v":0}]
[null,null,null,null,null,null,null,null,null,null,null,null,null,null,null,null,null,null,null,null,null,null,null,null,null,null,null,null,null,null,null,"NGL",null,null,null,null,null,null,{"$f":"AM471 & \".2\"","v":"4.0.3.1.1.3.2"},"2 группа: от 100 до 500 млн.м3 включительно","тыс.руб.",0,0,0,null,0,{"$f":"AU457*AU347/1000","v":0},0,0,{"$f":"AX457*AX347/1000","v":0},0]
[null,null,null,null,null,null,null,null,null,null,null,null,null,null,null,null,null,null,null,null,null,null,null,null,null,null,null,null,null,null,null,"NGL",null,null,null,null,null,null,{"$f":"AM471 & \".3\"","v":"4.0.3.1.1.3.3"},"3 группа: от 10 до 100 млн.м3 включительно","тыс.руб.",0,0,0,null,0,0,0,0,0,0]
[null,null,null,null,null,null,null,null,null,null,null,null,null,null,null,null,null,null,null,null,null,null,null,null,null,null,null,null,null,null,null,"NGL",null,null,null,null,null,null,{"$f":"AM471 & \".4\"","v":"4.0.3.1.1.3.4"},"4 группа: от 1 до 10 млн.м3 включительно","тыс.руб.",0,0,0,null,0,0,0,0,0,0]
[null,null,null,null,null,null,null,null,null,null,null,null,null,null,null,null,null,null,null,null,null,null,null,null,null,null,null,null,null,null,null,"NGL",null,null,null,null,null,null,{"$f":"AM471 & \".5\"","v":"4.0.3.1.1.3.5"},"5 группа: от 0,1 до 1 млн.м3 включительно","тыс.руб.",0,0,0,null,0,0,0,0,0,0]
[null,null,null,null,null,null,null,null,null,null,null,null,null,null,null,null,null,null,null,null,null,null,null,null,null,null,null,null,null,null,null,"NGL",null,null,null,null,null,null,{"$f":"AM471 & \".6\"","v":"4.0.3.1.1.3.6"},"6 группа: от 0,01 до 0,1 млн.м3 включительно","тыс.руб.",0,0,0,null,0,0,0,0,0,0]
[null,null,null,null,null,null,null,null,null,null,null,null,null,null,null,null,null,null,null,null,null,null,null,null,null,null,null,null,null,null,null,"NGL",null,null,null,null,null,null,{"$f":"AM471 & \".7\"","v":"4.0.3.1.1.3.7"},"7 группа: до 0,01 млн.м3 включительно","тыс.руб.",0,0,0,null,0,0,0,0,0,0]
[null,null,null,null,null,null,null,null,null,null,null,null,null,null,null,null,null,null,null,null,null,null,null,null,null,null,null,null,null,null,null,"NGL",null,null,null,null,null,null,"4.0.3.1.1.4","Природный газ. Газ лимитный. ГРО (плата за услуги газораспределительной организации), всего","тыс.руб.",0,0,0,null,0,{"$f":"SUM(AU480:AU486)","v":0},{"$f":"SUM(AV480:AV486)","v":0},0,{"$f":"SUM(AX480:AX486)","v":0},{"$f":"SUM(AY480:AY486)","v":0}]
[null,null,null,null,null,null,null,null,null,null,null,null,null,null,null,null,null,null,null,null,null,null,null,null,null,null,null,null,null,null,null,"NGL",null,null,null,null,null,null,{"$f":"AM479 & \".1\"","v":"4.0.3.1.1.4.1"},"1 группа: свыше 500 млн.м3","тыс.руб.",0,0,0,null,0,{"$f":"AU464*AU346/1000","v":0},{"$f":"AV464*AV346/1000","v":0},0,{"$f":"AX464*AX346/1000","v":0},{"$f":"AY464*AY346/1000","v":0}]
[null,null,null,null,null,null,null,null,null,null,null,null,null,null,null,null,null,null,null,null,null,null,null,null,null,null,null,null,null,null,null,"NGL",null,null,null,null,null,null,{"$f":"AM479 & \".2\"","v":"4.0.3.1.1.4.2"},"2 группа: от 100 до 500 млн.м3 включительно","тыс.руб.",0,0,0,null,0,{"$f":"AU465*AU347/1000","v":0},0,0,{"$f":"AX465*AX347/1000","v":0},0]
[null,null,null,null,null,null,null,null,null,null,null,null,null,null,null,null,null,null,null,null,null,null,null,null,null,null,null,null,null,null,null,"NGL",null,null,null,null,null,null,{"$f":"AM479 & \".3\"","v":"4.0.3.1.1.4.3"},"3 группа: от 10 до 100 млн.м3 включительно","тыс.руб.",0,0,0,null,0,0,0,0,0,0]
[null,null,null,null,null,null,null,null,null,null,null,null,null,null,null,null,null,null,null,null,null,null,null,null,null,null,null,null,null,null,null,"NGL",null,null,null,null,null,null,{"$f":"AM479 & \".4\"","v":"4.0.3.1.1.4.4"},"4 группа: от 1 до 10 млн.м3 включительно","тыс.руб.",0,0,0,null,0,0,0,0,0,0]
[null,null,null,null,null,null,null,null,null,null,null,null,null,null,null,null,null,null,null,null,null,null,null,null,null,null,null,null,null,null,null,"NGL",null,null,null,null,null,null,{"$f":"AM479 & \".5\"","v":"4.0.3.1.1.4.5"},"5 группа: от 0,1 до 1 млн.м3 включительно","тыс.руб.",0,0,0,null,0,0,0,0,0,0]
[null,null,null,null,null,null,null,null,null,null,null,null,null,null,null,null,null,null,null,null,null,null,null,null,null,null,null,null,null,null,null,"NGL",null,null,null,null,null,null,{"$f":"AM479 & \".6\"","v":"4.0.3.1.1.4.6"},"6 группа: от 0,01 до 0,1 млн.м3 включительно","тыс.руб.",0,0,0,null,0,0,0,0,0,0]
[null,null,null,null,null,null,null,null,null,null,null,null,null,null,null,null,null,null,null,null,null,null,null,null,null,null,null,null,null,null,null,"NGL",null,null,null,null,null,null,{"$f":"AM479 & \".7\"","v":"4.0.3.1.1.4.7"},"7 группа: до 0,01 млн.м3 включительно","тыс.руб.",0,0,0,null,0,0,0,0,0,0]
[null,null,null,null,null,null,null,null,null,null,null,null,null,null,null,null,null,null,null,null,null,null,null,null,null,null,null,null,null,null,null,"NGL",null,null,null,null,null,null,"4.0.3.1.1.5","Природный газ. Газ лимитный. ТТР (плата за услуги транзитной транспортировки), всего","тыс.руб.",0,0,0,null,0,null,null,0]
[null,null,null,null,null,null,null,null,null,null,null,null,null,null,null,null,null,null,null,null,null,null,null,null,null,null,null,null,null,null,null,"NGL",null,null,null,null,null,null,{"$f":"AM487 & \".1\"","v":"4.0.3.1.1.5.1"},"Средний тариф транзитной транспортировки","руб./тыс.м3",{"$f":"IF(AP489=0,0,AP487/AP489*1000)","v":0},{"$f":"IF(AQ489=0,0,AQ487/AQ489*1000)","v":0},{"$f":"IF(AR489=0,0,AR487/AR489*1000)","v":0},null,{"$f":"IF(AT489=0,0,AT487/AT489*1000)","v":0},0,0,0,0,0]
[null,null,null,null,null,null,null,null,null,null,null,null,null,null,null,null,null,null,null,null,null,null,null,null,null,null,null,null,null,null,null,"NGL",null,null,null,null,null,null,{"$f":"AM487 & \".2\"","v":"4.0.3.1.1.5.2"},"Объём топлива, транспортируемого в транзитном потоке","тыс.м3",{"$f":"SUMIF($AS$9:$AZ$9,AP$9,$AS489:$AZ489)","v":0},{"$f":"SUMIF($AS$9:$AZ$9,AQ$9,$AS489:$AZ489)","v":0},{"$f":"SUMIF($AS$9:$AZ$9,AR$9,$AS489:$AZ489)","v":0},null,{"$f":"AU489+AV489","v":0},null,null,{"$f":"AX489+AY489","v":0}]
[null,null,null,null,null,null,null,null,null,null,null,null,null,null,null,null,null,null,null,null,null,null,null,null,null,null,null,null,null,null,null,null,null,null,null,null,null,null,"4.0.3.1.2.1","Природный газ. Газ сверхлимитный. Тариф на ССУ (cнабженческо-сбытовые услуги)"]
[null,null,null,null,null,null,null,null,null,null,null,null,null,null,null,null,null,null,null,null,null,null,null,null,null,null,null,null,null,null,null,"NGU",null,null,null,null,null,null,{"$f":"AM490 & \".1\"","v":"4.0.3.1.2.1.1"},"1 группа: свыше 500 млн.м3","руб./тыс.м3",{"$f":"IF(AP312=0,0,AP507/AP312*1000)","v":0},0,0]
[null,null,null,null,null,null,null,null,null,null,null,null,null,null,null,null,null,null,null,null,null,null,null,null,null,null,null,null,null,null,null,"NGU",null,null,null,null,null,null,{"$f":"AM490 & \".2\"","v":"4.0.3.1.2.1.2"},"2 группа: от 100 до 500 млн.м3 включительно","руб./тыс.м3",0,0,0]
[null,null,null,null,null,null,null,null,null,null,null,null,null,null,null,null,null,null,null,null,null,null,null,null,null,null,null,null,null,null,null,"NGU",null,null,null,null,null,null,{"$f":"AM490 & \".3\"","v":"4.0.3.1.2.1.3"},"3 группа: от 10 до 100 млн.м3 включительно","руб./тыс.м3",0,0,0]
[null,null,null,null,null,null,null,null,null,null,null,null,null,null,null,null,null,null,null,null,null,null,null,null,null,null,null,null,null,null,null,"NGU",null,null,null,null,null,null,{"$f":"AM490 & \".4\"","v":"4.0.3.1.2.1.4"},"4 группа: от 1 до 10 млн.м3 включительно","руб./тыс.м3",0,0,0]
[null,null,null,null,null,null,null,null,null,null,null,null,null,null,null,null,null,null,null,null,null,null,null,null,null,null,null,null,null,null,null,"NGU",null,null,null,null,null,null,{"$f":"AM490 & \".5\"","v":"4.0.3.1.2.1.5"},"5 группа: от 0,1 до 1 млн.м3 включительно","руб./тыс.м3",0,0,0]
[null,null,null,null,null,null,null,null,null,null,null,null,null,null,null,null,null,null,null,null,null,null,null,null,null,null,null,null,null,null,null,"NGU",null,null,null,null,null,null,{"$f":"AM490 & \".6\"","v":"4.0.3.1.2.1.6"},"6 группа: от 0,01 до 0,1 млн.м3 включительно","руб./тыс.м3",0,0,0]
[null,null,null,null,null,null,null,null,null,null,null,null,null,null,null,null,null,null,null,null,null,null,null,null,null,null,null,null,null,null,null,"NGU",null,null,null,null,null,null,{"$f":"AM490 & \".7\"","v":"4.0.3.1.2.1.7"},"7 группа: до 0,01 млн.м3 включительно","руб./тыс.м3",0,0,0]
[null,null,null,null,null,null,null,null,null,null,null,null,null,null,null,null,null,null,null,null,null,null,null,null,null,null,null,null,null,null,null,null,null,null,null,null,null,null,"4.0.3.1.2.2","Природный газ. Газ сверхлимитный. Тариф ГРО (услуги газораспределительной организации)"]
[null,null,null,null,null,null,null,null,null,null,null,null,null,null,null,null,null,null,null,null,null,null,null,null,null,null,null,null,null,null,null,"NGU",null,null,null,null,null,null,{"$f":"AM498 & \".1\"","v":"4.0.3.1.2.2.1"},"1 группа: свыше 500 млн.м3","руб./тыс.м3",{"$f":"IF(AP312=0,0,AP515/AP312*1000)","v":0},0,0]
[null,null,null,null,null,null,null,null,null,null,null,null,null,null,null,null,null,null,null,null,null,null,null,null,null,null,null,null,null,null,null,"NGU",null,null,null,null,null,null,{"$f":"AM498 & \".2\"","v":"4.0.3.1.2.2.2"},"2 группа: от 100 до 500 млн.м3 включительно","руб./тыс.м3",0,0,0]
[null,null,null,null,null,null,null,null,null,null,null,null,null,null,null,null,null,null,null,null,null,null,null,null,null,null,null,null,null,null,null,"NGU",null,null,null,null,null,null,{"$f":"AM498 & \".3\"","v":"4.0.3.1.2.2.3"},"3 группа: от 10 до 100 млн.м3 включительно","руб./тыс.м3",0,0,0]
[null,null,null,null,null,null,null,null,null,null,null,null,null,null,null,null,null,null,null,null,null,null,null,null,null,null,null,null,null,null,null,"NGU",null,null,null,null,null,null,{"$f":"AM498 & \".4\"","v":"4.0.3.1.2.2.4"},"4 группа: от 1 до 10 млн.м3 включительно","руб./тыс.м3",0,0,0]
[null,null,null,null,null,null,null,null,null,null,null,null,null,null,null,null,null,null,null,null,null,null,null,null,null,null,null,null,null,null,null,"NGU",null,null,null,null,null,null,{"$f":"AM498 & \".5\"","v":"4.0.3.1.2.2.5"},"5 группа: от 0,1 до 1 млн.м3 включительно","руб./тыс.м3",0,0,0]
[null,null,null,null,null,null,null,null,null,null,null,null,null,null,null,null,null,null,null,null,null,null,null,null,null,null,null,null,null,null,null,"NGU",null,null,null,null,null,null,{"$f":"AM498 & \".6\"","v":"4.0.3.1.2.2.6"},"6 группа: от 0,01 до 0,1 млн.м3 включительно","руб./тыс.м3",0,0,0]
[null,null,null,null,null,null,null,null,null,null,null,null,null,null,null,null,null,null,null,null,null,null,null,null,null,null,null,null,null,null,null,"NGU",null,null,null,null,null,null,{"$f":"AM498 & \".7\"","v":"4.0.3.1.2.2.7"},"7 группа: до 0,01 млн.м3 включительно","руб./тыс.м3",0,0,0]
[null,null,null,null,null,null,null,null,null,null,null,null,null,null,null,null,null,null,null,null,null,null,null,null,null,null,null,null,null,null,null,"NGU",null,null,null,null,null,null,"4.0.3.1.2.3","Природный газ. Газ сверхлимитный. ПССУ (плата за cнабженческо-сбытовые услуги), всего","тыс.руб.",{"$f":"SUMIF($AS$9:$AZ$9,AP$9,$AS506:$AZ506)","v":0},0,0]
[null,null,null,null,null,null,null,null,null,null,null,null,null,null,null,null,null,null,null,null,null,null,null,null,null,null,null,null,null,null,null,"NGU",null,null,null,null,null,null,{"$f":"AM506 & \".1\"","v":"4.0.3.1.2.3.1"},"1 группа: свыше 500 млн.м3","тыс.руб.",0,0,0]
[null,null,null,null,null,null,null,null,null,null,null,null,null,null,null,null,null,null,null,null,null,null,null,null,null,null,null,null,null,null,null,"NGU",null,null,null,null,null,null,{"$f":"AM506 & \".2\"","v":"4.0.3.1.2.3.2"},"2 группа: от 100 до 500 млн.м3 включительно","тыс.руб.",0,0,0]
[null,null,null,null,null,null,null,null,null,null,null,null,null,null,null,null,null,null,null,null,null,null,null,null,null,null,null,null,null,null,null,"NGU",null,null,null,null,null,null,{"$f":"AM506 & \".3\"","v":"4.0.3.1.2.3.3"},"3 группа: от 10 до 100 млн.м3 включительно","тыс.руб.",0,0,0]
[null,null,null,null,null,null,null,null,null,null,null,null,null,null,null,null,null,null,null,null,null,null,null,null,null,null,null,null,null,null,null,"NGU",null,null,null,null,null,null,{"$f":"AM506 & \".4\"","v":"4.0.3.1.2.3.4"},"4 группа: от 1 до 10 млн.м3 включительно","тыс.руб.",0,0,0]
[null,null,null,null,null,null,null,null,null,null,null,null,null,null,null,null,null,null,null,null,null,null,null,null,null,null,null,null,null,null,null,"NGU",null,null,null,null,null,null,{"$f":"AM506 & \".5\"","v":"4.0.3.1.2.3.5"},"5 группа: от 0,1 до 1 млн.м3 включительно","тыс.руб.",0,0,0]
[null,null,null,null,null,null,null,null,null,null,null,null,null,null,null,null,null,null,null,null,null,null,null,null,null,null,null,null,null,null,null,"NGU",null,null,null,null,null,null,{"$f":"AM506 & \".6\"","v":"4.0.3.1.2.3.6"},"6 группа: от 0,01 до 0,1 млн.м3 включительно","тыс.руб.",0,0,0]
[null,null,null,null,null,null,null,null,null,null,null,null,null,null,null,null,null,null,null,null,null,null,null,null,null,null,null,null,null,null,null,"NGU",null,null,null,null,null,null,{"$f":"AM506 & \".7\"","v":"4.0.3.1.2.3.7"},"7 группа: до 0,01 млн.м3 включительно","тыс.руб.",0,0,0]
[null,null,null,null,null,null,null,null,null,null,null,null,null,null,null,null,null,null,null,null,null,null,null,null,null,null,null,null,null,null,null,"NGU",null,null,null,null,null,null,"4.0.3.1.2.4","Природный газ. Газ сверхлимитный. ГРО (плата за услуги газораспределительной организации), всего","тыс.руб.",0,0,0]
[null,null,null,null,null,null,null,null,null,null,null,null,null,null,null,null,null,null,null,null,null,null,null,null,null,null,null,null,null,null,null,"NGU",null,null,null,null,null,null,{"$f":"AM514 & \".1\"","v":"4.0.3.1.2.4.1"},"1 группа: свыше 500 млн.м3","тыс.руб.",0,0,0]
[null,null,null,null,null,null,null,null,null,null,null,null,null,null,null,null,null,null,null,null,null,null,null,null,null,null,null,null,null,null,null,"NGU",null,null,null,null,null,null,{"$f":"AM514 & \".2\"","v":"4.0.3.1.2.4.2"},"2 группа: от 100 до 500 млн.м3 включительно","тыс.руб.",0,0,0]
[null,null,null,null,null,null,null,null,null,null,null,null,null,null,null,null,null,null,null,null,null,null,null,null,null,null,null,null,null,null,null,"NGU",null,null,null,null,null,null,{"$f":"AM514 & \".3\"","v":"4.0.3.1.2.4.3"},"3 группа: от 10 до 100 млн.м3 включительно","тыс.руб.",0,0,0]
[null,null,null,null,null,null,null,null,null,null,null,null,null,null,null,null,null,null,null,null,null,null,null,null,null,null,null,null,null,null,null,"NGU",null,null,null,null,null,null,{"$f":"AM514 & \".4\"","v":"4.0.3.1.2.4.4"},"4 группа: от 1 до 10 млн.м3 включительно","тыс.руб.",0,0,0]
[null,null,null,null,null,null,null,null,null,null,null,null,null,null,null,null,null,null,null,null,null,null,null,null,null,null,null,null,null,null,null,"NGU",null,null,null,null,null,null,{"$f":"AM514 & \".5\"","v":"4.0.3.1.2.4.5"},"5 группа: от 0,1 до 1 млн.м3 включительно","тыс.руб.",0,0,0]
[null,null,null,null,null,null,null,null,null,null,null,null,null,null,null,null,null,null,null,null,null,null,null,null,null,null,null,null,null,null,null,"NGU",null,null,null,null,null,null,{"$f":"AM514 & \".6\"","v":"4.0.3.1.2.4.6"},"6 группа: от 0,01 до 0,1 млн.м3 включительно","тыс.руб.",0,0,0]
[null,null,null,null,null,null,null,null,null,null,null,null,null,null,null,null,null,null,null,null,null,null,null,null,null,null,null,null,null,null,null,"NGU",null,null,null,null,null,null,{"$f":"AM514 & \".7\"","v":"4.0.3.1.2.4.7"},"7 группа: до 0,01 млн.м3 включительно","тыс.руб.",0,0,0]
[null,null,null,null,null,null,null,null,null,null,null,null,null,null,null,null,null,null,null,null,null,null,null,null,null,null,null,null,null,null,null,"NGU",null,null,null,null,null,null,"4.0.3.1.2.5","Природный газ. Газ сверхлимитный. ТТР (плата за услуги транзитной транспортировки), всего","тыс.руб.",0,0,0]
[null,null,null,null,null,null,null,null,null,null,null,null,null,null,null,null,null,null,null,null,null,null,null,null,null,null,null,null,null,null,null,"NGU",null,null,null,null,null,null,{"$f":"AM522 & \".1\"","v":"4.0.3.1.2.5.1"},"Средний тариф транзитной транспортировки","руб./тыс.м3",{"$f":"IF(AP524=0,0,AP522/AP524*1000)","v":0},{"$f":"IF(AQ524=0,0,AQ522/AQ524*1000)","v":0},{"$f":"IF(AR524=0,0,AR522/AR524*1000)","v":0}]
[null,null,null,null,null,null,null,null,null,null,null,null,null,null,null,null,null,null,null,null,null,null,null,null,null,null,null,null,null,null,null,"NGU",null,null,null,null,null,null,{"$f":"AM522 & \".2\"","v":"4.0.3.1.2.5.2"},"Объём топлива, транспортируемого в транзитном потоке","тыс.м3",{"$f":"SUMIF($AS$9:$AZ$9,AP$9,$AS524:$AZ524)","v":0},{"$f":"SUMIF($AS$9:$AZ$9,AQ$9,$AS524:$AZ524)","v":0},{"$f":"SUMIF($AS$9:$AZ$9,AR$9,$AS524:$AZ524)","v":0}]
[null,null,null,null,null,null,null,null,null,null,null,null,null,null,null,null,null,null,null,null,null,null,null,null,null,null,null,null,null,null,null,null,null,null,null,null,null,null,"4.PATR","Перевозка автомобильным транспортом. Цена (тариф) за транспортировку (перевозку) единицы топлива"]
[]
[]
[]
[]
[]
[]
[]
[]
[null,null,null,null,null,null,null,null,null,null,null,null,null,null,null,null,null,null,null,null,null,null,null,null,null,null,null,null,null,null,null,"GCN",null,null,null,null,null,null,"4.PATR.GCN","Газовый конденсат","руб./тнт",{"$f":"IF(AP578=0,0,AP622/AP578*1000)","v":0},0,0]
[null,null,null,null,null,null,null,null,null,null,null,null,null,null,null,null,null,null,null,null,null,null,null,null,null,null,null,null,null,null,null,"LNG",null,null,null,null,null,null,"4.PATR.LNG","Газ сжиженный","руб./тнт",0,0,0]
[null,null,null,null,null,null,null,null,null,null,null,null,null,null,null,null,null,null,null,null,null,null,null,null,null,null,null,null,null,null,null,"DSL",null,null,null,null,null,null,"4.PATR.DSL","Дизельное топливо","руб./тнт",0,0,0,null,{"$f":"IF(AT580=0,0,AT624/AT580*1000)","v":0},{"$f":"IF(AU580=0,0,AU624/AU580*1000)","v":0},{"$f":"IF(AV580=0,0,AV624/AV580*1000)","v":0}]
[null,null,null,null,null,null,null,null,null,null,null,null,null,null,null,null,null,null,null,null,null,null,null,null,null,null,null,null,null,null,null,"DSLA",null,null,null,null,null,null,"4.PATR.DSLA","А (арктическое)","руб./тнт",0,0,0]
[null,null,null,null,null,null,null,null,null,null,null,null,null,null,null,null,null,null,null,null,null,null,null,null,null,null,null,null,null,null,null,"DSLW",null,null,null,null,null,null,"4.PATR.DSLW","З (зимнее)","руб./тнт",0,0,0,null,{"$f":"IF(AT582=0,0,AT626/AT582*1000)","v":0}]
[null,null,null,null,null,null,null,null,null,null,null,null,null,null,null,null,null,null,null,null,null,null,null,null,null,null,null,null,null,null,null,"DSLS",null,null,null,null,null,null,"4.PATR.DSLS","Л (летнее)","руб./тнт",0,0,0]
[null,null,null,null,null,null,null,null,null,null,null,null,null,null,null,null,null,null,null,null,null,null,null,null,null,null,null,null,null,null,null,"DSLO",null,null,null,null,null,null,"4.PATR.DSLO","Е (межсезонное)","руб./тнт",0,0,0]
[null,null,null,null,null,null,null,null,null,null,null,null,null,null,null,null,null,null,null,null,null,null,null,null,null,null,null,null,null,null,null,"MST",null,null,null,null,null,null,"4.PATR.MST","Мазут","руб./тнт",0,0,0]
[null,null,null,null,null,null,null,null,null,null,null,null,null,null,null,null,null,null,null,null,null,null,null,null,null,null,null,null,null,null,null,"MSTM40",null,null,null,null,null,null,"4.PATR.MSTM40","М-40","руб./тнт",0,0,0]
[null,null,null,null,null,null,null,null,null,null,null,null,null,null,null,null,null,null,null,null,null,null,null,null,null,null,null,null,null,null,null,"MSTM100",null,null,null,null,null,null,"4.PATR.MSTM100","М-100","руб./тнт",0,0,0]
[null,null,null,null,null,null,null,null,null,null,null,null,null,null,null,null,null,null,null,null,null,null,null,null,null,null,null,null,null,null,null,"MSTM200",null,null,null,null,null,null,"4.PATR.MSTM200","М-200","руб./тнт",0,0,0]
[null,null,null,null,null,null,null,null,null,null,null,null,null,null,null,null,null,null,null,null,null,null,null,null,null,null,null,null,null,null,null,"MSTT",null,null,null,null,null,null,"4.PATR.MSTT","мазут марки \"Т\"","руб./тнт",0,0,0]
[null,null,null,null,null,null,null,null,null,null,null,null,null,null,null,null,null,null,null,null,null,null,null,null,null,null,null,null,null,null,null,"MSTF5",null,null,null,null,null,null,"4.PATR.MSTF5","Ф-5","руб./тнт",0,0,0]
[null,null,null,null,null,null,null,null,null,null,null,null,null,null,null,null,null,null,null,null,null,null,null,null,null,null,null,null,null,null,null,"MSTF12",null,null,null,null,null,null,"4.PATR.MSTF12","Ф-12","руб./тнт",0,0,0]
[null,null,null,null,null,null,null,null,null,null,null,null,null,null,null,null,null,null,null,null,null,null,null,null,null,null,null,null,null,null,null,"OIL",null,null,null,null,null,null,"4.PATR.OIL","Нефть","руб./тнт",0,0,0]
[null,null,null,null,null,null,null,null,null,null,null,null,null,null,null,null,null,null,null,null,null,null,null,null,null,null,null,null,null,null,null,"COA",null,null,null,null,null,null,"4.PATR.COA","Уголь","руб./тнт",0,0,0]
[null,null,null,null,null,null,null,null,null,null,null,null,null,null,null,null,null,null,null,null,null,null,null,null,null,null,null,null,null,null,null,"COAA",null,null,null,null,null,null,"4.PATR.COAA","Уголь антрацит","руб./тнт",0,0,0]
[null,null,null,null,null,null,null,null,null,null,null,null,null,null,null,null,null,null,null,null,null,null,null,null,null,null,null,null,null,null,null,"COAB",null,null,null,null,null,null,"4.PATR.COAB","Уголь бурый","руб./тнт",0,0,0]
[null,null,null,null,null,null,null,null,null,null,null,null,null,null,null,null,null,null,null,null,null,null,null,null,null,null,null,null,null,null,null,"COAG",null,null,null,null,null,null,"4.PATR.COAG","Уголь газовый","руб./тнт",0,0,0]
[null,null,null,null,null,null,null,null,null,null,null,null,null,null,null,null,null,null,null,null,null,null,null,null,null,null,null,null,null,null,null,"COALF",null,null,null,null,null,null,"4.PATR.COALF","Уголь длиннопламенный","руб./тнт",0,0,0]
[null,null,null,null,null,null,null,null,null,null,null,null,null,null,null,null,null,null,null,null,null,null,null,null,null,null,null,null,null,null,null,"COAF",null,null,null,null,null,null,"4.PATR.COAF","Уголь жирный","руб./тнт",0,0,0]
[null,null,null,null,null,null,null,null,null,null,null,null,null,null,null,null,null,null,null,null,null,null,null,null,null,null,null,null,null,null,null,"COAC",null,null,null,null,null,null,"4.PATR.COAC","Уголь коксовый","руб./тнт",0,0,0]
[null,null,null,null,null,null,null,null,null,null,null,null,null,null,null,null,null,null,null,null,null,null,null,null,null,null,null,null,null,null,null,"COASC",null,null,null,null,null,null,"4.PATR.COASC","Уголь отощённо-спекающийся","руб./тнт",0,0,0]
[null,null,null,null,null,null,null,null,null,null,null,null,null,null,null,null,null,null,null,null,null,null,null,null,null,null,null,null,null,null,null,"COAWC",null,null,null,null,null,null,"4.PATR.COAWC","Уголь слабоспекающийся","руб./тнт",0,0,0]
[null,null,null,null,null,null,null,null,null,null,null,null,null,null,null,null,null,null,null,null,null,null,null,null,null,null,null,null,null,null,null,"COAS",null,null,null,null,null,null,"4.PATR.COAS","Уголь тощий","руб./тнт",0,0,0]
[]
[]
[null,null,null,null,null,null,null,null,null,null,null,null,null,null,null,null,null,null,null,null,null,null,null,null,null,null,null,null,null,null,null,"CWD",null,null,null,null,null,null,"4.PATR.CWD","Уголь древесный","руб./тнт",{"$f":"IF(AP605=0,0,AP649/AP605*1000)","v":0},0,0]
[null,null,null,null,null,null,null,null,null,null,null,null,null,null,null,null,null,null,null,null,null,null,null,null,null,null,null,null,null,null,null,"WDS",null,null,null,null,null,null,"4.PATR.WDS","Дрова","руб./тнт",0,0,0]
[null,null,null,null,null,null,null,null,null,null,null,null,null,null,null,null,null,null,null,null,null,null,null,null,null,null,null,null,null,null,null,"PLT",null,null,null,null,null,null,"4.PATR.PLT","Пеллеты","руб./тнт",0,0,0]
[null,null,null,null,null,null,null,null,null,null,null,null,null,null,null,null,null,null,null,null,null,null,null,null,null,null,null,null,null,null,null,"SAW",null,null,null,null,null,null,"4.PATR.SAW","Опилки","руб./тнт",0,0,0]
[null,null,null,null,null,null,null,null,null,null,null,null,null,null,null,null,null,null,null,null,null,null,null,null,null,null,null,null,null,null,null,"PEA",null,null,null,null,null,null,"4.PATR.PEA","Торф","руб./тнт",0,0,0]
[null,null,null,null,null,null,null,null,null,null,null,null,null,null,null,null,null,null,null,null,null,null,null,null,null,null,null,null,null,null,null,"SHL",null,null,null,null,null,null,"4.PATR.SHL","Сланцы","руб./тнт",0,0,0]
[null,null,null,null,null,null,null,null,null,null,null,null,null,null,null,null,null,null,null,null,null,null,null,null,null,null,null,null,null,null,null,"STF",null,null,null,null,null,null,"4.PATR.STF","Печное бытовое топливо","руб./тнт",0,0,0]
[]
[null,null,null,null,null,null,null,null,null,null,null,null,null,null,null,null,null,null,null,null,null,null,null,null,null,null,null,null,null,null,null,null,null,null,null,null,null,null,"4.VATR","Перевозка автомобильным транспортом. Объём транспортировки (перевозки) топлива"]
[]
[]
[]
[]
[]
[]
[]
[]
[null,null,null,null,null,null,null,null,null,null,null,null,null,null,null,null,null,null,null,null,null,null,null,null,null,null,null,null,null,null,null,"GCN",null,null,null,null,null,null,"4.VATR.GCN","Газовый конденсат","тнт",{"$f":"SUMIF($AS$9:$AZ$9,AP$9,$AS578:$AZ578)","v":0},0,0]
[null,null,null,null,null,null,null,null,null,null,null,null,null,null,null,null,null,null,null,null,null,null,null,null,null,null,null,null,null,null,null,"LNG",null,null,null,null,null,null,"4.VATR.LNG","Газ сжиженный","тнт",0,0,0]
[null,null,null,null,null,null,null,null,null,null,null,null,null,null,null,null,null,null,null,null,null,null,null,null,null,null,null,null,null,null,null,"DSL",null,null,null,null,null,null,"4.VATR.DSL","Дизельное топливо","тнт",0,0,0,null,{"$f":"AU580+AV580","v":0},{"$f":"SUM(AU581:AU584)","v":0},{"$f":"SUM(AV581:AV584)","v":0}]
[null,null,null,null,null,null,null,null,null,null,null,null,null,null,null,null,null,null,null,null,null,null,null,null,null,null,null,null,null,null,null,"DSLA",null,null,null,null,null,null,"4.VATR.DSLA","А (арктическое)","тнт",0,0,0]
[null,null,null,null,null,null,null,null,null,null,null,null,null,null,null,null,null,null,null,null,null,null,null,null,null,null,null,null,null,null,null,"DSLW",null,null,null,null,null,null,"4.VATR.DSLW","З (зимнее)","тнт",0,0,0,null,{"$f":"AU582+AV582","v":0}]
[null,null,null,null,null,null,null,null,null,null,null,null,null,null,null,null,null,null,null,null,null,null,null,null,null,null,null,null,null,null,null,"DSLS",null,null,null,null,null,null,"4.VATR.DSLS","Л (летнее)","тнт",0,0,0]
[null,null,null,null,null,null,null,null,null,null,null,null,null,null,null,null,null,null,null,null,null,null,null,null,null,null,null,null,null,null,null,"DSLO",null,null,null,null,null,null,"4.VATR.DSLO","Е (межсезонное)","тнт",0,0,0]
[null,null,null,null,null,null,null,null,null,null,null,null,null,null,null,null,null,null,null,null,null,null,null,null,null,null,null,null,null,null,null,"MST",null,null,null,null,null,null,"4.VATR.MST","Мазут","тнт",0,0,0]
[null,null,null,null,null,null,null,null,null,null,null,null,null,null,null,null,null,null,null,null,null,null,null,null,null,null,null,null,null,null,null,"MSTM40",null,null,null,null,null,null,"4.VATR.MSTM40","М-40","тнт",0,0,0]
[null,null,null,null,null,null,null,null,null,null,null,null,null,null,null,null,null,null,null,null,null,null,null,null,null,null,null,null,null,null,null,"MSTM100",null,null,null,null,null,null,"4.VATR.MSTM100","М-100","тнт",0,0,0]
[null,null,null,null,null,null,null,null,null,null,null,null,null,null,null,null,null,null,null,null,null,null,null,null,null,null,null,null,null,null,null,"MSTM200",null,null,null,null,null,null,"4.VATR.MSTM200","М-200","тнт",0,0,0]
[null,null,null,null,null,null,null,null,null,null,null,null,null,null,null,null,null,null,null,null,null,null,null,null,null,null,null,null,null,null,null,"MSTT",null,null,null,null,null,null,"4.VATR.MSTT","мазут марки \"Т\"","тнт",0,0,0]
[null,null,null,null,null,null,null,null,null,null,null,null,null,null,null,null,null,null,null,null,null,null,null,null,null,null,null,null,null,null,null,"MSTF5",null,null,null,null,null,null,"4.VATR.MSTF5","Ф-5","тнт",0,0,0]
[null,null,null,null,null,null,null,null,null,null,null,null,null,null,null,null,null,null,null,null,null,null,null,null,null,null,null,null,null,null,null,"MSTF12",null,null,null,null,null,null,"4.VATR.MSTF12","Ф-12","тнт",0,0,0]
[null,null,null,null,null,null,null,null,null,null,null,null,null,null,null,null,null,null,null,null,null,null,null,null,null,null,null,null,null,null,null,"OIL",null,null,null,null,null,null,"4.VATR.OIL","Нефть","тнт",0,0,0]
[null,null,null,null,null,null,null,null,null,null,null,null,null,null,null,null,null,null,null,null,null,null,null,null,null,null,null,null,null,null,null,"COA",null,null,null,null,null,null,"4.VATR.COA","Уголь","тнт",0,0,0]
[null,null,null,null,null,null,null,null,null,null,null,null,null,null,null,null,null,null,null,null,null,null,null,null,null,null,null,null,null,null,null,"COAA",null,null,null,null,null,null,"4.VATR.COAA","Уголь антрацит","тнт",0,0,0]
[null,null,null,null,null,null,null,null,null,null,null,null,null,null,null,null,null,null,null,null,null,null,null,null,null,null,null,null,null,null,null,"COAB",null,null,null,null,null,null,"4.VATR.COAB","Уголь бурый","тнт",0,0,0]
[null,null,null,null,null,null,null,null,null,null,null,null,null,null,null,null,null,null,null,null,null,null,null,null,null,null,null,null,null,null,null,"COAG",null,null,null,null,null,null,"4.VATR.COAG","Уголь газовый","тнт",0,0,0]
[null,null,null,null,null,null,null,null,null,null,null,null,null,null,null,null,null,null,null,null,null,null,null,null,null,null,null,null,null,null,null,"COALF",null,null,null,null,null,null,"4.VATR.COALF","Уголь длиннопламенный","тнт",0,0,0]
[null,null,null,null,null,null,null,null,null,null,null,null,null,null,null,null,null,null,null,null,null,null,null,null,null,null,null,null,null,null,null,"COAF",null,null,null,null,null,null,"4.VATR.COAF","Уголь жирный","тнт",0,0,0]
[null,null,null,null,null,null,null,null,null,null,null,null,null,null,null,null,null,null,null,null,null,null,null,null,null,null,null,null,null,null,null,"COAC",null,null,null,null,null,null,"4.VATR.COAC","Уголь коксовый","тнт",0,0,0]
[null,null,null,null,null,null,null,null,null,null,null,null,null,null,null,null,null,null,null,null,null,null,null,null,null,null,null,null,null,null,null,"COASC",null,null,null,null,null,null,"4.VATR.COASC","Уголь отощённо-спекающийся","тнт",0,0,0]
[null,null,null,null,null,null,null,null,null,null,null,null,null,null,null,null,null,null,null,null,null,null,null,null,null,null,null,null,null,null,null,"COAWC",null,null,null,null,null,null,"4.VATR.COAWC","Уголь слабоспекающийся","тнт",0,0,0]
[null,null,null,null,null,null,null,null,null,null,null,null,null,null,null,null,null,null,null,null,null,null,null,null,null,null,null,null,null,null,null,"COAS",null,null,null,null,null,null,"4.VATR.COAS","Уголь тощий","тнт",0,0,0]
[]
[]
[null,null,null,null,null,null,null,null,null,null,null,null,null,null,null,null,null,null,null,null,null,null,null,null,null,null,null,null,null,null,null,"CWD",null,null,null,null,null,null,"4.VATR.CWD","Уголь древесный","тнт",{"$f":"SUMIF($AS$9:$AZ$9,AP$9,$AS605:$AZ605)","v":0},0,0]
[null,null,null,null,null,null,null,null,null,null,null,null,null,null,null,null,null,null,null,null,null,null,null,null,null,null,null,null,null,null,null,"WDS",null,null,null,null,null,null,"4.VATR.WDS","Дрова","тнт",0,0,0]
[null,null,null,null,null,null,null,null,null,null,null,null,null,null,null,null,null,null,null,null,null,null,null,null,null,null,null,null,null,null,null,"PLT",null,null,null,null,null,null,"4.VATR.PLT","Пеллеты","тнт",0,0,0]
[null,null,null,null,null,null,null,null,null,null,null,null,null,null,null,null,null,null,null,null,null,null,null,null,null,null,null,null,null,null,null,"SAW",null,null,null,null,null,null,"4.VATR.SAW","Опилки","тнт",0,0,0]
[null,null,null,null,null,null,null,null,null,null,null,null,null,null,null,null,null,null,null,null,null,null,null,null,null,null,null,null,null,null,null,"PEA",null,null,null,null,null,null,"4.VATR.PEA","Торф","тнт",0,0,0]
[null,null,null,null,null,null,null,null,null,null,null,null,null,null,null,null,null,null,null,null,null,null,null,null,null,null,null,null,null,null,null,"SHL",null,null,null,null,null,null,"4.VATR.SHL","Сланцы","тнт",0,0,0]
[null,null,null,null,null,null,null,null,null,null,null,null,null,null,null,null,null,null,null,null,null,null,null,null,null,null,null,null,null,null,null,"STF",null,null,null,null,null,null,"4.VATR.STF","Печное бытовое топливо","тнт",0,0,0]
[]
[null,null,null,null,null,null,null,null,null,null,null,null,null,null,null,null,null,null,null,null,null,null,null,null,null,null,null,null,null,null,null,null,null,null,null,null,null,null,"4.CATR","Перевозка автомобильным транспортом. Стоимость транспортировки (перевозки) топлива","тыс.руб.",{"$f":"SUMIF($AS$9:$AZ$9,AP$9,$AS613:$AZ613)","v":0},{"$f":"SUMIF($AS$9:$AZ$9,AQ$9,$AS613:$AZ613)","v":0},{"$f":"SUMIF($AS$9:$AZ$9,AR$9,$AS613:$AZ613)","v":0},null,{"$f":"SUM(AT614,AT618:AT623,AT624,AT629,AT636,AT637,AT649:AT655)","v":0},0,0,0,0,0]
[]
[]
[]
[]
[]
[]
[]
[]
[null,null,null,null,null,null,null,null,null,null,null,null,null,null,null,null,null,null,null,null,null,null,null,null,null,null,null,null,null,null,null,"GCN",null,null,null,null,null,null,"4.CATR.GCN","Газовый конденсат","тыс.руб.",{"$f":"SUMIF($AS$9:$AZ$9,AP$9,$AS622:$AZ622)","v":0},0,0]
[null,null,null,null,null,null,null,null,null,null,null,null,null,null,null,null,null,null,null,null,null,null,null,null,null,null,null,null,null,null,null,"LNG",null,null,null,null,null,null,"4.CATR.LNG","Газ сжиженный","тыс.руб.",0,0,0]
[null,null,null,null,null,null,null,null,null,null,null,null,null,null,null,null,null,null,null,null,null,null,null,null,null,null,null,null,null,null,null,"DSL",null,null,null,null,null,null,"4.CATR.DSL","Дизельное топливо","тыс.руб.",0,0,0,null,{"$f":"AU624+AV624","v":0},{"$f":"SUM(AU625:AU628)","v":0},{"$f":"SUM(AV625:AV628)","v":0}]
[null,null,null,null,null,null,null,null,null,null,null,null,null,null,null,null,null,null,null,null,null,null,null,null,null,null,null,null,null,null,null,"DSLA",null,null,null,null,null,null,"4.CATR.DSLA","А (арктическое)","тыс.руб.",0,0,0]
[null,null,null,null,null,null,null,null,null,null,null,null,null,null,null,null,null,null,null,null,null,null,null,null,null,null,null,null,null,null,null,"DSLW",null,null,null,null,null,null,"4.CATR.DSLW","З (зимнее)","тыс.руб.",0,0,0,null,{"$f":"AU626+AV626","v":0},{"$f":"AU538*AU582/1000","v":0},0]
[null,null,null,null,null,null,null,null,null,null,null,null,null,null,null,null,null,null,null,null,null,null,null,null,null,null,null,null,null,null,null,"DSLS",null,null,null,null,null,null,"4.CATR.DSLS","Л (летнее)","тыс.руб.",0,0,0]
[null,null,null,null,null,null,null,null,null,null,null,null,null,null,null,null,null,null,null,null,null,null,null,null,null,null,null,null,null,null,null,"DSLO",null,null,null,null,null,null,"4.CATR.DSLO","Е (межсезонное)","тыс.руб.",0,0,0]
[null,null,null,null,null,null,null,null,null,null,null,null,null,null,null,null,null,null,null,null,null,null,null,null,null,null,null,null,null,null,null,"MST",null,null,null,null,null,null,"4.CATR.MST","Мазут","тыс.руб.",0,0,0]
[null,null,null,null,null,null,null,null,null,null,null,null,null,null,null,null,null,null,null,null,null,null,null,null,null,null,null,null,null,null,null,"MSTM40",null,null,null,null,null,null,"4.CATR.MSTM40","М-40","тыс.руб.",0,0,0]
[null,null,null,null,null,null,null,null,null,null,null,null,null,null,null,null,null,null,null,null,null,null,null,null,null,null,null,null,null,null,null,"MSTM100",null,null,null,null,null,null,"4.CATR.MSTM100","М-100","тыс.руб.",0,0,0]
[null,null,null,null,null,null,null,null,null,null,null,null,null,null,null,null,null,null,null,null,null,null,null,null,null,null,null,null,null,null,null,"MSTM200",null,null,null,null,null,null,"4.CATR.MSTM200","М-200","тыс.руб.",0,0,0]
[null,null,null,null,null,null,null,null,null,null,null,null,null,null,null,null,null,null,null,null,null,null,null,null,null,null,null,null,null,null,null,"MSTT",null,null,null,null,null,null,"4.CATR.MSTT","мазут марки \"Т\"","тыс.руб.",0,0,0]
[null,null,null,null,null,null,null,null,null,null,null,null,null,null,null,null,null,null,null,null,null,null,null,null,null,null,null,null,null,null,null,"MSTF5",null,null,null,null,null,null,"4.CATR.MSTF5","Ф-5","тыс.руб.",0,0,0]
[null,null,null,null,null,null,null,null,null,null,null,null,null,null,null,null,null,null,null,null,null,null,null,null,null,null,null,null,null,null,null,"MSTF12",null,null,null,null,null,null,"4.CATR.MSTF12","Ф-12","тыс.руб.",0,0,0]
[null,null,null,null,null,null,null,null,null,null,null,null,null,null,null,null,null,null,null,null,null,null,null,null,null,null,null,null,null,null,null,"OIL",null,null,null,null,null,null,"4.CATR.OIL","Нефть","тыс.руб.",0,0,0]
[null,null,null,null,null,null,null,null,null,null,null,null,null,null,null,null,null,null,null,null,null,null,null,null,null,null,null,null,null,null,null,"COA",null,null,null,null,null,null,"4.CATR.COA","Уголь","тыс.руб.",0,0,0]
[null,null,null,null,null,null,null,null,null,null,null,null,null,null,null,null,null,null,null,null,null,null,null,null,null,null,null,null,null,null,null,"COAA",null,null,null,null,null,null,"4.CATR.COAA","Уголь антрацит","тыс.руб.",0,0,0]
[null,null,null,null,null,null,null,null,null,null,null,null,null,null,null,null,null,null,null,null,null,null,null,null,null,null,null,null,null,null,null,"COAB",null,null,null,null,null,null,"4.CATR.COAB","Уголь бурый","тыс.руб.",0,0,0]
[null,null,null,null,null,null,null,null,null,null,null,null,null,null,null,null,null,null,null,null,null,null,null,null,null,null,null,null,null,null,null,"COAG",null,null,null,null,null,null,"4.CATR.COAG","Уголь газовый","тыс.руб.",0,0,0]
[null,null,null,null,null,null,null,null,null,null,null,null,null,null,null,null,null,null,null,null,null,null,null,null,null,null,null,null,null,null,null,"COALF",null,null,null,null,null,null,"4.CATR.COALF","Уголь длиннопламенный","тыс.руб.",0,0,0]
[null,null,null,null,null,null,null,null,null,null,null,null,null,null,null,null,null,null,null,null,null,null,null,null,null,null,null,null,null,null,null,"COAF",null,null,null,null,null,null,"4.CATR.COAF","Уголь жирный","тыс.руб.",0,0,0]
[null,null,null,null,null,null,null,null,null,null,null,null,null,null,null,null,null,null,null,null,null,null,null,null,null,null,null,null,null,null,null,"COAC",null,null,null,null,null,null,"4.CATR.COAC","Уголь коксовый","тыс.руб.",0,0,0]
[null,null,null,null,null,null,null,null,null,null,null,null,null,null,null,null,null,null,null,null,null,null,null,null,null,null,null,null,null,null,null,"COASC",null,null,null,null,null,null,"4.CATR.COASC","Уголь отощённо-спекающийся","тыс.руб.",0,0,0]
[null,null,null,null,null,null,null,null,null,null,null,null,null,null,null,null,null,null,null,null,null,null,null,null,null,null,null,null,null,null,null,"COAWC",null,null,null,null,null,null,"4.CATR.COAWC","Уголь слабоспекающийся","тыс.руб.",0,0,0]
[null,null,null,null,null,null,null,null,null,null,null,null,null,null,null,null,null,null,null,null,null,null,null,null,null,null,null,null,null,null,null,"COAS",null,null,null,null,null,null,"4.CATR.COAS","Уголь тощий","тыс.руб.",0,0,0]
[]
[]
[null,null,null,null,null,null,null,null,null,null,null,null,null,null,null,null,null,null,null,null,null,null,null,null,null,null,null,null,null,null,null,"CWD",null,null,null,null,null,null,"4.CATR.CWD","Уголь древесный","тыс.руб.",{"$f":"SUMIF($AS$9:$AZ$9,AP$9,$AS649:$AZ649)","v":0},0,0]
[null,null,null,null,null,null,null,null,null,null,null,null,null,null,null,null,null,null,null,null,null,null,null,null,null,null,null,null,null,null,null,"WDS",null,null,null,null,null,null,"4.CATR.WDS","Дрова","тыс.руб.",0,0,0]
[null,null,null,null,null,null,null,null,null,null,null,null,null,null,null,null,null,null,null,null,null,null,null,null,null,null,null,null,null,null,null,"PLT",null,null,null,null,null,null,"4.CATR.PLT","Пеллеты","тыс.руб.",0,0,0]
[null,null,null,null,null,null,null,null,null,null,null,null,null,null,null,null,null,null,null,null,null,null,null,null,null,null,null,null,null,null,null,"SAW",null,null,null,null,null,null,"4.CATR.SAW","Опилки","тыс.руб.",0,0,0]
[null,null,null,null,null,null,null,null,null,null,null,null,null,null,null,null,null,null,null,null,null,null,null,null,null,null,null,null,null,null,null,"PEA",null,null,null,null,null,null,"4.CATR.PEA","Торф","тыс.руб.",0,0,0]
[null,null,null,null,null,null,null,null,null,null,null,null,null,null,null,null,null,null,null,null,null,null,null,null,null,null,null,null,null,null,null,"SHL",null,null,null,null,null,null,"4.CATR.SHL","Сланцы","тыс.руб.",0,0,0]
[null,null,null,null,null,null,null,null,null,null,null,null,null,null,null,null,null,null,null,null,null,null,null,null,null,null,null,null,null,null,null,"STF",null,null,null,null,null,null,"4.CATR.STF","Печное бытовое топливо","тыс.руб.",0,0,0]
[]
[null,null,null,null,null,null,null,null,null,null,null,null,null,null,null,null,null,null,null,null,null,null,null,null,null,null,null,null,null,null,null,null,null,null,null,null,null,null,"4.PRTR","Перевозка ж/д транспортом. Цена (тариф) за транспортировку (перевозку) единицы топлива"]
[]
[]
[]
[]
[]
[]
[]
[]
[null,null,null,null,null,null,null,null,null,null,null,null,null,null,null,null,null,null,null,null,null,null,null,null,null,null,null,null,null,null,null,"GCN",null,null,null,null,null,null,"4.PRTR.GCN","Газовый конденсат","руб./тнт",{"$f":"IF(AP710=0,0,AP754/AP710*1000)","v":0},0,0]
[null,null,null,null,null,null,null,null,null,null,null,null,null,null,null,null,null,null,null,null,null,null,null,null,null,null,null,null,null,null,null,"LNG",null,null,null,null,null,null,"4.PRTR.LNG","Газ сжиженный","руб./тнт",0,0,0]
[null,null,null,null,null,null,null,null,null,null,null,null,null,null,null,null,null,null,null,null,null,null,null,null,null,null,null,null,null,null,null,"DSL",null,null,null,null,null,null,"4.PRTR.DSL","Дизельное топливо","руб./тнт",0,0,0,null,{"$f":"IF(AT712=0,0,AT756/AT712*1000)","v":0},{"$f":"IF(AU712=0,0,AU756/AU712*1000)","v":0},{"$f":"IF(AV712=0,0,AV756/AV712*1000)","v":0}]
[null,null,null,null,null,null,null,null,null,null,null,null,null,null,null,null,null,null,null,null,null,null,null,null,null,null,null,null,null,null,null,"DSLA",null,null,null,null,null,null,"4.PRTR.DSLA","А (арктическое)","руб./тнт",0,0,0]
[null,null,null,null,null,null,null,null,null,null,null,null,null,null,null,null,null,null,null,null,null,null,null,null,null,null,null,null,null,null,null,"DSLW",null,null,null,null,null,null,"4.PRTR.DSLW","З (зимнее)","руб./тнт",0,0,0,null,{"$f":"IF(AT714=0,0,AT758/AT714*1000)","v":0}]
[null,null,null,null,null,null,null,null,null,null,null,null,null,null,null,null,null,null,null,null,null,null,null,null,null,null,null,null,null,null,null,"DSLS",null,null,null,null,null,null,"4.PRTR.DSLS","Л (летнее)","руб./тнт",0,0,0]
[null,null,null,null,null,null,null,null,null,null,null,null,null,null,null,null,null,null,null,null,null,null,null,null,null,null,null,null,null,null,null,"DSLO",null,null,null,null,null,null,"4.PRTR.DSLO","Е (межсезонное)","руб./тнт",0,0,0]
[null,null,null,null,null,null,null,null,null,null,null,null,null,null,null,null,null,null,null,null,null,null,null,null,null,null,null,null,null,null,null,"MST",null,null,null,null,null,null,"4.PRTR.MST","Мазут","руб./тнт",0,0,0]
[null,null,null,null,null,null,null,null,null,null,null,null,null,null,null,null,null,null,null,null,null,null,null,null,null,null,null,null,null,null,null,"MSTM40",null,null,null,null,null,null,"4.PRTR.MSTM40","М-40","руб./тнт",0,0,0]
[null,null,null,null,null,null,null,null,null,null,null,null,null,null,null,null,null,null,null,null,null,null,null,null,null,null,null,null,null,null,null,"MSTM100",null,null,null,null,null,null,"4.PRTR.MSTM100","М-100","руб./тнт",0,0,0]
[null,null,null,null,null,null,null,null,null,null,null,null,null,null,null,null,null,null,null,null,null,null,null,null,null,null,null,null,null,null,null,"MSTM200",null,null,null,null,null,null,"4.PRTR.MSTM200","М-200","руб./тнт",0,0,0]
[null,null,null,null,null,null,null,null,null,null,null,null,null,null,null,null,null,null,null,null,null,null,null,null,null,null,null,null,null,null,null,"MSTT",null,null,null,null,null,null,"4.PRTR.MSTT","мазут марки \"Т\"","руб./тнт",0,0,0]
[null,null,null,null,null,null,null,null,null,null,null,null,null,null,null,null,null,null,null,null,null,null,null,null,null,null,null,null,null,null,null,"MSTF5",null,null,null,null,null,null,"4.PRTR.MSTF5","Ф-5","руб./тнт",0,0,0]
[null,null,null,null,null,null,null,null,null,null,null,null,null,null,null,null,null,null,null,null,null,null,null,null,null,null,null,null,null,null,null,"MSTF12",null,null,null,null,null,null,"4.PRTR.MSTF12","Ф-12","руб./тнт",0,0,0]
[null,null,null,null,null,null,null,null,null,null,null,null,null,null,null,null,null,null,null,null,null,null,null,null,null,null,null,null,null,null,null,"OIL",null,null,null,null,null,null,"4.PRTR.OIL","Нефть","руб./тнт",0,0,0]
[null,null,null,null,null,null,null,null,null,null,null,null,null,null,null,null,null,null,null,null,null,null,null,null,null,null,null,null,null,null,null,"COA",null,null,null,null,null,null,"4.PRTR.COA","Уголь","руб./тнт",0,0,0]
[null,null,null,null,null,null,null,null,null,null,null,null,null,null,null,null,null,null,null,null,null,null,null,null,null,null,null,null,null,null,null,"COAA",null,null,null,null,null,null,"4.PRTR.COAA","Уголь антрацит","руб./тнт",0,0,0]
[null,null,null,null,null,null,null,null,null,null,null,null,null,null,null,null,null,null,null,null,null,null,null,null,null,null,null,null,null,null,null,"COAB",null,null,null,null,null,null,"4.PRTR.COAB","Уголь бурый","руб./тнт",0,0,0]
[null,null,null,null,null,null,null,null,null,null,null,null,null,null,null,null,null,null,null,null,null,null,null,null,null,null,null,null,null,null,null,"COAG",null,null,null,null,null,null,"4.PRTR.COAG","Уголь газовый","руб./тнт",0,0,0]
[null,null,null,null,null,null,null,null,null,null,null,null,null,null,null,null,null,null,null,null,null,null,null,null,null,null,null,null,null,null,null,"COALF",null,null,null,null,null,null,"4.PRTR.COALF","Уголь длиннопламенный","руб./тнт",0,0,0]
[null,null,null,null,null,null,null,null,null,null,null,null,null,null,null,null,null,null,null,null,null,null,null,null,null,null,null,null,null,null,null,"COAF",null,null,null,null,null,null,"4.PRTR.COAF","Уголь жирный","руб./тнт",0,0,0]
[null,null,null,null,null,null,null,null,null,null,null,null,null,null,null,null,null,null,null,null,null,null,null,null,null,null,null,null,null,null,null,"COAC",null,null,null,null,null,null,"4.PRTR.COAC","Уголь коксовый","руб./тнт",0,0,0]
[null,null,null,null,null,null,null,null,null,null,null,null,null,null,null,null,null,null,null,null,null,null,null,null,null,null,null,null,null,null,null,"COASC",null,null,null,null,null,null,"4.PRTR.COASC","Уголь отощённо-спекающийся","руб./тнт",0,0,0]
[null,null,null,null,null,null,null,null,null,null,null,null,null,null,null,null,null,null,null,null,null,null,null,null,null,null,null,null,null,null,null,"COAWC",null,null,null,null,null,null,"4.PRTR.COAWC","Уголь слабоспекающийся","руб./тнт",0,0,0]
[null,null,null,null,null,null,null,null,null,null,null,null,null,null,null,null,null,null,null,null,null,null,null,null,null,null,null,null,null,null,null,"COAS",null,null,null,null,null,null,"4.PRTR.COAS","Уголь тощий","руб./тнт",0,0,0]
[]
[]
[null,null,null,null,null,null,null,null,null,null,null,null,null,null,null,null,null,null,null,null,null,null,null,null,null,null,null,null,null,null,null,"CWD",null,null,null,null,null,null,"4.PRTR.CWD","Уголь древесный","руб./тнт",{"$f":"IF(AP737=0,0,AP781/AP737*1000)","v":0},0,0]
[null,null,null,null,null,null,null,null,null,null,null,null,null,null,null,null,null,null,null,null,null,null,null,null,null,null,null,null,null,null,null,"WDS",null,null,null,null,null,null,"4.PRTR.WDS","Дрова","руб./тнт",0,0,0]
[null,null,null,null,null,null,null,null,null,null,null,null,null,null,null,null,null,null,null,null,null,null,null,null,null,null,null,null,null,null,null,"PLT",null,null,null,null,null,null,"4.PRTR.PLT","Пеллеты","руб./тнт",0,0,0]
[null,null,null,null,null,null,null,null,null,null,null,null,null,null,null,null,null,null,null,null,null,null,null,null,null,null,null,null,null,null,null,"SAW",null,null,null,null,null,null,"4.PRTR.SAW","Опилки","руб./тнт",0,0,0]
[null,null,null,null,null,null,null,null,null,null,null,null,null,null,null,null,null,null,null,null,null,null,null,null,null,null,null,null,null,null,null,"PEA",null,null,null,null,null,null,"4.PRTR.PEA","Торф","руб./тнт",0,0,0]
[null,null,null,null,null,null,null,null,null,null,null,null,null,null,null,null,null,null,null,null,null,null,null,null,null,null,null,null,null,null,null,"SHL",null,null,null,null,null,null,"4.PRTR.SHL","Сланцы","руб./тнт",0,0,0]
[null,null,null,null,null,null,null,null,null,null,null,null,null,null,null,null,null,null,null,null,null,null,null,null,null,null,null,null,null,null,null,"STF",null,null,null,null,null,null,"4.PRTR.STF","Печное бытовое топливо","руб./тнт",0,0,0]
[]
[null,null,null,null,null,null,null,null,null,null,null,null,null,null,null,null,null,null,null,null,null,null,null,null,null,null,null,null,null,null,null,null,null,null,null,null,null,null,"4.VRTR","Перевозка ж/д транспортом. Объём транспортировки (перевозки) топлива"]
[]
[]
[]
[]
[]
[]
[]
[]
[null,null,null,null,null,null,null,null,null,null,null,null,null,null,null,null,null,null,null,null,null,null,null,null,null,null,null,null,null,null,null,"GCN",null,null,null,null,null,null,"4.VRTR.GCN","Газовый конденсат","тнт",{"$f":"SUMIF($AS$9:$AZ$9,AP$9,$AS710:$AZ710)","v":0},0,0]
[null,null,null,null,null,null,null,null,null,null,null,null,null,null,null,null,null,null,null,null,null,null,null,null,null,null,null,null,null,null,null,"LNG",null,null,null,null,null,null,"4.VRTR.LNG","Газ сжиженный","тнт",0,0,0]
[null,null,null,null,null,null,null,null,null,null,null,null,null,null,null,null,null,null,null,null,null,null,null,null,null,null,null,null,null,null,null,"DSL",null,null,null,null,null,null,"4.VRTR.DSL","Дизельное топливо","тнт",0,0,0,null,{"$f":"AU712+AV712","v":0},{"$f":"SUM(AU713:AU716)","v":0},{"$f":"SUM(AV713:AV716)","v":0}]
[null,null,null,null,null,null,null,null,null,null,null,null,null,null,null,null,null,null,null,null,null,null,null,null,null,null,null,null,null,null,null,"DSLA",null,null,null,null,null,null,"4.VRTR.DSLA","А (арктическое)","тнт",0,0,0]
[null,null,null,null,null,null,null,null,null,null,null,null,null,null,null,null,null,null,null,null,null,null,null,null,null,null,null,null,null,null,null,"DSLW",null,null,null,null,null,null,"4.VRTR.DSLW","З (зимнее)","тнт",0,0,0,null,{"$f":"AU714+AV714","v":0}]
[null,null,null,null,null,null,null,null,null,null,null,null,null,null,null,null,null,null,null,null,null,null,null,null,null,null,null,null,null,null,null,"DSLS",null,null,null,null,null,null,"4.VRTR.DSLS","Л (летнее)","тнт",0,0,0]
[null,null,null,null,null,null,null,null,null,null,null,null,null,null,null,null,null,null,null,null,null,null,null,null,null,null,null,null,null,null,null,"DSLO",null,null,null,null,null,null,"4.VRTR.DSLO","Е (межсезонное)","тнт",0,0,0]
[null,null,null,null,null,null,null,null,null,null,null,null,null,null,null,null,null,null,null,null,null,null,null,null,null,null,null,null,null,null,null,"MST",null,null,null,null,null,null,"4.VRTR.MST","Мазут","тнт",0,0,0]
[null,null,null,null,null,null,null,null,null,null,null,null,null,null,null,null,null,null,null,null,null,null,null,null,null,null,null,null,null,null,null,"MSTM40",null,null,null,null,null,null,"4.VRTR.MSTM40","М-40","тнт",0,0,0]
[null,null,null,null,null,null,null,null,null,null,null,null,null,null,null,null,null,null,null,null,null,null,null,null,null,null,null,null,null,null,null,"MSTM100",null,null,null,null,null,null,"4.VRTR.MSTM100","М-100","тнт",0,0,0]
[null,null,null,null,null,null,null,null,null,null,null,null,null,null,null,null,null,null,null,null,null,null,null,null,null,null,null,null,null,null,null,"MSTM200",null,null,null,null,null,null,"4.VRTR.MSTM200","М-200","тнт",0,0,0]
[null,null,null,null,null,null,null,null,null,null,null,null,null,null,null,null,null,null,null,null,null,null,null,null,null,null,null,null,null,null,null,"MSTT",null,null,null,null,null,null,"4.VRTR.MSTT","мазут марки \"Т\"","тнт",0,0,0]
[null,null,null,null,null,null,null,null,null,null,null,null,null,null,null,null,null,null,null,null,null,null,null,null,null,null,null,null,null,null,null,"MSTF5",null,null,null,null,null,null,"4.VRTR.MSTF5","Ф-5","тнт",0,0,0]
[null,null,null,null,null,null,null,null,null,null,null,null,null,null,null,null,null,null,null,null,null,null,null,null,null,null,null,null,null,null,null,"MSTF12",null,null,null,null,null,null,"4.VRTR.MSTF12","Ф-12","тнт",0,0,0]
[null,null,null,null,null,null,null,null,null,null,null,null,null,null,null,null,null,null,null,null,null,null,null,null,null,null,null,null,null,null,null,"OIL",null,null,null,null,null,null,"4.VRTR.OIL","Нефть","тнт",0,0,0]
[null,null,null,null,null,null,null,null,null,null,null,null,null,null,null,null,null,null,null,null,null,null,null,null,null,null,null,null,null,null,null,"COA",null,null,null,null,null,null,"4.VRTR.COA","Уголь","тнт",0,0,0]
[null,null,null,null,null,null,null,null,null,null,null,null,null,null,null,null,null,null,null,null,null,null,null,null,null,null,null,null,null,null,null,"COAA",null,null,null,null,null,null,"4.VRTR.COAA","Уголь антрацит","тнт",0,0,0]
[null,null,null,null,null,null,null,null,null,null,null,null,null,null,null,null,null,null,null,null,null,null,null,null,null,null,null,null,null,null,null,"COAB",null,null,null,null,null,null,"4.VRTR.COAB","Уголь бурый","тнт",0,0,0]
[null,null,null,null,null,null,null,null,null,null,null,null,null,null,null,null,null,null,null,null,null,null,null,null,null,null,null,null,null,null,null,"COAG",null,null,null,null,null,null,"4.VRTR.COAG","Уголь газовый","тнт",0,0,0]
[null,null,null,null,null,null,null,null,null,null,null,null,null,null,null,null,null,null,null,null,null,null,null,null,null,null,null,null,null,null,null,"COALF",null,null,null,null,null,null,"4.VRTR.COALF","Уголь длиннопламенный","тнт",0,0,0]
[null,null,null,null,null,null,null,null,null,null,null,null,null,null,null,null,null,null,null,null,null,null,null,null,null,null,null,null,null,null,null,"COAF",null,null,null,null,null,null,"4.VRTR.COAF","Уголь жирный","тнт",0,0,0]
[null,null,null,null,null,null,null,null,null,null,null,null,null,null,null,null,null,null,null,null,null,null,null,null,null,null,null,null,null,null,null,"COAC",null,null,null,null,null,null,"4.VRTR.COAC","Уголь коксовый","тнт",0,0,0]
[null,null,null,null,null,null,null,null,null,null,null,null,null,null,null,null,null,null,null,null,null,null,null,null,null,null,null,null,null,null,null,"COASC",null,null,null,null,null,null,"4.VRTR.COASC","Уголь отощённо-спекающийся","тнт",0,0,0]
[null,null,null,null,null,null,null,null,null,null,null,null,null,null,null,null,null,null,null,null,null,null,null,null,null,null,null,null,null,null,null,"COAWC",null,null,null,null,null,null,"4.VRTR.COAWC","Уголь слабоспекающийся","тнт",0,0,0]
[null,null,null,null,null,null,null,null,null,null,null,null,null,null,null,null,null,null,null,null,null,null,null,null,null,null,null,null,null,null,null,"COAS",null,null,null,null,null,null,"4.VRTR.COAS","Уголь тощий","тнт",0,0,0]
[]
[]
[null,null,null,null,null,null,null,null,null,null,null,null,null,null,null,null,null,null,null,null,null,null,null,null,null,null,null,null,null,null,null,"CWD",null,null,null,null,null,null,"4.VRTR.CWD","Уголь древесный","тнт",{"$f":"SUMIF($AS$9:$AZ$9,AP$9,$AS737:$AZ737)","v":0},0,0]
[null,null,null,null,null,null,null,null,null,null,null,null,null,null,null,null,null,null,null,null,null,null,null,null,null,null,null,null,null,null,null,"WDS",null,null,null,null,null,null,"4.VRTR.WDS","Дрова","тнт",0,0,0]
[null,null,null,null,null,null,null,null,null,null,null,null,null,null,null,null,null,null,null,null,null,null,null,null,null,null,null,null,null,null,null,"PLT",null,null,null,null,null,null,"4.VRTR.PLT","Пеллеты","тнт",0,0,0]
[null,null,null,null,null,null,null,null,null,null,null,null,null,null,null,null,null,null,null,null,null,null,null,null,null,null,null,null,null,null,null,"SAW",null,null,null,null,null,null,"4.VRTR.SAW","Опилки","тнт",0,0,0]
[null,null,null,null,null,null,null,null,null,null,null,null,null,null,null,null,null,null,null,null,null,null,null,null,null,null,null,null,null,null,null,"PEA",null,null,null,null,null,null,"4.VRTR.PEA","Торф","тнт",0,0,0]
[null,null,null,null,null,null,null,null,null,null,null,null,null,null,null,null,null,null,null,null,null,null,null,null,null,null,null,null,null,null,null,"SHL",null,null,null,null,null,null,"4.VRTR.SHL","Сланцы","тнт",0,0,0]
[null,null,null,null,null,null,null,null,null,null,null,null,null,null,null,null,null,null,null,null,null,null,null,null,null,null,null,null,null,null,null,"STF",null,null,null,null,null,null,"4.VRTR.STF","Печное бытовое топливо","тнт",0,0,0]
[]
[null,null,null,null,null,null,null,null,null,null,null,null,null,null,null,null,null,null,null,null,null,null,null,null,null,null,null,null,null,null,null,null,null,null,null,null,null,null,"4.CRTR","Перевозка ж/д транспортом. Стоимость транспортировки (перевозки) топлива","тыс.руб.",{"$f":"SUMIF($AS$9:$AZ$9,AP$9,$AS745:$AZ745)","v":0},{"$f":"SUMIF($AS$9:$AZ$9,AQ$9,$AS745:$AZ745)","v":0},{"$f":"SUMIF($AS$9:$AZ$9,AR$9,$AS745:$AZ745)","v":0},null,{"$f":"SUM(AT746,AT750:AT755,AT756,AT761,AT768,AT769,AT781:AT787)","v":0},0,0,0,0,0]
[]
[]
[]
[]
[]
[]
[]
[]
[null,null,null,null,null,null,null,null,null,null,null,null,null,null,null,null,null,null,null,null,null,null,null,null,null,null,null,null,null,null,null,"GCN",null,null,null,null,null,null,"4.CRTR.GCN","Газовый конденсат","тыс.руб.",{"$f":"SUMIF($AS$9:$AZ$9,AP$9,$AS754:$AZ754)","v":0},0,0]
[null,null,null,null,null,null,null,null,null,null,null,null,null,null,null,null,null,null,null,null,null,null,null,null,null,null,null,null,null,null,null,"LNG",null,null,null,null,null,null,"4.CRTR.LNG","Газ сжиженный","тыс.руб.",0,0,0]
[null,null,null,null,null,null,null,null,null,null,null,null,null,null,null,null,null,null,null,null,null,null,null,null,null,null,null,null,null,null,null,"DSL",null,null,null,null,null,null,"4.CRTR.DSL","Дизельное топливо","тыс.руб.",0,0,0,null,{"$f":"AU756+AV756","v":0},{"$f":"SUM(AU757:AU760)","v":0},{"$f":"SUM(AV757:AV760)","v":0}]
[null,null,null,null,null,null,null,null,null,null,null,null,null,null,null,null,null,null,null,null,null,null,null,null,null,null,null,null,null,null,null,"DSLA",null,null,null,null,null,null,"4.CRTR.DSLA","А (арктическое)","тыс.руб.",0,0,0]
[null,null,null,null,null,null,null,null,null,null,null,null,null,null,null,null,null,null,null,null,null,null,null,null,null,null,null,null,null,null,null,"DSLW",null,null,null,null,null,null,"4.CRTR.DSLW","З (зимнее)","тыс.руб.",0,0,0,null,{"$f":"AU758+AV758","v":0},{"$f":"AU670*AU714/1000","v":0},0]
[null,null,null,null,null,null,null,null,null,null,null,null,null,null,null,null,null,null,null,null,null,null,null,null,null,null,null,null,null,null,null,"DSLS",null,null,null,null,null,null,"4.CRTR.DSLS","Л (летнее)","тыс.руб.",0,0,0]
[null,null,null,null,null,null,null,null,null,null,null,null,null,null,null,null,null,null,null,null,null,null,null,null,null,null,null,null,null,null,null,"DSLO",null,null,null,null,null,null,"4.CRTR.DSLO","Е (межсезонное)","тыс.руб.",0,0,0]
[null,null,null,null,null,null,null,null,null,null,null,null,null,null,null,null,null,null,null,null,null,null,null,null,null,null,null,null,null,null,null,"MST",null,null,null,null,null,null,"4.CRTR.MST","Мазут","тыс.руб.",0,0,0]
[null,null,null,null,null,null,null,null,null,null,null,null,null,null,null,null,null,null,null,null,null,null,null,null,null,null,null,null,null,null,null,"MSTM40",null,null,null,null,null,null,"4.CRTR.MSTM40","М-40","тыс.руб.",0,0,0]
[null,null,null,null,null,null,null,null,null,null,null,null,null,null,null,null,null,null,null,null,null,null,null,null,null,null,null,null,null,null,null,"MSTM100",null,null,null,null,null,null,"4.CRTR.MSTM100","М-100","тыс.руб.",0,0,0]
[null,null,null,null,null,null,null,null,null,null,null,null,null,null,null,null,null,null,null,null,null,null,null,null,null,null,null,null,null,null,null,"MSTM200",null,null,null,null,null,null,"4.CRTR.MSTM200","М-200","тыс.руб.",0,0,0]
[null,null,null,null,null,null,null,null,null,null,null,null,null,null,null,null,null,null,null,null,null,null,null,null,null,null,null,null,null,null,null,"MSTT",null,null,null,null,null,null,"4.CRTR.MSTT","мазут марки \"Т\"","тыс.руб.",0,0,0]
[null,null,null,null,null,null,null,null,null,null,null,null,null,null,null,null,null,null,null,null,null,null,null,null,null,null,null,null,null,null,null,"MSTF5",null,null,null,null,null,null,"4.CRTR.MSTF5","Ф-5","тыс.руб.",0,0,0]
[null,null,null,null,null,null,null,null,null,null,null,null,null,null,null,null,null,null,null,null,null,null,null,null,null,null,null,null,null,null,null,"MSTF12",null,null,null,null,null,null,"4.CRTR.MSTF12","Ф-12","тыс.руб.",0,0,0]
[null,null,null,null,null,null,null,null,null,null,null,null,null,null,null,null,null,null,null,null,null,null,null,null,null,null,null,null,null,null,null,"OIL",null,null,null,null,null,null,"4.CRTR.OIL","Нефть","тыс.руб.",0,0,0]
[null,null,null,null,null,null,null,null,null,null,null,null,null,null,null,null,null,null,null,null,null,null,null,null,null,null,null,null,null,null,null,"COA",null,null,null,null,null,null,"4.CRTR.COA","Уголь","тыс.руб.",0,0,0]
[null,null,null,null,null,null,null,null,null,null,null,null,null,null,null,null,null,null,null,null,null,null,null,null,null,null,null,null,null,null,null,"COAA",null,null,null,null,null,null,"4.CRTR.COAA","Уголь антрацит","тыс.руб.",0,0,0]
[null,null,null,null,null,null,null,null,null,null,null,null,null,null,null,null,null,null,null,null,null,null,null,null,null,null,null,null,null,null,null,"COAB",null,null,null,null,null,null,"4.CRTR.COAB","Уголь бурый","тыс.руб.",0,0,0]
[null,null,null,null,null,null,null,null,null,null,null,null,null,null,null,null,null,null,null,null,null,null,null,null,null,null,null,null,null,null,null,"COAG",null,null,null,null,null,null,"4.CRTR.COAG","Уголь газовый","тыс.руб.",0,0,0]
[null,null,null,null,null,null,null,null,null,null,null,null,null,null,null,null,null,null,null,null,null,null,null,null,null,null,null,null,null,null,null,"COALF",null,null,null,null,null,null,"4.CRTR.COALF","Уголь длиннопламенный","тыс.руб.",0,0,0]
[null,null,null,null,null,null,null,null,null,null,null,null,null,null,null,null,null,null,null,null,null,null,null,null,null,null,null,null,null,null,null,"COAF",null,null,null,null,null,null,"4.CRTR.COAF","Уголь жирный","тыс.руб.",0,0,0]
[null,null,null,null,null,null,null,null,null,null,null,null,null,null,null,null,null,null,null,null,null,null,null,null,null,null,null,null,null,null,null,"COAC",null,null,null,null,null,null,"4.CRTR.COAC","Уголь коксовый","тыс.руб.",0,0,0]
[null,null,null,null,null,null,null,null,null,null,null,null,null,null,null,null,null,null,null,null,null,null,null,null,null,null,null,null,null,null,null,"COASC",null,null,null,null,null,null,"4.CRTR.COASC","Уголь отощённо-спекающийся","тыс.руб.",0,0,0]
[null,null,null,null,null,null,null,null,null,null,null,null,null,null,null,null,null,null,null,null,null,null,null,null,null,null,null,null,null,null,null,"COAWC",null,null,null,null,null,null,"4.CRTR.COAWC","Уголь слабоспекающийся","тыс.руб.",0,0,0]
[null,null,null,null,null,null,null,null,null,null,null,null,null,null,null,null,null,null,null,null,null,null,null,null,null,null,null,null,null,null,null,"COAS",null,null,null,null,null,null,"4.CRTR.COAS","Уголь тощий","тыс.руб.",0,0,0]
[]
[]
[null,null,null,null,null,null,null,null,null,null,null,null,null,null,null,null,null,null,null,null,null,null,null,null,null,null,null,null,null,null,null,"CWD",null,null,null,null,null,null,"4.CRTR.CWD","Уголь древесный","тыс.руб.",{"$f":"SUMIF($AS$9:$AZ$9,AP$9,$AS781:$AZ781)","v":0},0,0]
[null,null,null,null,null,null,null,null,null,null,null,null,null,null,null,null,null,null,null,null,null,null,null,null,null,null,null,null,null,null,null,"WDS",null,null,null,null,null,null,"4.CRTR.WDS","Дрова","тыс.руб.",0,0,0]
[null,null,null,null,null,null,null,null,null,null,null,null,null,null,null,null,null,null,null,null,null,null,null,null,null,null,null,null,null,null,null,"PLT",null,null,null,null,null,null,"4.CRTR.PLT","Пеллеты","тыс.руб.",0,0,0]
[null,null,null,null,null,null,null,null,null,null,null,null,null,null,null,null,null,null,null,null,null,null,null,null,null,null,null,null,null,null,null,"SAW",null,null,null,null,null,null,"4.CRTR.SAW","Опилки","тыс.руб.",0,0,0]
[null,null,null,null,null,null,null,null,null,null,null,null,null,null,null,null,null,null,null,null,null,null,null,null,null,null,null,null,null,null,null,"PEA",null,null,null,null,null,null,"4.CRTR.PEA","Торф","тыс.руб.",0,0,0]
[null,null,null,null,null,null,null,null,null,null,null,null,null,null,null,null,null,null,null,null,null,null,null,null,null,null,null,null,null,null,null,"SHL",null,null,null,null,null,null,"4.CRTR.SHL","Сланцы","тыс.руб.",0,0,0]
[null,null,null,null,null,null,null,null,null,null,null,null,null,null,null,null,null,null,null,null,null,null,null,null,null,null,null,null,null,null,null,"STF",null,null,null,null,null,null,"4.CRTR.STF","Печное бытовое топливо","тыс.руб.",0,0,0]
[]
[null,null,null,null,null,null,null,null,null,null,null,null,null,null,null,null,null,null,null,null,null,null,null,null,null,null,null,null,null,null,null,null,null,null,null,null,null,null,"4.POTR","Иные виды транспортировки (перевозки). Цена (тариф) за транспортировку (перевозку) единицы топлива"]
[]
[]
[]
[]
[]
[]
[]
[]
[null,null,null,null,null,null,null,null,null,null,null,null,null,null,null,null,null,null,null,null,null,null,null,null,null,null,null,null,null,null,null,"GCN",null,null,null,null,null,null,"4.POTR.GCN","Газовый конденсат","руб./тнт",{"$f":"IF(AP842=0,0,AP886/AP842*1000)","v":0},0,0]
[null,null,null,null,null,null,null,null,null,null,null,null,null,null,null,null,null,null,null,null,null,null,null,null,null,null,null,null,null,null,null,"LNG",null,null,null,null,null,null,"4.POTR.LNG","Газ сжиженный","руб./тнт",0,0,0]
[null,null,null,null,null,null,null,null,null,null,null,null,null,null,null,null,null,null,null,null,null,null,null,null,null,null,null,null,null,null,null,"DSL",null,null,null,null,null,null,"4.POTR.DSL","Дизельное топливо","руб./тнт",0,0,0,null,{"$f":"IF(AT844=0,0,AT888/AT844*1000)","v":0},{"$f":"IF(AU844=0,0,AU888/AU844*1000)","v":0},{"$f":"IF(AV844=0,0,AV888/AV844*1000)","v":0}]
[null,null,null,null,null,null,null,null,null,null,null,null,null,null,null,null,null,null,null,null,null,null,null,null,null,null,null,null,null,null,null,"DSLA",null,null,null,null,null,null,"4.POTR.DSLA","А (арктическое)","руб./тнт",0,0,0]
[null,null,null,null,null,null,null,null,null,null,null,null,null,null,null,null,null,null,null,null,null,null,null,null,null,null,null,null,null,null,null,"DSLW",null,null,null,null,null,null,"4.POTR.DSLW","З (зимнее)","руб./тнт",0,0,0,null,{"$f":"IF(AT846=0,0,AT890/AT846*1000)","v":0}]
[null,null,null,null,null,null,null,null,null,null,null,null,null,null,null,null,null,null,null,null,null,null,null,null,null,null,null,null,null,null,null,"DSLS",null,null,null,null,null,null,"4.POTR.DSLS","Л (летнее)","руб./тнт",0,0,0]
[null,null,null,null,null,null,null,null,null,null,null,null,null,null,null,null,null,null,null,null,null,null,null,null,null,null,null,null,null,null,null,"DSLO",null,null,null,null,null,null,"4.POTR.DSLO","Е (межсезонное)","руб./тнт",0,0,0]
[null,null,null,null,null,null,null,null,null,null,null,null,null,null,null,null,null,null,null,null,null,null,null,null,null,null,null,null,null,null,null,"MST",null,null,null,null,null,null,"4.POTR.MST","Мазут","руб./тнт",0,0,0]
[null,null,null,null,null,null,null,null,null,null,null,null,null,null,null,null,null,null,null,null,null,null,null,null,null,null,null,null,null,null,null,"MSTM40",null,null,null,null,null,null,"4.POTR.MSTM40","М-40","руб./тнт",0,0,0]
[null,null,null,null,null,null,null,null,null,null,null,null,null,null,null,null,null,null,null,null,null,null,null,null,null,null,null,null,null,null,null,"MSTM100",null,null,null,null,null,null,"4.POTR.MSTM100","М-100","руб./тнт",0,0,0]
[null,null,null,null,null,null,null,null,null,null,null,null,null,null,null,null,null,null,null,null,null,null,null,null,null,null,null,null,null,null,null,"MSTM200",null,null,null,null,null,null,"4.POTR.MSTM200","М-200","руб./тнт",0,0,0]
[null,null,null,null,null,null,null,null,null,null,null,null,null,null,null,null,null,null,null,null,null,null,null,null,null,null,null,null,null,null,null,"MSTT",null,null,null,null,null,null,"4.POTR.MSTT","мазут марки \"Т\"","руб./тнт",0,0,0]
[null,null,null,null,null,null,null,null,null,null,null,null,null,null,null,null,null,null,null,null,null,null,null,null,null,null,null,null,null,null,null,"MSTF5",null,null,null,null,null,null,"4.POTR.MSTF5","Ф-5","руб./тнт",0,0,0]
[null,null,null,null,null,null,null,null,null,null,null,null,null,null,null,null,null,null,null,null,null,null,null,null,null,null,null,null,null,null,null,"MSTF12",null,null,null,null,null,null,"4.POTR.MSTF12","Ф-12","руб./тнт",0,0,0]
[null,null,null,null,null,null,null,null,null,null,null,null,null,null,null,null,null,null,null,null,null,null,null,null,null,null,null,null,null,null,null,"OIL",null,null,null,null,null,null,"4.POTR.OIL","Нефть","руб./тнт",0,0,0]
[null,null,null,null,null,null,null,null,null,null,null,null,null,null,null,null,null,null,null,null,null,null,null,null,null,null,null,null,null,null,null,"COA",null,null,null,null,null,null,"4.POTR.COA","Уголь","руб./тнт",0,0,0]
[null,null,null,null,null,null,null,null,null,null,null,null,null,null,null,null,null,null,null,null,null,null,null,null,null,null,null,null,null,null,null,"COAA",null,null,null,null,null,null,"4.POTR.COAA","Уголь антрацит","руб./тнт",0,0,0]
[null,null,null,null,null,null,null,null,null,null,null,null,null,null,null,null,null,null,null,null,null,null,null,null,null,null,null,null,null,null,null,"COAB",null,null,null,null,null,null,"4.POTR.COAB","Уголь бурый","руб./тнт",0,0,0]
[null,null,null,null,null,null,null,null,null,null,null,null,null,null,null,null,null,null,null,null,null,null,null,null,null,null,null,null,null,null,null,"COAG",null,null,null,null,null,null,"4.POTR.COAG","Уголь газовый","руб./тнт",0,0,0]
[null,null,null,null,null,null,null,null,null,null,null,null,null,null,null,null,null,null,null,null,null,null,null,null,null,null,null,null,null,null,null,"COALF",null,null,null,null,null,null,"4.POTR.COALF","Уголь длиннопламенный","руб./тнт",0,0,0]
[null,null,null,null,null,null,null,null,null,null,null,null,null,null,null,null,null,null,null,null,null,null,null,null,null,null,null,null,null,null,null,"COAF",null,null,null,null,null,null,"4.POTR.COAF","Уголь жирный","руб./тнт",0,0,0]
[null,null,null,null,null,null,null,null,null,null,null,null,null,null,null,null,null,null,null,null,null,null,null,null,null,null,null,null,null,null,null,"COAC",null,null,null,null,null,null,"4.POTR.COAC","Уголь коксовый","руб./тнт",0,0,0]
[null,null,null,null,null,null,null,null,null,null,null,null,null,null,null,null,null,null,null,null,null,null,null,null,null,null,null,null,null,null,null,"COASC",null,null,null,null,null,null,"4.POTR.COASC","Уголь отощённо-спекающийся","руб./тнт",0,0,0]
[null,null,null,null,null,null,null,null,null,null,null,null,null,null,null,null,null,null,null,null,null,null,null,null,null,null,null,null,null,null,null,"COAWC",null,null,null,null,null,null,"4.POTR.COAWC","Уголь слабоспекающийся","руб./тнт",0,0,0]
[null,null,null,null,null,null,null,null,null,null,null,null,null,null,null,null,null,null,null,null,null,null,null,null,null,null,null,null,null,null,null,"COAS",null,null,null,null,null,null,"4.POTR.COAS","Уголь тощий","руб./тнт",0,0,0]
[]
[]
[null,null,null,null,null,null,null,null,null,null,null,null,null,null,null,null,null,null,null,null,null,null,null,null,null,null,null,null,null,null,null,"CWD",null,null,null,null,null,null,"4.POTR.CWD","Уголь древесный","руб./тнт",{"$f":"IF(AP869=0,0,AP913/AP869*1000)","v":0},0,0]
[null,null,null,null,null,null,null,null,null,null,null,null,null,null,null,null,null,null,null,null,null,null,null,null,null,null,null,null,null,null,null,"WDS",null,null,null,null,null,null,"4.POTR.WDS","Дрова","руб./тнт",0,0,0]
[null,null,null,null,null,null,null,null,null,null,null,null,null,null,null,null,null,null,null,null,null,null,null,null,null,null,null,null,null,null,null,"PLT",null,null,null,null,null,null,"4.POTR.PLT","Пеллеты","руб./тнт",0,0,0]
[null,null,null,null,null,null,null,null,null,null,null,null,null,null,null,null,null,null,null,null,null,null,null,null,null,null,null,null,null,null,null,"SAW",null,null,null,null,null,null,"4.POTR.SAW","Опилки","руб./тнт",0,0,0]
[null,null,null,null,null,null,null,null,null,null,null,null,null,null,null,null,null,null,null,null,null,null,null,null,null,null,null,null,null,null,null,"PEA",null,null,null,null,null,null,"4.POTR.PEA","Торф","руб./тнт",0,0,0]
[null,null,null,null,null,null,null,null,null,null,null,null,null,null,null,null,null,null,null,null,null,null,null,null,null,null,null,null,null,null,null,"SHL",null,null,null,null,null,null,"4.POTR.SHL","Сланцы","руб./тнт",0,0,0]
[null,null,null,null,null,null,null,null,null,null,null,null,null,null,null,null,null,null,null,null,null,null,null,null,null,null,null,null,null,null,null,"STF",null,null,null,null,null,null,"4.POTR.STF","Печное бытовое топливо","руб./тнт",0,0,0]
[]
[null,null,null,null,null,null,null,null,null,null,null,null,null,null,null,null,null,null,null,null,null,null,null,null,null,null,null,null,null,null,null,null,null,null,null,null,null,null,"4.VOTR","Иные виды транспортировки (перевозки). Объём транспортировки (перевозки) топлива"]
[]
[]
[]
[]
[]
[]
[]
[]
[null,null,null,null,null,null,null,null,null,null,null,null,null,null,null,null,null,null,null,null,null,null,null,null,null,null,null,null,null,null,null,"GCN",null,null,null,null,null,null,"4.VOTR.GCN","Газовый конденсат","тнт",{"$f":"SUMIF($AS$9:$AZ$9,AP$9,$AS842:$AZ842)","v":0},0,0]
[null,null,null,null,null,null,null,null,null,null,null,null,null,null,null,null,null,null,null,null,null,null,null,null,null,null,null,null,null,null,null,"LNG",null,null,null,null,null,null,"4.VOTR.LNG","Газ сжиженный","тнт",0,0,0]
[null,null,null,null,null,null,null,null,null,null,null,null,null,null,null,null,null,null,null,null,null,null,null,null,null,null,null,null,null,null,null,"DSL",null,null,null,null,null,null,"4.VOTR.DSL","Дизельное топливо","тнт",0,0,0,null,{"$f":"AU844+AV844","v":0},{"$f":"SUM(AU845:AU848)","v":0},{"$f":"SUM(AV845:AV848)","v":0}]
[null,null,null,null,null,null,null,null,null,null,null,null,null,null,null,null,null,null,null,null,null,null,null,null,null,null,null,null,null,null,null,"DSLA",null,null,null,null,null,null,"4.VOTR.DSLA","А (арктическое)","тнт",0,0,0]
[null,null,null,null,null,null,null,null,null,null,null,null,null,null,null,null,null,null,null,null,null,null,null,null,null,null,null,null,null,null,null,"DSLW",null,null,null,null,null,null,"4.VOTR.DSLW","З (зимнее)","тнт",0,0,0,null,{"$f":"AU846+AV846","v":0}]
[null,null,null,null,null,null,null,null,null,null,null,null,null,null,null,null,null,null,null,null,null,null,null,null,null,null,null,null,null,null,null,"DSLS",null,null,null,null,null,null,"4.VOTR.DSLS","Л (летнее)","тнт",0,0,0]
[null,null,null,null,null,null,null,null,null,null,null,null,null,null,null,null,null,null,null,null,null,null,null,null,null,null,null,null,null,null,null,"DSLO",null,null,null,null,null,null,"4.VOTR.DSLO","Е (межсезонное)","тнт",0,0,0]
[null,null,null,null,null,null,null,null,null,null,null,null,null,null,null,null,null,null,null,null,null,null,null,null,null,null,null,null,null,null,null,"MST",null,null,null,null,null,null,"4.VOTR.MST","Мазут","тнт",0,0,0]
[null,null,null,null,null,null,null,null,null,null,null,null,null,null,null,null,null,null,null,null,null,null,null,null,null,null,null,null,null,null,null,"MSTM40",null,null,null,null,null,null,"4.VOTR.MSTM40","М-40","тнт",0,0,0]
[null,null,null,null,null,null,null,null,null,null,null,null,null,null,null,null,null,null,null,null,null,null,null,null,null,null,null,null,null,null,null,"MSTM100",null,null,null,null,null,null,"4.VOTR.MSTM100","М-100","тнт",0,0,0]
[null,null,null,null,null,null,null,null,null,null,null,null,null,null,null,null,null,null,null,null,null,null,null,null,null,null,null,null,null,null,null,"MSTM200",null,null,null,null,null,null,"4.VOTR.MSTM200","М-200","тнт",0,0,0]
[null,null,null,null,null,null,null,null,null,null,null,null,null,null,null,null,null,null,null,null,null,null,null,null,null,null,null,null,null,null,null,"MSTT",null,null,null,null,null,null,"4.VOTR.MSTT","мазут марки \"Т\"","тнт",0,0,0]
[null,null,null,null,null,null,null,null,null,null,null,null,null,null,null,null,null,null,null,null,null,null,null,null,null,null,null,null,null,null,null,"MSTF5",null,null,null,null,null,null,"4.VOTR.MSTF5","Ф-5","тнт",0,0,0]
[null,null,null,null,null,null,null,null,null,null,null,null,null,null,null,null,null,null,null,null,null,null,null,null,null,null,null,null,null,null,null,"MSTF12",null,null,null,null,null,null,"4.VOTR.MSTF12","Ф-12","тнт",0,0,0]
[null,null,null,null,null,null,null,null,null,null,null,null,null,null,null,null,null,null,null,null,null,null,null,null,null,null,null,null,null,null,null,"OIL",null,null,null,null,null,null,"4.VOTR.OIL","Нефть","тнт",0,0,0]
[null,null,null,null,null,null,null,null,null,null,null,null,null,null,null,null,null,null,null,null,null,null,null,null,null,null,null,null,null,null,null,"COA",null,null,null,null,null,null,"4.VOTR.COA","Уголь","тнт",0,0,0]
[null,null,null,null,null,null,null,null,null,null,null,null,null,null,null,null,null,null,null,null,null,null,null,null,null,null,null,null,null,null,null,"COAA",null,null,null,null,null,null,"4.VOTR.COAA","Уголь антрацит","тнт",0,0,0]
[null,null,null,null,null,null,null,null,null,null,null,null,null,null,null,null,null,null,null,null,null,null,null,null,null,null,null,null,null,null,null,"COAB",null,null,null,null,null,null,"4.VOTR.COAB","Уголь бурый","тнт",0,0,0]
[null,null,null,null,null,null,null,null,null,null,null,null,null,null,null,null,null,null,null,null,null,null,null,null,null,null,null,null,null,null,null,"COAG",null,null,null,null,null,null,"4.VOTR.COAG","Уголь газовый","тнт",0,0,0]
[null,null,null,null,null,null,null,null,null,null,null,null,null,null,null,null,null,null,null,null,null,null,null,null,null,null,null,null,null,null,null,"COALF",null,null,null,null,null,null,"4.VOTR.COALF","Уголь длиннопламенный","тнт",0,0,0]
[null,null,null,null,null,null,null,null,null,null,null,null,null,null,null,null,null,null,null,null,null,null,null,null,null,null,null,null,null,null,null,"COAF",null,null,null,null,null,null,"4.VOTR.COAF","Уголь жирный","тнт",0,0,0]
[null,null,null,null,null,null,null,null,null,null,null,null,null,null,null,null,null,null,null,null,null,null,null,null,null,null,null,null,null,null,null,"COAC",null,null,null,null,null,null,"4.VOTR.COAC","Уголь коксовый","тнт",0,0,0]
[null,null,null,null,null,null,null,null,null,null,null,null,null,null,null,null,null,null,null,null,null,null,null,null,null,null,null,null,null,null,null,"COASC",null,null,null,null,null,null,"4.VOTR.COASC","Уголь отощённо-спекающийся","тнт",0,0,0]
[null,null,null,null,null,null,null,null,null,null,null,null,null,null,null,null,null,null,null,null,null,null,null,null,null,null,null,null,null,null,null,"COAWC",null,null,null,null,null,null,"4.VOTR.COAWC","Уголь слабоспекающийся","тнт",0,0,0]
[null,null,null,null,null,null,null,null,null,null,null,null,null,null,null,null,null,null,null,null,null,null,null,null,null,null,null,null,null,null,null,"COAS",null,null,null,null,null,null,"4.VOTR.COAS","Уголь тощий","тнт",0,0,0]
[]
[]
[null,null,null,null,null,null,null,null,null,null,null,null,null,null,null,null,null,null,null,null,null,null,null,null,null,null,null,null,null,null,null,"CWD",null,null,null,null,null,null,"4.VOTR.CWD","Уголь древесный","тнт",{"$f":"SUMIF($AS$9:$AZ$9,AP$9,$AS869:$AZ869)","v":0},0,0]
[null,null,null,null,null,null,null,null,null,null,null,null,null,null,null,null,null,null,null,null,null,null,null,null,null,null,null,null,null,null,null,"WDS",null,null,null,null,null,null,"4.VOTR.WDS","Дрова","тнт",0,0,0]
[null,null,null,null,null,null,null,null,null,null,null,null,null,null,null,null,null,null,null,null,null,null,null,null,null,null,null,null,null,null,null,"PLT",null,null,null,null,null,null,"4.VOTR.PLT","Пеллеты","тнт",0,0,0]
[null,null,null,null,null,null,null,null,null,null,null,null,null,null,null,null,null,null,null,null,null,null,null,null,null,null,null,null,null,null,null,"SAW",null,null,null,null,null,null,"4.VOTR.SAW","Опилки","тнт",0,0,0]
[null,null,null,null,null,null,null,null,null,null,null,null,null,null,null,null,null,null,null,null,null,null,null,null,null,null,null,null,null,null,null,"PEA",null,null,null,null,null,null,"4.VOTR.PEA","Торф","тнт",0,0,0]
[null,null,null,null,null,null,null,null,null,null,null,null,null,null,null,null,null,null,null,null,null,null,null,null,null,null,null,null,null,null,null,"SHL",null,null,null,null,null,null,"4.VOTR.SHL","Сланцы","тнт",0,0,0]
[null,null,null,null,null,null,null,null,null,null,null,null,null,null,null,null,null,null,null,null,null,null,null,null,null,null,null,null,null,null,null,"STF",null,null,null,null,null,null,"4.VOTR.STF","Печное бытовое топливо","тнт",0,0,0]
[]
[null,null,null,null,null,null,null,null,null,null,null,null,null,null,null,null,null,null,null,null,null,null,null,null,null,null,null,null,null,null,null,null,null,null,null,null,null,null,"4.COTR","Иные виды транспортировки (перевозки). Стоимость транспортировки (перевозки) топлива","тыс.руб.",{"$f":"SUMIF($AS$9:$AZ$9,AP$9,$AS877:$AZ877)","v":0},{"$f":"SUMIF($AS$9:$AZ$9,AQ$9,$AS877:$AZ877)","v":0},{"$f":"SUMIF($AS$9:$AZ$9,AR$9,$AS877:$AZ877)","v":0},null,{"$f":"SUM(AT878,AT882:AT887,AT888,AT893,AT900,AT901,AT913:AT919)","v":0},0,0,0,0,0]
[]
[]
[]
[]
[]
[]
[]
[]
[null,null,null,null,null,null,null,null,null,null,null,null,null,null,null,null,null,null,null,null,null,null,null,null,null,null,null,null,null,null,null,"GCN",null,null,null,null,null,null,"4.COTR.GCN","Газовый конденсат","тыс.руб.",{"$f":"SUMIF($AS$9:$AZ$9,AP$9,$AS886:$AZ886)","v":0},0,0]
[null,null,null,null,null,null,null,null,null,null,null,null,null,null,null,null,null,null,null,null,null,null,null,null,null,null,null,null,null,null,null,"LNG",null,null,null,null,null,null,"4.COTR.LNG","Газ сжиженный","тыс.руб.",0,0,0]
[null,null,null,null,null,null,null,null,null,null,null,null,null,null,null,null,null,null,null,null,null,null,null,null,null,null,null,null,null,null,null,"DSL",null,null,null,null,null,null,"4.COTR.DSL","Дизельное топливо","тыс.руб.",0,0,0,null,{"$f":"AU888+AV888","v":0},{"$f":"SUM(AU889:AU892)","v":0},{"$f":"SUM(AV889:AV892)","v":0}]
[null,null,null,null,null,null,null,null,null,null,null,null,null,null,null,null,null,null,null,null,null,null,null,null,null,null,null,null,null,null,null,"DSLA",null,null,null,null,null,null,"4.COTR.DSLA","А (арктическое)","тыс.руб.",0,0,0]
[null,null,null,null,null,null,null,null,null,null,null,null,null,null,null,null,null,null,null,null,null,null,null,null,null,null,null,null,null,null,null,"DSLW",null,null,null,null,null,null,"4.COTR.DSLW","З (зимнее)","тыс.руб.",0,0,0,null,{"$f":"AU890+AV890","v":0},{"$f":"AU802*AU846/1000","v":0},0]
[null,null,null,null,null,null,null,null,null,null,null,null,null,null,null,null,null,null,null,null,null,null,null,null,null,null,null,null,null,null,null,"DSLS",null,null,null,null,null,null,"4.COTR.DSLS","Л (летнее)","тыс.руб.",0,0,0]
[null,null,null,null,null,null,null,null,null,null,null,null,null,null,null,null,null,null,null,null,null,null,null,null,null,null,null,null,null,null,null,"DSLO",null,null,null,null,null,null,"4.COTR.DSLO","Е (межсезонное)","тыс.руб.",0,0,0]
[null,null,null,null,null,null,null,null,null,null,null,null,null,null,null,null,null,null,null,null,null,null,null,null,null,null,null,null,null,null,null,"MST",null,null,null,null,null,null,"4.COTR.MST","Мазут","тыс.руб.",0,0,0]
[null,null,null,null,null,null,null,null,null,null,null,null,null,null,null,null,null,null,null,null,null,null,null,null,null,null,null,null,null,null,null,"MSTM40",null,null,null,null,null,null,"4.COTR.MSTM40","М-40","тыс.руб.",0,0,0]
[null,null,null,null,null,null,null,null,null,null,null,null,null,null,null,null,null,null,null,null,null,null,null,null,null,null,null,null,null,null,null,"MSTM100",null,null,null,null,null,null,"4.COTR.MSTM100","М-100","тыс.руб.",0,0,0]
[null,null,null,null,null,null,null,null,null,null,null,null,null,null,null,null,null,null,null,null,null,null,null,null,null,null,null,null,null,null,null,"MSTM200",null,null,null,null,null,null,"4.COTR.MSTM200","М-200","тыс.руб.",0,0,0]
[null,null,null,null,null,null,null,null,null,null,null,null,null,null,null,null,null,null,null,null,null,null,null,null,null,null,null,null,null,null,null,"MSTT",null,null,null,null,null,null,"4.COTR.MSTT","мазут марки \"Т\"","тыс.руб.",0,0,0]
[null,null,null,null,null,null,null,null,null,null,null,null,null,null,null,null,null,null,null,null,null,null,null,null,null,null,null,null,null,null,null,"MSTF5",null,null,null,null,null,null,"4.COTR.MSTF5","Ф-5","тыс.руб.",0,0,0]
[null,null,null,null,null,null,null,null,null,null,null,null,null,null,null,null,null,null,null,null,null,null,null,null,null,null,null,null,null,null,null,"MSTF12",null,null,null,null,null,null,"4.COTR.MSTF12","Ф-12","тыс.руб.",0,0,0]
[null,null,null,null,null,null,null,null,null,null,null,null,null,null,null,null,null,null,null,null,null,null,null,null,null,null,null,null,null,null,null,"OIL",null,null,null,null,null,null,"4.COTR.OIL","Нефть","тыс.руб.",0,0,0]
[null,null,null,null,null,null,null,null,null,null,null,null,null,null,null,null,null,null,null,null,null,null,null,null,null,null,null,null,null,null,null,"COA",null,null,null,null,null,null,"4.COTR.COA","Уголь","тыс.руб.",0,0,0]
[null,null,null,null,null,null,null,null,null,null,null,null,null,null,null,null,null,null,null,null,null,null,null,null,null,null,null,null,null,null,null,"COAA",null,null,null,null,null,null,"4.COTR.COAA","Уголь антрацит","тыс.руб.",0,0,0]
[null,null,null,null,null,null,null,null,null,null,null,null,null,null,null,null,null,null,null,null,null,null,null,null,null,null,null,null,null,null,null,"COAB",null,null,null,null,null,null,"4.COTR.COAB","Уголь бурый","тыс.руб.",0,0,0]
[null,null,null,null,null,null,null,null,null,null,null,null,null,null,null,null,null,null,null,null,null,null,null,null,null,null,null,null,null,null,null,"COAG",null,null,null,null,null,null,"4.COTR.COAG","Уголь газовый","тыс.руб.",0,0,0]
[null,null,null,null,null,null,null,null,null,null,null,null,null,null,null,null,null,null,null,null,null,null,null,null,null,null,null,null,null,null,null,"COALF",null,null,null,null,null,null,"4.COTR.COALF","Уголь длиннопламенный","тыс.руб.",0,0,0]
[null,null,null,null,null,null,null,null,null,null,null,null,null,null,null,null,null,null,null,null,null,null,null,null,null,null,null,null,null,null,null,"COAF",null,null,null,null,null,null,"4.COTR.COAF","Уголь жирный","тыс.руб.",0,0,0]
[null,null,null,null,null,null,null,null,null,null,null,null,null,null,null,null,null,null,null,null,null,null,null,null,null,null,null,null,null,null,null,"COAC",null,null,null,null,null,null,"4.COTR.COAC","Уголь коксовый","тыс.руб.",0,0,0]
[null,null,null,null,null,null,null,null,null,null,null,null,null,null,null,null,null,null,null,null,null,null,null,null,null,null,null,null,null,null,null,"COASC",null,null,null,null,null,null,"4.COTR.COASC","Уголь отощённо-спекающийся","тыс.руб.",0,0,0]
[null,null,null,null,null,null,null,null,null,null,null,null,null,null,null,null,null,null,null,null,null,null,null,null,null,null,null,null,null,null,null,"COAWC",null,null,null,null,null,null,"4.COTR.COAWC","Уголь слабоспекающийся","тыс.руб.",0,0,0]
[null,null,null,null,null,null,null,null,null,null,null,null,null,null,null,null,null,null,null,null,null,null,null,null,null,null,null,null,null,null,null,"COAS",null,null,null,null,null,null,"4.COTR.COAS","Уголь тощий","тыс.руб.",0,0,0]
[]
[]
[null,null,null,null,null,null,null,null,null,null,null,null,null,null,null,null,null,null,null,null,null,null,null,null,null,null,null,null,null,null,null,"CWD",null,null,null,null,null,null,"4.COTR.CWD","Уголь древесный","тыс.руб.",{"$f":"SUMIF($AS$9:$AZ$9,AP$9,$AS913:$AZ913)","v":0},0,0]
[null,null,null,null,null,null,null,null,null,null,null,null,null,null,null,null,null,null,null,null,null,null,null,null,null,null,null,null,null,null,null,"WDS",null,null,null,null,null,null,"4.COTR.WDS","Дрова","тыс.руб.",0,0,0]
[null,null,null,null,null,null,null,null,null,null,null,null,null,null,null,null,null,null,null,null,null,null,null,null,null,null,null,null,null,null,null,"PLT",null,null,null,null,null,null,"4.COTR.PLT","Пеллеты","тыс.руб.",0,0,0]
[null,null,null,null,null,null,null,null,null,null,null,null,null,null,null,null,null,null,null,null,null,null,null,null,null,null,null,null,null,null,null,"SAW",null,null,null,null,null,null,"4.COTR.SAW","Опилки","тыс.руб.",0,0,0]
[null,null,null,null,null,null,null,null,null,null,null,null,null,null,null,null,null,null,null,null,null,null,null,null,null,null,null,null,null,null,null,"PEA",null,null,null,null,null,null,"4.COTR.PEA","Торф","тыс.руб.",0,0,0]
[null,null,null,null,null,null,null,null,null,null,null,null,null,null,null,null,null,null,null,null,null,null,null,null,null,null,null,null,null,null,null,"SHL",null,null,null,null,null,null,"4.COTR.SHL","Сланцы","тыс.руб.",0,0,0]
[null,null,null,null,null,null,null,null,null,null,null,null,null,null,null,null,null,null,null,null,null,null,null,null,null,null,null,null,null,null,null,"STF",null,null,null,null,null,null,"4.COTR.STF","Печное бытовое топливо","тыс.руб.",0,0,0]
[]
[]
[null,null,null,null,null,null,null,null,null,null,null,null,null,null,null,null,null,null,null,null,null,null,null,null,null,null,null,null,null,null,null,null,null,null,null,null,null,null,null,"Показатели расхода электроэнергии по уровням напряжения"]
[]
[null,null,null,null,null,null,null,null,null,null,null,null,null,null,null,null,null,null,null,null,null,null,null,null,null,null,null,null,null,null,null,"ENR",null,null,null,null,null,null,"4.13.0.1","объём энергии","тыс.кВтч",{"$f":"SUMIF($AS$9:$AZ$9,AP$9,$AS924:$AZ924)","v":0},0,0]
[null,null,null,null,null,null,null,null,null,null,null,null,null,null,null,null,null,null,null,null,null,null,null,null,null,null,null,null,null,null,null,"PWR",null,null,null,null,null,null,"4.13.0.2","объём заявленной мощности","МВт",0,0,0]
[null,null,null,null,null,null,null,null,null,null,null,null,null,null,null,null,null,null,null,null,null,null,null,null,null,null,null,null,null,null,null,"ENR",null,null,null,null,null,null,"4.13.1.1","энергия НН (0,4 кВ и ниже)","тыс.руб.",0,0,0]
[null,null,null,null,null,null,null,null,null,null,null,null,null,null,null,null,null,null,null,null,null,null,null,null,null,null,null,null,null,null,null,"ENR",null,null,null,null,null,null,{"$f":"AM926 & \".1\"","v":"4.13.1.1.1"},"тариф на энергию","руб./кВт*ч",{"$f":"IF(AP928=0,0,AP926/AP928)","v":0},{"$f":"IF(AQ928=0,0,AQ926/AQ928)","v":0},{"$f":"IF(AR928=0,0,AR926/AR928)","v":0}]
[null,null,null,null,null,null,null,null,null,null,null,null,null,null,null,null,null,null,null,null,null,null,null,null,null,null,null,null,null,null,null,"ENR",null,null,null,null,null,null,{"$f":"AM926 & \".2\"","v":"4.13.1.1.2"},"объём энергии","тыс.кВтч",{"$f":"SUMIF($AS$9:$AZ$9,AP$9,$AS928:$AZ928)","v":0},0,0]
[null,null,null,null,null,null,null,null,null,null,null,null,null,null,null,null,null,null,null,null,null,null,null,null,null,null,null,null,null,null,null,"PWR",null,null,null,null,null,null,"4.13.1.2","заявленная мощность по НН (0,4 кВ и ниже)","тыс.руб.",0,0,0]
[null,null,null,null,null,null,null,null,null,null,null,null,null,null,null,null,null,null,null,null,null,null,null,null,null,null,null,null,null,null,null,"PWR",null,null,null,null,null,null,{"$f":"AM929 & \".1\"","v":"4.13.1.2.1"},"тариф на заявленную мощность","руб./кВт*мес",{"$f":"IF(AP931=0,0,AP929/AP931)","v":0},{"$f":"IF(AQ931=0,0,AQ929/AQ931)","v":0},{"$f":"IF(AR931=0,0,AR929/AR931)","v":0}]
[null,null,null,null,null,null,null,null,null,null,null,null,null,null,null,null,null,null,null,null,null,null,null,null,null,null,null,null,null,null,null,"PWR",null,null,null,null,null,null,{"$f":"AM929 & \".2\"","v":"4.13.1.2.2"},"годовой объём мощности","МВт",{"$f":"SUMIF($AS$9:$AZ$9,AP$9,$AS931:$AZ931)","v":0},0,0]
[null,null,null,null,null,null,null,null,null,null,null,null,null,null,null,null,null,null,null,null,null,null,null,null,null,null,null,null,null,null,null,"ENR",null,null,null,null,null,null,"4.13.2.1","энергия СН 2 (1-20 кВ)","тыс.руб.",0,0,0]
[null,null,null,null,null,null,null,null,null,null,null,null,null,null,null,null,null,null,null,null,null,null,null,null,null,null,null,null,null,null,null,"ENR",null,null,null,null,null,null,{"$f":"AM932 & \".1\"","v":"4.13.2.1.1"},"тариф на энергию","руб./кВт*ч",{"$f":"IF(AP934=0,0,AP932/AP934)","v":0},{"$f":"IF(AQ934=0,0,AQ932/AQ934)","v":0},{"$f":"IF(AR934=0,0,AR932/AR934)","v":0}]
[null,null,null,null,null,null,null,null,null,null,null,null,null,null,null,null,null,null,null,null,null,null,null,null,null,null,null,null,null,null,null,"ENR",null,null,null,null,null,null,{"$f":"AM932 & \".2\"","v":"4.13.2.1.2"},"объём энергии","тыс.кВтч",{"$f":"SUMIF($AS$9:$AZ$9,AP$9,$AS934:$AZ934)","v":0},0,0]
[null,null,null,null,null,null,null,null,null,null,null,null,null,null,null,null,null,null,null,null,null,null,null,null,null,null,null,null,null,null,null,"PWR",null,null,null,null,null,null,"4.13.2.2","заявленная мощность по СН 2 (1-20 кВ)","тыс.руб.",0,0,0]
[null,null,null,null,null,null,null,null,null,null,null,null,null,null,null,null,null,null,null,null,null,null,null,null,null,null,null,null,null,null,null,"PWR",null,null,null,null,null,null,{"$f":"AM935 & \".1\"","v":"4.13.2.2.1"},"тариф на заявленную мощность","руб./кВт*мес",{"$f":"IF(AP937=0,0,AP935/AP937)","v":0},{"$f":"IF(AQ937=0,0,AQ935/AQ937)","v":0},{"$f":"IF(AR937=0,0,AR935/AR937)","v":0}]
[null,null,null,null,null,null,null,null,null,null,null,null,null,null,null,null,null,null,null,null,null,null,null,null,null,null,null,null,null,null,null,"PWR",null,null,null,null,null,null,{"$f":"AM935 & \".2\"","v":"4.13.2.2.2"},"годовой объём мощности","МВт",{"$f":"SUMIF($AS$9:$AZ$9,AP$9,$AS937:$AZ937)","v":0},0,0]
[null,null,null,null,null,null,null,null,null,null,null,null,null,null,null,null,null,null,null,null,null,null,null,null,null,null,null,null,null,null,null,"ENR",null,null,null,null,null,null,"4.13.3.1","энергия СН 1 (35 кВ)","тыс.руб.",0,0,0]
[null,null,null,null,null,null,null,null,null,null,null,null,null,null,null,null,null,null,null,null,null,null,null,null,null,null,null,null,null,null,null,"ENR",null,null,null,null,null,null,{"$f":"AM938 & \".1\"","v":"4.13.3.1.1"},"тариф на энергию","руб./кВт*ч",{"$f":"IF(AP940=0,0,AP938/AP940)","v":0},{"$f":"IF(AQ940=0,0,AQ938/AQ940)","v":0},{"$f":"IF(AR940=0,0,AR938/AR940)","v":0}]
[null,null,null,null,null,null,null,null,null,null,null,null,null,null,null,null,null,null,null,null,null,null,null,null,null,null,null,null,null,null,null,"ENR",null,null,null,null,null,null,{"$f":"AM938 & \".2\"","v":"4.13.3.1.2"},"объём энергии","тыс.кВтч",{"$f":"SUMIF($AS$9:$AZ$9,AP$9,$AS940:$AZ940)","v":0},0,0]
[null,null,null,null,null,null,null,null,null,null,null,null,null,null,null,null,null,null,null,null,null,null,null,null,null,null,null,null,null,null,null,"PWR",null,null,null,null,null,null,"4.13.3.2","заявленная мощность по СН 1 (35 кВ)","тыс.руб.",0,0,0]
[null,null,null,null,null,null,null,null,null,null,null,null,null,null,null,null,null,null,null,null,null,null,null,null,null,null,null,null,null,null,null,"PWR",null,null,null,null,null,null,{"$f":"AM941 & \".1\"","v":"4.13.3.2.1"},"тариф на заявленную мощность","руб./кВт*мес",{"$f":"IF(AP943=0,0,AP941/AP943)","v":0},{"$f":"IF(AQ943=0,0,AQ941/AQ943)","v":0},{"$f":"IF(AR943=0,0,AR941/AR943)","v":0}]
[null,null,null,null,null,null,null,null,null,null,null,null,null,null,null,null,null,null,null,null,null,null,null,null,null,null,null,null,null,null,null,"PWR",null,null,null,null,null,null,{"$f":"AM941 & \".2\"","v":"4.13.3.2.2"},"годовой объём мощности","МВт",{"$f":"SUMIF($AS$9:$AZ$9,AP$9,$AS943:$AZ943)","v":0},0,0]
[null,null,null,null,null,null,null,null,null,null,null,null,null,null,null,null,null,null,null,null,null,null,null,null,null,null,null,null,null,null,null,"ENR",null,null,null,null,null,null,"4.13.4.1","энергия ВН (110 кВ и выше)","тыс.руб.",0,0,0]
[null,null,null,null,null,null,null,null,null,null,null,null,null,null,null,null,null,null,null,null,null,null,null,null,null,null,null,null,null,null,null,"ENR",null,null,null,null,null,null,{"$f":"AM944 & \".1\"","v":"4.13.4.1.1"},"тариф на энергию","руб./кВт*ч",{"$f":"IF(AP946=0,0,AP944/AP946)","v":0},{"$f":"IF(AQ946=0,0,AQ944/AQ946)","v":0},{"$f":"IF(AR946=0,0,AR944/AR946)","v":0}]
[null,null,null,null,null,null,null,null,null,null,null,null,null,null,null,null,null,null,null,null,null,null,null,null,null,null,null,null,null,null,null,"ENR",null,null,null,null,null,null,{"$f":"AM944 & \".2\"","v":"4.13.4.1.2"},"объём энергии","тыс.кВтч",{"$f":"SUMIF($AS$9:$AZ$9,AP$9,$AS946:$AZ946)","v":0},0,0]
[null,null,null,null,null,null,null,null,null,null,null,null,null,null,null,null,null,null,null,null,null,null,null,null,null,null,null,null,null,null,null,"PWR",null,null,null,null,null,null,"4.13.4.2","заявленная мощность по ВН (110 кВ и выше)","тыс.руб.",0,0,0]
[null,null,null,null,null,null,null,null,null,null,null,null,null,null,null,null,null,null,null,null,null,null,null,null,null,null,null,null,null,null,null,"PWR",null,null,null,null,null,null,{"$f":"AM947 & \".1\"","v":"4.13.4.2.1"},"тариф на заявленную мощность","руб./кВт*мес",{"$f":"IF(AP949=0,0,AP947/AP949)","v":0},{"$f":"IF(AQ949=0,0,AQ947/AQ949)","v":0},{"$f":"IF(AR949=0,0,AR947/AR949)","v":0}]
[null,null,null,null,null,null,null,null,null,null,null,null,null,null,null,null,null,null,null,null,null,null,null,null,null,null,null,null,null,null,null,"PWR",null,null,null,null,null,null,{"$f":"AM947 & \".2\"","v":"4.13.4.2.2"},"годовой объём мощности","МВт",{"$f":"SUMIF($AS$9:$AZ$9,AP$9,$AS949:$AZ949)","v":0},{"$f":"SUMIF($AS$9:$AZ$9,AQ$9,$AS949:$AZ949)","v":0},{"$f":"SUMIF($AS$9:$AZ$9,AR$9,$AS949:$AZ949)","v":0}]
[]
[null,null,null,null,null,null,null,null,null,null,null,null,null,null,null,null,null,null,null,null,null,null,null,null,null,null,null,null,null,null,null,"OTH",null,null,null,null,null,null,null,"Прочие виды топлива","тыс.руб.",{"$f":"SUMIF($AS$9:$AZ$9,AP$9,$AS951:$AZ951)","v":0},0,0]
[null,null,null,null,null,null,null,null,null,null,null,null,null,null,null,null,null,null,null,null,null,null,null,null,null,null,null,null,null,null,null,"OTH",null,null,null,null,null,null,"4.14.1","Биогаз","тыс.руб.",0,0,0]
[null,null,null,null,null,null,null,null,null,null,null,null,null,null,null,null,null,null,null,null,null,null,null,null,null,null,null,null,null,null,null,"OTH",null,null,null,null,null,null,"4.14.1.1","Цена","руб./тыс.м3",{"$f":"IF(AP954=0,0,AP952/AP954*1000)","v":0},{"$f":"IF(AQ954=0,0,AQ952/AQ954*1000)","v":0},{"$f":"IF(AR954=0,0,AR952/AR954*1000)","v":0}]
[null,null,null,null,null,null,null,null,null,null,null,null,null,null,null,null,null,null,null,null,null,null,null,null,null,null,null,null,null,null,null,"OTH",null,null,null,null,null,null,"4.14.1.2","Объём","тыс.м3",{"$f":"SUMIF($AS$9:$AZ$9,AP$9,$AS954:$AZ954)","v":0},0,0]
[null,null,null,null,null,null,null,null,null,null,null,null,null,null,null,null,null,null,null,null,null,null,null,null,null,null,null,null,null,null,null,"OTH",null,null,null,null,null,null,"4.14.2","ТБО","тыс.руб.",0,0,0]
[null,null,null,null,null,null,null,null,null,null,null,null,null,null,null,null,null,null,null,null,null,null,null,null,null,null,null,null,null,null,null,"OTH",null,null,null,null,null,null,"4.14.2.1","Цена","руб./тнт",{"$f":"IF(AP957=0,0,AP955/AP957*1000)","v":0},{"$f":"IF(AQ957=0,0,AQ955/AQ957*1000)","v":0},{"$f":"IF(AR957=0,0,AR955/AR957*1000)","v":0}]
[null,null,null,null,null,null,null,null,null,null,null,null,null,null,null,null,null,null,null,null,null,null,null,null,null,null,null,null,null,null,null,"OTH",null,null,null,null,null,null,"4.14.2.2","Объём","тнт",{"$f":"SUMIF($AS$9:$AZ$9,AP$9,$AS957:$AZ957)","v":0},0,0]
[null,null,null,null,null,null,null,null,null,null,null,null,null,null,null,null,null,null,null,null,null,null,null,null,null,null,null,null,null,null,null,"OTH",null,null,null,null,null,null,"4.14.3","Иные виды топлива","тыс.руб.",0,0,0]
[]
[null,null,null,null,null,null,null,null,null,null,null,null,null,null,null,null,null,null,null,null,null,null,null,null,null,null,null,null,null,null,null,null,null,null,null,null,null,null,"21","Полезный отпуск продукции всего","Гкал",null,null,null,null,{"$f":"SUMIF(РО!$AS$15:$AZ$15,AT$15,РО!$AS$370:$AZ$370)","v":417721.90100000001},{"$f":"SUMIF(РО!$AS$15:$AZ$15,AU$15,РО!$AS$370:$AZ$370)","v":241274.54300000001},{"$f":"SUMIF(РО!$AS$15:$AZ$15,AV$15,РО!$AS$370:$AZ$370)","v":176447.35800000001},{"$f":"SUMIF(РО!$AS$15:$AZ$15,AW$15,РО!$AS$370:$AZ$370)","v":11231.841},{"$f":"SUMIF(РО!$AS$15:$AZ$15,AX$15,РО!$AS$370:$AZ$370)","v":5683.1639999999998},{"$f":"SUMIF(РО!$AS$15:$AZ$15,AY$15,РО!$AS$370:$AZ$370)","v":5548.6770000000006}]

{"sheet":"ХВС.БПр","index":16,"n_rows":132,"n_cols":53,"rows_kept":132,"cut":false,"hidden":true,"merged":[[120,5,122,5],[121,19,122,19],[121,20,122,20],[120,13,120,15],[121,13,122,13],[121,14,122,14],[121,15,122,15],[120,18,120,21],[121,18,122,18],[120,7,122,7],[121,21,122,21],[125,6,126,6],[125,10,126,10],[120,17,122,17],[121,10,122,10],[127,6,128,6],[120,9,122,9],[120,10,120,12],[120,16,122,16],[121,11,122,11],[121,12,122,12],[127,10,128,10],[120,44,122,44],[121,31,122,31],[120,43,122,43],[121,28,122,28],[120,41,122,41],[120,31,120,40],[121,30,122,30],[120,28,120,30],[0,1,27,1],[0,5,1,5],[28,1,55,1],[28,5,29,5],[2,2,14,2],[15,2,27,2],[30,2,42,2],[43,2,55,2],[28,6,29,6],[0,6,1,6],[121,26,122,26],[120,42,122,42],[121,32,121,34],[121,35,121,37],[121,38,121,40],[121,29,122,29],[120,6,122,6],[120,8,122,8],[120,22,122,22],[121,25,122,25],[121,24,122,24],[120,23,122,23],[120,24,120,27],[121,27,122,27]]}
[null,null,{"$f":"F3","v":"0.0"},"-",null,{"$f":"B1","v":0}]
[]
[null,null,null,null,null,{"$f":"F1 & \".0\"","v":"0.0"},"год"]
[null,null,null,null,null,{"$f":"F1 & \".1\"","v":"0.1"},"январь"]
[null,null,null,null,null,{"$f":"F1 & \".2\"","v":"0.2"},"февраль"]
[null,null,null,null,null,{"$f":"F1 & \".3\"","v":"0.3"},"март"]
[null,null,null,null,null,{"$f":"F1 & \".4\"","v":"0.4"},"апрель"]
[null,null,null,null,null,{"$f":"F1 & \".5\"","v":"0.5"},"май"]
[null,null,null,null,null,{"$f":"F1 & \".6\"","v":"0.6"},"июнь"]
[null,null,null,null,null,{"$f":"F1 & \".7\"","v":"0.7"},"июль"]
[null,null,null,null,null,{"$f":"F1 & \".8\"","v":"0.8"},"август"]
[null,null,null,null,null,{"$f":"F1 & \".9\"","v":"0.9"},"сентябрь"]
[null,null,null,null,null,{"$f":"F1 & \".10\"","v":"0.10"},"октябрь"]
[null,null,null,null,null,{"$f":"F1 & \".11\"","v":"0.11"},"ноябрь"]
[null,null,null,null,null,{"$f":"F1 & \".12\"","v":"0.12"},"декабрь"]
[]
[]
[]
[]
[]
[]
[]
[]
[]
[]
[]
[]
[]
["TBD",null,{"$f":"F31","v":"0.0"},"-",null,{"$f":"B29","v":0},null,{"$f":"H31","v":0},{"$f":"I31","v":0},{"$f":"A29","v":"TBD"},{"$f":"K31","v":0},{"$f":"L31","v":0},{"$f":"M31","v":0},0,0,0,0,0,0,0,0,0,0,0,0,0,{"$f":"AA31","v":0},0,0,{"$f":"AD31","v":0},{"$f":"AE31","v":0},{"$f":"AF31","v":0},{"$f":"AG31","v":0},{"$f":"AH31","v":0},0,0,0,0,0,0,0,0,0,{"$f":"AR31","v":0},{"$f":"AS31","v":0},null,null,null,null,null,null,null,{"$f":"IF(J29=\"питьевая вода\",\"TOTAL_ORG_PW\",IF(J29=\"техническая вода\",\"TOTAL_ORG_TW\",\"\"))","v":""}]
[]
[null,null,null,null,null,{"$f":"F29 & \".0\"","v":"0.0"},"год",{"$f":"SUMIF('Список объектов'!$R$15:$R$55,$F31,'Список объектов'!$S$15:$S$55)","v":0},{"$f":"SUMIF('Список объектов'!$R$15:$R$55,$F31,'Список объектов'!$T$15:$T$55)","v":0},{"$f":"J29","v":"TBD"},{"$f":"S31+N31-Q31","v":0},null,null,{"$f":"SUM(O31:P31)","v":0},null,null,null,null,{"$f":"X31+W31","v":0},null,null,null,null,{"$f":"Y31+AC31+AF31","v":0},{"$f":"SUM(Z31:AB31)","v":0},{"$f":"SUM(Z32:Z43)","v":0},0,0,0,0,0,0,0,{"$f":"SUM(AH32:AH43)","v":0},0,{"$f":"SUM(AJ32:AJ43)","v":0},0,0,{"$f":"SUM(AM32:AM43)","v":0},0,0,0,0,{"$f":"SUM(AR32:AR43)","v":0},{"$f":"SUM(AS32:AS43)","v":0},null,null,{"$f":"IF(K31=0,0,N31/K31*100)","v":0},null,null,null,null,{"$f":"IF(J31=\"питьевая вода\",\"TOTAL_ORG_YEAR_PW\",IF(J31=\"техническая вода\",\"TOTAL_ORG_YEAR_TW\",\"\"))","v":""}]
[null,null,null,null,null,{"$f":"F29 & \".1\"","v":"0.1"},"январь",null,null,{"$f":"IF(OFFSET('Список территорий'!CJ$15,$F29,0)=\"a\",\"Y\",\"N\")","v":"N"},null,null,null,null,null,null,null,null,null,null,null,null,null,0,0,null,null,null,{"$f":"SUM(AD32,AE32)","v":0},null,null,{"$f":"SUM(AG32,AJ32,AM32)","v":0},{"$f":"SUM(AH32,AI32)","v":0},null,null,{"$f":"SUM(AK32,AL32)","v":0},null,null,{"$f":"SUM(AN32,AO32)","v":0},null,null,null,null,null,null,null,null,null,null,null,null,null,{"$f":"C29 & \"-I\"","v":"0.0-I"}]
[null,null,null,null,null,{"$f":"F29 & \".2\"","v":"0.2"},"февраль",null,null,{"$f":"IF(OFFSET('Список территорий'!CK$15,$F29,0)=\"a\",\"Y\",\"N\")","v":"N"},null,null,null,null,null,null,null,null,null,null,null,null,null,0,0,null,null,null,0,null,null,{"$f":"SUM(AG33,AJ33,AM33)","v":0},0,null,null,0,null,null,0,null,null,null,null,null,null,null,null,null,null,null,null,null,{"$f":"C29 & \"-I\"","v":"0.0-I"}]
[null,null,null,null,null,{"$f":"F29 & \".3\"","v":"0.3"},"март",null,null,{"$f":"IF(OFFSET('Список территорий'!CL$15,$F29,0)=\"a\",\"Y\",\"N\")","v":"N"},null,null,null,null,null,null,null,null,null,null,null,null,null,0,0,null,null,null,0,null,null,0,0,null,null,0,null,null,0,null,null,null,null,null,null,null,null,null,null,null,null,null,{"$f":"C29 & \"-I\"","v":"0.0-I"}]
[null,null,null,null,null,{"$f":"F29 & \".4\"","v":"0.4"},"апрель",null,null,{"$f":"IF(OFFSET('Список территорий'!CM$15,$F29,0)=\"a\",\"Y\",\"N\")","v":"N"},null,null,null,null,null,null,null,null,null,null,null,null,null,0,0,null,null,null,0,null,null,0,0,null,null,0,null,null,0,null,null,null,null,null,null,null,null,null,null,null,null,null,{"$f":"C29 & \"-I\"","v":"0.0-I"}]
[null,null,null,null,null,{"$f":"F29 & \".5\"","v":"0.5"},"май",null,null,{"$f":"IF(OFFSET('Список территорий'!CN$15,$F29,0)=\"a\",\"Y\",\"N\")","v":"N"},null,null,null,null,null,null,null,null,null,null,null,null,null,0,0,null,null,null,0,null,null,0,0,null,null,0,null,null,0,null,null,null,null,null,null,null,null,null,null,null,null,null,{"$f":"C29 & \"-I\"","v":"0.0-I"}]
[null,null,null,null,null,{"$f":"F29 & \".6\"","v":"0.6"},"июнь",null,null,{"$f":"IF(OFFSET('Список территорий'!CO$15,$F29,0)=\"a\",\"Y\",\"N\")","v":"N"},null,null,null,null,null,null,null,null,null,null,null,null,null,0,0,null,null,null,0,null,null,0,0,null,null,0,null,null,0,null,null,null,null,null,null,null,null,null,null,null,null,null,{"$f":"C29 & \"-I\"","v":"0.0-I"}]
[null,null,null,null,null,{"$f":"F29 & \".7\"","v":"0.7"},"июль",null,null,{"$f":"IF(OFFSET('Список территорий'!CP$15,$F29,0)=\"a\",\"Y\",\"N\")","v":"N"},null,null,null,null,null,null,null,null,null,null,null,null,null,0,0,null,null,null,0,null,null,0,0,null,null,0,null,null,0,null,null,null,null,null,null,null,null,null,null,null,null,null,{"$f":"C29 & \"-II\"","v":"0.0-II"}]
[null,null,null,null,null,{"$f":"F29 & \".8\"","v":"0.8"},"август",null,null,{"$f":"IF(OFFSET('Список территорий'!CQ$15,$F29,0)=\"a\",\"Y\",\"N\")","v":"N"},null,null,null,null,null,null,null,null,null,null,null,null,null,0,0,null,null,null,0,null,null,0,0,null,null,0,null,null,0,null,null,null,null,null,null,null,null,null,null,null,null,null,{"$f":"C29 & \"-II\"","v":"0.0-II"}]
[null,null,null,null,null,{"$f":"F29 & \".9\"","v":"0.9"},"сентябрь",null,null,{"$f":"IF(OFFSET('Список территорий'!CR$15,$F29,0)=\"a\",\"Y\",\"N\")","v":"N"},null,null,null,null,null,null,null,null,null,null,null,null,null,0,0,null,null,null,0,null,null,0,0,null,null,0,null,null,0,null,null,null,null,null,null,null,null,null,null,null,null,null,{"$f":"C29 & \"-II\"","v":"0.0-II"}]
[null,null,null,null,null,{"$f":"F29 & \".10\"","v":"0.10"},"октябрь",null,null,{"$f":"IF(OFFSET('Список территорий'!CS$15,$F29,0)=\"a\",\"Y\",\"N\")","v":"N"},null,null,null,null,null,null,null,null,null,null,null,null,null,0,0,null,null,null,0,null,null,0,0,null,null,0,null,null,0,null,null,null,null,null,null,null,null,null,null,null,null,null,{"$f":"C29 & \"-II\"","v":"0.0-II"}]
[null,null,null,null,null,{"$f":"F29 & \".11\"","v":"0.11"},"ноябрь",null,null,{"$f":"IF(OFFSET('Список территорий'!CT$15,$F29,0)=\"a\",\"Y\",\"N\")","v":"N"},null,null,null,null,null,null,null,null,null,null,null,null,null,0,0,null,null,null,0,null,null,0,0,null,null,0,null,null,0,null,null,null,null,null,null,null,null,null,null,null,null,null,{"$f":"C29 & \"-II\"","v":"0.0-II"}]
[null,null,null,null,null,{"$f":"F29 & \".12\"","v":"0.12"},"декабрь",null,null,{"$f":"IF(OFFSET('Список территорий'!CU$15,$F29,0)=\"a\",\"Y\",\"N\")","v":"N"},null,null,null,null,null,null,null,null,null,null,null,null,null,0,0,null,null,null,0,null,null,0,0,null,null,0,null,null,0,null,null,null,null,null,null,null,null,null,null,null,null,null,{"$f":"C29 & \"-II\"","v":"0.0-II"}]
[]
[]
[]
[]
[]
[]
[]
[]
[]
[]
[]
[]
[]
[]
[]
[]
[]
[]
[]
[]
[]
[]
[]
[]
[]
[]
[]
[]
[]
[]
[]
[]
[]
[]
[]
[]
[]
[]
[]
[]
[]
[]
[]
[]
[]
[]
[]
[]
[]
[]
[]
[]
[]
[]
[]
[]
[]
[]
[]
[]
[]
[]
[]
[]
[]
[]
[]
[]
[]
[]
[]
[]
[]
[]
[]
[null,null,null,null,null,{"$f":"\"Баланс \" & TEMPLATE_SPHERE & \" (производство)\"","v":"Баланс теплоснабжения (производство)"}]
[null,null,null,null,null,"куб.м"]
[null,null,null,null,null,"№ п/п","Субъект баланса","Установленная мощность, куб.м/час","Подключённая (фактическая) нагрузка, куб.м/час","Вид воды","Поднято воды ",null,null,"Расход воды на технологические нужды",null,null,"Получено воды со стороны","Объём воды, прошедшей водоподготовку (справочно)","Объём воды, поданной в сеть",null,null,null,"Потери воды ","Отпущено воды, всего","Расход воды на нужды предприятия",null,null,null,"Отпущено воды другим водопроводам",null,null,"Отпущено воды по категориям потребителей  ",null,null,null,null,null,null,null,null,null,"Объём воды для приготовления горячей воды (справочно)","Объём воды при дифференциации тарифов по объёму (справочно)","Объём реализации воды питьевого качества по приборам учёта","Объём реализации воды питьевого качества по нормативам"]
[null,null,null,null,null,null,null,null,null,null,"Всего","из поверхностных источников","из подземных источников","Всего","cобственные нужды водоподготовки","на промывку сетей",null,null,"Всего","из собственных источников","от других операторов","получено от других территорий, дифференцированных по тарифу",null,null,"Всего","хозяйственные нужды","на основное производство","прочие","Всего","по приборам учёта","по нормативам","Всего","Финансируемые из бюджетов всех уровней",null,null,"Население",null,null,"Прочие потребители"]
[null,null,null,null,null,null,null,null,null,null,null,null,null,null,null,null,null,null,null,null,null,null,null,null,null,null,null,null,null,null,null,null,"Всего","по приборам учёта","по нормативам","Всего","по приборам учёта","по нормативам","Всего","по приборам учёта","по нормативам"]
[null,null,null,null,null,null,"А","IC","CL","Б","1","1.1","1.2","2","2.1","2.2","3","4","5","5.0.1","5.0.2","5.0.3","5.1","5.2","5.2.1","5.2.1.1","5.2.1.2","5.2.1.3","5.2.2","5.2.2.1","5.2.2.2","5.2.3","5.2.3.1","5.2.3.1.1","5.2.3.1.2","5.2.3.2","5.2.3.2.1","5.2.3.2.2","5.2.3.3","5.2.3.3.1","5.2.3.3.2","5.3","5.4","6.1","6.2"]
[]
[null,null,null,"-",null,{"$f":"IF(TEMPLATE_SPHERE_CODE=\"COLDVSNA\",\"0.1.P\",\"0.1\")","v":"0.1"},"Всего по организации",null,null,"питьевая вода",{"$f":"S126+N126-Q126+S127+N127-Q127","v":0},{"$f":"SUMIF($BA$131:$BA$132,$BA126,L$131:L$132)","v":0},0,0,0,0,0,0,0,0,0,0,0,0,0,0,0,0,0,0,0,0,0,0,0,0,0,0,0,0,0,0,0,0,0,null,null,null,null,null,null,null,{"$f":"IF(J126=\"питьевая вода\",\"TOTAL_ORG_YEAR_PW\",IF(J126=\"техническая вода\",\"TOTAL_ORG_YEAR_TW\",\"\"))","v":"TOTAL_ORG_YEAR_PW"}]
[null,null,null,null,null,{"$f":"IF(TEMPLATE_SPHERE_CODE=\"COLDVSNA\",\"0.1.T\",\"\")","v":""},null,null,null,"техническая вода",null,{"$f":"SUMIF($BA$131:$BA$132,$BA127,L$131:L$132)","v":0},0,0,0,0,0,0,0,0,0,0,0,0,0,0,0,0,0,0,0,0,0,0,0,0,0,0,0,0,0,0,0,null,null,null,null,null,null,null,null,null,{"$f":"IF(J127=\"питьевая вода\",\"TOTAL_ORG_YEAR_PW\",IF(J127=\"техническая вода\",\"TOTAL_ORG_YEAR_TW\",\"\"))","v":"TOTAL_ORG_YEAR_TW"}]
[]
[]
[]
[null,0]
[null,null,null,null,null,null,"Добавить"]

{"sheet":"ХВС.БТр","index":17,"n_rows":132,"n_cols":53,"rows_kept":132,"cut":false,"hidden":true,"merged":[[0,6,1,6],[127,6,128,6],[125,6,126,6],[28,6,29,6],[0,1,27,1],[0,5,1,5],[28,1,55,1],[43,2,55,2],[2,2,14,2],[15,2,27,2],[30,2,42,2],[28,5,29,5],[120,5,122,5],[120,6,122,6],[120,7,122,7],[120,8,122,8],[120,9,122,9],[121,11,122,11],[120,15,120,28],[121,10,122,10],[120,10,120,13],[121,12,122,12],[121,13,122,13],[120,14,122,14],[121,15,122,15],[121,16,122,16],[121,17,121,19],[121,20,121,22],[121,23,121,25],[121,26,121,28]]}
[null,null,{"$f":"F3","v":"0.0"},"-",null,{"$f":"B1","v":0}]
[]
[null,null,null,null,null,{"$f":"F1 & \".0\"","v":"0.0"},"год"]
[null,null,null,null,null,{"$f":"F1 & \".1\"","v":"0.1"},"январь"]
[null,null,null,null,null,{"$f":"F1 & \".2\"","v":"0.2"},"февраль"]
[null,null,null,null,null,{"$f":"F1 & \".3\"","v":"0.3"},"март"]
[null,null,null,null,null,{"$f":"F1 & \".4\"","v":"0.4"},"апрель"]
[null,null,null,null,null,{"$f":"F1 & \".5\"","v":"0.5"},"май"]
[null,null,null,null,null,{"$f":"F1 & \".6\"","v":"0.6"},"июнь"]
[null,null,null,null,null,{"$f":"F1 & \".7\"","v":"0.7"},"июль"]
[null,null,null,null,null,{"$f":"F1 & \".8\"","v":"0.8"},"август"]
[null,null,null,null,null,{"$f":"F1 & \".9\"","v":"0.9"},"сентябрь"]
[null,null,null,null,null,{"$f":"F1 & \".10\"","v":"0.10"},"октябрь"]
[null,null,null,null,null,{"$f":"F1 & \".11\"","v":"0.11"},"ноябрь"]
[null,null,null,null,null,{"$f":"F1 & \".12\"","v":"0.12"},"декабрь"]
[]
[]
[]
[]
[]
[]
[]
[]
[]
[]
[]
[]
[]
["TBD",null,{"$f":"F31","v":"0.0"},"-",null,{"$f":"B29","v":0},null,{"$f":"H31","v":0},{"$f":"I31","v":0},{"$f":"A29","v":"TBD"},{"$f":"K31","v":0},0,0,0,0,0,0,0,{"$f":"S31","v":0},0,0,0,0,0,0,0,0,0,0,null,null,null,null,null,null,null,null,null,null,null,null,null,null,null,null,null,null,null,null,null,null,null,{"$f":"IF(J29=\"питьевая вода\",\"TOTAL_ORG_PW\",IF(J29=\"техническая вода\",\"TOTAL_ORG_TW\",\"\"))","v":""}]
[]
[null,null,null,null,null,{"$f":"F29 & \".0\"","v":"0.0"},"год",{"$f":"SUMIF('Список объектов'!$R$15:$R$55,$F31,'Список объектов'!$W$15:$W$55)","v":0},{"$f":"SUMIF('Список объектов'!$R$15:$R$55,$F31,'Список объектов'!$X$15:$X$55)","v":0},{"$f":"J29","v":"TBD"},{"$f":"P31+O31","v":0},null,null,null,null,{"$f":"SUM(P32:P43)","v":0},{"$f":"SUM(Q32:Q43)","v":0},{"$f":"SUM(R32:R43)","v":0},{"$f":"SUM(S32:S43)","v":0},0,0,0,0,0,0,0,0,0,0,null,null,null,null,null,null,null,null,null,null,null,null,null,null,null,null,null,null,null,null,null,null,null,{"$f":"IF(J31=\"питьевая вода\",\"TOTAL_ORG_YEAR_PW\",IF(J31=\"техническая вода\",\"TOTAL_ORG_YEAR_TW\",\"\"))","v":""}]
[null,null,null,null,null,{"$f":"F29 & \".1\"","v":"0.1"},"январь",null,null,{"$f":"IF(OFFSET('Список территорий'!CJ$15,$F29,0)=\"a\",\"Y\",\"N\")","v":"N"},null,null,null,null,null,{"$f":"SUM(Q32,U32,R32,X32,AA32)","v":0},null,{"$f":"SUM(S32,T32)","v":0},null,null,{"$f":"SUM(V32,W32)","v":0},null,null,{"$f":"SUM(Y32,Z32)","v":0},null,null,{"$f":"SUM(AB32,AC32)","v":0},null,null,null,null,null,null,null,null,null,null,null,null,null,null,null,null,null,null,null,null,null,null,null,null,null,{"$f":"C29 & \"-I\"","v":"0.0-I"}]
[null,null,null,null,null,{"$f":"F29 & \".2\"","v":"0.2"},"февраль",null,null,{"$f":"IF(OFFSET('Список территорий'!CK$15,$F29,0)=\"a\",\"Y\",\"N\")","v":"N"},null,null,null,null,null,{"$f":"SUM(Q33,U33,R33,X33,AA33)","v":0},null,{"$f":"SUM(S33,T33)","v":0},null,null,{"$f":"SUM(V33,W33)","v":0},null,null,{"$f":"SUM(Y33,Z33)","v":0},null,null,{"$f":"SUM(AB33,AC33)","v":0},null,null,null,null,null,null,null,null,null,null,null,null,null,null,null,null,null,null,null,null,null,null,null,null,null,{"$f":"C29 & \"-I\"","v":"0.0-I"}]
[null,null,null,null,null,{"$f":"F29 & \".3\"","v":"0.3"},"март",null,null,{"$f":"IF(OFFSET('Список территорий'!CL$15,$F29,0)=\"a\",\"Y\",\"N\")","v":"N"},null,null,null,null,null,0,null,0,null,null,0,null,null,0,null,null,0,null,null,null,null,null,null,null,null,null,null,null,null,null,null,null,null,null,null,null,null,null,null,null,null,null,{"$f":"C29 & \"-I\"","v":"0.0-I"}]
[null,null,null,null,null,{"$f":"F29 & \".4\"","v":"0.4"},"апрель",null,null,{"$f":"IF(OFFSET('Список территорий'!CM$15,$F29,0)=\"a\",\"Y\",\"N\")","v":"N"},null,null,null,null,null,0,null,0,null,null,0,null,null,0,null,null,0,null,null,null,null,null,null,null,null,null,null,null,null,null,null,null,null,null,null,null,null,null,null,null,null,null,{"$f":"C29 & \"-I\"","v":"0.0-I"}]
[null,null,null,null,null,{"$f":"F29 & \".5\"","v":"0.5"},"май",null,null,{"$f":"IF(OFFSET('Список территорий'!CN$15,$F29,0)=\"a\",\"Y\",\"N\")","v":"N"},null,null,null,null,null,0,null,0,null,null,0,null,null,0,null,null,0,null,null,null,null,null,null,null,null,null,null,null,null,null,null,null,null,null,null,null,null,null,null,null,null,null,{"$f":"C29 & \"-I\"","v":"0.0-I"}]
[null,null,null,null,null,{"$f":"F29 & \".6\"","v":"0.6"},"июнь",null,null,{"$f":"IF(OFFSET('Список территорий'!CO$15,$F29,0)=\"a\",\"Y\",\"N\")","v":"N"},null,null,null,null,null,0,null,0,null,null,0,null,null,0,null,null,0,null,null,null,null,null,null,null,null,null,null,null,null,null,null,null,null,null,null,null,null,null,null,null,null,null,{"$f":"C29 & \"-I\"","v":"0.0-I"}]
[null,null,null,null,null,{"$f":"F29 & \".7\"","v":"0.7"},"июль",null,null,{"$f":"IF(OFFSET('Список территорий'!CP$15,$F29,0)=\"a\",\"Y\",\"N\")","v":"N"},null,null,null,null,null,0,null,0,null,null,0,null,null,0,null,null,0,null,null,null,null,null,null,null,null,null,null,null,null,null,null,null,null,null,null,null,null,null,null,null,null,null,{"$f":"C29 & \"-II\"","v":"0.0-II"}]
[null,null,null,null,null,{"$f":"F29 & \".8\"","v":"0.8"},"август",null,null,{"$f":"IF(OFFSET('Список территорий'!CQ$15,$F29,0)=\"a\",\"Y\",\"N\")","v":"N"},null,null,null,null,null,0,null,0,null,null,0,null,null,0,null,null,0,null,null,null,null,null,null,null,null,null,null,null,null,null,null,null,null,null,null,null,null,null,null,null,null,null,{"$f":"C29 & \"-II\"","v":"0.0-II"}]
[null,null,null,null,null,{"$f":"F29 & \".9\"","v":"0.9"},"сентябрь",null,null,{"$f":"IF(OFFSET('Список территорий'!CR$15,$F29,0)=\"a\",\"Y\",\"N\")","v":"N"},null,null,null,null,null,0,null,0,null,null,0,null,null,0,null,null,0,null,null,null,null,null,null,null,null,null,null,null,null,null,null,null,null,null,null,null,null,null,null,null,null,null,{"$f":"C29 & \"-II\"","v":"0.0-II"}]
[null,null,null,null,null,{"$f":"F29 & \".10\"","v":"0.10"},"октябрь",null,null,{"$f":"IF(OFFSET('Список территорий'!CS$15,$F29,0)=\"a\",\"Y\",\"N\")","v":"N"},null,null,null,null,null,0,null,0,null,null,0,null,null,0,null,null,0,null,null,null,null,null,null,null,null,null,null,null,null,null,null,null,null,null,null,null,null,null,null,null,null,null,{"$f":"C29 & \"-II\"","v":"0.0-II"}]
[null,null,null,null,null,{"$f":"F29 & \".11\"","v":"0.11"},"ноябрь",null,null,{"$f":"IF(OFFSET('Список территорий'!CT$15,$F29,0)=\"a\",\"Y\",\"N\")","v":"N"},null,null,null,null,null,0,null,0,null,null,0,null,null,0,null,null,0,null,null,null,null,null,null,null,null,null,null,null,null,null,null,null,null,null,null,null,null,null,null,null,null,null,{"$f":"C29 & \"-II\"","v":"0.0-II"}]
[null,null,null,null,null,{"$f":"F29 & \".12\"","v":"0.12"},"декабрь",null,null,{"$f":"IF(OFFSET('Список территорий'!CU$15,$F29,0)=\"a\",\"Y\",\"N\")","v":"N"},null,null,null,null,null,0,null,0,null,null,0,null,null,0,null,null,0,null,null,null,null,null,null,null,null,null,null,null,null,null,null,null,null,null,null,null,null,null,null,null,null,null,{"$f":"C29 & \"-II\"","v":"0.0-II"}]
[]
[]
[]
[]
[]
[]
[]
[]
[]
[]
[]
[]
[]
[]
[]
[]
[]
[]
[]
[]
[]
[]
[]
[]
[]
[]
[]
[]
[]
[]
[]
[]
[]
[]
[]
[]
[]
[]
[]
[]
[]
[]
[]
[]
[]
[]
[]
[]
[]
[]
[]
[]
[]
[]
[]
[]
[]
[]
[]
[]
[]
[]
[]
[]
[]
[]
[]
[]
[]
[]
[]
[]
[]
[]
[]
[null,null,null,null,null,{"$f":"\"Баланс \" & TEMPLATE_SPHERE & \" (транспортировка)\"","v":"Баланс теплоснабжения (транспортировка)"}]
[null,null,null,null,null,"куб.м"]
[null,null,null,null,null,"№ п/п","Субъект баланса","Установленная мощность, куб.м/час","Подключённая (фактическая) нагрузка, куб.м/час","Вид воды","Объём воды, поступившей в сеть",null,null,null,"Потери","Отпуск воды"]
[null,null,null,null,null,null,null,null,null,null,"Всего","из собственных источников","от других операторов","получено от других территорий, дифференцированных по тарифу",null,"Всего","Потребление на нужды организации","Организациям-перепродавцам",null,null,"Бюджетные потребители",null,null,"Население",null,null,"Прочие потребители"]
[null,null,null,null,null,null,null,null,null,null,null,null,null,null,null,null,null,"Всего","по приборам учёта","по нормативам","Всего","по приборам учёта","по нормативам","Всего","по приборам учёта","по нормативам","Всего","по приборам учёта","по нормативам"]
[null,null,null,null,null,null,"А","IC","CL","Б",1,"1.1","1.2","1.3",2,3,"3.1","3.2","3.2.1","3.2.2","3.3","3.3.1","3.3.2","3.4","3.4.1","3.4.2","3.5","3.5.1","3.5.2"]
[]
[null,null,null,"-",null,{"$f":"IF(TEMPLATE_SPHERE_CODE=\"COLDVSNA\",\"0.1.P\",\"0.1\")","v":"0.1"},"Всего по организации",null,null,"питьевая вода",{"$f":"SUMIF($BA131:$BA132,$BA126,K131:K132)","v":0},0,0,0,0,0,0,0,0,0,0,0,0,0,0,0,0,0,0,null,null,null,null,null,null,null,null,null,null,null,null,null,null,null,null,null,null,null,null,null,null,null,{"$f":"IF(J126=\"питьевая вода\",\"TOTAL_ORG_YEAR_PW\",IF(J126=\"техническая вода\",\"TOTAL_ORG_YEAR_TW\",\"\"))","v":"TOTAL_ORG_YEAR_PW"}]
[null,null,null,null,null,{"$f":"IF(TEMPLATE_SPHERE_CODE=\"COLDVSNA\",\"0.1.T\",\"\")","v":""},null,null,null,"техническая вода",{"$f":"SUMIF($BA131:$BA132,$BA127,K131:K132)","v":0},0,0,0,0,0,0,0,0,0,0,0,0,0,0,0,0,0,0,null,null,null,null,null,null,null,null,null,null,null,null,null,null,null,null,null,null,null,null,null,null,null,{"$f":"IF(J127=\"питьевая вода\",\"TOTAL_ORG_YEAR_PW\",IF(J127=\"техническая вода\",\"TOTAL_ORG_YEAR_TW\",\"\"))","v":"TOTAL_ORG_YEAR_TW"}]
[null,null,null,null,null,null,null,null,null,null,null,null,null,null,null,null,null,null,null,null,null,null,null,null,null,null,null,null,null,null,null,null,null,null,null,null,null,null,null,null,null,null,null,null,null,null,null,null,null,null,null,null,"TOTAL_ORG_DF_PW"]
[null,null,null,null,null,null,null,null,null,null,null,null,null,null,null,null,null,null,null,null,null,null,null,null,null,null,null,null,null,null,null,null,null,null,null,null,null,null,null,null,null,null,null,null,null,null,null,null,null,null,null,null,"TOTAL_ORG_DF_TW"]
[]
[null,0]
[null,null,null,null,null,null,"Добавить"]

{"sheet":"ХВС.РО","index":18,"n_rows":290,"n_cols":46,"rows_kept":290,"cut":false,"hidden":true,"merged":[[18,40,19,40],[18,41,19,43],[18,38,19,38],[18,39,19,39],[12,38,13,39],[13,41,13,43]]}
[]
[]
[]
[]
[]
[null,null,null,null,null,null,null,null,null,null,null,null,null,null,null,null,null,null,null,null,null,null,null,null,null,null,null,null,null,null,null,null,null,null,null,null,null,null,null,null,null,12,6,6]
[]
[]
[null,null,null,null,null,null,null,null,null,null,null,null,null,null,null,null,null,null,null,null,null,null,null,null,null,null,null,null,null,null,null,null,null,null,null,null,null,null,null,null,null,"Y","I","II"]
[null,null,null,null,null,null,null,null,null,null,null,null,null,null,null,null,null,null,null,null,null,null,null,null,null,null,null,null,null,null,null,null,null,null,null,null,null,null,null,null,null,null,null,null,"START","END"]
[]
[null,null,null,null,null,null,null,null,null,null,null,null,null,null,null,null,null,null,null,null,null,null,null,null,null,null,null,null,null,null,null,null,null,null,null,null,null,null,null,"Необходимо указывать значения по полугодиям (6 и 6 месяцев)"]
["FULL_MODE",null,null,null,null,null,null,null,null,null,null,null,null,null,null,null,null,null,null,null,null,null,null,null,null,null,null,null,null,null,null,null,null,null,null,null,null,null,"Расходы организации",null,"Период","Год","I полугодие","II полугодие"]
[]
[]
[]
[]
[null,null,null,null,null,null,null,null,null,null,null,null,null,null,null,null,null,null,null,null,null,null,null,null,null,null,null,null,null,null,null,null,null,null,null,null,null,null,null,null,null,null,null,null,null,"Добавить"]
[null,null,null,null,null,null,null,null,null,null,null,null,null,null,null,null,null,null,null,null,null,null,null,null,null,null,null,null,null,null,null,null,null,null,null,null,null,null,"№ п/п","Наименование показателя","Единица измерения","Всего по организации",null,null,0]
[]
[null,null,null,null,null,null,null,null,null,null,null,null,null,null,null,null,null,null,null,null,null,null,null,null,null,null,null,null,null,null,null,null,null,null,null,null,null,null,null,"Является ли организация плательщиком НДС"]
[null,null,null,null,null,null,null,null,null,null,null,null,null,null,null,null,null,null,null,null,null,null,null,null,null,null,null,null,null,null,null,null,null,null,null,null,null,null,null,{"$f":"IF(CALC_IDENTIFIER=\"\",\"\",CALC_IDENTIFIER)","v":""}]
[null,null,null,null,null,null,null,null,null,null,null,null,null,null,null,null,null,null,null,null,null,null,null,null,null,null,null,null,null,null,null,null,null,null,null,null,null,null,"1","Производственные расходы","тыс.руб.",{"$f":"SUMIF($AS$9:$AT$9,AP$9,$AS23:$AT23)","v":0},0,0]
[null,null,null,null,null,null,null,null,null,null,null,null,null,null,null,null,null,null,null,null,null,null,null,null,null,null,null,null,null,null,null,null,null,null,null,null,null,null,"1.1","Расходы на приобретение сырья и материалов и их хранение","тыс.руб.",0,0,0]
[null,null,null,null,null,null,null,null,null,null,null,null,null,null,null,null,null,null,null,null,null,null,null,null,null,null,null,null,null,null,null,null,null,null,null,null,null,null,"1.1.1","Реагенты ","тыс.руб.",0,0,0]
[null,null,null,null,null,null,null,null,null,null,null,null,null,null,null,null,null,null,null,null,null,null,null,null,null,null,null,null,null,null,null,null,null,null,null,null,null,null,"1.1.2","Горюче-смазочные материалы","тыс.руб.",0,0,0]
[null,null,null,null,null,null,null,null,null,null,null,null,null,null,null,null,null,null,null,null,null,null,null,null,null,null,null,null,null,null,null,null,null,null,null,null,null,null,"1.1.3","Материалы и малоценные основные средства","тыс.руб.",0,0,0]
[null,null,null,null,null,null,null,null,null,null,null,null,null,null,null,null,null,null,null,null,null,null,null,null,null,null,null,null,null,null,null,null,null,null,null,null,null,null,"1.2","Расходы на энергетические ресурсы и холодную воду","тыс.руб.",0,0,0]
[null,null,null,null,null,null,null,null,null,null,null,null,null,null,null,null,null,null,null,null,null,null,null,null,null,null,null,null,null,null,null,null,null,null,null,null,null,null,"1.2.1","электроэнергия ","тыс.руб.",0,0,0]
[null,null,null,null,null,null,null,null,null,null,null,null,null,null,null,null,null,null,null,null,null,null,null,null,null,null,null,null,null,null,null,null,null,null,null,null,null,null,"1.2.1.1","Объём покупной энергии"]
[null,null,null,null,null,null,null,null,null,null,null,null,null,null,null,null,null,null,null,null,null,null,null,null,null,null,null,null,null,null,null,null,null,null,null,null,null,null,"1.2.1.1.1","Объём покупной энергии по одноставочному тарифу","тыс.кВт*ч",{"$f":"SUMIF($AS$9:$AT$9,AP$9,$AS31:$AT31)","v":0},0,0]
[null,null,null,null,null,null,null,null,null,null,null,null,null,null,null,null,null,null,null,null,null,null,null,null,null,null,null,null,null,null,null,null,null,null,null,null,null,null,"1.2.1.1.1.1","НН","тыс.кВт*ч",0,0,0]
[null,null,null,null,null,null,null,null,null,null,null,null,null,null,null,null,null,null,null,null,null,null,null,null,null,null,null,null,null,null,null,null,null,null,null,null,null,null,"1.2.1.1.1.2","СН1","тыс.кВт*ч",0,0,0]
[null,null,null,null,null,null,null,null,null,null,null,null,null,null,null,null,null,null,null,null,null,null,null,null,null,null,null,null,null,null,null,null,null,null,null,null,null,null,"1.2.1.1.1.3","СН2","тыс.кВт*ч",0,0,0]
[null,null,null,null,null,null,null,null,null,null,null,null,null,null,null,null,null,null,null,null,null,null,null,null,null,null,null,null,null,null,null,null,null,null,null,null,null,null,"1.2.1.1.1.4","ВН","тыс.кВт*ч",0,0,0]
[null,null,null,null,null,null,null,null,null,null,null,null,null,null,null,null,null,null,null,null,null,null,null,null,null,null,null,null,null,null,null,null,null,null,null,null,null,null,"1.2.1.1.1.5","без разбивки по напряжению","тыс.кВт*ч",0,0,0]
[null,null,null,null,null,null,null,null,null,null,null,null,null,null,null,null,null,null,null,null,null,null,null,null,null,null,null,null,null,null,null,null,null,null,null,null,null,null,"1.2.1.1.2","Объём покупной электроэнергии по двухставочному тарифу"]
[null,null,null,null,null,null,null,null,null,null,null,null,null,null,null,null,null,null,null,null,null,null,null,null,null,null,null,null,null,null,null,null,null,null,null,null,null,null,"1.2.1.1.2.1","Мощность","МВт*мес",{"$f":"SUMIF($AS$9:$AT$9,AP$9,$AS38:$AT38)","v":0},0,0]
[null,null,null,null,null,null,null,null,null,null,null,null,null,null,null,null,null,null,null,null,null,null,null,null,null,null,null,null,null,null,null,null,null,null,null,null,null,null,"1.2.1.1.2.1.1","НН","МВт*мес",0,0,0]
[null,null,null,null,null,null,null,null,null,null,null,null,null,null,null,null,null,null,null,null,null,null,null,null,null,null,null,null,null,null,null,null,null,null,null,null,null,null,"1.2.1.1.2.1.2","СН1","МВт*мес",0,0,0]
[null,null,null,null,null,null,null,null,null,null,null,null,null,null,null,null,null,null,null,null,null,null,null,null,null,null,null,null,null,null,null,null,null,null,null,null,null,null,"1.2.1.1.2.1.3","СН2","МВт*мес",0,0,0]
[null,null,null,null,null,null,null,null,null,null,null,null,null,null,null,null,null,null,null,null,null,null,null,null,null,null,null,null,null,null,null,null,null,null,null,null,null,null,"1.2.1.1.2.1.4","ВН","МВт*мес",0,0,0]
[null,null,null,null,null,null,null,null,null,null,null,null,null,null,null,null,null,null,null,null,null,null,null,null,null,null,null,null,null,null,null,null,null,null,null,null,null,null,"1.2.1.1.2.1.5","ГН","МВт*мес",0,0,0]
[null,null,null,null,null,null,null,null,null,null,null,null,null,null,null,null,null,null,null,null,null,null,null,null,null,null,null,null,null,null,null,null,null,null,null,null,null,null,"1.2.1.1.2.2","Активная электроэнергия","тыс.кВт*ч",0,0,0]
[null,null,null,null,null,null,null,null,null,null,null,null,null,null,null,null,null,null,null,null,null,null,null,null,null,null,null,null,null,null,null,null,null,null,null,null,null,null,"1.2.1.1.2.2.1","НН","тыс.кВт*ч",0,0,0]
[null,null,null,null,null,null,null,null,null,null,null,null,null,null,null,null,null,null,null,null,null,null,null,null,null,null,null,null,null,null,null,null,null,null,null,null,null,null,"1.2.1.1.2.2.2","СН1","тыс.кВт*ч",0,0,0]
[null,null,null,null,null,null,null,null,null,null,null,null,null,null,null,null,null,null,null,null,null,null,null,null,null,null,null,null,null,null,null,null,null,null,null,null,null,null,"1.2.1.1.2.2.3","СН2","тыс.кВт*ч",0,0,0]
[null,null,null,null,null,null,null,null,null,null,null,null,null,null,null,null,null,null,null,null,null,null,null,null,null,null,null,null,null,null,null,null,null,null,null,null,null,null,"1.2.1.1.2.2.4","ВН","тыс.кВт*ч",0,0,0]
[null,null,null,null,null,null,null,null,null,null,null,null,null,null,null,null,null,null,null,null,null,null,null,null,null,null,null,null,null,null,null,null,null,null,null,null,null,null,"1.2.1.1.2.2.5","ГН","тыс.кВт*ч",0,0,0]
[null,null,null,null,null,null,null,null,null,null,null,null,null,null,null,null,null,null,null,null,null,null,null,null,null,null,null,null,null,null,null,null,null,null,null,null,null,null,"1.2.1.2","Тариф на электроэнергию и мощность"]
[null,null,null,null,null,null,null,null,null,null,null,null,null,null,null,null,null,null,null,null,null,null,null,null,null,null,null,null,null,null,null,null,null,null,null,null,null,null,"1.2.1.2.1","по одноставочному тарифу"]
[null,null,null,null,null,null,null,null,null,null,null,null,null,null,null,null,null,null,null,null,null,null,null,null,null,null,null,null,null,null,null,null,null,null,null,null,null,null,"1.2.1.2.1.1","НН","руб./кВт*ч",{"$f":"IF(AP32=0,0,AP72/AP32)","v":0},{"$f":"IF(AQ32=0,0,AQ72/AQ32)","v":0},{"$f":"IF(AR32=0,0,AR72/AR32)","v":0}]
[null,null,null,null,null,null,null,null,null,null,null,null,null,null,null,null,null,null,null,null,null,null,null,null,null,null,null,null,null,null,null,null,null,null,null,null,null,null,"1.2.1.2.1.2","СН1","руб./кВт*ч",{"$f":"IF(AP33=0,0,AP73/AP33)","v":0},0,0]
[null,null,null,null,null,null,null,null,null,null,null,null,null,null,null,null,null,null,null,null,null,null,null,null,null,null,null,null,null,null,null,null,null,null,null,null,null,null,"1.2.1.2.1.3","СН2","руб./кВт*ч",0,0,0]
[null,null,null,null,null,null,null,null,null,null,null,null,null,null,null,null,null,null,null,null,null,null,null,null,null,null,null,null,null,null,null,null,null,null,null,null,null,null,"1.2.1.2.1.4","ВН","руб./кВт*ч",0,0,0]
[null,null,null,null,null,null,null,null,null,null,null,null,null,null,null,null,null,null,null,null,null,null,null,null,null,null,null,null,null,null,null,null,null,null,null,null,null,null,"1.2.1.2.1.5","без разбивки по напряжению","руб./кВт*ч",0,0,0]
[null,null,null,null,null,null,null,null,null,null,null,null,null,null,null,null,null,null,null,null,null,null,null,null,null,null,null,null,null,null,null,null,null,null,null,null,null,null,"1.2.1.2.1.6","Средний одноставочный тариф на электрическую энергию","руб./кВт*ч",{"$f":"IF(AP31=0,0,AP71/AP31)","v":0},{"$f":"IF(AQ31=0,0,AQ71/AQ31)","v":0},{"$f":"IF(AR31=0,0,AR71/AR31)","v":0}]
[null,null,null,null,null,null,null,null,null,null,null,null,null,null,null,null,null,null,null,null,null,null,null,null,null,null,null,null,null,null,null,null,null,null,null,null,null,null,"1.2.1.2.2","по двухставочному тарифу"]
[null,null,null,null,null,null,null,null,null,null,null,null,null,null,null,null,null,null,null,null,null,null,null,null,null,null,null,null,null,null,null,null,null,null,null,null,null,null,"1.2.1.2.2.1","ставка за мощность","руб./МВт*мес",{"$f":"IF(AP38=0,0,AP77*1000/AP38)","v":0},0,0]
[null,null,null,null,null,null,null,null,null,null,null,null,null,null,null,null,null,null,null,null,null,null,null,null,null,null,null,null,null,null,null,null,null,null,null,null,null,null,"1.2.1.2.2.1.1","НН","руб./МВт*мес",0,0,0]
[null,null,null,null,null,null,null,null,null,null,null,null,null,null,null,null,null,null,null,null,null,null,null,null,null,null,null,null,null,null,null,null,null,null,null,null,null,null,"1.2.1.2.2.1.2","СН1","руб./МВт*мес",{"$f":"IF(AP40=0,0,AP79*1000/AP40)","v":0},0,0]
[null,null,null,null,null,null,null,null,null,null,null,null,null,null,null,null,null,null,null,null,null,null,null,null,null,null,null,null,null,null,null,null,null,null,null,null,null,null,"1.2.1.2.2.1.3","СН2","руб./МВт*мес",0,0,0]
[null,null,null,null,null,null,null,null,null,null,null,null,null,null,null,null,null,null,null,null,null,null,null,null,null,null,null,null,null,null,null,null,null,null,null,null,null,null,"1.2.1.2.2.1.4","ВН","руб./МВт*мес",0,0,0]
[null,null,null,null,null,null,null,null,null,null,null,null,null,null,null,null,null,null,null,null,null,null,null,null,null,null,null,null,null,null,null,null,null,null,null,null,null,null,"1.2.1.2.2.1.5","ГН","руб./МВт*мес",0,0,0]
[null,null,null,null,null,null,null,null,null,null,null,null,null,null,null,null,null,null,null,null,null,null,null,null,null,null,null,null,null,null,null,null,null,null,null,null,null,null,"1.2.1.2.2.2","ставка за электроэнергию","руб./кВт*ч",{"$f":"IF(AP44=0,0,AP83/AP44)","v":0},{"$f":"IF(AQ44=0,0,AQ83/AQ44)","v":0},{"$f":"IF(AR44=0,0,AR83/AR44)","v":0}]
[null,null,null,null,null,null,null,null,null,null,null,null,null,null,null,null,null,null,null,null,null,null,null,null,null,null,null,null,null,null,null,null,null,null,null,null,null,null,"1.2.1.2.2.2.1","НН","руб./кВт*ч",{"$f":"IF(AP45=0,0,AP84/AP45)","v":0},0,0]
[null,null,null,null,null,null,null,null,null,null,null,null,null,null,null,null,null,null,null,null,null,null,null,null,null,null,null,null,null,null,null,null,null,null,null,null,null,null,"1.2.1.2.2.2.2","СН1","руб./кВт*ч",0,0,0]
[null,null,null,null,null,null,null,null,null,null,null,null,null,null,null,null,null,null,null,null,null,null,null,null,null,null,null,null,null,null,null,null,null,null,null,null,null,null,"1.2.1.2.2.2.3","СН2","руб./кВт*ч",0,0,0]
[null,null,null,null,null,null,null,null,null,null,null,null,null,null,null,null,null,null,null,null,null,null,null,null,null,null,null,null,null,null,null,null,null,null,null,null,null,null,"1.2.1.2.2.2.4","ВН","руб./кВт*ч",0,0,0]
[null,null,null,null,null,null,null,null,null,null,null,null,null,null,null,null,null,null,null,null,null,null,null,null,null,null,null,null,null,null,null,null,null,null,null,null,null,null,"1.2.1.2.2.2.5","ГН","руб./кВт*ч",0,0,0]
[null,null,null,null,null,null,null,null,null,null,null,null,null,null,null,null,null,null,null,null,null,null,null,null,null,null,null,null,null,null,null,null,null,null,null,null,null,null,"1.2.1.3","Затраты на покупку энергии по одноставочному тарифу","тыс.руб.",{"$f":"SUMIF($AS$9:$AT$9,AP$9,$AS71:$AT71)","v":0},0,0]
[null,null,null,null,null,null,null,null,null,null,null,null,null,null,null,null,null,null,null,null,null,null,null,null,null,null,null,null,null,null,null,null,null,null,null,null,null,null,"1.2.1.3.1","НН","тыс.руб.",0,0,0]
[null,null,null,null,null,null,null,null,null,null,null,null,null,null,null,null,null,null,null,null,null,null,null,null,null,null,null,null,null,null,null,null,null,null,null,null,null,null,"1.2.1.3.2","СН1","тыс.руб.",0,0,0]
[null,null,null,null,null,null,null,null,null,null,null,null,null,null,null,null,null,null,null,null,null,null,null,null,null,null,null,null,null,null,null,null,null,null,null,null,null,null,"1.2.1.3.3","СН2","тыс.руб.",0,0,0]
[null,null,null,null,null,null,null,null,null,null,null,null,null,null,null,null,null,null,null,null,null,null,null,null,null,null,null,null,null,null,null,null,null,null,null,null,null,null,"1.2.1.3.4","ВН","тыс.руб.",0,0,0]
[null,null,null,null,null,null,null,null,null,null,null,null,null,null,null,null,null,null,null,null,null,null,null,null,null,null,null,null,null,null,null,null,null,null,null,null,null,null,"1.2.1.3.5","без разбивки по напряжению","тыс.руб.",0,0,0]
[null,null,null,null,null,null,null,null,null,null,null,null,null,null,null,null,null,null,null,null,null,null,null,null,null,null,null,null,null,null,null,null,null,null,null,null,null,null,"1.2.1.4","Затраты на покупку мощности по двухставочному тарифу","тыс.руб.",0,0,0]
[null,null,null,null,null,null,null,null,null,null,null,null,null,null,null,null,null,null,null,null,null,null,null,null,null,null,null,null,null,null,null,null,null,null,null,null,null,null,"1.2.1.4.1","НН","тыс.руб.",0,0,0]
[null,null,null,null,null,null,null,null,null,null,null,null,null,null,null,null,null,null,null,null,null,null,null,null,null,null,null,null,null,null,null,null,null,null,null,null,null,null,"1.2.1.4.2","СН1","тыс.руб.",0,0,0]
[null,null,null,null,null,null,null,null,null,null,null,null,null,null,null,null,null,null,null,null,null,null,null,null,null,null,null,null,null,null,null,null,null,null,null,null,null,null,"1.2.1.4.3","СН2","тыс.руб.",0,0,0]
[null,null,null,null,null,null,null,null,null,null,null,null,null,null,null,null,null,null,null,null,null,null,null,null,null,null,null,null,null,null,null,null,null,null,null,null,null,null,"1.2.1.4.4","ВН","тыс.руб.",0,0,0]
[null,null,null,null,null,null,null,null,null,null,null,null,null,null,null,null,null,null,null,null,null,null,null,null,null,null,null,null,null,null,null,null,null,null,null,null,null,null,"1.2.1.4.5","ГН","тыс.руб.",0,0,0]
[null,null,null,null,null,null,null,null,null,null,null,null,null,null,null,null,null,null,null,null,null,null,null,null,null,null,null,null,null,null,null,null,null,null,null,null,null,null,"1.2.1.5","Затраты на покупку энергии по двухставочному тарифу","тыс.руб.",0,0,0]
[null,null,null,null,null,null,null,null,null,null,null,null,null,null,null,null,null,null,null,null,null,null,null,null,null,null,null,null,null,null,null,null,null,null,null,null,null,null,"1.2.1.5.1","НН","тыс.руб.",0,0,0]
[null,null,null,null,null,null,null,null,null,null,null,null,null,null,null,null,null,null,null,null,null,null,null,null,null,null,null,null,null,null,null,null,null,null,null,null,null,null,"1.2.1.5.2","СН1","тыс.руб.",0,0,0]
[null,null,null,null,null,null,null,null,null,null,null,null,null,null,null,null,null,null,null,null,null,null,null,null,null,null,null,null,null,null,null,null,null,null,null,null,null,null,"1.2.1.5.3","СН2","тыс.руб.",0,0,0]
[null,null,null,null,null,null,null,null,null,null,null,null,null,null,null,null,null,null,null,null,null,null,null,null,null,null,null,null,null,null,null,null,null,null,null,null,null,null,"1.2.1.5.4","ВН","тыс.руб.",0,0,0]
[null,null,null,null,null,null,null,null,null,null,null,null,null,null,null,null,null,null,null,null,null,null,null,null,null,null,null,null,null,null,null,null,null,null,null,null,null,null,"1.2.1.5.5","ГН","тыс.руб.",0,0,0]
[null,null,null,null,null,null,null,null,null,null,null,null,null,null,null,null,null,null,null,null,null,null,null,null,null,null,null,null,null,null,null,null,null,null,null,null,null,null,"1.2.2","теплоэнергия","тыс.руб.",0,0,0]
[null,null,null,null,null,null,null,null,null,null,null,null,null,null,null,null,null,null,null,null,null,null,null,null,null,null,null,null,null,null,null,null,null,null,null,null,null,null,"1.2.3","теплоноситель","тыс.руб.",0,0,0]
[null,null,null,null,null,null,null,null,null,null,null,null,null,null,null,null,null,null,null,null,null,null,null,null,null,null,null,null,null,null,null,null,null,null,null,null,null,null,"1.2.4","топливо","тыс.руб.",0,0,0]
[]
[]
[]
[]
[null,null,null,null,null,null,null,null,null,null,null,null,null,null,null,null,null,null,null,null,null,null,null,null,null,null,null,null,null,null,null,null,null,null,null,null,null,null,"1.2.5","холодная вода","тыс.руб.",{"$f":"SUMIF($AS$9:$AT$9,AP$9,$AS96:$AT96)","v":0},{"$f":"SUMIF($AS$9:$AT$9,AQ$9,$AS96:$AT96)","v":0},{"$f":"SUMIF($AS$9:$AT$9,AR$9,$AS96:$AT96)","v":0}]
[null,null,null,null,null,null,null,null,null,null,null,null,null,null,null,null,null,null,null,null,null,null,null,null,null,null,null,null,null,null,null,null,null,null,null,null,null,null,"1.2.5.1","цена","руб./куб.м",{"$f":"IF(AP98=0,0,AP96/AP98)","v":0},{"$f":"IF(AQ98=0,0,AQ96/AQ98)","v":0},{"$f":"IF(AR98=0,0,AR96/AR98)","v":0}]
[null,null,null,null,null,null,null,null,null,null,null,null,null,null,null,null,null,null,null,null,null,null,null,null,null,null,null,null,null,null,null,null,null,null,null,null,null,null,"1.2.5.2","объём","тыс.куб.м",{"$f":"SUMIF($AS$9:$AT$9,AP$9,$AS98:$AT98)","v":0},{"$f":"SUMIF($AS$9:$AT$9,AQ$9,$AS98:$AT98)","v":0},{"$f":"SUMIF($AS$9:$AT$9,AR$9,$AS98:$AT98)","v":0}]
[]
[]
[]
[]
[]
[]
[]
[null,null,null,null,null,null,null,null,null,null,null,null,null,null,null,null,null,null,null,null,null,null,null,null,null,null,null,null,null,null,null,null,null,null,null,null,null,null,"1.3","Расходы на оплату работ и услуг, выполняемые сторонними организациями и индивидуальными предпринимателями, связанные с эксплуатацией централизованных систем либо объектов в составе таких систем","тыс.руб.",{"$f":"SUMIF($AS$9:$AT$9,AP$9,$AS106:$AT106)","v":0},0,0]
[null,null,null,null,null,null,null,null,null,null,null,null,null,null,null,null,null,null,null,null,null,null,null,null,null,null,null,null,null,null,null,null,null,null,null,null,null,null,"1.4","Расходы на оплату труда и отчисления на социальные нужды основного производственного персонала, в том числе налоги и сборы ","тыс.руб.",0,0,0]
[null,null,null,null,null,null,null,null,null,null,null,null,null,null,null,null,null,null,null,null,null,null,null,null,null,null,null,null,null,null,null,null,null,null,null,null,null,null,"1.4.1","Расходы на оплату труда производственного персонала","тыс.руб.",0,0,0]
[null,null,null,null,null,null,null,null,null,null,null,null,null,null,null,null,null,null,null,null,null,null,null,null,null,null,null,null,null,null,null,null,null,null,null,null,null,null,"1.4.1.1","Численность (среднесписочная), принятая для расчёта","ед.",0,0,0]
[null,null,null,null,null,null,null,null,null,null,null,null,null,null,null,null,null,null,null,null,null,null,null,null,null,null,null,null,null,null,null,null,null,null,null,null,null,null,"1.4.1.2","Среднемесячная оплата труда основного производственного персонала","руб./мес.",{"$f":"IF(AP109=0,0,AP108/AP109*1000/AP$6)","v":0},{"$f":"IF(AQ109=0,0,AQ108/AQ109*1000/AQ$6)","v":0},{"$f":"IF(AR109=0,0,AR108/AR109*1000/AR$6)","v":0}]
[null,null,null,null,null,null,null,null,null,null,null,null,null,null,null,null,null,null,null,null,null,null,null,null,null,null,null,null,null,null,null,null,null,null,null,null,null,null,"1.4.1.3","Фактическая численность основного производственного персонала, относимого на регулируемый вид деятельности","ед.",{"$f":"SUMIF($AS$9:$AT$9,AP$9,$AS111:$AT111)","v":0},0,0]
[null,null,null,null,null,null,null,null,null,null,null,null,null,null,null,null,null,null,null,null,null,null,null,null,null,null,null,null,null,null,null,null,null,null,null,null,null,null,"1.4.1.4","Справочно: нормативная численность основного производственного персонала, относимого на регулируемый вид деятельности","ед.",0,0,0]
[null,null,null,null,null,null,null,null,null,null,null,null,null,null,null,null,null,null,null,null,null,null,null,null,null,null,null,null,null,null,null,null,null,null,null,null,null,null,"1.4.1.5","Тарифная ставка рабочего 1-го разряда","руб./мес."]
[null,null,null,null,null,null,null,null,null,null,null,null,null,null,null,null,null,null,null,null,null,null,null,null,null,null,null,null,null,null,null,null,null,null,null,null,null,null,"1.4.1.6","Индекс роста номинальной заработной платы"]
[null,null,null,null,null,null,null,null,null,null,null,null,null,null,null,null,null,null,null,null,null,null,null,null,null,null,null,null,null,null,null,null,null,null,null,null,null,null,"1.4.1.7","Тарифная ставка рабочего 1-го разряда с учётом дефлятора","руб./мес."]
[null,null,null,null,null,null,null,null,null,null,null,null,null,null,null,null,null,null,null,null,null,null,null,null,null,null,null,null,null,null,null,null,null,null,null,null,null,null,"1.4.1.8","Средний тарифный коэффициент"]
[null,null,null,null,null,null,null,null,null,null,null,null,null,null,null,null,null,null,null,null,null,null,null,null,null,null,null,null,null,null,null,null,null,null,null,null,null,null,"1.4.1.9","Среднемесячная тарифная ставка","руб./мес."]
[null,null,null,null,null,null,null,null,null,null,null,null,null,null,null,null,null,null,null,null,null,null,null,null,null,null,null,null,null,null,null,null,null,null,null,null,null,null,"1.4.1.10","Минимальный размер оплаты труда по отраслевому тарифному соглашению","руб./мес."]
[null,null,null,null,null,null,null,null,null,null,null,null,null,null,null,null,null,null,null,null,null,null,null,null,null,null,null,null,null,null,null,null,null,null,null,null,null,null,"1.4.2","Отчисления на социальные нужды производственного персонала, в том числе налоги и сборы","тыс.руб.",{"$f":"SUMIF($AS$9:$AT$9,AP$9,$AS119:$AT119)","v":0},0,0]
[null,null,null,null,null,null,null,null,null,null,null,null,null,null,null,null,null,null,null,null,null,null,null,null,null,null,null,null,null,null,null,null,null,null,null,null,null,null,"1.5","Расходы на уплату процентов по займам и кредитам, не учитываемые при определении налогооблагаемой базы налога на прибыль","тыс.руб.",0,0,0]
[null,null,null,null,null,null,null,null,null,null,null,null,null,null,null,null,null,null,null,null,null,null,null,null,null,null,null,null,null,null,null,null,null,null,null,null,null,null,"1.6","Общехозяйственные расходы","тыс.руб.",0,0,0]
[null,null,null,null,null,null,null,null,null,null,null,null,null,null,null,null,null,null,null,null,null,null,null,null,null,null,null,null,null,null,null,null,null,null,null,null,null,null,"1.7","Прочие производственные расходы","тыс.руб.",0,0,0]
[null,null,null,null,null,null,null,null,null,null,null,null,null,null,null,null,null,null,null,null,null,null,null,null,null,null,null,null,null,null,null,null,null,null,null,null,null,null,"1.7.1","Расходы на амортизацию транспорта","тыс.руб.",0,0,0]
[null,null,null,null,null,null,null,null,null,null,null,null,null,null,null,null,null,null,null,null,null,null,null,null,null,null,null,null,null,null,null,null,null,null,null,null,null,null,{"$f":"IF(TEMPLATE_SPHERE_CODE=\"COLDVSNA\",\"1.7.2\",IF(TEMPLATE_SPHERE_CODE=\"VOTV\",\"1.7.2\",\"\"))","v":""},{"$f":"IF(TEMPLATE_SPHERE_CODE=\"COLDVSNA\",\"Контроль качества воды\",IF(TEMPLATE_SPHERE_CODE=\"VOTV\",\"Контроль сточных вод\",\"\"))","v":""},"тыс.руб.",0,0,0]
[null,null,null,null,null,null,null,null,null,null,null,null,null,null,null,null,null,null,null,null,null,null,null,null,null,null,null,null,null,null,null,null,null,null,null,null,null,null,"1.7.3","Расходы на аварийно-диспетчерское обслуживание","тыс.руб.",0,0,0]
[null,null,null,null,null,null,null,null,null,null,null,null,null,null,null,null,null,null,null,null,null,null,null,null,null,null,null,null,null,null,null,null,null,null,null,null,null,null,{"$f":"IF(TEMPLATE_SPHERE_CODE=\"COLDVSNA\",\"\",IF(TEMPLATE_SPHERE_CODE=\"VOTV\",\"1.7.4\",\"\"))","v":""},{"$f":"IF(TEMPLATE_SPHERE_CODE=\"COLDVSNA\",\"\",IF(TEMPLATE_SPHERE_CODE=\"VOTV\",\"Услуги по обращению с осадком сточных вод\",\"\"))","v":""},{"$f":"IF(TEMPLATE_SPHERE_CODE=\"COLDVSNA\",\"\",IF(TEMPLATE_SPHERE_CODE=\"VOTV\",\"тыс.руб.\",\"\"))","v":""},{"$f":"IF(TEMPLATE_SPHERE_CODE=\"COLDVSNA\",\"\",SUMIF($AS$9:$AT$9,AP$9,$AS126:$AT126))","v":0},{"$f":"IF(TEMPLATE_SPHERE_CODE=\"COLDVSNA\",\"\",SUMIF($AS$9:$AT$9,AQ$9,$AS126:$AT126))","v":0},{"$f":"IF(TEMPLATE_SPHERE_CODE=\"COLDVSNA\",\"\",SUMIF($AS$9:$AT$9,AR$9,$AS126:$AT126))","v":0}]
[null,null,null,null,null,null,null,null,null,null,null,null,null,null,null,null,null,null,null,null,null,null,null,null,null,null,null,null,null,null,null,null,null,null,null,null,null,null,"1.8","Цеховые расходы","тыс.руб.",{"$f":"SUMIF($AS$9:$AT$9,AP$9,$AS127:$AT127)","v":0},0,0]
[null,null,null,null,null,null,null,null,null,null,null,null,null,null,null,null,null,null,null,null,null,null,null,null,null,null,null,null,null,null,null,null,null,null,null,null,null,null,"1.8.1","Расходы на оплату труда цехового персонала","тыс.руб.",0,0,0]
[null,null,null,null,null,null,null,null,null,null,null,null,null,null,null,null,null,null,null,null,null,null,null,null,null,null,null,null,null,null,null,null,null,null,null,null,null,null,"1.8.2","Отчисления на социальные нужды цехового персонала, в том числе налоги и сборы","тыс.руб.",0,0,0]
[null,null,null,null,null,null,null,null,null,null,null,null,null,null,null,null,null,null,null,null,null,null,null,null,null,null,null,null,null,null,null,null,null,null,null,null,null,null,"1.8.3","Расходы на охрану труда","тыс.руб.",0,0,0]
[null,null,null,null,null,null,null,null,null,null,null,null,null,null,null,null,null,null,null,null,null,null,null,null,null,null,null,null,null,null,null,null,null,null,null,null,null,null,"1.8.4","Прочие","тыс.руб.",0,0,0]
[null,null,null,null,null,null,null,null,null,null,null,null,null,null,null,null,null,null,null,null,null,null,null,null,null,null,null,null,null,null,null,null,null,null,null,null,null,null,"2","Ремонтные расходы","тыс.руб.",0,0,0]
[null,null,null,null,null,null,null,null,null,null,null,null,null,null,null,null,null,null,null,null,null,null,null,null,null,null,null,null,null,null,null,null,null,null,null,null,null,null,"2.1","Расходы на текущий ремонт централизованных систем водоснабжения и (или) водоотведения либо объектов, входящих в состав таких систем","тыс.руб.",0,0,0]
[null,null,null,null,null,null,null,null,null,null,null,null,null,null,null,null,null,null,null,null,null,null,null,null,null,null,null,null,null,null,null,null,null,null,null,null,null,null,"2.1.1","Справочно: расходы на текущий ремонт, предусмотренные производственной программой регулируемой организации","тыс.руб.",0,0,0]
[null,null,null,null,null,null,null,null,null,null,null,null,null,null,null,null,null,null,null,null,null,null,null,null,null,null,null,null,null,null,null,null,null,null,null,null,null,null,"2.2","Расходы на капитальный ремонт централизованных систем водоснабжения и (или водоотведения) либо объектов, входящих в состав таких систем","тыс.руб.",0,0,0]
[null,null,null,null,null,null,null,null,null,null,null,null,null,null,null,null,null,null,null,null,null,null,null,null,null,null,null,null,null,null,null,null,null,null,null,null,null,null,"2.2.1","Справочно: расходы на капитальный ремонт, предусмотренные производственной программой регулируемой организации","тыс.руб.",0,0,0]
[null,null,null,null,null,null,null,null,null,null,null,null,null,null,null,null,null,null,null,null,null,null,null,null,null,null,null,null,null,null,null,null,null,null,null,null,null,null,"2.3","Расходы на оплату труда и отчисления на социальные нужды ремонтного персонала, в том числе налоги и сборы","тыс.руб.",0,0,0]
[null,null,null,null,null,null,null,null,null,null,null,null,null,null,null,null,null,null,null,null,null,null,null,null,null,null,null,null,null,null,null,null,null,null,null,null,null,null,"2.3.1","Расходы на оплату труда ремонтного персонала","тыс.руб.",0,0,0]
[null,null,null,null,null,null,null,null,null,null,null,null,null,null,null,null,null,null,null,null,null,null,null,null,null,null,null,null,null,null,null,null,null,null,null,null,null,null,"2.3.1.1","Численность (среднесписочная), принятая для расчёта","ед.",0,0,0]
[null,null,null,null,null,null,null,null,null,null,null,null,null,null,null,null,null,null,null,null,null,null,null,null,null,null,null,null,null,null,null,null,null,null,null,null,null,null,"2.3.1.2","Среднемесячная оплата труда ремонтного персонала","руб./мес.",{"$f":"IF(AP139=0,0,AP138/AP139*1000/AP$6)","v":0},{"$f":"IF(AQ139=0,0,AQ138/AQ139*1000/AQ$6)","v":0},{"$f":"IF(AR139=0,0,AR138/AR139*1000/AR$6)","v":0}]
[null,null,null,null,null,null,null,null,null,null,null,null,null,null,null,null,null,null,null,null,null,null,null,null,null,null,null,null,null,null,null,null,null,null,null,null,null,null,"2.3.1.3","Фактическая численность ремонтного персонала, относимого на регулируемый вид деятельности","ед.",{"$f":"SUMIF($AS$9:$AT$9,AP$9,$AS141:$AT141)","v":0},0,0]
[null,null,null,null,null,null,null,null,null,null,null,null,null,null,null,null,null,null,null,null,null,null,null,null,null,null,null,null,null,null,null,null,null,null,null,null,null,null,"2.3.1.4","Справочно: нормативная численность ремонтного персонала, относимого на регулируемый вид деятельности","ед.",0,0,0]
[null,null,null,null,null,null,null,null,null,null,null,null,null,null,null,null,null,null,null,null,null,null,null,null,null,null,null,null,null,null,null,null,null,null,null,null,null,null,"2.3.1.5","Тарифная ставка рабочего 1-го разряда","руб./мес."]
[null,null,null,null,null,null,null,null,null,null,null,null,null,null,null,null,null,null,null,null,null,null,null,null,null,null,null,null,null,null,null,null,null,null,null,null,null,null,"2.3.1.6","Индекс роста номинальной заработной платы"]
[null,null,null,null,null,null,null,null,null,null,null,null,null,null,null,null,null,null,null,null,null,null,null,null,null,null,null,null,null,null,null,null,null,null,null,null,null,null,"2.3.1.7","Тарифная ставка рабочего 1-го разряда с учётом дефлятора","руб./мес."]
[null,null,null,null,null,null,null,null,null,null,null,null,null,null,null,null,null,null,null,null,null,null,null,null,null,null,null,null,null,null,null,null,null,null,null,null,null,null,"2.3.1.8","Средний тарифный коэффициент"]
[null,null,null,null,null,null,null,null,null,null,null,null,null,null,null,null,null,null,null,null,null,null,null,null,null,null,null,null,null,null,null,null,null,null,null,null,null,null,"2.3.1.9","Среднемесячная тарифная ставка","руб./мес."]
[null,null,null,null,null,null,null,null,null,null,null,null,null,null,null,null,null,null,null,null,null,null,null,null,null,null,null,null,null,null,null,null,null,null,null,null,null,null,"2.3.1.10","Минимальный размер оплаты труда по отраслевому тарифному соглашению","руб./мес."]
[null,null,null,null,null,null,null,null,null,null,null,null,null,null,null,null,null,null,null,null,null,null,null,null,null,null,null,null,null,null,null,null,null,null,null,null,null,null,"2.3.2","Отчисления на социальные нужды ремонтного персонала, в том числе налоги и сборы","тыс.руб.",{"$f":"SUMIF($AS$9:$AT$9,AP$9,$AS149:$AT149)","v":0},0,0]
[null,null,null,null,null,null,null,null,null,null,null,null,null,null,null,null,null,null,null,null,null,null,null,null,null,null,null,null,null,null,null,null,null,null,null,null,null,null,3,"Административные расходы","тыс.руб.",0,0,0]
[null,null,null,null,null,null,null,null,null,null,null,null,null,null,null,null,null,null,null,null,null,null,null,null,null,null,null,null,null,null,null,null,null,null,null,null,null,null,"3.1","Расходы на оплату работ и услуг, выполняемых сторонними организациями","тыс.руб.",0,0,0]
[null,null,null,null,null,null,null,null,null,null,null,null,null,null,null,null,null,null,null,null,null,null,null,null,null,null,null,null,null,null,null,null,null,null,null,null,null,null,"3.1.1","услуги связи и интернет","тыс.руб.",0,0,0]
[null,null,null,null,null,null,null,null,null,null,null,null,null,null,null,null,null,null,null,null,null,null,null,null,null,null,null,null,null,null,null,null,null,null,null,null,null,null,"3.1.2","юридические услуги","тыс.руб.",0,0,0]
[null,null,null,null,null,null,null,null,null,null,null,null,null,null,null,null,null,null,null,null,null,null,null,null,null,null,null,null,null,null,null,null,null,null,null,null,null,null,"3.1.3","аудиторские услуги","тыс.руб.",0,0,0]
[null,null,null,null,null,null,null,null,null,null,null,null,null,null,null,null,null,null,null,null,null,null,null,null,null,null,null,null,null,null,null,null,null,null,null,null,null,null,"3.1.4","консультационные услуги","тыс.руб.",0,0,0]
[null,null,null,null,null,null,null,null,null,null,null,null,null,null,null,null,null,null,null,null,null,null,null,null,null,null,null,null,null,null,null,null,null,null,null,null,null,null,"3.1.5","услуги по вневедомственной охране объектов и территорий","тыс.руб.",0,0,0]
[null,null,null,null,null,null,null,null,null,null,null,null,null,null,null,null,null,null,null,null,null,null,null,null,null,null,null,null,null,null,null,null,null,null,null,null,null,null,"3.1.6","информационные услуги","тыс.руб.",0,0,0]
[null,null,null,null,null,null,null,null,null,null,null,null,null,null,null,null,null,null,null,null,null,null,null,null,null,null,null,null,null,null,null,null,null,null,null,null,null,null,"3.2","Расходы на оплату труда и отчисления на социальные нужды административно-управленческого персонала, в том числе налоги и сборы","тыс.руб.",0,0,0]
[null,null,null,null,null,null,null,null,null,null,null,null,null,null,null,null,null,null,null,null,null,null,null,null,null,null,null,null,null,null,null,null,null,null,null,null,null,null,"3.2.1","Расходы на оплату труда административно-управленческого персонала","тыс.руб.",0,0,0]
[null,null,null,null,null,null,null,null,null,null,null,null,null,null,null,null,null,null,null,null,null,null,null,null,null,null,null,null,null,null,null,null,null,null,null,null,null,null,"3.2.1.1","Численность (среднесписочная), принятая для расчёта","ед.",0,0,0]
[null,null,null,null,null,null,null,null,null,null,null,null,null,null,null,null,null,null,null,null,null,null,null,null,null,null,null,null,null,null,null,null,null,null,null,null,null,null,"3.2.1.2","Среднемесячная оплата труда административно-управленческого персонала","руб./мес.",{"$f":"IF(AP160=0,0,AP159/AP160*1000/AP$6)","v":0},{"$f":"IF(AQ160=0,0,AQ159/AQ160*1000/AQ$6)","v":0},{"$f":"IF(AR160=0,0,AR159/AR160*1000/AR$6)","v":0}]
[null,null,null,null,null,null,null,null,null,null,null,null,null,null,null,null,null,null,null,null,null,null,null,null,null,null,null,null,null,null,null,null,null,null,null,null,null,null,"3.2.1.3","Фактическая численность административно-управленческого персонала, относимого на регулируемый вид деятельности","ед.",{"$f":"SUMIF($AS$9:$AT$9,AP$9,$AS162:$AT162)","v":0},0,0]
[null,null,null,null,null,null,null,null,null,null,null,null,null,null,null,null,null,null,null,null,null,null,null,null,null,null,null,null,null,null,null,null,null,null,null,null,null,null,"3.2.1.4","Справочно: нормативная численность административно-управленческого персонала, относимого на регулируемый вид деятельности","ед.",0,0,0]
[null,null,null,null,null,null,null,null,null,null,null,null,null,null,null,null,null,null,null,null,null,null,null,null,null,null,null,null,null,null,null,null,null,null,null,null,null,null,"3.2.1.5","Тарифная ставка рабочего 1-го разряда","руб./мес."]
[null,null,null,null,null,null,null,null,null,null,null,null,null,null,null,null,null,null,null,null,null,null,null,null,null,null,null,null,null,null,null,null,null,null,null,null,null,null,"3.2.1.6","Индекс роста номинальной заработной платы"]
[null,null,null,null,null,null,null,null,null,null,null,null,null,null,null,null,null,null,null,null,null,null,null,null,null,null,null,null,null,null,null,null,null,null,null,null,null,null,"3.2.1.7","Тарифная ставка рабочего 1-го разряда с учётом дефлятора","руб./мес."]
[null,null,null,null,null,null,null,null,null,null,null,null,null,null,null,null,null,null,null,null,null,null,null,null,null,null,null,null,null,null,null,null,null,null,null,null,null,null,"3.2.1.8","Средний тарифный коэффициент"]
[null,null,null,null,null,null,null,null,null,null,null,null,null,null,null,null,null,null,null,null,null,null,null,null,null,null,null,null,null,null,null,null,null,null,null,null,null,null,"3.2.1.9","Среднемесячная тарифная ставка","руб./мес."]
[null,null,null,null,null,null,null,null,null,null,null,null,null,null,null,null,null,null,null,null,null,null,null,null,null,null,null,null,null,null,null,null,null,null,null,null,null,null,"3.2.1.10","Минимальный размер оплаты труда по отраслевому тарифному соглашению","руб./мес."]
[null,null,null,null,null,null,null,null,null,null,null,null,null,null,null,null,null,null,null,null,null,null,null,null,null,null,null,null,null,null,null,null,null,null,null,null,null,null,"3.2.2","Отчисления на социальные нужды административно-управленческого персонала, в том числе налоги и сборы","тыс.руб.",{"$f":"SUMIF($AS$9:$AT$9,AP$9,$AS170:$AT170)","v":0},0,0]
[null,null,null,null,null,null,null,null,null,null,null,null,null,null,null,null,null,null,null,null,null,null,null,null,null,null,null,null,null,null,null,null,null,null,null,null,null,null,"3.3","Арендная плата, лизинговые платежи, не связанные с арендой (лизингом) централизованных систем водоснабжения и (или) водоотведения либо объектов, входящих в состав таких систем","тыс.руб.",0,0,0]
[null,null,null,null,null,null,null,null,null,null,null,null,null,null,null,null,null,null,null,null,null,null,null,null,null,null,null,null,null,null,null,null,null,null,null,null,null,null,"3.4","Служебные командировки","тыс.руб.",0,0,0]
[null,null,null,null,null,null,null,null,null,null,null,null,null,null,null,null,null,null,null,null,null,null,null,null,null,null,null,null,null,null,null,null,null,null,null,null,null,null,"3.5","Обучение персонала","тыс.руб.",0,0,0]
[null,null,null,null,null,null,null,null,null,null,null,null,null,null,null,null,null,null,null,null,null,null,null,null,null,null,null,null,null,null,null,null,null,null,null,null,null,null,"3.6","Страхование производственных объектов","тыс.руб.",0,0,0]
[null,null,null,null,null,null,null,null,null,null,null,null,null,null,null,null,null,null,null,null,null,null,null,null,null,null,null,null,null,null,null,null,null,null,null,null,null,null,"3.7","Прочие административные расходы","тыс.руб.",0,0,0]
[null,null,null,null,null,null,null,null,null,null,null,null,null,null,null,null,null,null,null,null,null,null,null,null,null,null,null,null,null,null,null,null,null,null,null,null,null,null,"3.7.1","Расходы на амортизацию непроизводственных активов","тыс.руб.",0,0,0]
[null,null,null,null,null,null,null,null,null,null,null,null,null,null,null,null,null,null,null,null,null,null,null,null,null,null,null,null,null,null,null,null,null,null,null,null,null,null,"3.7.2","Расходы по охране объектов и территорий","тыс.руб.",0,0,0]
[null,null,null,null,null,null,null,null,null,null,null,null,null,null,null,null,null,null,null,null,null,null,null,null,null,null,null,null,null,null,null,null,null,null,null,null,null,null,4,"Сбытовые расходы гарантирующих организаций","тыс.руб.",0,0,0]
[null,null,null,null,null,null,null,null,null,null,null,null,null,null,null,null,null,null,null,null,null,null,null,null,null,null,null,null,null,null,null,null,null,null,null,null,null,null,"4.1","Расходы по сомнительным долгам, в размере не более 2% НВВ","тыс.руб.",0,0,0]
[null,null,null,null,null,null,null,null,null,null,null,null,null,null,null,null,null,null,null,null,null,null,null,null,null,null,null,null,null,null,null,null,null,null,null,null,null,null,5,"Амортизация","тыс.руб.",0,0,0]
[null,null,null,null,null,null,null,null,null,null,null,null,null,null,null,null,null,null,null,null,null,null,null,null,null,null,null,null,null,null,null,null,null,null,null,null,null,null,"5.1","Амортизация основных средств и нематериальных активов, относимых к объектам централизованной системы водоснабжения и водоотведения","тыс.руб.",0,0,0]
[null,null,null,null,null,null,null,null,null,null,null,null,null,null,null,null,null,null,null,null,null,null,null,null,null,null,null,null,null,null,null,null,null,null,null,null,null,null,6,"Расходы на арендную плату, лизинговые платежи, концессионную плату, связанные с арендой (лизингом) централизованных систем водоснабжения и (или) водоотведения либо объектов, входящих в состав таких систем","тыс.руб.",0,0,0]
[null,null,null,null,null,null,null,null,null,null,null,null,null,null,null,null,null,null,null,null,null,null,null,null,null,null,null,null,null,null,null,null,null,null,null,null,null,null,"6.1","Аренда имущества","тыс.руб.",0,0,0]
[null,null,null,null,null,null,null,null,null,null,null,null,null,null,null,null,null,null,null,null,null,null,null,null,null,null,null,null,null,null,null,null,null,null,null,null,null,null,"6.1.1","Аренда объектов в государственной собственности","тыс.руб.",0,0,0]
[null,null,null,null,null,null,null,null,null,null,null,null,null,null,null,null,null,null,null,null,null,null,null,null,null,null,null,null,null,null,null,null,null,null,null,null,null,null,"6.1.2","Аренда объектов в муниципальной собственности","тыс.руб.",0,0,0]
[null,null,null,null,null,null,null,null,null,null,null,null,null,null,null,null,null,null,null,null,null,null,null,null,null,null,null,null,null,null,null,null,null,null,null,null,null,null,"6.1.3","Прочее","тыс.руб.",0,0,0]
[null,null,null,null,null,null,null,null,null,null,null,null,null,null,null,null,null,null,null,null,null,null,null,null,null,null,null,null,null,null,null,null,null,null,null,null,null,null,"6.2","Концессионная плата","тыс.руб.",0,0,0]
[null,null,null,null,null,null,null,null,null,null,null,null,null,null,null,null,null,null,null,null,null,null,null,null,null,null,null,null,null,null,null,null,null,null,null,null,null,null,"6.3","Лизинговые платежи","тыс.руб.",0,0,0]
[null,null,null,null,null,null,null,null,null,null,null,null,null,null,null,null,null,null,null,null,null,null,null,null,null,null,null,null,null,null,null,null,null,null,null,null,null,null,"6.4","Аренда земельных участков","тыс.руб.",0,0,0]
[null,null,null,null,null,null,null,null,null,null,null,null,null,null,null,null,null,null,null,null,null,null,null,null,null,null,null,null,null,null,null,null,null,null,null,null,null,null,"6.5","Иное","тыс.руб.",0,0,0]
[null,null,null,null,null,null,null,null,null,null,null,null,null,null,null,null,null,null,null,null,null,null,null,null,null,null,null,null,null,null,null,null,null,null,null,null,null,null,7,"Расходы, связанные с уплатой налогов и сборов, связанные с арендой (лизингом) централизованных систем водоснабжения и (или) водоотведения либо объектов, входящих в состав таких систем","тыс.руб.",0,0,0]
[null,null,null,null,null,null,null,null,null,null,null,null,null,null,null,null,null,null,null,null,null,null,null,null,null,null,null,null,null,null,null,null,null,null,null,null,null,null,"7.1","Налог на прибыль","тыс.руб.",0,0,0]
[null,null,null,null,null,null,null,null,null,null,null,null,null,null,null,null,null,null,null,null,null,null,null,null,null,null,null,null,null,null,null,null,null,null,null,null,null,null,"7.2","Налог на имущество организаций","тыс.руб.",0,0,0]
[null,null,null,null,null,null,null,null,null,null,null,null,null,null,null,null,null,null,null,null,null,null,null,null,null,null,null,null,null,null,null,null,null,null,null,null,null,null,"7.3","Плата за негативное воздействие на окружающую среду","тыс.руб.",0,0,0]
[null,null,null,null,null,null,null,null,null,null,null,null,null,null,null,null,null,null,null,null,null,null,null,null,null,null,null,null,null,null,null,null,null,null,null,null,null,null,"7.4","Водный налог и плата за пользование водным объектом","тыс.руб.",0,0,0]
[null,null,null,null,null,null,null,null,null,null,null,null,null,null,null,null,null,null,null,null,null,null,null,null,null,null,null,null,null,null,null,null,null,null,null,null,null,null,"7.5","Земельный налог","тыс.руб.",0,0,0]
[null,null,null,null,null,null,null,null,null,null,null,null,null,null,null,null,null,null,null,null,null,null,null,null,null,null,null,null,null,null,null,null,null,null,null,null,null,null,"7.6","Транспортный налог","тыс.руб.",0,0,0]
[null,null,null,null,null,null,null,null,null,null,null,null,null,null,null,null,null,null,null,null,null,null,null,null,null,null,null,null,null,null,null,null,null,null,null,null,null,null,"7.7","Прочие налоги и сборы, за исключением налогов и сборов с фонда оплаты труда, учитываемых в составе производственных, ремонтных и административных расходов","тыс.руб.",0,0,0]
[null,null,null,null,null,null,null,null,null,null,null,null,null,null,null,null,null,null,null,null,null,null,null,null,null,null,null,null,null,null,null,null,null,null,null,null,null,null,"8","Расходы на оплату товаров (услуг, работ), приобретаемых у других организаций, осуществляющих регулируемые виды деятельности","тыс.руб.",0,0,0]
[null,null,null,null,null,null,null,null,null,null,null,null,null,null,null,null,null,null,null,null,null,null,null,null,null,null,null,null,null,null,null,null,null,null,null,null,null,null,"9","Расходы на обслуживание бесхозяйных сетей","тыс.руб.",0,0,0]
[null,null,null,null,null,null,null,null,null,null,null,null,null,null,null,null,null,null,null,null,null,null,null,null,null,null,null,null,null,null,null,null,null,null,null,null,null,null,"10","Прочие неподконтрольные расходы","тыс.руб.",0,0,0]
[]
[null,null,null,null,null,null,null,null,null,null,null,null,null,null,null,null,null,null,null,null,null,null,null,null,null,null,null,null,null,null,null,null,null,null,null,null,null,null,"РО","Итого расходы","тыс.руб.",{"$f":"SUMIF($AS$9:$AT$9,AP$9,$AS203:$AT203)","v":0},{"$f":"SUMIF($AS$9:$AT$9,AQ$9,$AS203:$AT203)","v":0},{"$f":"SUMIF($AS$9:$AT$9,AR$9,$AS203:$AT203)","v":0}]
[]
[null,null,null,null,null,null,null,null,null,null,null,null,null,null,null,null,null,null,null,null,null,null,null,null,null,null,null,null,null,null,null,null,null,null,null,null,null,null,"РР","Итого расходы на реализацию","тыс.руб.",{"$f":"SUMIF($AS$9:$AT$9,AP$9,$AS205:$AT205)","v":0},{"$f":"SUMIF($AS$9:$AT$9,AQ$9,$AS205:$AT205)","v":0},{"$f":"SUMIF($AS$9:$AT$9,AR$9,$AS205:$AT205)","v":0}]
[]
[null,null,null,null,null,null,null,null,null,null,null,null,null,null,null,null,null,null,null,null,null,null,null,null,null,null,null,null,null,null,null,null,null,null,null,null,null,null,"У","Убыток","тыс.руб.",{"$f":"SUMIF($AS$9:$AT$9,AP$9,$AS207:$AT207)","v":0},0,0]
[null,null,null,null,null,null,null,null,null,null,null,null,null,null,null,null,null,null,null,null,null,null,null,null,null,null,null,null,null,null,null,null,null,null,null,null,null,null,"П","Прибыль","тыс.руб.",0,0,0]
[]
[null,null,null,null,null,null,null,null,null,null,null,null,null,null,null,null,null,null,null,null,null,null,null,null,null,null,null,null,null,null,null,null,null,null,null,null,null,null,"П.1","Прибыль на развитие производства (капитальные вложения)","тыс.руб.",{"$f":"SUMIF($AS$9:$AT$9,AP$9,$AS210:$AT210)","v":0},0,0]
[null,null,null,null,null,null,null,null,null,null,null,null,null,null,null,null,null,null,null,null,null,null,null,null,null,null,null,null,null,null,null,null,null,null,null,null,null,null,"П.2","Прибыль на социальное развитие","тыс.руб.",0,0,0]
[null,null,null,null,null,null,null,null,null,null,null,null,null,null,null,null,null,null,null,null,null,null,null,null,null,null,null,null,null,null,null,null,null,null,null,null,null,null,"П.3","Прибыль на поощрение","тыс.руб.",0,0,0]
[null,null,null,null,null,null,null,null,null,null,null,null,null,null,null,null,null,null,null,null,null,null,null,null,null,null,null,null,null,null,null,null,null,null,null,null,null,null,"П.4","Прибыль на прочие цели","тыс.руб.",0,0,0]
[]
[]
[]
[]
[]
[]
[]
[]
[null,null,null,null,null,null,null,null,null,null,null,null,null,null,null,null,null,null,null,null,null,null,null,null,null,null,null,null,null,null,null,null,null,null,null,null,null,null,"РП","Итого расходы с учётом расходов из прибыли","тыс.руб.",{"$f":"SUMIF($AS$9:$AT$9,AP$9,$AS222:$AT222)","v":0},{"$f":"SUMIF($AS$9:$AT$9,AQ$9,$AS222:$AT222)","v":0},{"$f":"SUMIF($AS$9:$AT$9,AR$9,$AS222:$AT222)","v":0}]
[]
[]
[]
[]
[]
[]
[]
[]
[]
[]
[]
[]
[]
[]
[]
[]
[]
[null,null,null,null,null,null,null,null,null,null,null,null,null,null,null,null,null,null,null,null,null,null,null,null,null,null,null,null,null,null,null,null,null,null,null,null,null,null,"UI.TOTAL","Полезный отпуск продукции всего:\n[БТр!п.3] - транспортировка\n[БПр!п.5.2] - производство","тыс.куб.м",{"$f":"SUMIF($AS$9:$AT$9,AP$9,$AS240:$AT240)","v":0},0,0]
[null,null,null,null,null,null,null,null,null,null,null,null,null,null,null,null,null,null,null,null,null,null,null,null,null,null,null,null,null,null,null,null,null,null,null,null,null,null,"UI.EC","Полезный отпуск на реализацию потребителям:\n[БТр!п.3.2:3.5] - транспортировка\n[БПр!п.5.2.2 + БПр!п.5.2.3] - производство","тыс.куб.м",0,0,0]
[null,null,null,null,null,null,null,null,null,null,null,null,null,null,null,null,null,null,null,null,null,null,null,null,null,null,null,null,null,null,null,null,null,null,null,null,null,null,"UI.COEF","Коэффициент (доля) на реализацию потребителям",null,{"$f":"IF(AP240=0,0,AP243/AP240)","v":0},{"$f":"IF(AQ240=0,0,AQ243/AQ240)","v":0},{"$f":"IF(AR240=0,0,AR243/AR240)","v":0}]
[null,null,null,null,null,null,null,null,null,null,null,null,null,null,null,null,null,null,null,null,null,null,null,null,null,null,null,null,null,null,null,null,null,null,null,null,null,null,"UI.PURE.EC","Полезный отпуск на реализацию потребителям:\n[БТр!п.3.3:3.5] - транспортировка\n[БПр!п.5.2.3] - производство","тыс.куб.м",{"$f":"SUMIF($AS$9:$AT$9,AP$9,$AS243:$AT243)","v":0},{"$f":"SUMIF($AS$9:$AT$9,AQ$9,$AS243:$AT243)","v":0},{"$f":"SUMIF($AS$9:$AT$9,AR$9,$AS243:$AT243)","v":0}]
[]
[null,null,null,null,null,null,null,null,null,null,null,null,null,null,null,null,null,null,null,null,null,null,null,null,null,null,null,null,null,null,null,null,null,null,null,null,null,null,"UI.TTL",{"$f":"IF(TEMPLATE_SPHERE_CODE=\"COLDVSNA\",\"Объём отпуска воды\",IF(TEMPLATE_SPHERE_CODE=\"VOTV\",\"Объём сточных вод\",\"\"))","v":""},"тыс.куб.м",{"$f":"SUMIF($AS$9:$AT$9,AP$9,$AS245:$AT245)","v":0},{"$f":"SUMIF($AS$9:$AT$9,AQ$9,$AS245:$AT245)","v":0},{"$f":"SUMIF($AS$9:$AT$9,AR$9,$AS245:$AT245)","v":0}]
[]
[null,null,null,null,null,null,null,null,null,null,null,null,null,null,null,null,null,null,null,null,null,null,null,null,null,null,null,null,null,null,null,null,null,null,null,null,null,null,"PROFITABILITY","Рентабельность","%",{"$f":"IF(AP203=0,0,(AP208-AP207)/AP203*100)","v":0},{"$f":"IF(AQ203=0,0,(AQ208-AQ207)/AQ203*100)","v":0},{"$f":"IF(AR203=0,0,(AR208-AR207)/AR203*100)","v":0}]
[null,null,null,null,null,null,null,null,null,null,null,null,null,null,null,null,null,null,null,null,null,null,null,null,null,null,null,null,null,null,null,null,null,null,null,null,null,null,null,"Подстановка тарифов I и II полугодий одновременно","a"]
[null,null,null,null,null,null,null,null,null,null,null,null,null,null,null,null,null,null,null,null,null,null,null,null,null,null,null,null,null,null,null,null,null,null,null,null,null,null,"D","Справочно: результат деятельности в периоде регулирования","тыс.руб.",{"$f":"SUMIF($AS$9:$AT$9,AP$9,$AS249:$AT249)","v":0},0,0]
[null,null,null,null,null,null,null,null,null,null,null,null,null,null,null,null,null,null,null,null,null,null,null,null,null,null,null,null,null,null,null,null,null,null,null,null,null,null,{"$f":"AM249 & \".0.1\"","v":"D.0.1"},"Общий доход от реализации потребителям без учёта НДС, исходя из утверждённых тарифов","тыс.руб.",0,0,0]
[null,null,null,null,null,null,null,null,null,null,null,null,null,null,null,null,null,null,null,null,null,null,null,null,null,null,null,null,null,null,null,null,null,null,null,null,null,null,{"$f":"AM249 & \".0.2\"","v":"D.0.2"},"Полезный отпуск продукции на реализацию потребителям","тыс.куб.м",0,0,0]
[null,null,null,null,null,null,null,null,null,null,null,null,null,null,null,null,null,null,null,null,null,null,null,null,null,null,null,null,null,null,null,null,null,null,null,null,null,null,{"$f":"AM249 & \".1\"","v":"D.1"},"Организации-перепродавцы","тыс.руб.",0,0,0]
[null,null,null,null,null,null,null,null,null,null,null,null,null,null,null,null,null,null,null,null,null,null,null,null,null,null,null,null,null,null,null,null,null,null,null,null,null,null,{"$f":"AM252 & \".1\"","v":"D.1.1"},"средневзвешенный тариф","руб./куб.м",{"$f":"IF(AP254=0,0,AP252/AP254)","v":0},{"$f":"IF(AQ254=0,0,AQ252/AQ254)","v":0},{"$f":"IF(AR254=0,0,AR252/AR254)","v":0}]
[null,null,null,null,null,null,null,null,null,null,null,null,null,null,null,null,null,null,null,null,null,null,null,null,null,null,null,null,null,null,null,null,null,null,null,null,null,null,{"$f":"AM252 & \".2\"","v":"D.1.2"},"объём","тыс.куб.м",{"$f":"SUMIF($AS$9:$AT$9,AP$9,$AS254:$AT254)","v":0},0,0]
[null,null,null,null,null,null,null,null,null,null,null,null,null,null,null,null,null,null,null,null,null,null,null,null,null,null,null,null,null,null,null,null,null,null,null,null,null,null,{"$f":"AM249 & \".2\"","v":"D.2"},"Бюджетные потребители","тыс.руб.",0,0,0]
[null,null,null,null,null,null,null,null,null,null,null,null,null,null,null,null,null,null,null,null,null,null,null,null,null,null,null,null,null,null,null,null,null,null,null,null,null,null,{"$f":"AM255 & \".1\"","v":"D.2.1"},"средневзвешенный тариф","руб./куб.м",{"$f":"IF(AP257=0,0,AP255/AP257)","v":0},{"$f":"IF(AQ257=0,0,AQ255/AQ257)","v":0},{"$f":"IF(AR257=0,0,AR255/AR257)","v":0}]
[null,null,null,null,null,null,null,null,null,null,null,null,null,null,null,null,null,null,null,null,null,null,null,null,null,null,null,null,null,null,null,null,null,null,null,null,null,null,{"$f":"AM255 & \".2\"","v":"D.2.2"},"объём","тыс.куб.м",{"$f":"SUMIF($AS$9:$AT$9,AP$9,$AS257:$AT257)","v":0},0,0]
[null,null,null,null,null,null,null,null,null,null,null,null,null,null,null,null,null,null,null,null,null,null,null,null,null,null,null,null,null,null,null,null,null,null,null,null,null,null,{"$f":"AM249 & \".3\"","v":"D.3"},"Население","тыс.руб.",0,0,0]
[null,null,null,null,null,null,null,null,null,null,null,null,null,null,null,null,null,null,null,null,null,null,null,null,null,null,null,null,null,null,null,null,null,null,null,null,null,null,{"$f":"AM258 & \".1\"","v":"D.3.1"},"средневзвешенный тариф","руб./куб.м",{"$f":"IF(AP260=0,0,AP258/AP260)","v":0},{"$f":"IF(AQ260=0,0,AQ258/AQ260)","v":0},{"$f":"IF(AR260=0,0,AR258/AR260)","v":0}]
[null,null,null,null,null,null,null,null,null,null,null,null,null,null,null,null,null,null,null,null,null,null,null,null,null,null,null,null,null,null,null,null,null,null,null,null,null,null,{"$f":"AM258 & \".2\"","v":"D.3.2"},"объём","тыс.куб.м",{"$f":"SUMIF($AS$9:$AT$9,AP$9,$AS260:$AT260)","v":0},0,0]
[null,null,null,null,null,null,null,null,null,null,null,null,null,null,null,null,null,null,null,null,null,null,null,null,null,null,null,null,null,null,null,null,null,null,null,null,null,null,{"$f":"AM249 & \".4\"","v":"D.4"},"Прочие","тыс.руб.",0,0,0]
[null,null,null,null,null,null,null,null,null,null,null,null,null,null,null,null,null,null,null,null,null,null,null,null,null,null,null,null,null,null,null,null,null,null,null,null,null,null,{"$f":"AM261 & \".1\"","v":"D.4.1"},"средневзвешенный тариф","руб./куб.м",{"$f":"IF(AP263=0,0,AP261/AP263)","v":0},{"$f":"IF(AQ263=0,0,AQ261/AQ263)","v":0},{"$f":"IF(AR263=0,0,AR261/AR263)","v":0}]
[null,null,null,null,null,null,null,null,null,null,null,null,null,null,null,null,null,null,null,null,null,null,null,null,null,null,null,null,null,null,null,null,null,null,null,null,null,null,{"$f":"AM261 & \".2\"","v":"D.4.2"},"объём","тыс.куб.м",{"$f":"SUMIF($AS$9:$AT$9,AP$9,$AS263:$AT263)","v":0},0,0]
[null,null,null,null,null,null,null,null,null,null,null,null,null,null,null,null,null,null,null,null,null,null,null,null,null,null,null,null,null,null,null,null,null,null,null,null,null,null,{"$f":"AM249 & \".5\"","v":"D.5"},"Объём дотаций из всех уровней бюджета","тыс.руб.",0,0,0]
[null,null,null,null,null,null,null,null,null,null,null,null,null,null,null,null,null,null,null,null,null,null,null,null,null,null,null,null,null,null,null,null,null,null,null,null,null,null,{"$f":"AM249 & \".6\"","v":"D.6"},"Доходы, полученные сверх реализации по утверждённым тарифам","тыс.руб.",0,0,0]
[]
[]
[]
[]
[]
[]
[null,null,null,null,null,null,null,null,null,null,null,null,null,null,null,null,null,null,null,null,null,null,null,null,null,null,null,null,null,null,null,null,null,null,null,null,null,null,null,"Дополнительные показатели"]
[null,null,null,null,null,null,null,null,null,null,null,null,null,null,null,null,null,null,null,null,null,null,null,null,null,null,null,null,null,null,null,null,null,null,null,null,null,null,null,"Производство"]
[null,null,null,null,null,null,null,null,null,null,null,null,null,null,null,null,null,null,null,null,null,null,null,null,null,null,null,null,null,null,null,null,null,null,null,null,null,null,null,{"$f":"\"Стоимость основных средств, относимых на источники производства (подъём / добыча) \" & RESOURCE_IDENTIFIER","v":"Стоимость основных средств, относимых на источники производства (подъём / добыча) ТЭ"},"тыс.руб."]
[null,null,null,null,null,null,null,null,null,null,null,null,null,null,null,null,null,null,null,null,null,null,null,null,null,null,null,null,null,null,null,null,null,null,null,null,null,null,null,{"$f":"\"Количество \" & TEMPLATE_SPHERE_OKK_SOURCE","v":"Количество ТИ"},"ед."]
[null,null,null,null,null,null,null,null,null,null,null,null,null,null,null,null,null,null,null,null,null,null,null,null,null,null,null,null,null,null,null,null,null,null,null,null,null,null,null,"Износ основных средств","%"]
[null,null,null,null,null,null,null,null,null,null,null,null,null,null,null,null,null,null,null,null,null,null,null,null,null,null,null,null,null,null,null,null,null,null,null,null,null,null,null,"Очистка"]
[null,null,null,null,null,null,null,null,null,null,null,null,null,null,null,null,null,null,null,null,null,null,null,null,null,null,null,null,null,null,null,null,null,null,null,null,null,null,null,{"$f":"\"Стоимость основных средств, относимых на системы / сооружения для очистки \" & RESOURCE_IDENTIFIER","v":"Стоимость основных средств, относимых на системы / сооружения для очистки ТЭ"},"тыс.руб."]
[]
[]
[null,null,null,null,null,null,null,null,null,null,null,null,null,null,null,null,null,null,null,null,null,null,null,null,null,null,null,null,null,null,null,null,null,null,null,null,null,null,null,"Износ основных средств","%"]
[null,null,null,null,null,null,null,null,null,null,null,null,null,null,null,null,null,null,null,null,null,null,null,null,null,null,null,null,null,null,null,null,null,null,null,null,null,null,null,"Транспортировка"]
[null,null,null,null,null,null,null,null,null,null,null,null,null,null,null,null,null,null,null,null,null,null,null,null,null,null,null,null,null,null,null,null,null,null,null,null,null,null,null,{"$f":"\"Стоимость основных средств, относимых на транспортировку \" & RESOURCE_IDENTIFIER","v":"Стоимость основных средств, относимых на транспортировку ТЭ"},"тыс.руб."]
[null,null,null,null,null,null,null,null,null,null,null,null,null,null,null,null,null,null,null,null,null,null,null,null,null,null,null,null,null,null,null,null,null,null,null,null,null,null,null,"Протяженность сетей","км"]
[null,null,null,null,null,null,null,null,null,null,null,null,null,null,null,null,null,null,null,null,null,null,null,null,null,null,null,null,null,null,null,null,null,null,null,null,null,null,null,"Протяженность сетей, подлежащих замене (износ 100%)","км"]
[null,null,null,null,null,null,null,null,null,null,null,null,null,null,null,null,null,null,null,null,null,null,null,null,null,null,null,null,null,null,null,null,null,null,null,null,null,null,null,"Сбыт"]
[null,null,null,null,null,null,null,null,null,null,null,null,null,null,null,null,null,null,null,null,null,null,null,null,null,null,null,null,null,null,null,null,null,null,null,null,null,null,null,"Полезный отпуск наиболее крупному единичному потребителю","тыс.куб.м"]
[null,null,null,null,null,null,null,null,null,null,null,null,null,null,null,null,null,null,null,null,null,null,null,null,null,null,null,null,null,null,null,null,null,null,null,null,null,null,null,"Численность обслуживаемого населения","чел."]
[null,null,null,null,null,null,null,null,null,null,null,null,null,null,null,null,null,null,null,null,null,null,null,null,null,null,null,null,null,null,null,null,null,null,null,null,null,null,null,"Количество абонентов","тыс.ед."]
[null,null,null,null,null,null,null,null,null,null,null,null,null,null,null,null,null,null,null,null,null,null,null,null,null,null,null,null,null,null,null,null,null,null,null,null,null,null,null,"Высота подъёма воды","м"]

{"sheet":"ХВС.Р","index":19,"n_rows":348,"n_cols":46,"rows_kept":348,"cut":false,"hidden":true,"merged":[[12,38,13,39],[13,41,13,43],[18,38,19,38],[18,39,19,39],[18,40,19,40],[18,41,19,43]]}
[]
[]
[]
[]
[]
[null,null,null,null,null,null,null,null,null,null,null,null,null,null,null,null,null,null,null,null,null,null,null,null,null,null,null,null,null,null,null,null,null,null,null,null,null,null,null,null,null,12,6,6]
[]
[]
[null,null,null,null,null,null,null,null,null,null,null,null,null,null,null,null,null,null,null,null,null,null,null,null,null,null,null,null,null,null,null,null,null,null,null,null,null,null,null,null,null,"Y","I","II"]
[null,null,null,null,null,null,null,null,null,null,null,null,null,null,null,null,null,null,null,null,null,null,null,null,null,null,null,null,null,null,null,null,null,null,null,null,null,null,null,null,null,null,null,null,"START","END"]
[]
[null,null,null,null,null,null,null,null,null,null,null,null,null,null,null,null,null,null,null,null,null,null,null,null,null,null,null,null,null,null,null,null,null,null,null,null,null,null,null,"Необходимо указывать значения по полугодиям (6 и 6 месяцев)"]
["FULL_MODE",null,null,null,null,null,null,null,null,null,null,null,null,null,null,null,null,null,null,null,null,null,null,null,null,null,null,null,null,null,null,null,null,null,null,null,null,null,"Реагенты",null,"Период","Год","I полугодие","II полугодие"]
[]
[]
[]
[]
[null,null,null,null,null,null,null,null,null,null,null,null,null,null,null,null,null,null,null,null,null,null,null,null,null,null,null,null,null,null,null,null,null,null,null,null,null,null,null,null,null,null,null,null,null,"Добавить"]
[null,null,null,null,null,null,null,null,null,null,null,null,null,null,null,null,null,null,null,null,null,null,null,null,null,null,null,null,null,null,null,null,null,null,null,null,null,null,"№ п/п","Наименование показателя","Единица измерения","Всего по организации",null,null,0]
[]
[null,null,null,null,null,null,null,null,null,null,null,null,null,null,null,null,null,null,null,null,null,null,null,null,null,null,null,null,null,null,null,null,null,null,null,null,null,null,null,"Является ли организация плательщиком НДС"]
[null,null,null,null,null,null,null,null,null,null,null,null,null,null,null,null,null,null,null,null,null,null,null,null,null,null,null,null,null,null,null,null,null,null,null,null,null,null,null,"Выбор используемых реагентов - двойным щелчком мыши в расчётном блоке (в колонке \"Год\") напротив наименования"]
[]
[]
[null,null,null,null,null,null,null,null,null,null,null,null,null,null,null,null,null,null,null,null,null,null,null,null,null,null,null,null,null,null,null,null,null,null,null,null,null,null,"1.1.1","Итого","тыс.руб.",{"$f":"SUMIF($AS$9:$AT$9,AP$9,$AS25:$AT25)","v":0},{"$f":"SUMIF($AS$9:$AT$9,AQ$9,$AS25:$AT25)","v":0},{"$f":"SUMIF($AS$9:$AT$9,AR$9,$AS25:$AT25)","v":0}]
[]
[null,null,null,null,null,null,null,null,null,null,null,null,null,null,null,null,null,null,null,null,null,null,null,null,null,null,null,null,null,null,null,null,null,null,null,null,null,null,"COAG","Коагулянты","тыс.руб.",{"$f":"SUMIF($AS$9:$AT$9,AP$9,$AS27:$AT27)","v":0},{"$f":"SUMIF($AS$9:$AT$9,AQ$9,$AS27:$AT27)","v":0},{"$f":"SUMIF($AS$9:$AT$9,AR$9,$AS27:$AT27)","v":0}]
[]
[null,null,null,null,null,null,null,null,null,null,null,null,null,null,null,null,null,null,null,null,null,null,null,null,null,null,null,null,null,null,null,"ADJUSTABLE.C",null,null,null,null,null,null,"HDSFAL","гидроксохлоросульфат алюминия (коагулянт смешанного типа)","тыс.руб.",{"$f":"SUMIF($AS$9:$AT$9,AP$9,$AS29:$AT29)","v":0},{"$f":"SUMIF($AS$9:$AT$9,AQ$9,$AS29:$AT29)","v":0},{"$f":"SUMIF($AS$9:$AT$9,AR$9,$AS29:$AT29)","v":0}]
[null,null,null,null,null,null,null,null,null,null,null,null,null,null,null,null,null,null,null,null,null,null,null,null,null,null,null,null,null,null,null,"ADJUSTABLE.P",null,null,null,null,null,null,{"$f":"AM29 & \".P\"","v":"HDSFAL.P"},"Цена за единицу","руб./ед.",{"$f":"IF(AP31=0,0,AP29*1000/AP31)","v":0},{"$f":"IF(AQ31=0,0,AQ29*1000/AQ31)","v":0},{"$f":"IF(AR31=0,0,AR29*1000/AR31)","v":0}]
[null,null,null,null,null,null,null,null,null,null,null,null,null,null,null,null,null,null,null,null,null,null,null,null,null,null,null,null,null,null,null,"ADJUSTABLE.V",null,null,null,null,null,null,{"$f":"AM29 & \".V\"","v":"HDSFAL.V"},"Объём","ед.",{"$f":"SUMIF($AS$9:$AT$9,AP$9,$AS31:$AT31)","v":0},0,0]
[null,null,null,null,null,null,null,null,null,null,null,null,null,null,null,null,null,null,null,null,null,null,null,null,null,null,null,null,null,null,null,"ADJUSTABLE.C",null,null,null,null,null,null,"FES","железный купорос","тыс.руб.",0,0,0]
[null,null,null,null,null,null,null,null,null,null,null,null,null,null,null,null,null,null,null,null,null,null,null,null,null,null,null,null,null,null,null,"ADJUSTABLE.P",null,null,null,null,null,null,{"$f":"AM32 & \".P\"","v":"FES.P"},"Цена за единицу","руб./ед.",{"$f":"IF(AP34=0,0,AP32*1000/AP34)","v":0},{"$f":"IF(AQ34=0,0,AQ32*1000/AQ34)","v":0},{"$f":"IF(AR34=0,0,AR32*1000/AR34)","v":0}]
[null,null,null,null,null,null,null,null,null,null,null,null,null,null,null,null,null,null,null,null,null,null,null,null,null,null,null,null,null,null,null,"ADJUSTABLE.V",null,null,null,null,null,null,{"$f":"AM32 & \".V\"","v":"FES.V"},"Объём","ед.",{"$f":"SUMIF($AS$9:$AT$9,AP$9,$AS34:$AT34)","v":0},0,0]
[null,null,null,null,null,null,null,null,null,null,null,null,null,null,null,null,null,null,null,null,null,null,null,null,null,null,null,null,null,null,null,"ADJUSTABLE.C",null,null,null,null,null,null,"OXCLAL","оксихлорид алюминия","тыс.руб.",0,0,0]
[null,null,null,null,null,null,null,null,null,null,null,null,null,null,null,null,null,null,null,null,null,null,null,null,null,null,null,null,null,null,null,"ADJUSTABLE.P",null,null,null,null,null,null,{"$f":"AM35 & \".P\"","v":"OXCLAL.P"},"Цена за единицу","руб./ед.",{"$f":"IF(AP37=0,0,AP35*1000/AP37)","v":0},{"$f":"IF(AQ37=0,0,AQ35*1000/AQ37)","v":0},{"$f":"IF(AR37=0,0,AR35*1000/AR37)","v":0}]
[null,null,null,null,null,null,null,null,null,null,null,null,null,null,null,null,null,null,null,null,null,null,null,null,null,null,null,null,null,null,null,"ADJUSTABLE.V",null,null,null,null,null,null,{"$f":"AM35 & \".V\"","v":"OXCLAL.V"},"Объём","ед.",{"$f":"SUMIF($AS$9:$AT$9,AP$9,$AS37:$AT37)","v":0},0,0]
[null,null,null,null,null,null,null,null,null,null,null,null,null,null,null,null,null,null,null,null,null,null,null,null,null,null,null,null,null,null,null,"ADJUSTABLE.C",null,null,null,null,null,null,"OXCLAL10","оксихлорид алюминия 10 %","тыс.руб.",0,0,0]
[null,null,null,null,null,null,null,null,null,null,null,null,null,null,null,null,null,null,null,null,null,null,null,null,null,null,null,null,null,null,null,"ADJUSTABLE.P",null,null,null,null,null,null,{"$f":"AM38 & \".P\"","v":"OXCLAL10.P"},"Цена за единицу","руб./ед.",{"$f":"IF(AP40=0,0,AP38*1000/AP40)","v":0},{"$f":"IF(AQ40=0,0,AQ38*1000/AQ40)","v":0},{"$f":"IF(AR40=0,0,AR38*1000/AR40)","v":0}]
[null,null,null,null,null,null,null,null,null,null,null,null,null,null,null,null,null,null,null,null,null,null,null,null,null,null,null,null,null,null,null,"ADJUSTABLE.V",null,null,null,null,null,null,{"$f":"AM38 & \".V\"","v":"OXCLAL10.V"},"Объём","ед.",0,0,0]
[null,null,null,null,null,null,null,null,null,null,null,null,null,null,null,null,null,null,null,null,null,null,null,null,null,null,null,null,null,null,null,"ADJUSTABLE.C",null,null,null,null,null,null,"OXCLAL18","оксихлорид алюминия 18 %","тыс.руб.",0,0,0]
[null,null,null,null,null,null,null,null,null,null,null,null,null,null,null,null,null,null,null,null,null,null,null,null,null,null,null,null,null,null,null,"ADJUSTABLE.P",null,null,null,null,null,null,{"$f":"AM41 & \".P\"","v":"OXCLAL18.P"},"Цена за единицу","руб./ед.",{"$f":"IF(AP43=0,0,AP41*1000/AP43)","v":0},{"$f":"IF(AQ43=0,0,AQ41*1000/AQ43)","v":0},{"$f":"IF(AR43=0,0,AR41*1000/AR43)","v":0}]
[null,null,null,null,null,null,null,null,null,null,null,null,null,null,null,null,null,null,null,null,null,null,null,null,null,null,null,null,null,null,null,"ADJUSTABLE.V",null,null,null,null,null,null,{"$f":"AM41 & \".V\"","v":"OXCLAL18.V"},"Объём","ед.",0,0,0]
[null,null,null,null,null,null,null,null,null,null,null,null,null,null,null,null,null,null,null,null,null,null,null,null,null,null,null,null,null,null,null,"ADJUSTABLE.C",null,null,null,null,null,null,"OXCLAL30","оксихлорид алюминия 30 %","тыс.руб.",0,0,0]
[null,null,null,null,null,null,null,null,null,null,null,null,null,null,null,null,null,null,null,null,null,null,null,null,null,null,null,null,null,null,null,"ADJUSTABLE.P",null,null,null,null,null,null,{"$f":"AM44 & \".P\"","v":"OXCLAL30.P"},"Цена за единицу","руб./ед.",{"$f":"IF(AP46=0,0,AP44*1000/AP46)","v":0},{"$f":"IF(AQ46=0,0,AQ44*1000/AQ46)","v":0},{"$f":"IF(AR46=0,0,AR44*1000/AR46)","v":0}]
[null,null,null,null,null,null,null,null,null,null,null,null,null,null,null,null,null,null,null,null,null,null,null,null,null,null,null,null,null,null,null,"ADJUSTABLE.V",null,null,null,null,null,null,{"$f":"AM44 & \".V\"","v":"OXCLAL30.V"},"Объём","ед.",0,0,0]
[null,null,null,null,null,null,null,null,null,null,null,null,null,null,null,null,null,null,null,null,null,null,null,null,null,null,null,null,null,null,null,"ADJUSTABLE.C",null,null,null,null,null,null,"PLOXCLAL","полиоксихлорид алюминия ","тыс.руб.",0,0,0]
[null,null,null,null,null,null,null,null,null,null,null,null,null,null,null,null,null,null,null,null,null,null,null,null,null,null,null,null,null,null,null,"ADJUSTABLE.P",null,null,null,null,null,null,{"$f":"AM47 & \".P\"","v":"PLOXCLAL.P"},"Цена за единицу","руб./ед.",{"$f":"IF(AP49=0,0,AP47*1000/AP49)","v":0},{"$f":"IF(AQ49=0,0,AQ47*1000/AQ49)","v":0},{"$f":"IF(AR49=0,0,AR47*1000/AR49)","v":0}]
[null,null,null,null,null,null,null,null,null,null,null,null,null,null,null,null,null,null,null,null,null,null,null,null,null,null,null,null,null,null,null,"ADJUSTABLE.V",null,null,null,null,null,null,{"$f":"AM47 & \".V\"","v":"PLOXCLAL.V"},"Объём","ед.",{"$f":"SUMIF($AS$9:$AT$9,AP$9,$AS49:$AT49)","v":0},0,0]
[null,null,null,null,null,null,null,null,null,null,null,null,null,null,null,null,null,null,null,null,null,null,null,null,null,null,null,null,null,null,null,"ADJUSTABLE.C",null,null,null,null,null,null,"PLOXCLAL10","полиоксихлорид алюминия 10 %","тыс.руб.",0,0,0]
[null,null,null,null,null,null,null,null,null,null,null,null,null,null,null,null,null,null,null,null,null,null,null,null,null,null,null,null,null,null,null,"ADJUSTABLE.P",null,null,null,null,null,null,{"$f":"AM50 & \".P\"","v":"PLOXCLAL10.P"},"Цена за единицу","руб./ед.",{"$f":"IF(AP52=0,0,AP50*1000/AP52)","v":0},{"$f":"IF(AQ52=0,0,AQ50*1000/AQ52)","v":0},{"$f":"IF(AR52=0,0,AR50*1000/AR52)","v":0}]
[null,null,null,null,null,null,null,null,null,null,null,null,null,null,null,null,null,null,null,null,null,null,null,null,null,null,null,null,null,null,null,"ADJUSTABLE.V",null,null,null,null,null,null,{"$f":"AM50 & \".V\"","v":"PLOXCLAL10.V"},"Объём","ед.",{"$f":"SUMIF($AS$9:$AT$9,AP$9,$AS52:$AT52)","v":0},0,0]
[null,null,null,null,null,null,null,null,null,null,null,null,null,null,null,null,null,null,null,null,null,null,null,null,null,null,null,null,null,null,null,"ADJUSTABLE.C",null,null,null,null,null,null,"PLOXCLAL18","полиоксихлорид алюминия 18 %","тыс.руб.",0,0,0]
[null,null,null,null,null,null,null,null,null,null,null,null,null,null,null,null,null,null,null,null,null,null,null,null,null,null,null,null,null,null,null,"ADJUSTABLE.P",null,null,null,null,null,null,{"$f":"AM53 & \".P\"","v":"PLOXCLAL18.P"},"Цена за единицу","руб./ед.",{"$f":"IF(AP55=0,0,AP53*1000/AP55)","v":0},{"$f":"IF(AQ55=0,0,AQ53*1000/AQ55)","v":0},{"$f":"IF(AR55=0,0,AR53*1000/AR55)","v":0}]
[null,null,null,null,null,null,null,null,null,null,null,null,null,null,null,null,null,null,null,null,null,null,null,null,null,null,null,null,null,null,null,"ADJUSTABLE.V",null,null,null,null,null,null,{"$f":"AM53 & \".V\"","v":"PLOXCLAL18.V"},"Объём","ед.",{"$f":"SUMIF($AS$9:$AT$9,AP$9,$AS55:$AT55)","v":0},0,0]
[null,null,null,null,null,null,null,null,null,null,null,null,null,null,null,null,null,null,null,null,null,null,null,null,null,null,null,null,null,null,null,"ADJUSTABLE.C",null,null,null,null,null,null,"PLOXCLAL30","полиоксихлорид алюминия 30 %","тыс.руб.",0,0,0]
[null,null,null,null,null,null,null,null,null,null,null,null,null,null,null,null,null,null,null,null,null,null,null,null,null,null,null,null,null,null,null,"ADJUSTABLE.P",null,null,null,null,null,null,{"$f":"AM56 & \".P\"","v":"PLOXCLAL30.P"},"Цена за единицу","руб./ед.",{"$f":"IF(AP58=0,0,AP56*1000/AP58)","v":0},{"$f":"IF(AQ58=0,0,AQ56*1000/AQ58)","v":0},{"$f":"IF(AR58=0,0,AR56*1000/AR58)","v":0}]
[null,null,null,null,null,null,null,null,null,null,null,null,null,null,null,null,null,null,null,null,null,null,null,null,null,null,null,null,null,null,null,"ADJUSTABLE.V",null,null,null,null,null,null,{"$f":"AM56 & \".V\"","v":"PLOXCLAL30.V"},"Объём","ед.",{"$f":"SUMIF($AS$9:$AT$9,AP$9,$AS58:$AT58)","v":0},0,0]
[null,null,null,null,null,null,null,null,null,null,null,null,null,null,null,null,null,null,null,null,null,null,null,null,null,null,null,null,null,null,null,"ADJUSTABLE.C",null,null,null,null,null,null,"SFAL","сульфат алюминия ","тыс.руб.",0,0,0]
[null,null,null,null,null,null,null,null,null,null,null,null,null,null,null,null,null,null,null,null,null,null,null,null,null,null,null,null,null,null,null,"ADJUSTABLE.P",null,null,null,null,null,null,{"$f":"AM59 & \".P\"","v":"SFAL.P"},"Цена за единицу","руб./ед.",{"$f":"IF(AP61=0,0,AP59*1000/AP61)","v":0},{"$f":"IF(AQ61=0,0,AQ59*1000/AQ61)","v":0},{"$f":"IF(AR61=0,0,AR59*1000/AR61)","v":0}]
[null,null,null,null,null,null,null,null,null,null,null,null,null,null,null,null,null,null,null,null,null,null,null,null,null,null,null,null,null,null,null,"ADJUSTABLE.V",null,null,null,null,null,null,{"$f":"AM59 & \".V\"","v":"SFAL.V"},"Объём","ед.",{"$f":"SUMIF($AS$9:$AT$9,AP$9,$AS61:$AT61)","v":0},0,0]
[null,null,null,null,null,null,null,null,null,null,null,null,null,null,null,null,null,null,null,null,null,null,null,null,null,null,null,null,null,null,null,"ADJUSTABLE.OTH",null,null,null,null,null,null,"OTH","прочие","тыс.руб.",0,0,0]
[]
[null,null,null,null,null,null,null,null,null,null,null,null,null,null,null,null,null,null,null,null,null,null,null,null,null,null,null,null,null,null,null,null,null,null,null,null,null,null,"FLOC","Флокулянты","тыс.руб.",{"$f":"SUMIF($AS$9:$AT$9,AP$9,$AS64:$AT64)","v":0},{"$f":"SUMIF($AS$9:$AT$9,AQ$9,$AS64:$AT64)","v":0},{"$f":"SUMIF($AS$9:$AT$9,AR$9,$AS64:$AT64)","v":0}]
[]
[null,null,null,null,null,null,null,null,null,null,null,null,null,null,null,null,null,null,null,null,null,null,null,null,null,null,null,null,null,null,null,"ADJUSTABLE.C",null,null,null,null,null,null,"MGFLK","Магнафлок","тыс.руб.",{"$f":"SUMIF($AS$9:$AT$9,AP$9,$AS66:$AT66)","v":0},{"$f":"SUMIF($AS$9:$AT$9,AQ$9,$AS66:$AT66)","v":0},{"$f":"SUMIF($AS$9:$AT$9,AR$9,$AS66:$AT66)","v":0}]
[null,null,null,null,null,null,null,null,null,null,null,null,null,null,null,null,null,null,null,null,null,null,null,null,null,null,null,null,null,null,null,"ADJUSTABLE.P",null,null,null,null,null,null,{"$f":"AM66 & \".P\"","v":"MGFLK.P"},"Цена за единицу","руб./ед.",{"$f":"IF(AP68=0,0,AP66*1000/AP68)","v":0},{"$f":"IF(AQ68=0,0,AQ66*1000/AQ68)","v":0},{"$f":"IF(AR68=0,0,AR66*1000/AR68)","v":0}]
[null,null,null,null,null,null,null,null,null,null,null,null,null,null,null,null,null,null,null,null,null,null,null,null,null,null,null,null,null,null,null,"ADJUSTABLE.V",null,null,null,null,null,null,{"$f":"AM66 & \".V\"","v":"MGFLK.V"},"Объём","ед.",{"$f":"SUMIF($AS$9:$AT$9,AP$9,$AS68:$AT68)","v":0},0,0]
[null,null,null,null,null,null,null,null,null,null,null,null,null,null,null,null,null,null,null,null,null,null,null,null,null,null,null,null,null,null,null,"ADJUSTABLE.C",null,null,null,null,null,null,"PRSTL","Праестол","тыс.руб.",0,0,0]
[null,null,null,null,null,null,null,null,null,null,null,null,null,null,null,null,null,null,null,null,null,null,null,null,null,null,null,null,null,null,null,"ADJUSTABLE.P",null,null,null,null,null,null,{"$f":"AM69 & \".P\"","v":"PRSTL.P"},"Цена за единицу","руб./ед.",{"$f":"IF(AP71=0,0,AP69*1000/AP71)","v":0},{"$f":"IF(AQ71=0,0,AQ69*1000/AQ71)","v":0},{"$f":"IF(AR71=0,0,AR69*1000/AR71)","v":0}]
[null,null,null,null,null,null,null,null,null,null,null,null,null,null,null,null,null,null,null,null,null,null,null,null,null,null,null,null,null,null,null,"ADJUSTABLE.V",null,null,null,null,null,null,{"$f":"AM69 & \".V\"","v":"PRSTL.V"},"Объём","ед.",{"$f":"SUMIF($AS$9:$AT$9,AP$9,$AS71:$AT71)","v":0},0,0]
[null,null,null,null,null,null,null,null,null,null,null,null,null,null,null,null,null,null,null,null,null,null,null,null,null,null,null,null,null,null,null,"ADJUSTABLE.C",null,null,null,null,null,null,"PRSTL853","Праестол 853 BC","тыс.руб.",0,0,0]
[null,null,null,null,null,null,null,null,null,null,null,null,null,null,null,null,null,null,null,null,null,null,null,null,null,null,null,null,null,null,null,"ADJUSTABLE.P",null,null,null,null,null,null,{"$f":"AM72 & \".P\"","v":"PRSTL853.P"},"Цена за единицу","руб./ед.",{"$f":"IF(AP74=0,0,AP72*1000/AP74)","v":0},{"$f":"IF(AQ74=0,0,AQ72*1000/AQ74)","v":0},{"$f":"IF(AR74=0,0,AR72*1000/AR74)","v":0}]
[null,null,null,null,null,null,null,null,null,null,null,null,null,null,null,null,null,null,null,null,null,null,null,null,null,null,null,null,null,null,null,"ADJUSTABLE.V",null,null,null,null,null,null,{"$f":"AM72 & \".V\"","v":"PRSTL853.V"},"Объём","ед.",{"$f":"SUMIF($AS$9:$AT$9,AP$9,$AS74:$AT74)","v":0},0,0]
[null,null,null,null,null,null,null,null,null,null,null,null,null,null,null,null,null,null,null,null,null,null,null,null,null,null,null,null,null,null,null,"ADJUSTABLE.C",null,null,null,null,null,null,"PRSTL650","Праестол 650 BC","тыс.руб.",0,0,0]
[null,null,null,null,null,null,null,null,null,null,null,null,null,null,null,null,null,null,null,null,null,null,null,null,null,null,null,null,null,null,null,"ADJUSTABLE.P",null,null,null,null,null,null,{"$f":"AM75 & \".P\"","v":"PRSTL650.P"},"Цена за единицу","руб./ед.",{"$f":"IF(AP77=0,0,AP75*1000/AP77)","v":0},{"$f":"IF(AQ77=0,0,AQ75*1000/AQ77)","v":0},{"$f":"IF(AR77=0,0,AR75*1000/AR77)","v":0}]
[null,null,null,null,null,null,null,null,null,null,null,null,null,null,null,null,null,null,null,null,null,null,null,null,null,null,null,null,null,null,null,"ADJUSTABLE.V",null,null,null,null,null,null,{"$f":"AM75 & \".V\"","v":"PRSTL650.V"},"Объём","ед.",{"$f":"SUMIF($AS$9:$AT$9,AP$9,$AS77:$AT77)","v":0},0,0]
[null,null,null,null,null,null,null,null,null,null,null,null,null,null,null,null,null,null,null,null,null,null,null,null,null,null,null,null,null,null,null,"ADJUSTABLE.C",null,null,null,null,null,null,"PRSTL2515","Праестол 2515 TR","тыс.руб.",0,0,0]
[null,null,null,null,null,null,null,null,null,null,null,null,null,null,null,null,null,null,null,null,null,null,null,null,null,null,null,null,null,null,null,"ADJUSTABLE.P",null,null,null,null,null,null,{"$f":"AM78 & \".P\"","v":"PRSTL2515.P"},"Цена за единицу","руб./ед.",{"$f":"IF(AP80=0,0,AP78*1000/AP80)","v":0},{"$f":"IF(AQ80=0,0,AQ78*1000/AQ80)","v":0},{"$f":"IF(AR80=0,0,AR78*1000/AR80)","v":0}]
[null,null,null,null,null,null,null,null,null,null,null,null,null,null,null,null,null,null,null,null,null,null,null,null,null,null,null,null,null,null,null,"ADJUSTABLE.V",null,null,null,null,null,null,{"$f":"AM78 & \".V\"","v":"PRSTL2515.V"},"Объём","ед.",{"$f":"SUMIF($AS$9:$AT$9,AP$9,$AS80:$AT80)","v":0},0,0]
[null,null,null,null,null,null,null,null,null,null,null,null,null,null,null,null,null,null,null,null,null,null,null,null,null,null,null,null,null,null,null,"ADJUSTABLE.C",null,null,null,null,null,null,"GRLIFEK47","Гринлайф К 47","тыс.руб.",0,0,0]
[null,null,null,null,null,null,null,null,null,null,null,null,null,null,null,null,null,null,null,null,null,null,null,null,null,null,null,null,null,null,null,"ADJUSTABLE.P",null,null,null,null,null,null,{"$f":"AM81 & \".P\"","v":"GRLIFEK47.P"},"Цена за единицу","руб./ед.",{"$f":"IF(AP83=0,0,AP81*1000/AP83)","v":0},{"$f":"IF(AQ83=0,0,AQ81*1000/AQ83)","v":0},{"$f":"IF(AR83=0,0,AR81*1000/AR83)","v":0}]
[null,null,null,null,null,null,null,null,null,null,null,null,null,null,null,null,null,null,null,null,null,null,null,null,null,null,null,null,null,null,null,"ADJUSTABLE.V",null,null,null,null,null,null,{"$f":"AM81 & \".V\"","v":"GRLIFEK47.V"},"Объём","ед.",{"$f":"SUMIF($AS$9:$AT$9,AP$9,$AS83:$AT83)","v":0},0,0]
[null,null,null,null,null,null,null,null,null,null,null,null,null,null,null,null,null,null,null,null,null,null,null,null,null,null,null,null,null,null,null,"ADJUSTABLE.C",null,null,null,null,null,null,"GRLIFEK41","Гринлайф К 41","тыс.руб.",0,0,0]
[null,null,null,null,null,null,null,null,null,null,null,null,null,null,null,null,null,null,null,null,null,null,null,null,null,null,null,null,null,null,null,"ADJUSTABLE.P",null,null,null,null,null,null,{"$f":"AM84 & \".P\"","v":"GRLIFEK41.P"},"Цена за единицу","руб./ед.",{"$f":"IF(AP86=0,0,AP84*1000/AP86)","v":0},{"$f":"IF(AQ86=0,0,AQ84*1000/AQ86)","v":0},{"$f":"IF(AR86=0,0,AR84*1000/AR86)","v":0}]
[null,null,null,null,null,null,null,null,null,null,null,null,null,null,null,null,null,null,null,null,null,null,null,null,null,null,null,null,null,null,null,"ADJUSTABLE.V",null,null,null,null,null,null,{"$f":"AM84 & \".V\"","v":"GRLIFEK41.V"},"Объём","ед.",{"$f":"SUMIF($AS$9:$AT$9,AP$9,$AS86:$AT86)","v":0},0,0]
[null,null,null,null,null,null,null,null,null,null,null,null,null,null,null,null,null,null,null,null,null,null,null,null,null,null,null,null,null,null,null,"ADJUSTABLE.C",null,null,null,null,null,null,"GRLIFEA10PV","Гринлайф А 10 ПВ","тыс.руб.",0,0,0]
[null,null,null,null,null,null,null,null,null,null,null,null,null,null,null,null,null,null,null,null,null,null,null,null,null,null,null,null,null,null,null,"ADJUSTABLE.P",null,null,null,null,null,null,{"$f":"AM87 & \".P\"","v":"GRLIFEA10PV.P"},"Цена за единицу","руб./ед.",{"$f":"IF(AP89=0,0,AP87*1000/AP89)","v":0},{"$f":"IF(AQ89=0,0,AQ87*1000/AQ89)","v":0},{"$f":"IF(AR89=0,0,AR87*1000/AR89)","v":0}]
[null,null,null,null,null,null,null,null,null,null,null,null,null,null,null,null,null,null,null,null,null,null,null,null,null,null,null,null,null,null,null,"ADJUSTABLE.V",null,null,null,null,null,null,{"$f":"AM87 & \".V\"","v":"GRLIFEA10PV.V"},"Объём","ед.",{"$f":"SUMIF($AS$9:$AT$9,AP$9,$AS89:$AT89)","v":0},0,0]
[null,null,null,null,null,null,null,null,null,null,null,null,null,null,null,null,null,null,null,null,null,null,null,null,null,null,null,null,null,null,null,"ADJUSTABLE.OTH",null,null,null,null,null,null,"OTH","прочие","тыс.руб.",0,0,0]
[]
[null,null,null,null,null,null,null,null,null,null,null,null,null,null,null,null,null,null,null,null,null,null,null,null,null,null,null,null,null,null,null,null,null,null,null,null,null,null,"REAG","Реагенты","тыс.руб.",{"$f":"SUMIF($AS$9:$AT$9,AP$9,$AS92:$AT92)","v":0},{"$f":"SUMIF($AS$9:$AT$9,AQ$9,$AS92:$AT92)","v":0},{"$f":"SUMIF($AS$9:$AT$9,AR$9,$AS92:$AT92)","v":0}]
[]
[null,null,null,null,null,null,null,null,null,null,null,null,null,null,null,null,null,null,null,null,null,null,null,null,null,null,null,null,null,null,null,"ADJUSTABLE.C",null,null,null,null,null,null,"AGRP","агар питательный","тыс.руб.",{"$f":"SUMIF($AS$9:$AT$9,AP$9,$AS94:$AT94)","v":0},{"$f":"SUMIF($AS$9:$AT$9,AQ$9,$AS94:$AT94)","v":0},{"$f":"SUMIF($AS$9:$AT$9,AR$9,$AS94:$AT94)","v":0}]
[null,null,null,null,null,null,null,null,null,null,null,null,null,null,null,null,null,null,null,null,null,null,null,null,null,null,null,null,null,null,null,"ADJUSTABLE.P",null,null,null,null,null,null,{"$f":"AM94 & \".P\"","v":"AGRP.P"},"Цена за единицу","руб./ед.",{"$f":"IF(AP96=0,0,AP94*1000/AP96)","v":0},{"$f":"IF(AQ96=0,0,AQ94*1000/AQ96)","v":0},{"$f":"IF(AR96=0,0,AR94*1000/AR96)","v":0}]
[null,null,null,null,null,null,null,null,null,null,null,null,null,null,null,null,null,null,null,null,null,null,null,null,null,null,null,null,null,null,null,"ADJUSTABLE.V",null,null,null,null,null,null,{"$f":"AM94 & \".V\"","v":"AGRP.V"},"Объём","ед.",{"$f":"SUMIF($AS$9:$AT$9,AP$9,$AS96:$AT96)","v":0},0,0]
[null,null,null,null,null,null,null,null,null,null,null,null,null,null,null,null,null,null,null,null,null,null,null,null,null,null,null,null,null,null,null,"ADJUSTABLE.C",null,null,null,null,null,null,"AGRE","агар Эндо","тыс.руб.",0,0,0]
[null,null,null,null,null,null,null,null,null,null,null,null,null,null,null,null,null,null,null,null,null,null,null,null,null,null,null,null,null,null,null,"ADJUSTABLE.P",null,null,null,null,null,null,{"$f":"AM97 & \".P\"","v":"AGRE.P"},"Цена за единицу","руб./ед.",{"$f":"IF(AP99=0,0,AP97*1000/AP99)","v":0},{"$f":"IF(AQ99=0,0,AQ97*1000/AQ99)","v":0},{"$f":"IF(AR99=0,0,AR97*1000/AR99)","v":0}]
[null,null,null,null,null,null,null,null,null,null,null,null,null,null,null,null,null,null,null,null,null,null,null,null,null,null,null,null,null,null,null,"ADJUSTABLE.V",null,null,null,null,null,null,{"$f":"AM97 & \".V\"","v":"AGRE.V"},"Объём","ед.",{"$f":"SUMIF($AS$9:$AT$9,AP$9,$AS99:$AT99)","v":0},0,0]
[null,null,null,null,null,null,null,null,null,null,null,null,null,null,null,null,null,null,null,null,null,null,null,null,null,null,null,null,null,null,null,"ADJUSTABLE.C",null,null,null,null,null,null,"ALOX","алюминий окись","тыс.руб.",0,0,0]
[null,null,null,null,null,null,null,null,null,null,null,null,null,null,null,null,null,null,null,null,null,null,null,null,null,null,null,null,null,null,null,"ADJUSTABLE.P",null,null,null,null,null,null,{"$f":"AM100 & \".P\"","v":"ALOX.P"},"Цена за единицу","руб./ед.",{"$f":"IF(AP102=0,0,AP100*1000/AP102)","v":0},{"$f":"IF(AQ102=0,0,AQ100*1000/AQ102)","v":0},{"$f":"IF(AR102=0,0,AR100*1000/AR102)","v":0}]
[null,null,null,null,null,null,null,null,null,null,null,null,null,null,null,null,null,null,null,null,null,null,null,null,null,null,null,null,null,null,null,"ADJUSTABLE.V",null,null,null,null,null,null,{"$f":"AM100 & \".V\"","v":"ALOX.V"},"Объём","ед.",{"$f":"SUMIF($AS$9:$AT$9,AP$9,$AS102:$AT102)","v":0},0,0]
[null,null,null,null,null,null,null,null,null,null,null,null,null,null,null,null,null,null,null,null,null,null,null,null,null,null,null,null,null,null,null,"ADJUSTABLE.C",null,null,null,null,null,null,"ALS","алюминий сернокислый","тыс.руб.",0,0,0]
[null,null,null,null,null,null,null,null,null,null,null,null,null,null,null,null,null,null,null,null,null,null,null,null,null,null,null,null,null,null,null,"ADJUSTABLE.P",null,null,null,null,null,null,{"$f":"AM103 & \".P\"","v":"ALS.P"},"Цена за единицу","руб./ед.",{"$f":"IF(AP105=0,0,AP103*1000/AP105)","v":0},{"$f":"IF(AQ105=0,0,AQ103*1000/AQ105)","v":0},{"$f":"IF(AR105=0,0,AR103*1000/AR105)","v":0}]
[null,null,null,null,null,null,null,null,null,null,null,null,null,null,null,null,null,null,null,null,null,null,null,null,null,null,null,null,null,null,null,"ADJUSTABLE.V",null,null,null,null,null,null,{"$f":"AM103 & \".V\"","v":"ALS.V"},"Объём","ед.",{"$f":"SUMIF($AS$9:$AT$9,AP$9,$AS105:$AT105)","v":0},0,0]
[null,null,null,null,null,null,null,null,null,null,null,null,null,null,null,null,null,null,null,null,null,null,null,null,null,null,null,null,null,null,null,"ADJUSTABLE.C",null,null,null,null,null,null,"AM","аммиак","тыс.руб.",0,0,0]
[null,null,null,null,null,null,null,null,null,null,null,null,null,null,null,null,null,null,null,null,null,null,null,null,null,null,null,null,null,null,null,"ADJUSTABLE.P",null,null,null,null,null,null,{"$f":"AM106 & \".P\"","v":"AM.P"},"Цена за единицу","руб./ед.",{"$f":"IF(AP108=0,0,AP106*1000/AP108)","v":0},{"$f":"IF(AQ108=0,0,AQ106*1000/AQ108)","v":0},{"$f":"IF(AR108=0,0,AR106*1000/AR108)","v":0}]
[null,null,null,null,null,null,null,null,null,null,null,null,null,null,null,null,null,null,null,null,null,null,null,null,null,null,null,null,null,null,null,"ADJUSTABLE.V",null,null,null,null,null,null,{"$f":"AM106 & \".V\"","v":"AM.V"},"Объём","ед.",{"$f":"SUMIF($AS$9:$AT$9,AP$9,$AS108:$AT108)","v":0},0,0]
[null,null,null,null,null,null,null,null,null,null,null,null,null,null,null,null,null,null,null,null,null,null,null,null,null,null,null,null,null,null,null,"ADJUSTABLE.C",null,null,null,null,null,null,"AMW","аммиачная вода","тыс.руб.",0,0,0]
[null,null,null,null,null,null,null,null,null,null,null,null,null,null,null,null,null,null,null,null,null,null,null,null,null,null,null,null,null,null,null,"ADJUSTABLE.P",null,null,null,null,null,null,{"$f":"AM109 & \".P\"","v":"AMW.P"},"Цена за единицу","руб./ед.",{"$f":"IF(AP111=0,0,AP109*1000/AP111)","v":0},{"$f":"IF(AQ111=0,0,AQ109*1000/AQ111)","v":0},{"$f":"IF(AR111=0,0,AR109*1000/AR111)","v":0}]
[null,null,null,null,null,null,null,null,null,null,null,null,null,null,null,null,null,null,null,null,null,null,null,null,null,null,null,null,null,null,null,"ADJUSTABLE.V",null,null,null,null,null,null,{"$f":"AM109 & \".V\"","v":"AMW.V"},"Объём","ед.",{"$f":"SUMIF($AS$9:$AT$9,AP$9,$AS111:$AT111)","v":0},0,0]
[null,null,null,null,null,null,null,null,null,null,null,null,null,null,null,null,null,null,null,null,null,null,null,null,null,null,null,null,null,null,null,"ADJUSTABLE.C",null,null,null,null,null,null,"AMN","аммоний","тыс.руб.",0,0,0]
[null,null,null,null,null,null,null,null,null,null,null,null,null,null,null,null,null,null,null,null,null,null,null,null,null,null,null,null,null,null,null,"ADJUSTABLE.P",null,null,null,null,null,null,{"$f":"AM112 & \".P\"","v":"AMN.P"},"Цена за единицу","руб./ед.",{"$f":"IF(AP114=0,0,AP112*1000/AP114)","v":0},{"$f":"IF(AQ114=0,0,AQ112*1000/AQ114)","v":0},{"$f":"IF(AR114=0,0,AR112*1000/AR114)","v":0}]
[null,null,null,null,null,null,null,null,null,null,null,null,null,null,null,null,null,null,null,null,null,null,null,null,null,null,null,null,null,null,null,"ADJUSTABLE.V",null,null,null,null,null,null,{"$f":"AM112 & \".V\"","v":"AMN.V"},"Объём","ед.",{"$f":"SUMIF($AS$9:$AT$9,AP$9,$AS114:$AT114)","v":0},0,0]
[null,null,null,null,null,null,null,null,null,null,null,null,null,null,null,null,null,null,null,null,null,null,null,null,null,null,null,null,null,null,null,"ADJUSTABLE.C",null,null,null,null,null,null,"AMNCL","аммоний хлористый","тыс.руб.",0,0,0]
[null,null,null,null,null,null,null,null,null,null,null,null,null,null,null,null,null,null,null,null,null,null,null,null,null,null,null,null,null,null,null,"ADJUSTABLE.P",null,null,null,null,null,null,{"$f":"AM115 & \".P\"","v":"AMNCL.P"},"Цена за единицу","руб./ед.",{"$f":"IF(AP117=0,0,AP115*1000/AP117)","v":0},{"$f":"IF(AQ117=0,0,AQ115*1000/AQ117)","v":0},{"$f":"IF(AR117=0,0,AR115*1000/AR117)","v":0}]
[null,null,null,null,null,null,null,null,null,null,null,null,null,null,null,null,null,null,null,null,null,null,null,null,null,null,null,null,null,null,null,"ADJUSTABLE.V",null,null,null,null,null,null,{"$f":"AM115 & \".V\"","v":"AMNCL.V"},"Объём","ед.",{"$f":"SUMIF($AS$9:$AT$9,AP$9,$AS117:$AT117)","v":0},0,0]
[null,null,null,null,null,null,null,null,null,null,null,null,null,null,null,null,null,null,null,null,null,null,null,null,null,null,null,null,null,null,null,"ADJUSTABLE.C",null,null,null,null,null,null,"BACL","барий хлористый","тыс.руб.",0,0,0]
[null,null,null,null,null,null,null,null,null,null,null,null,null,null,null,null,null,null,null,null,null,null,null,null,null,null,null,null,null,null,null,"ADJUSTABLE.P",null,null,null,null,null,null,{"$f":"AM118 & \".P\"","v":"BACL.P"},"Цена за единицу","руб./ед.",{"$f":"IF(AP120=0,0,AP118*1000/AP120)","v":0},{"$f":"IF(AQ120=0,0,AQ118*1000/AQ120)","v":0},{"$f":"IF(AR120=0,0,AR118*1000/AR120)","v":0}]
[null,null,null,null,null,null,null,null,null,null,null,null,null,null,null,null,null,null,null,null,null,null,null,null,null,null,null,null,null,null,null,"ADJUSTABLE.V",null,null,null,null,null,null,{"$f":"AM118 & \".V\"","v":"BACL.V"},"Объём","ед.",{"$f":"SUMIF($AS$9:$AT$9,AP$9,$AS120:$AT120)","v":0},0,0]
[null,null,null,null,null,null,null,null,null,null,null,null,null,null,null,null,null,null,null,null,null,null,null,null,null,null,null,null,null,null,null,"ADJUSTABLE.C",null,null,null,null,null,null,"BIOX","биоксимин","тыс.руб.",0,0,0]
[null,null,null,null,null,null,null,null,null,null,null,null,null,null,null,null,null,null,null,null,null,null,null,null,null,null,null,null,null,null,null,"ADJUSTABLE.P",null,null,null,null,null,null,{"$f":"AM121 & \".P\"","v":"BIOX.P"},"Цена за единицу","руб./ед.",{"$f":"IF(AP123=0,0,AP121*1000/AP123)","v":0},{"$f":"IF(AQ123=0,0,AQ121*1000/AQ123)","v":0},{"$f":"IF(AR123=0,0,AR121*1000/AR123)","v":0}]
[null,null,null,null,null,null,null,null,null,null,null,null,null,null,null,null,null,null,null,null,null,null,null,null,null,null,null,null,null,null,null,"ADJUSTABLE.V",null,null,null,null,null,null,{"$f":"AM121 & \".V\"","v":"BIOX.V"},"Объём","ед.",{"$f":"SUMIF($AS$9:$AT$9,AP$9,$AS123:$AT123)","v":0},0,0]
[null,null,null,null,null,null,null,null,null,null,null,null,null,null,null,null,null,null,null,null,null,null,null,null,null,null,null,null,null,null,null,"ADJUSTABLE.C",null,null,null,null,null,null,"BRFNL","бромфеноловый синий","тыс.руб.",0,0,0]
[null,null,null,null,null,null,null,null,null,null,null,null,null,null,null,null,null,null,null,null,null,null,null,null,null,null,null,null,null,null,null,"ADJUSTABLE.P",null,null,null,null,null,null,{"$f":"AM124 & \".P\"","v":"BRFNL.P"},"Цена за единицу","руб./ед.",{"$f":"IF(AP126=0,0,AP124*1000/AP126)","v":0},{"$f":"IF(AQ126=0,0,AQ124*1000/AQ126)","v":0},{"$f":"IF(AR126=0,0,AR124*1000/AR126)","v":0}]
[null,null,null,null,null,null,null,null,null,null,null,null,null,null,null,null,null,null,null,null,null,null,null,null,null,null,null,null,null,null,null,"ADJUSTABLE.V",null,null,null,null,null,null,{"$f":"AM124 & \".V\"","v":"BRFNL.V"},"Объём","ед.",{"$f":"SUMIF($AS$9:$AT$9,AP$9,$AS126:$AT126)","v":0},0,0]
[null,null,null,null,null,null,null,null,null,null,null,null,null,null,null,null,null,null,null,null,null,null,null,null,null,null,null,null,null,null,null,"ADJUSTABLE.C",null,null,null,null,null,null,"HDOX","водорода перекись","тыс.руб.",0,0,0]
[null,null,null,null,null,null,null,null,null,null,null,null,null,null,null,null,null,null,null,null,null,null,null,null,null,null,null,null,null,null,null,"ADJUSTABLE.P",null,null,null,null,null,null,{"$f":"AM127 & \".P\"","v":"HDOX.P"},"Цена за единицу","руб./ед.",{"$f":"IF(AP129=0,0,AP127*1000/AP129)","v":0},{"$f":"IF(AQ129=0,0,AQ127*1000/AQ129)","v":0},{"$f":"IF(AR129=0,0,AR127*1000/AR129)","v":0}]
[null,null,null,null,null,null,null,null,null,null,null,null,null,null,null,null,null,null,null,null,null,null,null,null,null,null,null,null,null,null,null,"ADJUSTABLE.V",null,null,null,null,null,null,{"$f":"AM127 & \".V\"","v":"HDOX.V"},"Объём","ед.",{"$f":"SUMIF($AS$9:$AT$9,AP$9,$AS129:$AT129)","v":0},0,0]
[null,null,null,null,null,null,null,null,null,null,null,null,null,null,null,null,null,null,null,null,null,null,null,null,null,null,null,null,null,null,null,"ADJUSTABLE.C",null,null,null,null,null,null,"GEXN","гексан","тыс.руб.",0,0,0]
[null,null,null,null,null,null,null,null,null,null,null,null,null,null,null,null,null,null,null,null,null,null,null,null,null,null,null,null,null,null,null,"ADJUSTABLE.P",null,null,null,null,null,null,{"$f":"AM130 & \".P\"","v":"GEXN.P"},"Цена за единицу","руб./ед.",{"$f":"IF(AP132=0,0,AP130*1000/AP132)","v":0},{"$f":"IF(AQ132=0,0,AQ130*1000/AQ132)","v":0},{"$f":"IF(AR132=0,0,AR130*1000/AR132)","v":0}]
[null,null,null,null,null,null,null,null,null,null,null,null,null,null,null,null,null,null,null,null,null,null,null,null,null,null,null,null,null,null,null,"ADJUSTABLE.V",null,null,null,null,null,null,{"$f":"AM130 & \".V\"","v":"GEXN.V"},"Объём","ед.",{"$f":"SUMIF($AS$9:$AT$9,AP$9,$AS132:$AT132)","v":0},0,0]
[null,null,null,null,null,null,null,null,null,null,null,null,null,null,null,null,null,null,null,null,null,null,null,null,null,null,null,null,null,null,null,"ADJUSTABLE.C",null,null,null,null,null,null,"HDOXCL","гидроксиламин солянокислый","тыс.руб.",0,0,0]
[null,null,null,null,null,null,null,null,null,null,null,null,null,null,null,null,null,null,null,null,null,null,null,null,null,null,null,null,null,null,null,"ADJUSTABLE.P",null,null,null,null,null,null,{"$f":"AM133 & \".P\"","v":"HDOXCL.P"},"Цена за единицу","руб./ед.",{"$f":"IF(AP135=0,0,AP133*1000/AP135)","v":0},{"$f":"IF(AQ135=0,0,AQ133*1000/AQ135)","v":0},{"$f":"IF(AR135=0,0,AR133*1000/AR135)","v":0}]
[null,null,null,null,null,null,null,null,null,null,null,null,null,null,null,null,null,null,null,null,null,null,null,null,null,null,null,null,null,null,null,"ADJUSTABLE.V",null,null,null,null,null,null,{"$f":"AM133 & \".V\"","v":"HDOXCL.V"},"Объём","ед.",{"$f":"SUMIF($AS$9:$AT$9,AP$9,$AS135:$AT135)","v":0},0,0]
[null,null,null,null,null,null,null,null,null,null,null,null,null,null,null,null,null,null,null,null,null,null,null,null,null,null,null,null,null,null,null,"ADJUSTABLE.C",null,null,null,null,null,null,"HDCLCA","гидрохлорид кальция","тыс.руб.",0,0,0]
[null,null,null,null,null,null,null,null,null,null,null,null,null,null,null,null,null,null,null,null,null,null,null,null,null,null,null,null,null,null,null,"ADJUSTABLE.P",null,null,null,null,null,null,{"$f":"AM136 & \".P\"","v":"HDCLCA.P"},"Цена за единицу","руб./ед.",{"$f":"IF(AP138=0,0,AP136*1000/AP138)","v":0},{"$f":"IF(AQ138=0,0,AQ136*1000/AQ138)","v":0},{"$f":"IF(AR138=0,0,AR136*1000/AR138)","v":0}]
[null,null,null,null,null,null,null,null,null,null,null,null,null,null,null,null,null,null,null,null,null,null,null,null,null,null,null,null,null,null,null,"ADJUSTABLE.V",null,null,null,null,null,null,{"$f":"AM136 & \".V\"","v":"HDCLCA.V"},"Объём","ед.",{"$f":"SUMIF($AS$9:$AT$9,AP$9,$AS138:$AT138)","v":0},0,0]
[null,null,null,null,null,null,null,null,null,null,null,null,null,null,null,null,null,null,null,null,null,null,null,null,null,null,null,null,null,null,null,"ADJUSTABLE.C",null,null,null,null,null,null,"HPCLCA","гипохлорит кальция","тыс.руб.",0,0,0]
[null,null,null,null,null,null,null,null,null,null,null,null,null,null,null,null,null,null,null,null,null,null,null,null,null,null,null,null,null,null,null,"ADJUSTABLE.P",null,null,null,null,null,null,{"$f":"AM139 & \".P\"","v":"HPCLCA.P"},"Цена за единицу","руб./ед.",{"$f":"IF(AP141=0,0,AP139*1000/AP141)","v":0},{"$f":"IF(AQ141=0,0,AQ139*1000/AQ141)","v":0},{"$f":"IF(AR141=0,0,AR139*1000/AR141)","v":0}]
[null,null,null,null,null,null,null,null,null,null,null,null,null,null,null,null,null,null,null,null,null,null,null,null,null,null,null,null,null,null,null,"ADJUSTABLE.V",null,null,null,null,null,null,{"$f":"AM139 & \".V\"","v":"HPCLCA.V"},"Объём","ед.",{"$f":"SUMIF($AS$9:$AT$9,AP$9,$AS141:$AT141)","v":0},0,0]
[null,null,null,null,null,null,null,null,null,null,null,null,null,null,null,null,null,null,null,null,null,null,null,null,null,null,null,null,null,null,null,"ADJUSTABLE.C",null,null,null,null,null,null,"HPCLNA","гипохлорит натрия","тыс.руб.",0,0,0]
[null,null,null,null,null,null,null,null,null,null,null,null,null,null,null,null,null,null,null,null,null,null,null,null,null,null,null,null,null,null,null,"ADJUSTABLE.P",null,null,null,null,null,null,{"$f":"AM142 & \".P\"","v":"HPCLNA.P"},"Цена за единицу","руб./ед.",{"$f":"IF(AP144=0,0,AP142*1000/AP144)","v":0},{"$f":"IF(AQ144=0,0,AQ142*1000/AQ144)","v":0},{"$f":"IF(AR144=0,0,AR142*1000/AR144)","v":0}]
[null,null,null,null,null,null,null,null,null,null,null,null,null,null,null,null,null,null,null,null,null,null,null,null,null,null,null,null,null,null,null,"ADJUSTABLE.V",null,null,null,null,null,null,{"$f":"AM142 & \".V\"","v":"HPCLNA.V"},"Объём","ед.",{"$f":"SUMIF($AS$9:$AT$9,AP$9,$AS144:$AT144)","v":0},0,0]
[null,null,null,null,null,null,null,null,null,null,null,null,null,null,null,null,null,null,null,null,null,null,null,null,null,null,null,null,null,null,null,"ADJUSTABLE.C",null,null,null,null,null,null,"GLC","глицерин","тыс.руб.",0,0,0]
[null,null,null,null,null,null,null,null,null,null,null,null,null,null,null,null,null,null,null,null,null,null,null,null,null,null,null,null,null,null,null,"ADJUSTABLE.P",null,null,null,null,null,null,{"$f":"AM145 & \".P\"","v":"GLC.P"},"Цена за единицу","руб./ед.",{"$f":"IF(AP147=0,0,AP145*1000/AP147)","v":0},{"$f":"IF(AQ147=0,0,AQ145*1000/AQ147)","v":0},{"$f":"IF(AR147=0,0,AR145*1000/AR147)","v":0}]
[null,null,null,null,null,null,null,null,null,null,null,null,null,null,null,null,null,null,null,null,null,null,null,null,null,null,null,null,null,null,null,"ADJUSTABLE.V",null,null,null,null,null,null,{"$f":"AM145 & \".V\"","v":"GLC.V"},"Объём","ед.",{"$f":"SUMIF($AS$9:$AT$9,AP$9,$AS147:$AT147)","v":0},0,0]
[null,null,null,null,null,null,null,null,null,null,null,null,null,null,null,null,null,null,null,null,null,null,null,null,null,null,null,null,null,null,null,"ADJUSTABLE.C",null,null,null,null,null,null,"DFNLCD","дифенилкарбазид","тыс.руб.",0,0,0]
[null,null,null,null,null,null,null,null,null,null,null,null,null,null,null,null,null,null,null,null,null,null,null,null,null,null,null,null,null,null,null,"ADJUSTABLE.P",null,null,null,null,null,null,{"$f":"AM148 & \".P\"","v":"DFNLCD.P"},"Цена за единицу","руб./ед.",{"$f":"IF(AP150=0,0,AP148*1000/AP150)","v":0},{"$f":"IF(AQ150=0,0,AQ148*1000/AQ150)","v":0},{"$f":"IF(AR150=0,0,AR148*1000/AR150)","v":0}]
[null,null,null,null,null,null,null,null,null,null,null,null,null,null,null,null,null,null,null,null,null,null,null,null,null,null,null,null,null,null,null,"ADJUSTABLE.V",null,null,null,null,null,null,{"$f":"AM148 & \".V\"","v":"DFNLCD.V"},"Объём","ед.",{"$f":"SUMIF($AS$9:$AT$9,AP$9,$AS150:$AT150)","v":0},0,0]
[null,null,null,null,null,null,null,null,null,null,null,null,null,null,null,null,null,null,null,null,null,null,null,null,null,null,null,null,null,null,null,"ADJUSTABLE.C",null,null,null,null,null,null,"DFNLCN","дифенилкарбазон","тыс.руб.",0,0,0]
[null,null,null,null,null,null,null,null,null,null,null,null,null,null,null,null,null,null,null,null,null,null,null,null,null,null,null,null,null,null,null,"ADJUSTABLE.P",null,null,null,null,null,null,{"$f":"AM151 & \".P\"","v":"DFNLCN.P"},"Цена за единицу","руб./ед.",{"$f":"IF(AP153=0,0,AP151*1000/AP153)","v":0},{"$f":"IF(AQ153=0,0,AQ151*1000/AQ153)","v":0},{"$f":"IF(AR153=0,0,AR151*1000/AR153)","v":0}]
[null,null,null,null,null,null,null,null,null,null,null,null,null,null,null,null,null,null,null,null,null,null,null,null,null,null,null,null,null,null,null,"ADJUSTABLE.V",null,null,null,null,null,null,{"$f":"AM151 & \".V\"","v":"DFNLCN.V"},"Объём","ед.",{"$f":"SUMIF($AS$9:$AT$9,AP$9,$AS153:$AT153)","v":0},0,0]
[null,null,null,null,null,null,null,null,null,null,null,null,null,null,null,null,null,null,null,null,null,null,null,null,null,null,null,null,null,null,null,"ADJUSTABLE.C",null,null,null,null,null,null,"FES","железо сернокислое","тыс.руб.",0,0,0]
[null,null,null,null,null,null,null,null,null,null,null,null,null,null,null,null,null,null,null,null,null,null,null,null,null,null,null,null,null,null,null,"ADJUSTABLE.P",null,null,null,null,null,null,{"$f":"AM154 & \".P\"","v":"FES.P"},"Цена за единицу","руб./ед.",{"$f":"IF(AP156=0,0,AP154*1000/AP156)","v":0},{"$f":"IF(AQ156=0,0,AQ154*1000/AQ156)","v":0},{"$f":"IF(AR156=0,0,AR154*1000/AR156)","v":0}]
[null,null,null,null,null,null,null,null,null,null,null,null,null,null,null,null,null,null,null,null,null,null,null,null,null,null,null,null,null,null,null,"ADJUSTABLE.V",null,null,null,null,null,null,{"$f":"AM154 & \".V\"","v":"FES.V"},"Объём","ед.",{"$f":"SUMIF($AS$9:$AT$9,AP$9,$AS156:$AT156)","v":0},0,0]
[null,null,null,null,null,null,null,null,null,null,null,null,null,null,null,null,null,null,null,null,null,null,null,null,null,null,null,null,null,null,null,"ADJUSTABLE.C",null,null,null,null,null,null,"FECL","железо трёххлористое","тыс.руб.",0,0,0]
[null,null,null,null,null,null,null,null,null,null,null,null,null,null,null,null,null,null,null,null,null,null,null,null,null,null,null,null,null,null,null,"ADJUSTABLE.P",null,null,null,null,null,null,{"$f":"AM157 & \".P\"","v":"FECL.P"},"Цена за единицу","руб./ед.",{"$f":"IF(AP159=0,0,AP157*1000/AP159)","v":0},{"$f":"IF(AQ159=0,0,AQ157*1000/AQ159)","v":0},{"$f":"IF(AR159=0,0,AR157*1000/AR159)","v":0}]
[null,null,null,null,null,null,null,null,null,null,null,null,null,null,null,null,null,null,null,null,null,null,null,null,null,null,null,null,null,null,null,"ADJUSTABLE.V",null,null,null,null,null,null,{"$f":"AM157 & \".V\"","v":"FECL.V"},"Объём","ед.",{"$f":"SUMIF($AS$9:$AT$9,AP$9,$AS159:$AT159)","v":0},0,0]
[null,null,null,null,null,null,null,null,null,null,null,null,null,null,null,null,null,null,null,null,null,null,null,null,null,null,null,null,null,null,null,"ADJUSTABLE.C",null,null,null,null,null,null,"LIMENP","известь негашёная (порошок)","тыс.руб.",0,0,0]
[null,null,null,null,null,null,null,null,null,null,null,null,null,null,null,null,null,null,null,null,null,null,null,null,null,null,null,null,null,null,null,"ADJUSTABLE.P",null,null,null,null,null,null,{"$f":"AM160 & \".P\"","v":"LIMENP.P"},"Цена за единицу","руб./ед.",{"$f":"IF(AP162=0,0,AP160*1000/AP162)","v":0},{"$f":"IF(AQ162=0,0,AQ160*1000/AQ162)","v":0},{"$f":"IF(AR162=0,0,AR160*1000/AR162)","v":0}]
[null,null,null,null,null,null,null,null,null,null,null,null,null,null,null,null,null,null,null,null,null,null,null,null,null,null,null,null,null,null,null,"ADJUSTABLE.V",null,null,null,null,null,null,{"$f":"AM160 & \".V\"","v":"LIMENP.V"},"Объём","ед.",{"$f":"SUMIF($AS$9:$AT$9,AP$9,$AS162:$AT162)","v":0},0,0]
[null,null,null,null,null,null,null,null,null,null,null,null,null,null,null,null,null,null,null,null,null,null,null,null,null,null,null,null,null,null,null,"ADJUSTABLE.C",null,null,null,null,null,null,"LIMENH","известь негашёная гидратная","тыс.руб.",0,0,0]
[null,null,null,null,null,null,null,null,null,null,null,null,null,null,null,null,null,null,null,null,null,null,null,null,null,null,null,null,null,null,null,"ADJUSTABLE.P",null,null,null,null,null,null,{"$f":"AM163 & \".P\"","v":"LIMENH.P"},"Цена за единицу","руб./ед.",{"$f":"IF(AP165=0,0,AP163*1000/AP165)","v":0},{"$f":"IF(AQ165=0,0,AQ163*1000/AQ165)","v":0},{"$f":"IF(AR165=0,0,AR163*1000/AR165)","v":0}]
[null,null,null,null,null,null,null,null,null,null,null,null,null,null,null,null,null,null,null,null,null,null,null,null,null,null,null,null,null,null,null,"ADJUSTABLE.V",null,null,null,null,null,null,{"$f":"AM163 & \".V\"","v":"LIMENH.V"},"Объём","ед.",{"$f":"SUMIF($AS$9:$AT$9,AP$9,$AS165:$AT165)","v":0},0,0]
[null,null,null,null,null,null,null,null,null,null,null,null,null,null,null,null,null,null,null,null,null,null,null,null,null,null,null,null,null,null,null,"ADJUSTABLE.C",null,null,null,null,null,null,"LIMECL","известь хлорная","тыс.руб.",0,0,0]
[null,null,null,null,null,null,null,null,null,null,null,null,null,null,null,null,null,null,null,null,null,null,null,null,null,null,null,null,null,null,null,"ADJUSTABLE.P",null,null,null,null,null,null,{"$f":"AM166 & \".P\"","v":"LIMECL.P"},"Цена за единицу","руб./ед.",{"$f":"IF(AP168=0,0,AP166*1000/AP168)","v":0},{"$f":"IF(AQ168=0,0,AQ166*1000/AQ168)","v":0},{"$f":"IF(AR168=0,0,AR166*1000/AR168)","v":0}]
[null,null,null,null,null,null,null,null,null,null,null,null,null,null,null,null,null,null,null,null,null,null,null,null,null,null,null,null,null,null,null,"ADJUSTABLE.V",null,null,null,null,null,null,{"$f":"AM166 & \".V\"","v":"LIMECL.V"},"Объём","ед.",{"$f":"SUMIF($AS$9:$AT$9,AP$9,$AS168:$AT168)","v":0},0,0]
[null,null,null,null,null,null,null,null,null,null,null,null,null,null,null,null,null,null,null,null,null,null,null,null,null,null,null,null,null,null,null,"ADJUSTABLE.C",null,null,null,null,null,null,"KN","калий азотнокислый","тыс.руб.",0,0,0]
[null,null,null,null,null,null,null,null,null,null,null,null,null,null,null,null,null,null,null,null,null,null,null,null,null,null,null,null,null,null,null,"ADJUSTABLE.P",null,null,null,null,null,null,{"$f":"AM169 & \".P\"","v":"KN.P"},"Цена за единицу","руб./ед.",{"$f":"IF(AP171=0,0,AP169*1000/AP171)","v":0},{"$f":"IF(AQ171=0,0,AQ169*1000/AQ171)","v":0},{"$f":"IF(AR171=0,0,AR169*1000/AR171)","v":0}]
[null,null,null,null,null,null,null,null,null,null,null,null,null,null,null,null,null,null,null,null,null,null,null,null,null,null,null,null,null,null,null,"ADJUSTABLE.V",null,null,null,null,null,null,{"$f":"AM169 & \".V\"","v":"KN.V"},"Объём","ед.",{"$f":"SUMIF($AS$9:$AT$9,AP$9,$AS171:$AT171)","v":0},0,0]
[null,null,null,null,null,null,null,null,null,null,null,null,null,null,null,null,null,null,null,null,null,null,null,null,null,null,null,null,null,null,null,"ADJUSTABLE.C",null,null,null,null,null,null,"KCR","калий двухромовокислый","тыс.руб.",0,0,0]
[null,null,null,null,null,null,null,null,null,null,null,null,null,null,null,null,null,null,null,null,null,null,null,null,null,null,null,null,null,null,null,"ADJUSTABLE.P",null,null,null,null,null,null,{"$f":"AM172 & \".P\"","v":"KCR.P"},"Цена за единицу","руб./ед.",{"$f":"IF(AP174=0,0,AP172*1000/AP174)","v":0},{"$f":"IF(AQ174=0,0,AQ172*1000/AQ174)","v":0},{"$f":"IF(AR174=0,0,AR172*1000/AR174)","v":0}]
[null,null,null,null,null,null,null,null,null,null,null,null,null,null,null,null,null,null,null,null,null,null,null,null,null,null,null,null,null,null,null,"ADJUSTABLE.V",null,null,null,null,null,null,{"$f":"AM172 & \".V\"","v":"KCR.V"},"Объём","ед.",{"$f":"SUMIF($AS$9:$AT$9,AP$9,$AS174:$AT174)","v":0},0,0]
[null,null,null,null,null,null,null,null,null,null,null,null,null,null,null,null,null,null,null,null,null,null,null,null,null,null,null,null,null,null,null,"ADJUSTABLE.C",null,null,null,null,null,null,"KI","калий йодистый","тыс.руб.",0,0,0]
[null,null,null,null,null,null,null,null,null,null,null,null,null,null,null,null,null,null,null,null,null,null,null,null,null,null,null,null,null,null,null,"ADJUSTABLE.P",null,null,null,null,null,null,{"$f":"AM175 & \".P\"","v":"KI.P"},"Цена за единицу","руб./ед.",{"$f":"IF(AP177=0,0,AP175*1000/AP177)","v":0},{"$f":"IF(AQ177=0,0,AQ175*1000/AQ177)","v":0},{"$f":"IF(AR177=0,0,AR175*1000/AR177)","v":0}]
[null,null,null,null,null,null,null,null,null,null,null,null,null,null,null,null,null,null,null,null,null,null,null,null,null,null,null,null,null,null,null,"ADJUSTABLE.V",null,null,null,null,null,null,{"$f":"AM175 & \".V\"","v":"KI.V"},"Объём","ед.",{"$f":"SUMIF($AS$9:$AT$9,AP$9,$AS177:$AT177)","v":0},0,0]
[null,null,null,null,null,null,null,null,null,null,null,null,null,null,null,null,null,null,null,null,null,null,null,null,null,null,null,null,null,null,null,"ADJUSTABLE.C",null,null,null,null,null,null,"KMN","калий марганцевокислый","тыс.руб.",0,0,0]
[null,null,null,null,null,null,null,null,null,null,null,null,null,null,null,null,null,null,null,null,null,null,null,null,null,null,null,null,null,null,null,"ADJUSTABLE.P",null,null,null,null,null,null,{"$f":"AM178 & \".P\"","v":"KMN.P"},"Цена за единицу","руб./ед.",{"$f":"IF(AP180=0,0,AP178*1000/AP180)","v":0},{"$f":"IF(AQ180=0,0,AQ178*1000/AQ180)","v":0},{"$f":"IF(AR180=0,0,AR178*1000/AR180)","v":0}]
[null,null,null,null,null,null,null,null,null,null,null,null,null,null,null,null,null,null,null,null,null,null,null,null,null,null,null,null,null,null,null,"ADJUSTABLE.V",null,null,null,null,null,null,{"$f":"AM178 & \".V\"","v":"KMN.V"},"Объём","ед.",{"$f":"SUMIF($AS$9:$AT$9,AP$9,$AS180:$AT180)","v":0},0,0]
[null,null,null,null,null,null,null,null,null,null,null,null,null,null,null,null,null,null,null,null,null,null,null,null,null,null,null,null,null,null,null,"ADJUSTABLE.C",null,null,null,null,null,null,"KP","калий фосфорнокислый","тыс.руб.",0,0,0]
[null,null,null,null,null,null,null,null,null,null,null,null,null,null,null,null,null,null,null,null,null,null,null,null,null,null,null,null,null,null,null,"ADJUSTABLE.P",null,null,null,null,null,null,{"$f":"AM181 & \".P\"","v":"KP.P"},"Цена за единицу","руб./ед.",{"$f":"IF(AP183=0,0,AP181*1000/AP183)","v":0},{"$f":"IF(AQ183=0,0,AQ181*1000/AQ183)","v":0},{"$f":"IF(AR183=0,0,AR181*1000/AR183)","v":0}]
[null,null,null,null,null,null,null,null,null,null,null,null,null,null,null,null,null,null,null,null,null,null,null,null,null,null,null,null,null,null,null,"ADJUSTABLE.V",null,null,null,null,null,null,{"$f":"AM181 & \".V\"","v":"KP.V"},"Объём","ед.",{"$f":"SUMIF($AS$9:$AT$9,AP$9,$AS183:$AT183)","v":0},0,0]
[null,null,null,null,null,null,null,null,null,null,null,null,null,null,null,null,null,null,null,null,null,null,null,null,null,null,null,null,null,null,null,"ADJUSTABLE.C",null,null,null,null,null,null,"HCL","калий хлористый","тыс.руб.",0,0,0]
[null,null,null,null,null,null,null,null,null,null,null,null,null,null,null,null,null,null,null,null,null,null,null,null,null,null,null,null,null,null,null,"ADJUSTABLE.P",null,null,null,null,null,null,{"$f":"AM184 & \".P\"","v":"HCL.P"},"Цена за единицу","руб./ед.",{"$f":"IF(AP186=0,0,AP184*1000/AP186)","v":0},{"$f":"IF(AQ186=0,0,AQ184*1000/AQ186)","v":0},{"$f":"IF(AR186=0,0,AR184*1000/AR186)","v":0}]
[null,null,null,null,null,null,null,null,null,null,null,null,null,null,null,null,null,null,null,null,null,null,null,null,null,null,null,null,null,null,null,"ADJUSTABLE.V",null,null,null,null,null,null,{"$f":"AM184 & \".V\"","v":"HCL.V"},"Объём","ед.",{"$f":"SUMIF($AS$9:$AT$9,AP$9,$AS186:$AT186)","v":0},0,0]
[null,null,null,null,null,null,null,null,null,null,null,null,null,null,null,null,null,null,null,null,null,null,null,null,null,null,null,null,null,null,null,"ADJUSTABLE.C",null,null,null,null,null,null,"KNA","калий-натрий виннокислый","тыс.руб.",0,0,0]
[null,null,null,null,null,null,null,null,null,null,null,null,null,null,null,null,null,null,null,null,null,null,null,null,null,null,null,null,null,null,null,"ADJUSTABLE.P",null,null,null,null,null,null,{"$f":"AM187 & \".P\"","v":"KNA.P"},"Цена за единицу","руб./ед.",{"$f":"IF(AP189=0,0,AP187*1000/AP189)","v":0},{"$f":"IF(AQ189=0,0,AQ187*1000/AQ189)","v":0},{"$f":"IF(AR189=0,0,AR187*1000/AR189)","v":0}]
[null,null,null,null,null,null,null,null,null,null,null,null,null,null,null,null,null,null,null,null,null,null,null,null,null,null,null,null,null,null,null,"ADJUSTABLE.V",null,null,null,null,null,null,{"$f":"AM187 & \".V\"","v":"KNA.V"},"Объём","ед.",{"$f":"SUMIF($AS$9:$AT$9,AP$9,$AS189:$AT189)","v":0},0,0]
[null,null,null,null,null,null,null,null,null,null,null,null,null,null,null,null,null,null,null,null,null,null,null,null,null,null,null,null,null,null,null,"ADJUSTABLE.C",null,null,null,null,null,null,"CAC","кальций углекислый","тыс.руб.",0,0,0]
[null,null,null,null,null,null,null,null,null,null,null,null,null,null,null,null,null,null,null,null,null,null,null,null,null,null,null,null,null,null,null,"ADJUSTABLE.P",null,null,null,null,null,null,{"$f":"AM190 & \".P\"","v":"CAC.P"},"Цена за единицу","руб./ед.",{"$f":"IF(AP192=0,0,AP190*1000/AP192)","v":0},{"$f":"IF(AQ192=0,0,AQ190*1000/AQ192)","v":0},{"$f":"IF(AR192=0,0,AR190*1000/AR192)","v":0}]
[null,null,null,null,null,null,null,null,null,null,null,null,null,null,null,null,null,null,null,null,null,null,null,null,null,null,null,null,null,null,null,"ADJUSTABLE.V",null,null,null,null,null,null,{"$f":"AM190 & \".V\"","v":"CAC.V"},"Объём","ед.",{"$f":"SUMIF($AS$9:$AT$9,AP$9,$AS192:$AT192)","v":0},0,0]
[null,null,null,null,null,null,null,null,null,null,null,null,null,null,null,null,null,null,null,null,null,null,null,null,null,null,null,null,null,null,null,"ADJUSTABLE.C",null,null,null,null,null,null,"CACL","кальций хлористый","тыс.руб.",0,0,0]
[null,null,null,null,null,null,null,null,null,null,null,null,null,null,null,null,null,null,null,null,null,null,null,null,null,null,null,null,null,null,null,"ADJUSTABLE.P",null,null,null,null,null,null,{"$f":"AM193 & \".P\"","v":"CACL.P"},"Цена за единицу","руб./ед.",{"$f":"IF(AP195=0,0,AP193*1000/AP195)","v":0},{"$f":"IF(AQ195=0,0,AQ193*1000/AQ195)","v":0},{"$f":"IF(AR195=0,0,AR193*1000/AR195)","v":0}]
[null,null,null,null,null,null,null,null,null,null,null,null,null,null,null,null,null,null,null,null,null,null,null,null,null,null,null,null,null,null,null,"ADJUSTABLE.V",null,null,null,null,null,null,{"$f":"AM193 & \".V\"","v":"CACL.V"},"Объём","ед.",{"$f":"SUMIF($AS$9:$AT$9,AP$9,$AS195:$AT195)","v":0},0,0]
[null,null,null,null,null,null,null,null,null,null,null,null,null,null,null,null,null,null,null,null,null,null,null,null,null,null,null,null,null,null,null,"ADJUSTABLE.C",null,null,null,null,null,null,"CAHPCL","кальция гипохлорит","тыс.руб.",0,0,0]
[null,null,null,null,null,null,null,null,null,null,null,null,null,null,null,null,null,null,null,null,null,null,null,null,null,null,null,null,null,null,null,"ADJUSTABLE.P",null,null,null,null,null,null,{"$f":"AM196 & \".P\"","v":"CAHPCL.P"},"Цена за единицу","руб./ед.",{"$f":"IF(AP198=0,0,AP196*1000/AP198)","v":0},{"$f":"IF(AQ198=0,0,AQ196*1000/AQ198)","v":0},{"$f":"IF(AR198=0,0,AR196*1000/AR198)","v":0}]
[null,null,null,null,null,null,null,null,null,null,null,null,null,null,null,null,null,null,null,null,null,null,null,null,null,null,null,null,null,null,null,"ADJUSTABLE.V",null,null,null,null,null,null,{"$f":"AM196 & \".V\"","v":"CAHPCL.V"},"Объём","ед.",{"$f":"SUMIF($AS$9:$AT$9,AP$9,$AS198:$AT198)","v":0},0,0]
[null,null,null,null,null,null,null,null,null,null,null,null,null,null,null,null,null,null,null,null,null,null,null,null,null,null,null,null,null,null,null,"ADJUSTABLE.C",null,null,null,null,null,null,"SAND","кварцевый песок","тыс.руб.",0,0,0]
[null,null,null,null,null,null,null,null,null,null,null,null,null,null,null,null,null,null,null,null,null,null,null,null,null,null,null,null,null,null,null,"ADJUSTABLE.P",null,null,null,null,null,null,{"$f":"AM199 & \".P\"","v":"SAND.P"},"Цена за единицу","руб./ед.",{"$f":"IF(AP201=0,0,AP199*1000/AP201)","v":0},{"$f":"IF(AQ201=0,0,AQ199*1000/AQ201)","v":0},{"$f":"IF(AR201=0,0,AR199*1000/AR201)","v":0}]
[null,null,null,null,null,null,null,null,null,null,null,null,null,null,null,null,null,null,null,null,null,null,null,null,null,null,null,null,null,null,null,"ADJUSTABLE.V",null,null,null,null,null,null,{"$f":"AM199 & \".V\"","v":"SAND.V"},"Объём","ед.",{"$f":"SUMIF($AS$9:$AT$9,AP$9,$AS201:$AT201)","v":0},0,0]
[null,null,null,null,null,null,null,null,null,null,null,null,null,null,null,null,null,null,null,null,null,null,null,null,null,null,null,null,null,null,null,"ADJUSTABLE.C",null,null,null,null,null,null,"ACIDN","кислота азотная","тыс.руб.",0,0,0]
[null,null,null,null,null,null,null,null,null,null,null,null,null,null,null,null,null,null,null,null,null,null,null,null,null,null,null,null,null,null,null,"ADJUSTABLE.P",null,null,null,null,null,null,{"$f":"AM202 & \".P\"","v":"ACIDN.P"},"Цена за единицу","руб./ед.",{"$f":"IF(AP204=0,0,AP202*1000/AP204)","v":0},{"$f":"IF(AQ204=0,0,AQ202*1000/AQ204)","v":0},{"$f":"IF(AR204=0,0,AR202*1000/AR204)","v":0}]
[null,null,null,null,null,null,null,null,null,null,null,null,null,null,null,null,null,null,null,null,null,null,null,null,null,null,null,null,null,null,null,"ADJUSTABLE.V",null,null,null,null,null,null,{"$f":"AM202 & \".V\"","v":"ACIDN.V"},"Объём","ед.",{"$f":"SUMIF($AS$9:$AT$9,AP$9,$AS204:$AT204)","v":0},0,0]
[null,null,null,null,null,null,null,null,null,null,null,null,null,null,null,null,null,null,null,null,null,null,null,null,null,null,null,null,null,null,null,"ADJUSTABLE.C",null,null,null,null,null,null,"ACIDA","кислота аскорбиновая","тыс.руб.",0,0,0]
[null,null,null,null,null,null,null,null,null,null,null,null,null,null,null,null,null,null,null,null,null,null,null,null,null,null,null,null,null,null,null,"ADJUSTABLE.P",null,null,null,null,null,null,{"$f":"AM205 & \".P\"","v":"ACIDA.P"},"Цена за единицу","руб./ед.",{"$f":"IF(AP207=0,0,AP205*1000/AP207)","v":0},{"$f":"IF(AQ207=0,0,AQ205*1000/AQ207)","v":0},{"$f":"IF(AR207=0,0,AR205*1000/AR207)","v":0}]
[null,null,null,null,null,null,null,null,null,null,null,null,null,null,null,null,null,null,null,null,null,null,null,null,null,null,null,null,null,null,null,"ADJUSTABLE.V",null,null,null,null,null,null,{"$f":"AM205 & \".V\"","v":"ACIDA.V"},"Объём","ед.",{"$f":"SUMIF($AS$9:$AT$9,AP$9,$AS207:$AT207)","v":0},0,0]
[null,null,null,null,null,null,null,null,null,null,null,null,null,null,null,null,null,null,null,null,null,null,null,null,null,null,null,null,null,null,null,"ADJUSTABLE.C",null,null,null,null,null,null,"ACIDL","кислота лимонная","тыс.руб.",0,0,0]
[null,null,null,null,null,null,null,null,null,null,null,null,null,null,null,null,null,null,null,null,null,null,null,null,null,null,null,null,null,null,null,"ADJUSTABLE.P",null,null,null,null,null,null,{"$f":"AM208 & \".P\"","v":"ACIDL.P"},"Цена за единицу","руб./ед.",{"$f":"IF(AP210=0,0,AP208*1000/AP210)","v":0},{"$f":"IF(AQ210=0,0,AQ208*1000/AQ210)","v":0},{"$f":"IF(AR210=0,0,AR208*1000/AR210)","v":0}]
[null,null,null,null,null,null,null,null,null,null,null,null,null,null,null,null,null,null,null,null,null,null,null,null,null,null,null,null,null,null,null,"ADJUSTABLE.V",null,null,null,null,null,null,{"$f":"AM208 & \".V\"","v":"ACIDL.V"},"Объём","ед.",{"$f":"SUMIF($AS$9:$AT$9,AP$9,$AS210:$AT210)","v":0},0,0]
[null,null,null,null,null,null,null,null,null,null,null,null,null,null,null,null,null,null,null,null,null,null,null,null,null,null,null,null,null,null,null,"ADJUSTABLE.C",null,null,null,null,null,null,"AURIN","кислота розоловая (аурин)","тыс.руб.",0,0,0]
[null,null,null,null,null,null,null,null,null,null,null,null,null,null,null,null,null,null,null,null,null,null,null,null,null,null,null,null,null,null,null,"ADJUSTABLE.P",null,null,null,null,null,null,{"$f":"AM211 & \".P\"","v":"AURIN.P"},"Цена за единицу","руб./ед.",{"$f":"IF(AP213=0,0,AP211*1000/AP213)","v":0},{"$f":"IF(AQ213=0,0,AQ211*1000/AQ213)","v":0},{"$f":"IF(AR213=0,0,AR211*1000/AR213)","v":0}]
[null,null,null,null,null,null,null,null,null,null,null,null,null,null,null,null,null,null,null,null,null,null,null,null,null,null,null,null,null,null,null,"ADJUSTABLE.V",null,null,null,null,null,null,{"$f":"AM211 & \".V\"","v":"AURIN.V"},"Объём","ед.",{"$f":"SUMIF($AS$9:$AT$9,AP$9,$AS213:$AT213)","v":0},0,0]
[null,null,null,null,null,null,null,null,null,null,null,null,null,null,null,null,null,null,null,null,null,null,null,null,null,null,null,null,null,null,null,"ADJUSTABLE.C",null,null,null,null,null,null,"ACIDS","кислота серная","тыс.руб.",0,0,0]
[null,null,null,null,null,null,null,null,null,null,null,null,null,null,null,null,null,null,null,null,null,null,null,null,null,null,null,null,null,null,null,"ADJUSTABLE.P",null,null,null,null,null,null,{"$f":"AM214 & \".P\"","v":"ACIDS.P"},"Цена за единицу","руб./ед.",{"$f":"IF(AP216=0,0,AP214*1000/AP216)","v":0},{"$f":"IF(AQ216=0,0,AQ214*1000/AQ216)","v":0},{"$f":"IF(AR216=0,0,AR214*1000/AR216)","v":0}]
[null,null,null,null,null,null,null,null,null,null,null,null,null,null,null,null,null,null,null,null,null,null,null,null,null,null,null,null,null,null,null,"ADJUSTABLE.V",null,null,null,null,null,null,{"$f":"AM214 & \".V\"","v":"ACIDS.V"},"Объём","ед.",{"$f":"SUMIF($AS$9:$AT$9,AP$9,$AS216:$AT216)","v":0},0,0]
[null,null,null,null,null,null,null,null,null,null,null,null,null,null,null,null,null,null,null,null,null,null,null,null,null,null,null,null,null,null,null,"ADJUSTABLE.C",null,null,null,null,null,null,"ADIDCL","кислота соляная","тыс.руб.",0,0,0]
[null,null,null,null,null,null,null,null,null,null,null,null,null,null,null,null,null,null,null,null,null,null,null,null,null,null,null,null,null,null,null,"ADJUSTABLE.P",null,null,null,null,null,null,{"$f":"AM217 & \".P\"","v":"ADIDCL.P"},"Цена за единицу","руб./ед.",{"$f":"IF(AP219=0,0,AP217*1000/AP219)","v":0},{"$f":"IF(AQ219=0,0,AQ217*1000/AQ219)","v":0},{"$f":"IF(AR219=0,0,AR217*1000/AR219)","v":0}]
[null,null,null,null,null,null,null,null,null,null,null,null,null,null,null,null,null,null,null,null,null,null,null,null,null,null,null,null,null,null,null,"ADJUSTABLE.V",null,null,null,null,null,null,{"$f":"AM217 & \".V\"","v":"ADIDCL.V"},"Объём","ед.",{"$f":"SUMIF($AS$9:$AT$9,AP$9,$AS219:$AT219)","v":0},0,0]
[null,null,null,null,null,null,null,null,null,null,null,null,null,null,null,null,null,null,null,null,null,null,null,null,null,null,null,null,null,null,null,"ADJUSTABLE.C",null,null,null,null,null,null,"ACIDAC","кислота уксусная","тыс.руб.",0,0,0]
[null,null,null,null,null,null,null,null,null,null,null,null,null,null,null,null,null,null,null,null,null,null,null,null,null,null,null,null,null,null,null,"ADJUSTABLE.P",null,null,null,null,null,null,{"$f":"AM220 & \".P\"","v":"ACIDAC.P"},"Цена за единицу","руб./ед.",{"$f":"IF(AP222=0,0,AP220*1000/AP222)","v":0},{"$f":"IF(AQ222=0,0,AQ220*1000/AQ222)","v":0},{"$f":"IF(AR222=0,0,AR220*1000/AR222)","v":0}]
[null,null,null,null,null,null,null,null,null,null,null,null,null,null,null,null,null,null,null,null,null,null,null,null,null,null,null,null,null,null,null,"ADJUSTABLE.V",null,null,null,null,null,null,{"$f":"AM220 & \".V\"","v":"ACIDAC.V"},"Объём","ед.",{"$f":"SUMIF($AS$9:$AT$9,AP$9,$AS222:$AT222)","v":0},0,0]
[null,null,null,null,null,null,null,null,null,null,null,null,null,null,null,null,null,null,null,null,null,null,null,null,null,null,null,null,null,null,null,"ADJUSTABLE.C",null,null,null,null,null,null,"ACIDOX","кислота щавелевая","тыс.руб.",0,0,0]
[null,null,null,null,null,null,null,null,null,null,null,null,null,null,null,null,null,null,null,null,null,null,null,null,null,null,null,null,null,null,null,"ADJUSTABLE.P",null,null,null,null,null,null,{"$f":"AM223 & \".P\"","v":"ACIDOX.P"},"Цена за единицу","руб./ед.",{"$f":"IF(AP225=0,0,AP223*1000/AP225)","v":0},{"$f":"IF(AQ225=0,0,AQ223*1000/AQ225)","v":0},{"$f":"IF(AR225=0,0,AR223*1000/AR225)","v":0}]
[null,null,null,null,null,null,null,null,null,null,null,null,null,null,null,null,null,null,null,null,null,null,null,null,null,null,null,null,null,null,null,"ADJUSTABLE.V",null,null,null,null,null,null,{"$f":"AM223 & \".V\"","v":"ACIDOX.V"},"Объём","ед.",{"$f":"SUMIF($AS$9:$AT$9,AP$9,$AS225:$AT225)","v":0},0,0]
[null,null,null,null,null,null,null,null,null,null,null,null,null,null,null,null,null,null,null,null,null,null,null,null,null,null,null,null,null,null,null,"ADJUSTABLE.C",null,null,null,null,null,null,"STARCH","крахмал","тыс.руб.",0,0,0]
[null,null,null,null,null,null,null,null,null,null,null,null,null,null,null,null,null,null,null,null,null,null,null,null,null,null,null,null,null,null,null,"ADJUSTABLE.P",null,null,null,null,null,null,{"$f":"AM226 & \".P\"","v":"STARCH.P"},"Цена за единицу","руб./ед.",{"$f":"IF(AP228=0,0,AP226*1000/AP228)","v":0},{"$f":"IF(AQ228=0,0,AQ226*1000/AQ228)","v":0},{"$f":"IF(AR228=0,0,AR226*1000/AR228)","v":0}]
[null,null,null,null,null,null,null,null,null,null,null,null,null,null,null,null,null,null,null,null,null,null,null,null,null,null,null,null,null,null,null,"ADJUSTABLE.V",null,null,null,null,null,null,{"$f":"AM226 & \".V\"","v":"STARCH.V"},"Объём","ед.",{"$f":"SUMIF($AS$9:$AT$9,AP$9,$AS228:$AT228)","v":0},0,0]
[null,null,null,null,null,null,null,null,null,null,null,null,null,null,null,null,null,null,null,null,null,null,null,null,null,null,null,null,null,null,null,"ADJUSTABLE.C",null,null,null,null,null,null,"LANTN","лантан азотнокислый","тыс.руб.",0,0,0]
[null,null,null,null,null,null,null,null,null,null,null,null,null,null,null,null,null,null,null,null,null,null,null,null,null,null,null,null,null,null,null,"ADJUSTABLE.P",null,null,null,null,null,null,{"$f":"AM229 & \".P\"","v":"LANTN.P"},"Цена за единицу","руб./ед.",{"$f":"IF(AP231=0,0,AP229*1000/AP231)","v":0},{"$f":"IF(AQ231=0,0,AQ229*1000/AQ231)","v":0},{"$f":"IF(AR231=0,0,AR229*1000/AR231)","v":0}]
[null,null,null,null,null,null,null,null,null,null,null,null,null,null,null,null,null,null,null,null,null,null,null,null,null,null,null,null,null,null,null,"ADJUSTABLE.V",null,null,null,null,null,null,{"$f":"AM229 & \".V\"","v":"LANTN.V"},"Объём","ед.",{"$f":"SUMIF($AS$9:$AT$9,AP$9,$AS231:$AT231)","v":0},0,0]
[null,null,null,null,null,null,null,null,null,null,null,null,null,null,null,null,null,null,null,null,null,null,null,null,null,null,null,null,null,null,null,"ADJUSTABLE.C",null,null,null,null,null,null,"MGS","магний сернокислый","тыс.руб.",0,0,0]
[null,null,null,null,null,null,null,null,null,null,null,null,null,null,null,null,null,null,null,null,null,null,null,null,null,null,null,null,null,null,null,"ADJUSTABLE.P",null,null,null,null,null,null,{"$f":"AM232 & \".P\"","v":"MGS.P"},"Цена за единицу","руб./ед.",{"$f":"IF(AP234=0,0,AP232*1000/AP234)","v":0},{"$f":"IF(AQ234=0,0,AQ232*1000/AQ234)","v":0},{"$f":"IF(AR234=0,0,AR232*1000/AR234)","v":0}]
[null,null,null,null,null,null,null,null,null,null,null,null,null,null,null,null,null,null,null,null,null,null,null,null,null,null,null,null,null,null,null,"ADJUSTABLE.V",null,null,null,null,null,null,{"$f":"AM232 & \".V\"","v":"MGS.V"},"Объём","ед.",{"$f":"SUMIF($AS$9:$AT$9,AP$9,$AS234:$AT234)","v":0},0,0]
[null,null,null,null,null,null,null,null,null,null,null,null,null,null,null,null,null,null,null,null,null,null,null,null,null,null,null,null,null,null,null,"ADJUSTABLE.C",null,null,null,null,null,null,"FLOSPERSE","модифицированные аминофосфоновые кислоты и фосфонаты (FLOSPERSE)","тыс.руб.",0,0,0]
[null,null,null,null,null,null,null,null,null,null,null,null,null,null,null,null,null,null,null,null,null,null,null,null,null,null,null,null,null,null,null,"ADJUSTABLE.P",null,null,null,null,null,null,{"$f":"AM235 & \".P\"","v":"FLOSPERSE.P"},"Цена за единицу","руб./ед.",{"$f":"IF(AP237=0,0,AP235*1000/AP237)","v":0},{"$f":"IF(AQ237=0,0,AQ235*1000/AQ237)","v":0},{"$f":"IF(AR237=0,0,AR235*1000/AR237)","v":0}]
[null,null,null,null,null,null,null,null,null,null,null,null,null,null,null,null,null,null,null,null,null,null,null,null,null,null,null,null,null,null,null,"ADJUSTABLE.V",null,null,null,null,null,null,{"$f":"AM235 & \".V\"","v":"FLOSPERSE.V"},"Объём","ед.",{"$f":"SUMIF($AS$9:$AT$9,AP$9,$AS237:$AT237)","v":0},{"$f":"SUMIF($AS$9:$AT$9,AQ$9,$AS237:$AT237)","v":0},{"$f":"SUMIF($AS$9:$AT$9,AR$9,$AS237:$AT237)","v":0}]
[null,null,null,null,null,null,null,null,null,null,null,null,null,null,null,null,null,null,null,null,null,null,null,null,null,null,null,null,null,null,null,"ADJUSTABLE.C",null,null,null,null,null,null,"NATR","натр едкий","тыс.руб.",0,0,0]
[null,null,null,null,null,null,null,null,null,null,null,null,null,null,null,null,null,null,null,null,null,null,null,null,null,null,null,null,null,null,null,"ADJUSTABLE.P",null,null,null,null,null,null,{"$f":"AM238 & \".P\"","v":"NATR.P"},"Цена за единицу","руб./ед.",{"$f":"IF(AP240=0,0,AP238*1000/AP240)","v":0},{"$f":"IF(AQ240=0,0,AQ238*1000/AQ240)","v":0},{"$f":"IF(AR240=0,0,AR238*1000/AR240)","v":0}]
[null,null,null,null,null,null,null,null,null,null,null,null,null,null,null,null,null,null,null,null,null,null,null,null,null,null,null,null,null,null,null,"ADJUSTABLE.V",null,null,null,null,null,null,{"$f":"AM238 & \".V\"","v":"NATR.V"},"Объём","ед.",{"$f":"SUMIF($AS$9:$AT$9,AP$9,$AS240:$AT240)","v":0},0,0]
[null,null,null,null,null,null,null,null,null,null,null,null,null,null,null,null,null,null,null,null,null,null,null,null,null,null,null,null,null,null,null,"ADJUSTABLE.C",null,null,null,null,null,null,"NAHDOX","натрий гидроокись","тыс.руб.",0,0,0]
[null,null,null,null,null,null,null,null,null,null,null,null,null,null,null,null,null,null,null,null,null,null,null,null,null,null,null,null,null,null,null,"ADJUSTABLE.P",null,null,null,null,null,null,{"$f":"AM241 & \".P\"","v":"NAHDOX.P"},"Цена за единицу","руб./ед.",{"$f":"IF(AP243=0,0,AP241*1000/AP243)","v":0},{"$f":"IF(AQ243=0,0,AQ241*1000/AQ243)","v":0},{"$f":"IF(AR243=0,0,AR241*1000/AR243)","v":0}]
[null,null,null,null,null,null,null,null,null,null,null,null,null,null,null,null,null,null,null,null,null,null,null,null,null,null,null,null,null,null,null,"ADJUSTABLE.V",null,null,null,null,null,null,{"$f":"AM241 & \".V\"","v":"NAHDOX.V"},"Объём","ед.",{"$f":"SUMIF($AS$9:$AT$9,AP$9,$AS243:$AT243)","v":0},0,0]
[null,null,null,null,null,null,null,null,null,null,null,null,null,null,null,null,null,null,null,null,null,null,null,null,null,null,null,null,null,null,null,"ADJUSTABLE.C",null,null,null,null,null,null,"NASLC","натрий салициловокислый","тыс.руб.",0,0,0]
[null,null,null,null,null,null,null,null,null,null,null,null,null,null,null,null,null,null,null,null,null,null,null,null,null,null,null,null,null,null,null,"ADJUSTABLE.P",null,null,null,null,null,null,{"$f":"AM244 & \".P\"","v":"NASLC.P"},"Цена за единицу","руб./ед.",{"$f":"IF(AP246=0,0,AP244*1000/AP246)","v":0},{"$f":"IF(AQ246=0,0,AQ244*1000/AQ246)","v":0},{"$f":"IF(AR246=0,0,AR244*1000/AR246)","v":0}]
[null,null,null,null,null,null,null,null,null,null,null,null,null,null,null,null,null,null,null,null,null,null,null,null,null,null,null,null,null,null,null,"ADJUSTABLE.V",null,null,null,null,null,null,{"$f":"AM244 & \".V\"","v":"NASLC.V"},"Объём","ед.",{"$f":"SUMIF($AS$9:$AT$9,AP$9,$AS246:$AT246)","v":0},0,0]
[null,null,null,null,null,null,null,null,null,null,null,null,null,null,null,null,null,null,null,null,null,null,null,null,null,null,null,null,null,null,null,"ADJUSTABLE.C",null,null,null,null,null,null,"NAS","натрий сернокислый","тыс.руб.",0,0,0]
[null,null,null,null,null,null,null,null,null,null,null,null,null,null,null,null,null,null,null,null,null,null,null,null,null,null,null,null,null,null,null,"ADJUSTABLE.P",null,null,null,null,null,null,{"$f":"AM247 & \".P\"","v":"NAS.P"},"Цена за единицу","руб./ед.",{"$f":"IF(AP249=0,0,AP247*1000/AP249)","v":0},{"$f":"IF(AQ249=0,0,AQ247*1000/AQ249)","v":0},{"$f":"IF(AR249=0,0,AR247*1000/AR249)","v":0}]
[null,null,null,null,null,null,null,null,null,null,null,null,null,null,null,null,null,null,null,null,null,null,null,null,null,null,null,null,null,null,null,"ADJUSTABLE.V",null,null,null,null,null,null,{"$f":"AM247 & \".V\"","v":"NAS.V"},"Объём","ед.",{"$f":"SUMIF($AS$9:$AT$9,AP$9,$AS249:$AT249)","v":0},0,0]
[null,null,null,null,null,null,null,null,null,null,null,null,null,null,null,null,null,null,null,null,null,null,null,null,null,null,null,null,null,null,null,"ADJUSTABLE.C",null,null,null,null,null,null,"NAC","натрий углекислый","тыс.руб.",0,0,0]
[null,null,null,null,null,null,null,null,null,null,null,null,null,null,null,null,null,null,null,null,null,null,null,null,null,null,null,null,null,null,null,"ADJUSTABLE.P",null,null,null,null,null,null,{"$f":"AM250 & \".P\"","v":"NAC.P"},"Цена за единицу","руб./ед.",{"$f":"IF(AP252=0,0,AP250*1000/AP252)","v":0},{"$f":"IF(AQ252=0,0,AQ250*1000/AQ252)","v":0},{"$f":"IF(AR252=0,0,AR250*1000/AR252)","v":0}]
[null,null,null,null,null,null,null,null,null,null,null,null,null,null,null,null,null,null,null,null,null,null,null,null,null,null,null,null,null,null,null,"ADJUSTABLE.V",null,null,null,null,null,null,{"$f":"AM250 & \".V\"","v":"NAC.V"},"Объём","ед.",{"$f":"SUMIF($AS$9:$AT$9,AP$9,$AS252:$AT252)","v":0},0,0]
[null,null,null,null,null,null,null,null,null,null,null,null,null,null,null,null,null,null,null,null,null,null,null,null,null,null,null,null,null,null,null,"ADJUSTABLE.C",null,null,null,null,null,null,"NAAC","натрий уксуснокислый","тыс.руб.",0,0,0]
[null,null,null,null,null,null,null,null,null,null,null,null,null,null,null,null,null,null,null,null,null,null,null,null,null,null,null,null,null,null,null,"ADJUSTABLE.P",null,null,null,null,null,null,{"$f":"AM253 & \".P\"","v":"NAAC.P"},"Цена за единицу","руб./ед.",{"$f":"IF(AP255=0,0,AP253*1000/AP255)","v":0},{"$f":"IF(AQ255=0,0,AQ253*1000/AQ255)","v":0},{"$f":"IF(AR255=0,0,AR253*1000/AR255)","v":0}]
[null,null,null,null,null,null,null,null,null,null,null,null,null,null,null,null,null,null,null,null,null,null,null,null,null,null,null,null,null,null,null,"ADJUSTABLE.V",null,null,null,null,null,null,{"$f":"AM253 & \".V\"","v":"NAAC.V"},"Объём","ед.",{"$f":"SUMIF($AS$9:$AT$9,AP$9,$AS255:$AT255)","v":0},0,0]
[null,null,null,null,null,null,null,null,null,null,null,null,null,null,null,null,null,null,null,null,null,null,null,null,null,null,null,null,null,null,null,"ADJUSTABLE.C",null,null,null,null,null,null,"NACL","натрий хлористый","тыс.руб.",0,0,0]
[null,null,null,null,null,null,null,null,null,null,null,null,null,null,null,null,null,null,null,null,null,null,null,null,null,null,null,null,null,null,null,"ADJUSTABLE.P",null,null,null,null,null,null,{"$f":"AM256 & \".P\"","v":"NACL.P"},"Цена за единицу","руб./ед.",{"$f":"IF(AP258=0,0,AP256*1000/AP258)","v":0},{"$f":"IF(AQ258=0,0,AQ256*1000/AQ258)","v":0},{"$f":"IF(AR258=0,0,AR256*1000/AR258)","v":0}]
[null,null,null,null,null,null,null,null,null,null,null,null,null,null,null,null,null,null,null,null,null,null,null,null,null,null,null,null,null,null,null,"ADJUSTABLE.V",null,null,null,null,null,null,{"$f":"AM256 & \".V\"","v":"NACL.V"},"Объём","ед.",{"$f":"SUMIF($AS$9:$AT$9,AP$9,$AS258:$AT258)","v":0},0,0]
[null,null,null,null,null,null,null,null,null,null,null,null,null,null,null,null,null,null,null,null,null,null,null,null,null,null,null,null,null,null,null,"ADJUSTABLE.C",null,null,null,null,null,null,"FLOFOAM","пеногаситель (FLOFOAM)","тыс.руб.",0,0,0]
[null,null,null,null,null,null,null,null,null,null,null,null,null,null,null,null,null,null,null,null,null,null,null,null,null,null,null,null,null,null,null,"ADJUSTABLE.P",null,null,null,null,null,null,{"$f":"AM259 & \".P\"","v":"FLOFOAM.P"},"Цена за единицу","руб./ед.",{"$f":"IF(AP261=0,0,AP259*1000/AP261)","v":0},{"$f":"IF(AQ261=0,0,AQ259*1000/AQ261)","v":0},{"$f":"IF(AR261=0,0,AR259*1000/AR261)","v":0}]
[null,null,null,null,null,null,null,null,null,null,null,null,null,null,null,null,null,null,null,null,null,null,null,null,null,null,null,null,null,null,null,"ADJUSTABLE.V",null,null,null,null,null,null,{"$f":"AM259 & \".V\"","v":"FLOFOAM.V"},"Объём","ед.",{"$f":"SUMIF($AS$9:$AT$9,AP$9,$AS261:$AT261)","v":0},{"$f":"SUMIF($AS$9:$AT$9,AQ$9,$AS261:$AT261)","v":0},{"$f":"SUMIF($AS$9:$AT$9,AR$9,$AS261:$AT261)","v":0}]
[null,null,null,null,null,null,null,null,null,null,null,null,null,null,null,null,null,null,null,null,null,null,null,null,null,null,null,null,null,null,null,"ADJUSTABLE.C",null,null,null,null,null,null,"RGRS","реактив Грисса","тыс.руб.",0,0,0]
[null,null,null,null,null,null,null,null,null,null,null,null,null,null,null,null,null,null,null,null,null,null,null,null,null,null,null,null,null,null,null,"ADJUSTABLE.P",null,null,null,null,null,null,{"$f":"AM262 & \".P\"","v":"RGRS.P"},"Цена за единицу","руб./ед.",{"$f":"IF(AP264=0,0,AP262*1000/AP264)","v":0},{"$f":"IF(AQ264=0,0,AQ262*1000/AQ264)","v":0},{"$f":"IF(AR264=0,0,AR262*1000/AR264)","v":0}]
[null,null,null,null,null,null,null,null,null,null,null,null,null,null,null,null,null,null,null,null,null,null,null,null,null,null,null,null,null,null,null,"ADJUSTABLE.V",null,null,null,null,null,null,{"$f":"AM262 & \".V\"","v":"RGRS.V"},"Объём","ед.",{"$f":"SUMIF($AS$9:$AT$9,AP$9,$AS264:$AT264)","v":0},0,0]
[null,null,null,null,null,null,null,null,null,null,null,null,null,null,null,null,null,null,null,null,null,null,null,null,null,null,null,null,null,null,null,"ADJUSTABLE.C",null,null,null,null,null,null,"RNSL","реактив Несслера","тыс.руб.",0,0,0]
[null,null,null,null,null,null,null,null,null,null,null,null,null,null,null,null,null,null,null,null,null,null,null,null,null,null,null,null,null,null,null,"ADJUSTABLE.P",null,null,null,null,null,null,{"$f":"AM265 & \".P\"","v":"RNSL.P"},"Цена за единицу","руб./ед.",{"$f":"IF(AP267=0,0,AP265*1000/AP267)","v":0},{"$f":"IF(AQ267=0,0,AQ265*1000/AQ267)","v":0},{"$f":"IF(AR267=0,0,AR265*1000/AR267)","v":0}]
[null,null,null,null,null,null,null,null,null,null,null,null,null,null,null,null,null,null,null,null,null,null,null,null,null,null,null,null,null,null,null,"ADJUSTABLE.V",null,null,null,null,null,null,{"$f":"AM265 & \".V\"","v":"RNSL.V"},"Объём","ед.",{"$f":"SUMIF($AS$9:$AT$9,AP$9,$AS267:$AT267)","v":0},0,0]
[null,null,null,null,null,null,null,null,null,null,null,null,null,null,null,null,null,null,null,null,null,null,null,null,null,null,null,null,null,null,null,"ADJUSTABLE.C",null,null,null,null,null,null,"PBAC","свинец уксуснокислый","тыс.руб.",0,0,0]
[null,null,null,null,null,null,null,null,null,null,null,null,null,null,null,null,null,null,null,null,null,null,null,null,null,null,null,null,null,null,null,"ADJUSTABLE.P",null,null,null,null,null,null,{"$f":"AM268 & \".P\"","v":"PBAC.P"},"Цена за единицу","руб./ед.",{"$f":"IF(AP270=0,0,AP268*1000/AP270)","v":0},{"$f":"IF(AQ270=0,0,AQ268*1000/AQ270)","v":0},{"$f":"IF(AR270=0,0,AR268*1000/AR270)","v":0}]
[null,null,null,null,null,null,null,null,null,null,null,null,null,null,null,null,null,null,null,null,null,null,null,null,null,null,null,null,null,null,null,"ADJUSTABLE.V",null,null,null,null,null,null,{"$f":"AM268 & \".V\"","v":"PBAC.V"},"Объём","ед.",{"$f":"SUMIF($AS$9:$AT$9,AP$9,$AS270:$AT270)","v":0},0,0]
[null,null,null,null,null,null,null,null,null,null,null,null,null,null,null,null,null,null,null,null,null,null,null,null,null,null,null,null,null,null,null,"ADJUSTABLE.C",null,null,null,null,null,null,"AGN","серебро азотнокислое","тыс.руб.",0,0,0]
[null,null,null,null,null,null,null,null,null,null,null,null,null,null,null,null,null,null,null,null,null,null,null,null,null,null,null,null,null,null,null,"ADJUSTABLE.P",null,null,null,null,null,null,{"$f":"AM271 & \".P\"","v":"AGN.P"},"Цена за единицу","руб./ед.",{"$f":"IF(AP273=0,0,AP271*1000/AP273)","v":0},{"$f":"IF(AQ273=0,0,AQ271*1000/AQ273)","v":0},{"$f":"IF(AR273=0,0,AR271*1000/AR273)","v":0}]
[null,null,null,null,null,null,null,null,null,null,null,null,null,null,null,null,null,null,null,null,null,null,null,null,null,null,null,null,null,null,null,"ADJUSTABLE.V",null,null,null,null,null,null,{"$f":"AM271 & \".V\"","v":"AGN.V"},"Объём","ед.",{"$f":"SUMIF($AS$9:$AT$9,AP$9,$AS273:$AT273)","v":0},0,0]
[null,null,null,null,null,null,null,null,null,null,null,null,null,null,null,null,null,null,null,null,null,null,null,null,null,null,null,null,null,null,null,"ADJUSTABLE.C",null,null,null,null,null,null,"AGS","серебро сернокислое","тыс.руб.",0,0,0]
[null,null,null,null,null,null,null,null,null,null,null,null,null,null,null,null,null,null,null,null,null,null,null,null,null,null,null,null,null,null,null,"ADJUSTABLE.P",null,null,null,null,null,null,{"$f":"AM274 & \".P\"","v":"AGS.P"},"Цена за единицу","руб./ед.",{"$f":"IF(AP276=0,0,AP274*1000/AP276)","v":0},{"$f":"IF(AQ276=0,0,AQ274*1000/AQ276)","v":0},{"$f":"IF(AR276=0,0,AR274*1000/AR276)","v":0}]
[null,null,null,null,null,null,null,null,null,null,null,null,null,null,null,null,null,null,null,null,null,null,null,null,null,null,null,null,null,null,null,"ADJUSTABLE.V",null,null,null,null,null,null,{"$f":"AM274 & \".V\"","v":"AGS.V"},"Объём","ед.",{"$f":"SUMIF($AS$9:$AT$9,AP$9,$AS276:$AT276)","v":0},0,0]
[null,null,null,null,null,null,null,null,null,null,null,null,null,null,null,null,null,null,null,null,null,null,null,null,null,null,null,null,null,null,null,"ADJUSTABLE.C",null,null,null,null,null,null,"SODACA","сода кальцинированная","тыс.руб.",0,0,0]
[null,null,null,null,null,null,null,null,null,null,null,null,null,null,null,null,null,null,null,null,null,null,null,null,null,null,null,null,null,null,null,"ADJUSTABLE.P",null,null,null,null,null,null,{"$f":"AM277 & \".P\"","v":"SODACA.P"},"Цена за единицу","руб./ед.",{"$f":"IF(AP279=0,0,AP277*1000/AP279)","v":0},{"$f":"IF(AQ279=0,0,AQ277*1000/AQ279)","v":0},{"$f":"IF(AR279=0,0,AR277*1000/AR279)","v":0}]
[null,null,null,null,null,null,null,null,null,null,null,null,null,null,null,null,null,null,null,null,null,null,null,null,null,null,null,null,null,null,null,"ADJUSTABLE.V",null,null,null,null,null,null,{"$f":"AM277 & \".V\"","v":"SODACA.V"},"Объём","ед.",{"$f":"SUMIF($AS$9:$AT$9,AP$9,$AS279:$AT279)","v":0},0,0]
[null,null,null,null,null,null,null,null,null,null,null,null,null,null,null,null,null,null,null,null,null,null,null,null,null,null,null,null,null,null,null,"ADJUSTABLE.C",null,null,null,null,null,null,"SODACS","сода каустическая","тыс.руб.",0,0,0]
[null,null,null,null,null,null,null,null,null,null,null,null,null,null,null,null,null,null,null,null,null,null,null,null,null,null,null,null,null,null,null,"ADJUSTABLE.P",null,null,null,null,null,null,{"$f":"AM280 & \".P\"","v":"SODACS.P"},"Цена за единицу","руб./ед.",{"$f":"IF(AP282=0,0,AP280*1000/AP282)","v":0},{"$f":"IF(AQ282=0,0,AQ280*1000/AQ282)","v":0},{"$f":"IF(AR282=0,0,AR280*1000/AR282)","v":0}]
[null,null,null,null,null,null,null,null,null,null,null,null,null,null,null,null,null,null,null,null,null,null,null,null,null,null,null,null,null,null,null,"ADJUSTABLE.V",null,null,null,null,null,null,{"$f":"AM280 & \".V\"","v":"SODACS.V"},"Объём","ед.",{"$f":"SUMIF($AS$9:$AT$9,AP$9,$AS282:$AT282)","v":0},0,0]
[null,null,null,null,null,null,null,null,null,null,null,null,null,null,null,null,null,null,null,null,null,null,null,null,null,null,null,null,null,null,null,"ADJUSTABLE.C",null,null,null,null,null,null,"SALT1G","соль 1 сорт","тыс.руб.",0,0,0]
[null,null,null,null,null,null,null,null,null,null,null,null,null,null,null,null,null,null,null,null,null,null,null,null,null,null,null,null,null,null,null,"ADJUSTABLE.P",null,null,null,null,null,null,{"$f":"AM283 & \".P\"","v":"SALT1G.P"},"Цена за единицу","руб./ед.",{"$f":"IF(AP285=0,0,AP283*1000/AP285)","v":0},{"$f":"IF(AQ285=0,0,AQ283*1000/AQ285)","v":0},{"$f":"IF(AR285=0,0,AR283*1000/AR285)","v":0}]
[null,null,null,null,null,null,null,null,null,null,null,null,null,null,null,null,null,null,null,null,null,null,null,null,null,null,null,null,null,null,null,"ADJUSTABLE.V",null,null,null,null,null,null,{"$f":"AM283 & \".V\"","v":"SALT1G.V"},"Объём","ед.",{"$f":"SUMIF($AS$9:$AT$9,AP$9,$AS285:$AT285)","v":0},0,0]
[null,null,null,null,null,null,null,null,null,null,null,null,null,null,null,null,null,null,null,null,null,null,null,null,null,null,null,null,null,null,null,"ADJUSTABLE.C",null,null,null,null,null,null,"SALT","соль пищевая поваренная","тыс.руб.",0,0,0]
[null,null,null,null,null,null,null,null,null,null,null,null,null,null,null,null,null,null,null,null,null,null,null,null,null,null,null,null,null,null,null,"ADJUSTABLE.P",null,null,null,null,null,null,{"$f":"AM286 & \".P\"","v":"SALT.P"},"Цена за единицу","руб./ед.",{"$f":"IF(AP288=0,0,AP286*1000/AP288)","v":0},{"$f":"IF(AQ288=0,0,AQ286*1000/AQ288)","v":0},{"$f":"IF(AR288=0,0,AR286*1000/AR288)","v":0}]
[null,null,null,null,null,null,null,null,null,null,null,null,null,null,null,null,null,null,null,null,null,null,null,null,null,null,null,null,null,null,null,"ADJUSTABLE.V",null,null,null,null,null,null,{"$f":"AM286 & \".V\"","v":"SALT.V"},"Объём","ед.",{"$f":"SUMIF($AS$9:$AT$9,AP$9,$AS288:$AT288)","v":0},0,0]
[null,null,null,null,null,null,null,null,null,null,null,null,null,null,null,null,null,null,null,null,null,null,null,null,null,null,null,null,null,null,null,"ADJUSTABLE.C",null,null,null,null,null,null,"SALTPL","соль таблетированная","тыс.руб.",0,0,0]
[null,null,null,null,null,null,null,null,null,null,null,null,null,null,null,null,null,null,null,null,null,null,null,null,null,null,null,null,null,null,null,"ADJUSTABLE.P",null,null,null,null,null,null,{"$f":"AM289 & \".P\"","v":"SALTPL.P"},"Цена за единицу","руб./ед.",{"$f":"IF(AP291=0,0,AP289*1000/AP291)","v":0},{"$f":"IF(AQ291=0,0,AQ289*1000/AQ291)","v":0},{"$f":"IF(AR291=0,0,AR289*1000/AR291)","v":0}]
[null,null,null,null,null,null,null,null,null,null,null,null,null,null,null,null,null,null,null,null,null,null,null,null,null,null,null,null,null,null,null,"ADJUSTABLE.V",null,null,null,null,null,null,{"$f":"AM289 & \".V\"","v":"SALTPL.V"},"Объём","ед.",{"$f":"SUMIF($AS$9:$AT$9,AP$9,$AS291:$AT291)","v":0},0,0]
[null,null,null,null,null,null,null,null,null,null,null,null,null,null,null,null,null,null,null,null,null,null,null,null,null,null,null,null,null,null,null,"ADJUSTABLE.C",null,null,null,null,null,null,"SALTTH","соль техническая","тыс.руб.",0,0,0]
[null,null,null,null,null,null,null,null,null,null,null,null,null,null,null,null,null,null,null,null,null,null,null,null,null,null,null,null,null,null,null,"ADJUSTABLE.P",null,null,null,null,null,null,{"$f":"AM292 & \".P\"","v":"SALTTH.P"},"Цена за единицу","руб./ед.",{"$f":"IF(AP294=0,0,AP292*1000/AP294)","v":0},{"$f":"IF(AQ294=0,0,AQ292*1000/AQ294)","v":0},{"$f":"IF(AR294=0,0,AR292*1000/AR294)","v":0}]
[null,null,null,null,null,null,null,null,null,null,null,null,null,null,null,null,null,null,null,null,null,null,null,null,null,null,null,null,null,null,null,"ADJUSTABLE.V",null,null,null,null,null,null,{"$f":"AM292 & \".V\"","v":"SALTTH.V"},"Объём","ед.",{"$f":"SUMIF($AS$9:$AT$9,AP$9,$AS294:$AT294)","v":0},0,0]
[null,null,null,null,null,null,null,null,null,null,null,null,null,null,null,null,null,null,null,null,null,null,null,null,null,null,null,null,null,null,null,"ADJUSTABLE.C",null,null,null,null,null,null,"SALTEX","соль экстра","тыс.руб.",0,0,0]
[null,null,null,null,null,null,null,null,null,null,null,null,null,null,null,null,null,null,null,null,null,null,null,null,null,null,null,null,null,null,null,"ADJUSTABLE.P",null,null,null,null,null,null,{"$f":"AM295 & \".P\"","v":"SALTEX.P"},"Цена за единицу","руб./ед.",{"$f":"IF(AP297=0,0,AP295*1000/AP297)","v":0},{"$f":"IF(AQ297=0,0,AQ295*1000/AQ297)","v":0},{"$f":"IF(AR297=0,0,AR295*1000/AR297)","v":0}]
[null,null,null,null,null,null,null,null,null,null,null,null,null,null,null,null,null,null,null,null,null,null,null,null,null,null,null,null,null,null,null,"ADJUSTABLE.V",null,null,null,null,null,null,{"$f":"AM295 & \".V\"","v":"SALTEX.V"},"Объём","ед.",{"$f":"SUMIF($AS$9:$AT$9,AP$9,$AS297:$AT297)","v":0},0,0]
[null,null,null,null,null,null,null,null,null,null,null,null,null,null,null,null,null,null,null,null,null,null,null,null,null,null,null,null,null,null,null,"ADJUSTABLE.C",null,null,null,null,null,null,"C2H5OH","спирт","тыс.руб.",0,0,0]
[null,null,null,null,null,null,null,null,null,null,null,null,null,null,null,null,null,null,null,null,null,null,null,null,null,null,null,null,null,null,null,"ADJUSTABLE.P",null,null,null,null,null,null,{"$f":"AM298 & \".P\"","v":"C2H5OH.P"},"Цена за единицу","руб./ед.",{"$f":"IF(AP300=0,0,AP298*1000/AP300)","v":0},{"$f":"IF(AQ300=0,0,AQ298*1000/AQ300)","v":0},{"$f":"IF(AR300=0,0,AR298*1000/AR300)","v":0}]
[null,null,null,null,null,null,null,null,null,null,null,null,null,null,null,null,null,null,null,null,null,null,null,null,null,null,null,null,null,null,null,"ADJUSTABLE.V",null,null,null,null,null,null,{"$f":"AM298 & \".V\"","v":"C2H5OH.V"},"Объём","ед.",{"$f":"SUMIF($AS$9:$AT$9,AP$9,$AS300:$AT300)","v":0},0,0]
[null,null,null,null,null,null,null,null,null,null,null,null,null,null,null,null,null,null,null,null,null,null,null,null,null,null,null,null,null,null,null,"ADJUSTABLE.C",null,null,null,null,null,null,"SFAL1G","сульфат алюминия 1 сорт","тыс.руб.",0,0,0]
[null,null,null,null,null,null,null,null,null,null,null,null,null,null,null,null,null,null,null,null,null,null,null,null,null,null,null,null,null,null,null,"ADJUSTABLE.P",null,null,null,null,null,null,{"$f":"AM301 & \".P\"","v":"SFAL1G.P"},"Цена за единицу","руб./ед.",{"$f":"IF(AP303=0,0,AP301*1000/AP303)","v":0},{"$f":"IF(AQ303=0,0,AQ301*1000/AQ303)","v":0},{"$f":"IF(AR303=0,0,AR301*1000/AR303)","v":0}]
[null,null,null,null,null,null,null,null,null,null,null,null,null,null,null,null,null,null,null,null,null,null,null,null,null,null,null,null,null,null,null,"ADJUSTABLE.V",null,null,null,null,null,null,{"$f":"AM301 & \".V\"","v":"SFAL1G.V"},"Объём","ед.",{"$f":"SUMIF($AS$9:$AT$9,AP$9,$AS303:$AT303)","v":0},0,0]
[null,null,null,null,null,null,null,null,null,null,null,null,null,null,null,null,null,null,null,null,null,null,null,null,null,null,null,null,null,null,null,"ADJUSTABLE.C",null,null,null,null,null,null,"SFALLQD","сульфат алюминия жидкий","тыс.руб.",0,0,0]
[null,null,null,null,null,null,null,null,null,null,null,null,null,null,null,null,null,null,null,null,null,null,null,null,null,null,null,null,null,null,null,"ADJUSTABLE.P",null,null,null,null,null,null,{"$f":"AM304 & \".P\"","v":"SFALLQD.P"},"Цена за единицу","руб./ед.",{"$f":"IF(AP306=0,0,AP304*1000/AP306)","v":0},{"$f":"IF(AQ306=0,0,AQ304*1000/AQ306)","v":0},{"$f":"IF(AR306=0,0,AR304*1000/AR306)","v":0}]
[null,null,null,null,null,null,null,null,null,null,null,null,null,null,null,null,null,null,null,null,null,null,null,null,null,null,null,null,null,null,null,"ADJUSTABLE.V",null,null,null,null,null,null,{"$f":"AM304 & \".V\"","v":"SFALLQD.V"},"Объём","ед.",{"$f":"SUMIF($AS$9:$AT$9,AP$9,$AS306:$AT306)","v":0},0,0]
[null,null,null,null,null,null,null,null,null,null,null,null,null,null,null,null,null,null,null,null,null,null,null,null,null,null,null,null,null,null,null,"ADJUSTABLE.C",null,null,null,null,null,null,"SFALT","сульфат алюминия технический","тыс.руб.",0,0,0]
[null,null,null,null,null,null,null,null,null,null,null,null,null,null,null,null,null,null,null,null,null,null,null,null,null,null,null,null,null,null,null,"ADJUSTABLE.P",null,null,null,null,null,null,{"$f":"AM307 & \".P\"","v":"SFALT.P"},"Цена за единицу","руб./ед.",{"$f":"IF(AP309=0,0,AP307*1000/AP309)","v":0},{"$f":"IF(AQ309=0,0,AQ307*1000/AQ309)","v":0},{"$f":"IF(AR309=0,0,AR307*1000/AR309)","v":0}]
[null,null,null,null,null,null,null,null,null,null,null,null,null,null,null,null,null,null,null,null,null,null,null,null,null,null,null,null,null,null,null,"ADJUSTABLE.V",null,null,null,null,null,null,{"$f":"AM307 & \".V\"","v":"SFALT.V"},"Объём","ед.",{"$f":"SUMIF($AS$9:$AT$9,AP$9,$AS309:$AT309)","v":0},0,0]
[null,null,null,null,null,null,null,null,null,null,null,null,null,null,null,null,null,null,null,null,null,null,null,null,null,null,null,null,null,null,null,"ADJUSTABLE.C",null,null,null,null,null,null,"SFAMN","сульфат аммония","тыс.руб.",0,0,0]
[null,null,null,null,null,null,null,null,null,null,null,null,null,null,null,null,null,null,null,null,null,null,null,null,null,null,null,null,null,null,null,"ADJUSTABLE.P",null,null,null,null,null,null,{"$f":"AM310 & \".P\"","v":"SFAMN.P"},"Цена за единицу","руб./ед.",{"$f":"IF(AP312=0,0,AP310*1000/AP312)","v":0},{"$f":"IF(AQ312=0,0,AQ310*1000/AQ312)","v":0},{"$f":"IF(AR312=0,0,AR310*1000/AR312)","v":0}]
[null,null,null,null,null,null,null,null,null,null,null,null,null,null,null,null,null,null,null,null,null,null,null,null,null,null,null,null,null,null,null,"ADJUSTABLE.V",null,null,null,null,null,null,{"$f":"AM310 & \".V\"","v":"SFAMN.V"},"Объём","ед.",{"$f":"SUMIF($AS$9:$AT$9,AP$9,$AS312:$AT312)","v":0},0,0]
[null,null,null,null,null,null,null,null,null,null,null,null,null,null,null,null,null,null,null,null,null,null,null,null,null,null,null,null,null,null,null,"ADJUSTABLE.C",null,null,null,null,null,null,"TM","тиомочевина","тыс.руб.",0,0,0]
[null,null,null,null,null,null,null,null,null,null,null,null,null,null,null,null,null,null,null,null,null,null,null,null,null,null,null,null,null,null,null,"ADJUSTABLE.P",null,null,null,null,null,null,{"$f":"AM313 & \".P\"","v":"TM.P"},"Цена за единицу","руб./ед.",{"$f":"IF(AP315=0,0,AP313*1000/AP315)","v":0},{"$f":"IF(AQ315=0,0,AQ313*1000/AQ315)","v":0},{"$f":"IF(AR315=0,0,AR313*1000/AR315)","v":0}]
[null,null,null,null,null,null,null,null,null,null,null,null,null,null,null,null,null,null,null,null,null,null,null,null,null,null,null,null,null,null,null,"ADJUSTABLE.V",null,null,null,null,null,null,{"$f":"AM313 & \".V\"","v":"TM.V"},"Объём","ед.",{"$f":"SUMIF($AS$9:$AT$9,AP$9,$AS315:$AT315)","v":0},0,0]
[null,null,null,null,null,null,null,null,null,null,null,null,null,null,null,null,null,null,null,null,null,null,null,null,null,null,null,null,null,null,null,"ADJUSTABLE.C",null,null,null,null,null,null,"TSFNA","тиосульфат натрия","тыс.руб.",0,0,0]
[null,null,null,null,null,null,null,null,null,null,null,null,null,null,null,null,null,null,null,null,null,null,null,null,null,null,null,null,null,null,null,"ADJUSTABLE.P",null,null,null,null,null,null,{"$f":"AM316 & \".P\"","v":"TSFNA.P"},"Цена за единицу","руб./ед.",{"$f":"IF(AP318=0,0,AP316*1000/AP318)","v":0},{"$f":"IF(AQ318=0,0,AQ316*1000/AQ318)","v":0},{"$f":"IF(AR318=0,0,AR316*1000/AR318)","v":0}]
[null,null,null,null,null,null,null,null,null,null,null,null,null,null,null,null,null,null,null,null,null,null,null,null,null,null,null,null,null,null,null,"ADJUSTABLE.V",null,null,null,null,null,null,{"$f":"AM316 & \".V\"","v":"TSFNA.V"},"Объём","ед.",{"$f":"SUMIF($AS$9:$AT$9,AP$9,$AS318:$AT318)","v":0},0,0]
[null,null,null,null,null,null,null,null,null,null,null,null,null,null,null,null,null,null,null,null,null,null,null,null,null,null,null,null,null,null,null,"ADJUSTABLE.C",null,null,null,null,null,null,"CARBONPWDRD","углерод порошкообразный","тыс.руб.",0,0,0]
[null,null,null,null,null,null,null,null,null,null,null,null,null,null,null,null,null,null,null,null,null,null,null,null,null,null,null,null,null,null,null,"ADJUSTABLE.P",null,null,null,null,null,null,{"$f":"AM319 & \".P\"","v":"CARBONPWDRD.P"},"Цена за единицу","руб./ед.",{"$f":"IF(AP321=0,0,AP319*1000/AP321)","v":0},{"$f":"IF(AQ321=0,0,AQ319*1000/AQ321)","v":0},{"$f":"IF(AR321=0,0,AR319*1000/AR321)","v":0}]
[null,null,null,null,null,null,null,null,null,null,null,null,null,null,null,null,null,null,null,null,null,null,null,null,null,null,null,null,null,null,null,"ADJUSTABLE.V",null,null,null,null,null,null,{"$f":"AM319 & \".V\"","v":"CARBONPWDRD.V"},"Объём","ед.",{"$f":"SUMIF($AS$9:$AT$9,AP$9,$AS321:$AT321)","v":0},{"$f":"SUMIF($AS$9:$AT$9,AQ$9,$AS321:$AT321)","v":0},{"$f":"SUMIF($AS$9:$AT$9,AR$9,$AS321:$AT321)","v":0}]
[null,null,null,null,null,null,null,null,null,null,null,null,null,null,null,null,null,null,null,null,null,null,null,null,null,null,null,null,null,null,null,"ADJUSTABLE.C",null,null,null,null,null,null,"CCL4","углерод четырёххлористый","тыс.руб.",0,0,0]
[null,null,null,null,null,null,null,null,null,null,null,null,null,null,null,null,null,null,null,null,null,null,null,null,null,null,null,null,null,null,null,"ADJUSTABLE.P",null,null,null,null,null,null,{"$f":"AM322 & \".P\"","v":"CCL4.P"},"Цена за единицу","руб./ед.",{"$f":"IF(AP324=0,0,AP322*1000/AP324)","v":0},{"$f":"IF(AQ324=0,0,AQ322*1000/AQ324)","v":0},{"$f":"IF(AR324=0,0,AR322*1000/AR324)","v":0}]
[null,null,null,null,null,null,null,null,null,null,null,null,null,null,null,null,null,null,null,null,null,null,null,null,null,null,null,null,null,null,null,"ADJUSTABLE.V",null,null,null,null,null,null,{"$f":"AM322 & \".V\"","v":"CCL4.V"},"Объём","ед.",{"$f":"SUMIF($AS$9:$AT$9,AP$9,$AS324:$AT324)","v":0},0,0]
[null,null,null,null,null,null,null,null,null,null,null,null,null,null,null,null,null,null,null,null,null,null,null,null,null,null,null,null,null,null,null,"ADJUSTABLE.C",null,null,null,null,null,null,"FFTLN","фенолфталеин","тыс.руб.",0,0,0]
[null,null,null,null,null,null,null,null,null,null,null,null,null,null,null,null,null,null,null,null,null,null,null,null,null,null,null,null,null,null,null,"ADJUSTABLE.P",null,null,null,null,null,null,{"$f":"AM325 & \".P\"","v":"FFTLN.P"},"Цена за единицу","руб./ед.",{"$f":"IF(AP327=0,0,AP325*1000/AP327)","v":0},{"$f":"IF(AQ327=0,0,AQ325*1000/AQ327)","v":0},{"$f":"IF(AR327=0,0,AR325*1000/AR327)","v":0}]
[null,null,null,null,null,null,null,null,null,null,null,null,null,null,null,null,null,null,null,null,null,null,null,null,null,null,null,null,null,null,null,"ADJUSTABLE.V",null,null,null,null,null,null,{"$f":"AM325 & \".V\"","v":"FFTLN.V"},"Объём","ед.",{"$f":"SUMIF($AS$9:$AT$9,AP$9,$AS327:$AT327)","v":0},0,0]
[null,null,null,null,null,null,null,null,null,null,null,null,null,null,null,null,null,null,null,null,null,null,null,null,null,null,null,null,null,null,null,"ADJUSTABLE.C",null,null,null,null,null,null,"CL","хлор","тыс.руб.",0,0,0]
[null,null,null,null,null,null,null,null,null,null,null,null,null,null,null,null,null,null,null,null,null,null,null,null,null,null,null,null,null,null,null,"ADJUSTABLE.P",null,null,null,null,null,null,{"$f":"AM328 & \".P\"","v":"CL.P"},"Цена за единицу","руб./ед.",{"$f":"IF(AP330=0,0,AP328*1000/AP330)","v":0},{"$f":"IF(AQ330=0,0,AQ328*1000/AQ330)","v":0},{"$f":"IF(AR330=0,0,AR328*1000/AR330)","v":0}]
[null,null,null,null,null,null,null,null,null,null,null,null,null,null,null,null,null,null,null,null,null,null,null,null,null,null,null,null,null,null,null,"ADJUSTABLE.V",null,null,null,null,null,null,{"$f":"AM328 & \".V\"","v":"CL.V"},"Объём","ед.",{"$f":"SUMIF($AS$9:$AT$9,AP$9,$AS330:$AT330)","v":0},0,0]
[null,null,null,null,null,null,null,null,null,null,null,null,null,null,null,null,null,null,null,null,null,null,null,null,null,null,null,null,null,null,null,"ADJUSTABLE.C",null,null,null,null,null,null,"CLLIQ","хлор жидкий","тыс.руб.",0,0,0]
[null,null,null,null,null,null,null,null,null,null,null,null,null,null,null,null,null,null,null,null,null,null,null,null,null,null,null,null,null,null,null,"ADJUSTABLE.P",null,null,null,null,null,null,{"$f":"AM331 & \".P\"","v":"CLLIQ.P"},"Цена за единицу","руб./ед.",{"$f":"IF(AP333=0,0,AP331*1000/AP333)","v":0},{"$f":"IF(AQ333=0,0,AQ331*1000/AQ333)","v":0},{"$f":"IF(AR333=0,0,AR331*1000/AR333)","v":0}]
[null,null,null,null,null,null,null,null,null,null,null,null,null,null,null,null,null,null,null,null,null,null,null,null,null,null,null,null,null,null,null,"ADJUSTABLE.V",null,null,null,null,null,null,{"$f":"AM331 & \".V\"","v":"CLLIQ.V"},"Объём","ед.",{"$f":"SUMIF($AS$9:$AT$9,AP$9,$AS333:$AT333)","v":0},0,0]
[null,null,null,null,null,null,null,null,null,null,null,null,null,null,null,null,null,null,null,null,null,null,null,null,null,null,null,null,null,null,null,"ADJUSTABLE.C",null,null,null,null,null,null,"CLAMN","хлорамин","тыс.руб.",0,0,0]
[null,null,null,null,null,null,null,null,null,null,null,null,null,null,null,null,null,null,null,null,null,null,null,null,null,null,null,null,null,null,null,"ADJUSTABLE.P",null,null,null,null,null,null,{"$f":"AM334 & \".P\"","v":"CLAMN.P"},"Цена за единицу","руб./ед.",{"$f":"IF(AP336=0,0,AP334*1000/AP336)","v":0},{"$f":"IF(AQ336=0,0,AQ334*1000/AQ336)","v":0},{"$f":"IF(AR336=0,0,AR334*1000/AR336)","v":0}]
[null,null,null,null,null,null,null,null,null,null,null,null,null,null,null,null,null,null,null,null,null,null,null,null,null,null,null,null,null,null,null,"ADJUSTABLE.V",null,null,null,null,null,null,{"$f":"AM334 & \".V\"","v":"CLAMN.V"},"Объём","ед.",{"$f":"SUMIF($AS$9:$AT$9,AP$9,$AS336:$AT336)","v":0},0,0]
[null,null,null,null,null,null,null,null,null,null,null,null,null,null,null,null,null,null,null,null,null,null,null,null,null,null,null,null,null,null,null,"ADJUSTABLE.C",null,null,null,null,null,null,"CLFRM","хлороформ","тыс.руб.",0,0,0]
[null,null,null,null,null,null,null,null,null,null,null,null,null,null,null,null,null,null,null,null,null,null,null,null,null,null,null,null,null,null,null,"ADJUSTABLE.P",null,null,null,null,null,null,{"$f":"AM337 & \".P\"","v":"CLFRM.P"},"Цена за единицу","руб./ед.",{"$f":"IF(AP339=0,0,AP337*1000/AP339)","v":0},{"$f":"IF(AQ339=0,0,AQ337*1000/AQ339)","v":0},{"$f":"IF(AR339=0,0,AR337*1000/AR339)","v":0}]
[null,null,null,null,null,null,null,null,null,null,null,null,null,null,null,null,null,null,null,null,null,null,null,null,null,null,null,null,null,null,null,"ADJUSTABLE.V",null,null,null,null,null,null,{"$f":"AM337 & \".V\"","v":"CLFRM.V"},"Объём","ед.",{"$f":"SUMIF($AS$9:$AT$9,AP$9,$AS339:$AT339)","v":0},0,0]
[null,null,null,null,null,null,null,null,null,null,null,null,null,null,null,null,null,null,null,null,null,null,null,null,null,null,null,null,null,null,null,"ADJUSTABLE.C",null,null,null,null,null,null,"ETHL","этиленгликоль","тыс.руб.",0,0,0]
[null,null,null,null,null,null,null,null,null,null,null,null,null,null,null,null,null,null,null,null,null,null,null,null,null,null,null,null,null,null,null,"ADJUSTABLE.P",null,null,null,null,null,null,{"$f":"AM340 & \".P\"","v":"ETHL.P"},"Цена за единицу","руб./ед.",{"$f":"IF(AP342=0,0,AP340*1000/AP342)","v":0},{"$f":"IF(AQ342=0,0,AQ340*1000/AQ342)","v":0},{"$f":"IF(AR342=0,0,AR340*1000/AR342)","v":0}]
[null,null,null,null,null,null,null,null,null,null,null,null,null,null,null,null,null,null,null,null,null,null,null,null,null,null,null,null,null,null,null,"ADJUSTABLE.V",null,null,null,null,null,null,{"$f":"AM340 & \".V\"","v":"ETHL.V"},"Объём","ед.",{"$f":"SUMIF($AS$9:$AT$9,AP$9,$AS342:$AT342)","v":0},0,0]
[null,null,null,null,null,null,null,null,null,null,null,null,null,null,null,null,null,null,null,null,null,null,null,null,null,null,null,null,null,null,null,"ADJUSTABLE.OTH",null,null,null,null,null,null,"OTH","прочие","тыс.руб.",0,0,0]
[]
[]
[null,null,null,null,null,null,null,null,null,null,null,null,null,null,null,null,null,null,null,null,null,null,null,null,null,null,null,null,null,null,null,"ADJUSTABLE.OTH",null,null,null,null,null,null,"OTH","Прочие","тыс.руб.",{"$f":"SUMIF($AS$9:$AT$9,AP$9,$AS346:$AT346)","v":0},{"$f":"SUMIF($AS$9:$AT$9,AQ$9,$AS346:$AT346)","v":0},{"$f":"SUMIF($AS$9:$AT$9,AR$9,$AS346:$AT346)","v":0}]
[]
[null,null,null,null,null,null,null,null,null,null,null,null,null,null,null,null,null,null,null,null,null,null,null,null,null,null,null,null,null,null,null,null,null,null,null,null,null,null,"21","Полезный отпуск продукции всего","тыс.куб.м"]

{"sheet":"ВО.БПр","index":20,"n_rows":132,"n_cols":53,"rows_kept":132,"cut":false,"hidden":true,"merged":[[0,1,27,1],[15,2,27,2],[28,1,55,1],[2,2,14,2],[43,2,55,2],[30,2,42,2],[127,6,128,6],[121,30,122,30],[125,6,126,6],[121,28,122,28],[120,11,122,11],[120,27,122,27],[120,22,120,24],[120,25,122,25],[120,26,122,26],[121,23,122,23],[121,24,122,24],[121,13,121,15],[121,16,121,18],[121,19,121,21],[120,12,120,21],[0,6,1,6],[28,5,29,5],[28,6,29,6],[120,10,122,10],[120,8,122,8],[120,7,122,7],[120,6,122,6],[120,9,122,9],[0,5,1,5],[120,5,122,5],[120,31,122,31],[121,12,122,12],[121,29,122,29],[120,28,120,30],[121,22,122,22]]}
[null,null,{"$f":"F3","v":"0.0"},"-",null,{"$f":"B1","v":0},null,null,null,null,null,null,null,null,null,null,null,null,null,null,null,null,null,null,null,null,null,null,null,null,null,null,null,null,null,null,null,null,null,null,null,null,null,null,null,null,null,null,null,null,null,null,"TOTAL_ORG"]
[]
[null,null,null,null,null,{"$f":"F1 & \".0\"","v":"0.0"},"год",null,null,null,null,null,null,null,null,null,null,null,null,null,null,null,null,null,null,null,null,null,null,null,null,null,null,null,null,null,null,null,null,null,null,null,null,null,null,null,null,null,null,null,null,null,"TOTAL_ORG_YEAR"]
[null,null,null,null,null,{"$f":"F1 & \".1\"","v":"0.1"},"январь",null,null,null,null,null,null,null,null,null,null,null,null,null,null,null,null,null,null,null,null,null,null,null,null,null,null,null,null,null,null,null,null,null,null,null,null,null,null,null,null,null,null,null,null,null,{"$f":"C1 & \"-I\"","v":"0.0-I"}]
[null,null,null,null,null,{"$f":"F1 & \".2\"","v":"0.2"},"февраль",null,null,null,null,null,null,null,null,null,null,null,null,null,null,null,null,null,null,null,null,null,null,null,null,null,null,null,null,null,null,null,null,null,null,null,null,null,null,null,null,null,null,null,null,null,{"$f":"C1 & \"-I\"","v":"0.0-I"}]
[null,null,null,null,null,{"$f":"F1 & \".3\"","v":"0.3"},"март",null,null,null,null,null,null,null,null,null,null,null,null,null,null,null,null,null,null,null,null,null,null,null,null,null,null,null,null,null,null,null,null,null,null,null,null,null,null,null,null,null,null,null,null,null,{"$f":"C1 & \"-I\"","v":"0.0-I"}]
[null,null,null,null,null,{"$f":"F1 & \".4\"","v":"0.4"},"апрель",null,null,null,null,null,null,null,null,null,null,null,null,null,null,null,null,null,null,null,null,null,null,null,null,null,null,null,null,null,null,null,null,null,null,null,null,null,null,null,null,null,null,null,null,null,{"$f":"C1 & \"-I\"","v":"0.0-I"}]
[null,null,null,null,null,{"$f":"F1 & \".5\"","v":"0.5"},"май",null,null,null,null,null,null,null,null,null,null,null,null,null,null,null,null,null,null,null,null,null,null,null,null,null,null,null,null,null,null,null,null,null,null,null,null,null,null,null,null,null,null,null,null,null,{"$f":"C1 & \"-I\"","v":"0.0-I"}]
[null,null,null,null,null,{"$f":"F1 & \".6\"","v":"0.6"},"июнь",null,null,null,null,null,null,null,null,null,null,null,null,null,null,null,null,null,null,null,null,null,null,null,null,null,null,null,null,null,null,null,null,null,null,null,null,null,null,null,null,null,null,null,null,null,{"$f":"C1 & \"-I\"","v":"0.0-I"}]
[null,null,null,null,null,{"$f":"F1 & \".7\"","v":"0.7"},"июль",null,null,null,null,null,null,null,null,null,null,null,null,null,null,null,null,null,null,null,null,null,null,null,null,null,null,null,null,null,null,null,null,null,null,null,null,null,null,null,null,null,null,null,null,null,{"$f":"C1 & \"-II\"","v":"0.0-II"}]
[null,null,null,null,null,{"$f":"F1 & \".8\"","v":"0.8"},"август",null,null,null,null,null,null,null,null,null,null,null,null,null,null,null,null,null,null,null,null,null,null,null,null,null,null,null,null,null,null,null,null,null,null,null,null,null,null,null,null,null,null,null,null,null,{"$f":"C1 & \"-II\"","v":"0.0-II"}]
[null,null,null,null,null,{"$f":"F1 & \".9\"","v":"0.9"},"сентябрь",null,null,null,null,null,null,null,null,null,null,null,null,null,null,null,null,null,null,null,null,null,null,null,null,null,null,null,null,null,null,null,null,null,null,null,null,null,null,null,null,null,null,null,null,null,{"$f":"C1 & \"-II\"","v":"0.0-II"}]
[null,null,null,null,null,{"$f":"F1 & \".10\"","v":"0.10"},"октябрь",null,null,null,null,null,null,null,null,null,null,null,null,null,null,null,null,null,null,null,null,null,null,null,null,null,null,null,null,null,null,null,null,null,null,null,null,null,null,null,null,null,null,null,null,null,{"$f":"C1 & \"-II\"","v":"0.0-II"}]
[null,null,null,null,null,{"$f":"F1 & \".11\"","v":"0.11"},"ноябрь",null,null,null,null,null,null,null,null,null,null,null,null,null,null,null,null,null,null,null,null,null,null,null,null,null,null,null,null,null,null,null,null,null,null,null,null,null,null,null,null,null,null,null,null,null,{"$f":"C1 & \"-II\"","v":"0.0-II"}]
[null,null,null,null,null,{"$f":"F1 & \".12\"","v":"0.12"},"декабрь",null,null,null,null,null,null,null,null,null,null,null,null,null,null,null,null,null,null,null,null,null,null,null,null,null,null,null,null,null,null,null,null,null,null,null,null,null,null,null,null,null,null,null,null,null,{"$f":"C1 & \"-II\"","v":"0.0-II"}]
[]
[]
[]
[]
[]
[]
[]
[]
[]
[]
[]
[]
[]
["TBD",null,{"$f":"F31","v":"0.0"},"-",null,{"$f":"B29","v":0},null,{"$f":"H31","v":0},{"$f":"I31","v":0},{"$f":"A29","v":"TBD"},{"$f":"K31","v":0},{"$f":"L31","v":0},{"$f":"M31","v":0},{"$f":"N31","v":0},{"$f":"O31","v":0},0,0,0,0,0,0,0,{"$f":"W31","v":0},{"$f":"X31","v":0},0,0,0,0,0,0,0,0,null,null,null,null,null,null,null,null,null,null,null,null,null,null,null,null,null,null,null,null,"TOTAL_ORG"]
[]
[null,null,null,null,null,{"$f":"F29 & \".0\"","v":"0.0"},"год",{"$f":"SUMIF('Список объектов'!$R$15:$R$55,$F31,'Список объектов'!$S$15:$S$55)","v":0},{"$f":"SUMIF('Список объектов'!$R$15:$R$55,$F31,'Список объектов'!$T$15:$T$55)","v":0},{"$f":"J29","v":"TBD"},{"$f":"L31+M31","v":0},{"$f":"SUM(L32:L43)","v":0},{"$f":"SUM(M32:M43)","v":0},{"$f":"SUM(N32:N43)","v":0},{"$f":"SUM(O32:O43)","v":0},0,0,0,0,0,0,0,{"$f":"SUM(W32:W43)","v":0},{"$f":"SUM(X32:X43)","v":0},{"$f":"SUM(Y32:Y43)","v":0},null,null,null,{"$f":"AD31+AE31","v":0},null,null,null,null,null,null,null,null,null,null,null,null,null,null,null,null,null,null,{"$f":"IF(K31=0,0,L31/K31*100)","v":0},null,null,null,null,"TOTAL_ORG_YEAR"]
[null,null,null,null,null,{"$f":"F29 & \".1\"","v":"0.1"},"январь",null,null,{"$f":"IF(OFFSET('Список территорий'!CJ$15,$F29,0)=\"a\",\"Y\",\"N\")","v":"N"},{"$f":"L32+M32","v":0},null,{"$f":"SUM(N32,Q32,T32,W32)","v":0},{"$f":"SUM(O32,P32,)","v":0},null,null,{"$f":"SUM(R32,S32,)","v":0},null,null,{"$f":"SUM(U32,V32,)","v":0},null,null,{"$f":"SUM(X32,Y32,)","v":0},null,null,null,null,null,null,null,null,null,null,null,null,null,null,null,null,null,null,null,null,null,null,null,null,null,null,null,null,null,{"$f":"C29 & \"-I\"","v":"0.0-I"}]
[null,null,null,null,null,{"$f":"F29 & \".2\"","v":"0.2"},"февраль",null,null,{"$f":"IF(OFFSET('Список территорий'!CK$15,$F29,0)=\"a\",\"Y\",\"N\")","v":"N"},0,null,{"$f":"SUM(N33,Q33,T33,W33)","v":0},{"$f":"SUM(O33,P33,)","v":0},null,null,{"$f":"SUM(R33,S33,)","v":0},null,null,{"$f":"SUM(U33,V33,)","v":0},null,null,{"$f":"SUM(X33,Y33,)","v":0},null,null,null,null,null,null,null,null,null,null,null,null,null,null,null,null,null,null,null,null,null,null,null,null,null,null,null,null,null,{"$f":"C29 & \"-I\"","v":"0.0-I"}]
[null,null,null,null,null,{"$f":"F29 & \".3\"","v":"0.3"},"март",null,null,{"$f":"IF(OFFSET('Список территорий'!CL$15,$F29,0)=\"a\",\"Y\",\"N\")","v":"N"},0,null,0,0,null,null,0,null,null,0,null,null,0,null,null,null,null,null,null,null,null,null,null,null,null,null,null,null,null,null,null,null,null,null,null,null,null,null,null,null,null,null,{"$f":"C29 & \"-I\"","v":"0.0-I"}]
[null,null,null,null,null,{"$f":"F29 & \".4\"","v":"0.4"},"апрель",null,null,{"$f":"IF(OFFSET('Список территорий'!CM$15,$F29,0)=\"a\",\"Y\",\"N\")","v":"N"},0,null,0,0,null,null,0,null,null,0,null,null,0,null,null,null,null,null,null,null,null,null,null,null,null,null,null,null,null,null,null,null,null,null,null,null,null,null,null,null,null,null,{"$f":"C29 & \"-I\"","v":"0.0-I"}]
[null,null,null,null,null,{"$f":"F29 & \".5\"","v":"0.5"},"май",null,null,{"$f":"IF(OFFSET('Список территорий'!CN$15,$F29,0)=\"a\",\"Y\",\"N\")","v":"N"},0,null,0,0,null,null,0,null,null,0,null,null,0,null,null,null,null,null,null,null,null,null,null,null,null,null,null,null,null,null,null,null,null,null,null,null,null,null,null,null,null,null,{"$f":"C29 & \"-I\"","v":"0.0-I"}]
[null,null,null,null,null,{"$f":"F29 & \".6\"","v":"0.6"},"июнь",null,null,{"$f":"IF(OFFSET('Список территорий'!CO$15,$F29,0)=\"a\",\"Y\",\"N\")","v":"N"},0,null,0,0,null,null,0,null,null,0,null,null,0,null,null,null,null,null,null,null,null,null,null,null,null,null,null,null,null,null,null,null,null,null,null,null,null,null,null,null,null,null,{"$f":"C29 & \"-I\"","v":"0.0-I"}]
[null,null,null,null,null,{"$f":"F29 & \".7\"","v":"0.7"},"июль",null,null,{"$f":"IF(OFFSET('Список территорий'!CP$15,$F29,0)=\"a\",\"Y\",\"N\")","v":"N"},0,null,0,0,null,null,0,null,null,0,null,null,0,null,null,null,null,null,null,null,null,null,null,null,null,null,null,null,null,null,null,null,null,null,null,null,null,null,null,null,null,null,{"$f":"C29 & \"-II\"","v":"0.0-II"}]
[null,null,null,null,null,{"$f":"F29 & \".8\"","v":"0.8"},"август",null,null,{"$f":"IF(OFFSET('Список территорий'!CQ$15,$F29,0)=\"a\",\"Y\",\"N\")","v":"N"},0,null,0,0,null,null,0,null,null,0,null,null,0,null,null,null,null,null,null,null,null,null,null,null,null,null,null,null,null,null,null,null,null,null,null,null,null,null,null,null,null,null,{"$f":"C29 & \"-II\"","v":"0.0-II"}]
[null,null,null,null,null,{"$f":"F29 & \".9\"","v":"0.9"},"сентябрь",null,null,{"$f":"IF(OFFSET('Список территорий'!CR$15,$F29,0)=\"a\",\"Y\",\"N\")","v":"N"},0,null,0,0,null,null,0,null,null,0,null,null,0,null,null,null,null,null,null,null,null,null,null,null,null,null,null,null,null,null,null,null,null,null,null,null,null,null,null,null,null,null,{"$f":"C29 & \"-II\"","v":"0.0-II"}]
[null,null,null,null,null,{"$f":"F29 & \".10\"","v":"0.10"},"октябрь",null,null,{"$f":"IF(OFFSET('Список территорий'!CS$15,$F29,0)=\"a\",\"Y\",\"N\")","v":"N"},0,null,0,0,null,null,0,null,null,0,null,null,0,null,null,null,null,null,null,null,null,null,null,null,null,null,null,null,null,null,null,null,null,null,null,null,null,null,null,null,null,null,{"$f":"C29 & \"-II\"","v":"0.0-II"}]
[null,null,null,null,null,{"$f":"F29 & \".11\"","v":"0.11"},"ноябрь",null,null,{"$f":"IF(OFFSET('Список территорий'!CT$15,$F29,0)=\"a\",\"Y\",\"N\")","v":"N"},0,null,0,0,null,null,0,null,null,0,null,null,0,null,null,null,null,null,null,null,null,null,null,null,null,null,null,null,null,null,null,null,null,null,null,null,null,null,null,null,null,null,{"$f":"C29 & \"-II\"","v":"0.0-II"}]
[null,null,null,null,null,{"$f":"F29 & \".12\"","v":"0.12"},"декабрь",null,null,{"$f":"IF(OFFSET('Список территорий'!CU$15,$F29,0)=\"a\",\"Y\",\"N\")","v":"N"},0,null,0,0,null,null,0,null,null,0,null,null,0,null,null,null,null,null,null,null,null,null,null,null,null,null,null,null,null,null,null,null,null,null,null,null,null,null,null,null,null,null,{"$f":"C29 & \"-II\"","v":"0.0-II"}]
[]
[]
[]
[]
[]
[]
[]
[]
[]
[]
[]
[]
[]
[]
[]
[]
[]
[]
[]
[]
[]
[]
[]
[]
[]
[]
[]
[]
[]
[]
[]
[]
[]
[]
[]
[]
[]
[]
[]
[]
[]
[]
[]
[]
[]
[]
[]
[]
[]
[]
[]
[]
[]
[]
[]
[]
[]
[]
[]
[]
[]
[]
[]
[]
[]
[]
[]
[]
[]
[]
[]
[]
[]
[]
[]
[null,null,null,null,null,{"$f":"\"Баланс \" & TEMPLATE_SPHERE & \" (производство)\"","v":"Баланс теплоснабжения (производство)"}]
[null,null,null,null,null,"куб.м"]
[null,null,null,null,null,"№ п/п","Субъект баланса","Установленная мощность, куб.м/час","Подключённая (фактическая) нагрузка, куб.м/час","Вид стоков","Принято сточных вод, всего","Хозяйственные нужды предприятия","Принято по категориям потребителей",null,null,null,null,null,null,null,null,null,"Принято сточных вод от других канализационных сетей",null,null,"Неучтённый приток сточных вод (справочно)","Объём сточных вод, прошедших очистку (справочно)","Пропущено через cобственные очистные сооружения","Передано сточных вод другим канализациям",null,null,"Сброшенные воды без очистки"]
[null,null,null,null,null,null,null,null,null,null,null,null,"Всего","Финансируемые из бюджетов всех уровней",null,null,"Население",null,null,"Прочие",null,null,"Всего","по приборам учёта","по нормативам",null,null,null,"Всего","На очистные сооружения","В канализационную сеть"]
[null,null,null,null,null,null,null,null,null,null,null,null,null,"Всего","по приборам учёта","по нормативам","Всего","по приборам учёта","по нормативам","Всего","по приборам учёта","по нормативам"]
[null,null,null,null,null,null,"А","IC","CL","Б","1","1.1","1.2","1.2.1","1.2.1.1","1.2.1.2","1.2.2","1.2.2.1","1.2.2.2","1.2.3","1.2.3.1","1.2.3.2","1.2.4","1.2.4.1","1.2.4.2","1.3","1.4","2","3","3.1","3.2","4"]
[]
[null,null,null,"-",null,{"$f":"IF(TEMPLATE_SPHERE_CODE=\"COLDVSNA\",\"0.1.P\",\"0.1\")","v":"0.1"},"Всего по организации",null,null,null,{"$f":"SUMIF($BA131:$BA132,$BA126,K131:K132)","v":0},0,0,0,0,0,0,0,0,0,0,0,0,0,0,0,0,0,0,0,0,0,null,null,null,null,null,null,null,null,null,null,null,null,null,null,null,null,null,null,null,null,"TOTAL_ORG_YEAR"]
[null,null,null,null,null,{"$f":"IF(TEMPLATE_SPHERE_CODE=\"COLDVSNA\",\"0.1.T\",\"\")","v":""}]
[]
[]
[]
[null,0]
[null,null,null,null,null,null,"Добавить"]

{"sheet":"ВО.БТр","index":21,"n_rows":132,"n_cols":53,"rows_kept":132,"cut":false,"hidden":true,"merged":[[0,1,27,1],[0,5,1,5],[0,6,1,6],[2,2,14,2],[15,2,27,2],[28,1,55,1],[28,5,29,5],[30,2,42,2],[120,14,120,27],[127,6,128,6],[125,6,126,6],[28,6,29,6],[43,2,55,2],[120,11,122,11],[120,12,122,12],[121,16,121,18],[120,5,122,5],[120,6,122,6],[121,25,121,27],[120,13,122,13],[121,14,122,14],[121,19,121,21],[121,22,121,24],[121,15,122,15],[120,7,122,7],[120,8,122,8],[120,9,122,9],[120,10,122,10]]}
[null,null,{"$f":"F3","v":"0.0"},"-",null,{"$f":"B1","v":0},null,null,null,null,null,null,null,null,null,null,null,null,null,null,null,null,null,null,null,null,null,null,null,null,null,null,null,null,null,null,null,null,null,null,null,null,null,null,null,null,null,null,null,null,null,null,"TOTAL_ORG"]
[]
[null,null,null,null,null,{"$f":"F1 & \".0\"","v":"0.0"},"год",null,null,null,null,null,null,null,null,null,null,null,null,null,null,null,null,null,null,null,null,null,null,null,null,null,null,null,null,null,null,null,null,null,null,null,null,null,null,null,null,null,null,null,null,null,"TOTAL_ORG_YEAR"]
[null,null,null,null,null,{"$f":"F1 & \".1\"","v":"0.1"},"январь",null,null,null,null,null,null,null,null,null,null,null,null,null,null,null,null,null,null,null,null,null,null,null,null,null,null,null,null,null,null,null,null,null,null,null,null,null,null,null,null,null,null,null,null,null,{"$f":"C1 & \"-I\"","v":"0.0-I"}]
[null,null,null,null,null,{"$f":"F1 & \".2\"","v":"0.2"},"февраль",null,null,null,null,null,null,null,null,null,null,null,null,null,null,null,null,null,null,null,null,null,null,null,null,null,null,null,null,null,null,null,null,null,null,null,null,null,null,null,null,null,null,null,null,null,{"$f":"C1 & \"-I\"","v":"0.0-I"}]
[null,null,null,null,null,{"$f":"F1 & \".3\"","v":"0.3"},"март",null,null,null,null,null,null,null,null,null,null,null,null,null,null,null,null,null,null,null,null,null,null,null,null,null,null,null,null,null,null,null,null,null,null,null,null,null,null,null,null,null,null,null,null,null,{"$f":"C1 & \"-I\"","v":"0.0-I"}]
[null,null,null,null,null,{"$f":"F1 & \".4\"","v":"0.4"},"апрель",null,null,null,null,null,null,null,null,null,null,null,null,null,null,null,null,null,null,null,null,null,null,null,null,null,null,null,null,null,null,null,null,null,null,null,null,null,null,null,null,null,null,null,null,null,{"$f":"C1 & \"-I\"","v":"0.0-I"}]
[null,null,null,null,null,{"$f":"F1 & \".5\"","v":"0.5"},"май",null,null,null,null,null,null,null,null,null,null,null,null,null,null,null,null,null,null,null,null,null,null,null,null,null,null,null,null,null,null,null,null,null,null,null,null,null,null,null,null,null,null,null,null,null,{"$f":"C1 & \"-I\"","v":"0.0-I"}]
[null,null,null,null,null,{"$f":"F1 & \".6\"","v":"0.6"},"июнь",null,null,null,null,null,null,null,null,null,null,null,null,null,null,null,null,null,null,null,null,null,null,null,null,null,null,null,null,null,null,null,null,null,null,null,null,null,null,null,null,null,null,null,null,null,{"$f":"C1 & \"-I\"","v":"0.0-I"}]
[null,null,null,null,null,{"$f":"F1 & \".7\"","v":"0.7"},"июль",null,null,null,null,null,null,null,null,null,null,null,null,null,null,null,null,null,null,null,null,null,null,null,null,null,null,null,null,null,null,null,null,null,null,null,null,null,null,null,null,null,null,null,null,null,{"$f":"C1 & \"-II\"","v":"0.0-II"}]
[null,null,null,null,null,{"$f":"F1 & \".8\"","v":"0.8"},"август",null,null,null,null,null,null,null,null,null,null,null,null,null,null,null,null,null,null,null,null,null,null,null,null,null,null,null,null,null,null,null,null,null,null,null,null,null,null,null,null,null,null,null,null,null,{"$f":"C1 & \"-II\"","v":"0.0-II"}]
[null,null,null,null,null,{"$f":"F1 & \".9\"","v":"0.9"},"сентябрь",null,null,null,null,null,null,null,null,null,null,null,null,null,null,null,null,null,null,null,null,null,null,null,null,null,null,null,null,null,null,null,null,null,null,null,null,null,null,null,null,null,null,null,null,null,{"$f":"C1 & \"-II\"","v":"0.0-II"}]
[null,null,null,null,null,{"$f":"F1 & \".10\"","v":"0.10"},"октябрь",null,null,null,null,null,null,null,null,null,null,null,null,null,null,null,null,null,null,null,null,null,null,null,null,null,null,null,null,null,null,null,null,null,null,null,null,null,null,null,null,null,null,null,null,null,{"$f":"C1 & \"-II\"","v":"0.0-II"}]
[null,null,null,null,null,{"$f":"F1 & \".11\"","v":"0.11"},"ноябрь",null,null,null,null,null,null,null,null,null,null,null,null,null,null,null,null,null,null,null,null,null,null,null,null,null,null,null,null,null,null,null,null,null,null,null,null,null,null,null,null,null,null,null,null,null,{"$f":"C1 & \"-II\"","v":"0.0-II"}]
[null,null,null,null,null,{"$f":"F1 & \".12\"","v":"0.12"},"декабрь",null,null,null,null,null,null,null,null,null,null,null,null,null,null,null,null,null,null,null,null,null,null,null,null,null,null,null,null,null,null,null,null,null,null,null,null,null,null,null,null,null,null,null,null,null,{"$f":"C1 & \"-II\"","v":"0.0-II"}]
[]
[]
[]
[]
[]
[]
[]
[]
[]
[]
[]
[]
[]
["TBD",null,{"$f":"F31","v":"0.0"},"-",null,{"$f":"B29","v":0},null,{"$f":"H31","v":0},{"$f":"I31","v":0},{"$f":"A29","v":"TBD"},{"$f":"K31","v":0},0,0,0,0,0,0,0,0,0,{"$f":"U31","v":0},0,0,0,0,0,0,{"$f":"AB31","v":0},null,null,null,null,null,null,null,null,null,null,null,null,null,null,null,null,null,null,null,null,null,null,null,null,"TOTAL_ORG"]
[]
[null,null,null,null,null,{"$f":"F29 & \".0\"","v":"0.0"},"год",{"$f":"SUMIF('Список объектов'!$R$15:$R$55,$F31,'Список объектов'!$W$15:$W$55)","v":0},{"$f":"SUMIF('Список объектов'!$R$15:$R$55,$F31,'Список объектов'!$X$15:$X$55)","v":0},{"$f":"J29","v":"TBD"},{"$f":"N31+O31","v":0},null,null,null,{"$f":"SUM(O32:O43)","v":0},0,0,0,0,0,{"$f":"SUM(U32:U43)","v":0},0,{"$f":"SUM(W32:W43)","v":0},0,0,{"$f":"SUM(Z32:Z43)","v":0},0,{"$f":"SUM(AB32:AB43)","v":0},null,null,null,null,null,null,null,null,null,null,null,null,null,null,null,null,null,null,null,null,null,null,null,null,"TOTAL_ORG_YEAR"]
[null,null,null,null,null,{"$f":"F29 & \".1\"","v":"0.1"},"январь",null,null,{"$f":"IF(OFFSET('Список территорий'!CJ$15,$F29,0)=\"a\",\"Y\",\"N\")","v":"N"},null,null,null,null,{"$f":"SUM(P32,Q32,T32,W32,Z32)","v":0},null,{"$f":"SUM(R32,S32)","v":0},null,null,{"$f":"SUM(U32,V32)","v":0},null,null,{"$f":"SUM(X32,Y32)","v":0},null,null,{"$f":"SUM(AA32,AB32)","v":0},null,null,null,null,null,null,null,null,null,null,null,null,null,null,null,null,null,null,null,null,null,null,null,null,null,null,{"$f":"C29 & \"-I\"","v":"0.0-I"}]
[null,null,null,null,null,{"$f":"F29 & \".2\"","v":"0.2"},"февраль",null,null,{"$f":"IF(OFFSET('Список территорий'!CK$15,$F29,0)=\"a\",\"Y\",\"N\")","v":"N"},null,null,null,null,{"$f":"SUM(P33,Q33,T33,W33,Z33)","v":0},null,{"$f":"SUM(R33,S33)","v":0},null,null,{"$f":"SUM(U33,V33)","v":0},null,null,{"$f":"SUM(X33,Y33)","v":0},null,null,{"$f":"SUM(AA33,AB33)","v":0},null,null,null,null,null,null,null,null,null,null,null,null,null,null,null,null,null,null,null,null,null,null,null,null,null,null,{"$f":"C29 & \"-I\"","v":"0.0-I"}]
[null,null,null,null,null,{"$f":"F29 & \".3\"","v":"0.3"},"март",null,null,{"$f":"IF(OFFSET('Список территорий'!CL$15,$F29,0)=\"a\",\"Y\",\"N\")","v":"N"},null,null,null,null,0,null,0,null,null,0,null,null,0,null,null,0,null,null,null,null,null,null,null,null,null,null,null,null,null,null,null,null,null,null,null,null,null,null,null,null,null,null,{"$f":"C29 & \"-I\"","v":"0.0-I"}]
[null,null,null,null,null,{"$f":"F29 & \".4\"","v":"0.4"},"апрель",null,null,{"$f":"IF(OFFSET('Список территорий'!CM$15,$F29,0)=\"a\",\"Y\",\"N\")","v":"N"},null,null,null,null,0,null,0,null,null,0,null,null,0,null,null,0,null,null,null,null,null,null,null,null,null,null,null,null,null,null,null,null,null,null,null,null,null,null,null,null,null,null,{"$f":"C29 & \"-I\"","v":"0.0-I"}]
[null,null,null,null,null,{"$f":"F29 & \".5\"","v":"0.5"},"май",null,null,{"$f":"IF(OFFSET('Список территорий'!CN$15,$F29,0)=\"a\",\"Y\",\"N\")","v":"N"},null,null,null,null,0,null,0,null,null,0,null,null,0,null,null,0,null,null,null,null,null,null,null,null,null,null,null,null,null,null,null,null,null,null,null,null,null,null,null,null,null,null,{"$f":"C29 & \"-I\"","v":"0.0-I"}]
[null,null,null,null,null,{"$f":"F29 & \".6\"","v":"0.6"},"июнь",null,null,{"$f":"IF(OFFSET('Список территорий'!CO$15,$F29,0)=\"a\",\"Y\",\"N\")","v":"N"},null,null,null,null,0,null,0,null,null,0,null,null,0,null,null,0,null,null,null,null,null,null,null,null,null,null,null,null,null,null,null,null,null,null,null,null,null,null,null,null,null,null,{"$f":"C29 & \"-I\"","v":"0.0-I"}]
[null,null,null,null,null,{"$f":"F29 & \".7\"","v":"0.7"},"июль",null,null,{"$f":"IF(OFFSET('Список территорий'!CP$15,$F29,0)=\"a\",\"Y\",\"N\")","v":"N"},null,null,null,null,0,null,0,null,null,0,null,null,0,null,null,0,null,null,null,null,null,null,null,null,null,null,null,null,null,null,null,null,null,null,null,null,null,null,null,null,null,null,{"$f":"C29 & \"-II\"","v":"0.0-II"}]
[null,null,null,null,null,{"$f":"F29 & \".8\"","v":"0.8"},"август",null,null,{"$f":"IF(OFFSET('Список территорий'!CQ$15,$F29,0)=\"a\",\"Y\",\"N\")","v":"N"},null,null,null,null,0,null,0,null,null,0,null,null,0,null,null,0,null,null,null,null,null,null,null,null,null,null,null,null,null,null,null,null,null,null,null,null,null,null,null,null,null,null,{"$f":"C29 & \"-II\"","v":"0.0-II"}]
[null,null,null,null,null,{"$f":"F29 & \".9\"","v":"0.9"},"сентябрь",null,null,{"$f":"IF(OFFSET('Список территорий'!CR$15,$F29,0)=\"a\",\"Y\",\"N\")","v":"N"},null,null,null,null,0,null,0,null,null,0,null,null,0,null,null,0,null,null,null,null,null,null,null,null,null,null,null,null,null,null,null,null,null,null,null,null,null,null,null,null,null,null,{"$f":"C29 & \"-II\"","v":"0.0-II"}]
[null,null,null,null,null,{"$f":"F29 & \".10\"","v":"0.10"},"октябрь",null,null,{"$f":"IF(OFFSET('Список территорий'!CS$15,$F29,0)=\"a\",\"Y\",\"N\")","v":"N"},null,null,null,null,0,null,0,null,null,0,null,null,0,null,null,0,null,null,null,null,null,null,null,null,null,null,null,null,null,null,null,null,null,null,null,null,null,null,null,null,null,null,{"$f":"C29 & \"-II\"","v":"0.0-II"}]
[null,null,null,null,null,{"$f":"F29 & \".11\"","v":"0.11"},"ноябрь",null,null,{"$f":"IF(OFFSET('Список территорий'!CT$15,$F29,0)=\"a\",\"Y\",\"N\")","v":"N"},null,null,null,null,0,null,0,null,null,0,null,null,0,null,null,0,null,null,null,null,null,null,null,null,null,null,null,null,null,null,null,null,null,null,null,null,null,null,null,null,null,null,{"$f":"C29 & \"-II\"","v":"0.0-II"}]
[null,null,null,null,null,{"$f":"F29 & \".12\"","v":"0.12"},"декабрь",null,null,{"$f":"IF(OFFSET('Список территорий'!CU$15,$F29,0)=\"a\",\"Y\",\"N\")","v":"N"},null,null,null,null,0,null,0,null,null,0,null,null,0,null,null,0,null,null,null,null,null,null,null,null,null,null,null,null,null,null,null,null,null,null,null,null,null,null,null,null,null,null,{"$f":"C29 & \"-II\"","v":"0.0-II"}]
[]
[]
[]
[]
[]
[]
[]
[]
[]
[]
[]
[]
[]
[]
[]
[]
[]
[]
[]
[]
[]
[]
[]
[]
[]
[]
[]
[]
[]
[]
[]
[]
[]
[]
[]
[]
[]
[]
[]
[]
[]
[]
[]
[]
[]
[]
[]
[]
[]
[]
[]
[]
[]
[]
[]
[]
[]
[]
[]
[]
[]
[]
[]
[]
[]
[]
[]
[]
[]
[]
[]
[]
[]
[]
[]
[null,null,null,null,null,{"$f":"\"Баланс \" & TEMPLATE_SPHERE & \" (транспортировка)\"","v":"Баланс теплоснабжения (транспортировка)"}]
[null,null,null,null,null,"куб.м"]
[null,null,null,null,null,"№ п/п","Субъект баланса","Установленная мощность, куб.м/час","Подключённая (фактическая) нагрузка, куб.м/час","Вид стоков","Объём транспортируемых сточных вод","в том числе на собственные очистные сооружения","в том числе другим организациям","Потери","Приём сточных вод, поступающих на очистные сооружения"]
[null,null,null,null,null,null,null,null,null,null,null,null,null,null,"Всего","от собственных нужд","от других канализаций или отдельных канализационных сетей",null,null,"от бюджетных потребителей",null,null,"от населения",null,null,"от прочих потребителей"]
[null,null,null,null,null,null,null,null,null,null,null,null,null,null,null,null,"Всего","по приборам учёта","по нормативам","Всего","по приборам учёта","по нормативам","Всего","по приборам учёта","по нормативам","Всего","по приборам учёта","по нормативам"]
[null,null,null,null,null,null,"А","IC","CL","Б",1,"1.1","1.2",2,3,"3.1","3.2","3.2.1","3.2.2","3.3","3.3.1","3.3.2","3.4","3.4.1","3.4.2","3.5","3.5.1","3.5.2"]
[]
[null,null,null,"-",null,{"$f":"IF(TEMPLATE_SPHERE_CODE=\"COLDVSNA\",\"0.1.P\",\"0.1\")","v":"0.1"},"Всего по организации",null,null,null,{"$f":"SUMIF($BA131:$BA132,$BA126,K131:K132)","v":0},0,0,0,0,0,0,0,0,0,0,0,0,0,0,0,0,0,null,null,null,null,null,null,null,null,null,null,null,null,null,null,null,null,null,null,null,null,null,null,null,null,"TOTAL_ORG_YEAR"]
[null,null,null,null,null,{"$f":"IF(TEMPLATE_SPHERE_CODE=\"COLDVSNA\",\"0.1.T\",\"\")","v":""}]
[]
[]
[]
[null,0]
[null,null,null,null,null,null,"Добавить"]

{"sheet":"ВО.РО","index":22,"n_rows":289,"n_cols":46,"rows_kept":289,"cut":false,"hidden":true,"merged":[[18,40,19,40],[18,41,19,43],[18,38,19,38],[18,39,19,39],[12,38,13,39],[13,41,13,43]]}
[]
[]
[]
[]
[]
[null,null,null,null,null,null,null,null,null,null,null,null,null,null,null,null,null,null,null,null,null,null,null,null,null,null,null,null,null,null,null,null,null,null,null,null,null,null,null,null,null,12,6,6]
[]
[]
[null,null,null,null,null,null,null,null,null,null,null,null,null,null,null,null,null,null,null,null,null,null,null,null,null,null,null,null,null,null,null,null,null,null,null,null,null,null,null,null,null,"Y","I","II"]
[null,null,null,null,null,null,null,null,null,null,null,null,null,null,null,null,null,null,null,null,null,null,null,null,null,null,null,null,null,null,null,null,null,null,null,null,null,null,null,null,null,null,null,null,"START","END"]
[]
[null,null,null,null,null,null,null,null,null,null,null,null,null,null,null,null,null,null,null,null,null,null,null,null,null,null,null,null,null,null,null,null,null,null,null,null,null,null,null,"Необходимо указывать значения по полугодиям (6 и 6 месяцев)"]
["FULL_MODE",null,null,null,null,null,null,null,null,null,null,null,null,null,null,null,null,null,null,null,null,null,null,null,null,null,null,null,null,null,null,null,null,null,null,null,null,null,"Расходы организации",null,"Период","Год","I полугодие","II полугодие"]
[]
[]
[]
[]
[null,null,null,null,null,null,null,null,null,null,null,null,null,null,null,null,null,null,null,null,null,null,null,null,null,null,null,null,null,null,null,null,null,null,null,null,null,null,null,null,null,null,null,null,null,"Добавить"]
[null,null,null,null,null,null,null,null,null,null,null,null,null,null,null,null,null,null,null,null,null,null,null,null,null,null,null,null,null,null,null,null,null,null,null,null,null,null,"№ п/п","Наименование показателя","Единица измерения","Всего по организации",null,null,0]
[]
[null,null,null,null,null,null,null,null,null,null,null,null,null,null,null,null,null,null,null,null,null,null,null,null,null,null,null,null,null,null,null,null,null,null,null,null,null,null,null,"Является ли организация плательщиком НДС"]
[null,null,null,null,null,null,null,null,null,null,null,null,null,null,null,null,null,null,null,null,null,null,null,null,null,null,null,null,null,null,null,null,null,null,null,null,null,null,null,{"$f":"IF(CALC_IDENTIFIER=\"\",\"\",CALC_IDENTIFIER)","v":""}]
[null,null,null,null,null,null,null,null,null,null,null,null,null,null,null,null,null,null,null,null,null,null,null,null,null,null,null,null,null,null,null,null,null,null,null,null,null,null,"1","Производственные расходы","тыс.руб.",{"$f":"SUMIF($AS$9:$AT$9,AP$9,$AS23:$AT23)","v":0},0,0]
[null,null,null,null,null,null,null,null,null,null,null,null,null,null,null,null,null,null,null,null,null,null,null,null,null,null,null,null,null,null,null,null,null,null,null,null,null,null,"1.1","Расходы на приобретение сырья и материалов и их хранение","тыс.руб.",0,0,0]
[null,null,null,null,null,null,null,null,null,null,null,null,null,null,null,null,null,null,null,null,null,null,null,null,null,null,null,null,null,null,null,null,null,null,null,null,null,null,"1.1.1","Реагенты ","тыс.руб.",0,0,0]
[null,null,null,null,null,null,null,null,null,null,null,null,null,null,null,null,null,null,null,null,null,null,null,null,null,null,null,null,null,null,null,null,null,null,null,null,null,null,"1.1.2","Горюче-смазочные материалы","тыс.руб.",0,0,0]
[null,null,null,null,null,null,null,null,null,null,null,null,null,null,null,null,null,null,null,null,null,null,null,null,null,null,null,null,null,null,null,null,null,null,null,null,null,null,"1.1.3","Материалы и малоценные основные средства","тыс.руб.",0,0,0]
[null,null,null,null,null,null,null,null,null,null,null,null,null,null,null,null,null,null,null,null,null,null,null,null,null,null,null,null,null,null,null,null,null,null,null,null,null,null,"1.2","Расходы на энергетические ресурсы и холодную воду","тыс.руб.",0,0,0]
[null,null,null,null,null,null,null,null,null,null,null,null,null,null,null,null,null,null,null,null,null,null,null,null,null,null,null,null,null,null,null,null,null,null,null,null,null,null,"1.2.1","электроэнергия ","тыс.руб.",0,0,0]
[null,null,null,null,null,null,null,null,null,null,null,null,null,null,null,null,null,null,null,null,null,null,null,null,null,null,null,null,null,null,null,null,null,null,null,null,null,null,"1.2.1.1","Объём покупной энергии"]
[null,null,null,null,null,null,null,null,null,null,null,null,null,null,null,null,null,null,null,null,null,null,null,null,null,null,null,null,null,null,null,null,null,null,null,null,null,null,"1.2.1.1.1","Объём покупной энергии по одноставочному тарифу","тыс.кВт*ч",{"$f":"SUMIF($AS$9:$AT$9,AP$9,$AS31:$AT31)","v":0},0,0]
[null,null,null,null,null,null,null,null,null,null,null,null,null,null,null,null,null,null,null,null,null,null,null,null,null,null,null,null,null,null,null,null,null,null,null,null,null,null,"1.2.1.1.1.1","НН","тыс.кВт*ч",0,0,0]
[null,null,null,null,null,null,null,null,null,null,null,null,null,null,null,null,null,null,null,null,null,null,null,null,null,null,null,null,null,null,null,null,null,null,null,null,null,null,"1.2.1.1.1.2","СН1","тыс.кВт*ч",0,0,0]
[null,null,null,null,null,null,null,null,null,null,null,null,null,null,null,null,null,null,null,null,null,null,null,null,null,null,null,null,null,null,null,null,null,null,null,null,null,null,"1.2.1.1.1.3","СН2","тыс.кВт*ч",0,0,0]
[null,null,null,null,null,null,null,null,null,null,null,null,null,null,null,null,null,null,null,null,null,null,null,null,null,null,null,null,null,null,null,null,null,null,null,null,null,null,"1.2.1.1.1.4","ВН","тыс.кВт*ч",0,0,0]
[null,null,null,null,null,null,null,null,null,null,null,null,null,null,null,null,null,null,null,null,null,null,null,null,null,null,null,null,null,null,null,null,null,null,null,null,null,null,"1.2.1.1.1.5","без разбивки по напряжению","тыс.кВт*ч",0,0,0]
[null,null,null,null,null,null,null,null,null,null,null,null,null,null,null,null,null,null,null,null,null,null,null,null,null,null,null,null,null,null,null,null,null,null,null,null,null,null,"1.2.1.1.2","Объём покупной электроэнергии по двухставочному тарифу"]
[null,null,null,null,null,null,null,null,null,null,null,null,null,null,null,null,null,null,null,null,null,null,null,null,null,null,null,null,null,null,null,null,null,null,null,null,null,null,"1.2.1.1.2.1","Мощность","МВт*мес",{"$f":"SUMIF($AS$9:$AT$9,AP$9,$AS38:$AT38)","v":0},0,0]
[null,null,null,null,null,null,null,null,null,null,null,null,null,null,null,null,null,null,null,null,null,null,null,null,null,null,null,null,null,null,null,null,null,null,null,null,null,null,"1.2.1.1.2.1.1","НН","МВт*мес",0,0,0]
[null,null,null,null,null,null,null,null,null,null,null,null,null,null,null,null,null,null,null,null,null,null,null,null,null,null,null,null,null,null,null,null,null,null,null,null,null,null,"1.2.1.1.2.1.2","СН1","МВт*мес",0,0,0]
[null,null,null,null,null,null,null,null,null,null,null,null,null,null,null,null,null,null,null,null,null,null,null,null,null,null,null,null,null,null,null,null,null,null,null,null,null,null,"1.2.1.1.2.1.3","СН2","МВт*мес",0,0,0]
[null,null,null,null,null,null,null,null,null,null,null,null,null,null,null,null,null,null,null,null,null,null,null,null,null,null,null,null,null,null,null,null,null,null,null,null,null,null,"1.2.1.1.2.1.4","ВН","МВт*мес",0,0,0]
[null,null,null,null,null,null,null,null,null,null,null,null,null,null,null,null,null,null,null,null,null,null,null,null,null,null,null,null,null,null,null,null,null,null,null,null,null,null,"1.2.1.1.2.1.5","ГН","МВт*мес",0,0,0]
[null,null,null,null,null,null,null,null,null,null,null,null,null,null,null,null,null,null,null,null,null,null,null,null,null,null,null,null,null,null,null,null,null,null,null,null,null,null,"1.2.1.1.2.2","Активная электроэнергия","тыс.кВт*ч",0,0,0]
[null,null,null,null,null,null,null,null,null,null,null,null,null,null,null,null,null,null,null,null,null,null,null,null,null,null,null,null,null,null,null,null,null,null,null,null,null,null,"1.2.1.1.2.2.1","НН","тыс.кВт*ч",0,0,0]
[null,null,null,null,null,null,null,null,null,null,null,null,null,null,null,null,null,null,null,null,null,null,null,null,null,null,null,null,null,null,null,null,null,null,null,null,null,null,"1.2.1.1.2.2.2","СН1","тыс.кВт*ч",0,0,0]
[null,null,null,null,null,null,null,null,null,null,null,null,null,null,null,null,null,null,null,null,null,null,null,null,null,null,null,null,null,null,null,null,null,null,null,null,null,null,"1.2.1.1.2.2.3","СН2","тыс.кВт*ч",0,0,0]
[null,null,null,null,null,null,null,null,null,null,null,null,null,null,null,null,null,null,null,null,null,null,null,null,null,null,null,null,null,null,null,null,null,null,null,null,null,null,"1.2.1.1.2.2.4","ВН","тыс.кВт*ч",0,0,0]
[null,null,null,null,null,null,null,null,null,null,null,null,null,null,null,null,null,null,null,null,null,null,null,null,null,null,null,null,null,null,null,null,null,null,null,null,null,null,"1.2.1.1.2.2.5","ГН","тыс.кВт*ч",0,0,0]
[null,null,null,null,null,null,null,null,null,null,null,null,null,null,null,null,null,null,null,null,null,null,null,null,null,null,null,null,null,null,null,null,null,null,null,null,null,null,"1.2.1.2","Тариф на электроэнергию и мощность"]
[null,null,null,null,null,null,null,null,null,null,null,null,null,null,null,null,null,null,null,null,null,null,null,null,null,null,null,null,null,null,null,null,null,null,null,null,null,null,"1.2.1.2.1","по одноставочному тарифу"]
[null,null,null,null,null,null,null,null,null,null,null,null,null,null,null,null,null,null,null,null,null,null,null,null,null,null,null,null,null,null,null,null,null,null,null,null,null,null,"1.2.1.2.1.1","НН","руб./кВт*ч",{"$f":"IF(AP32=0,0,AP72/AP32)","v":0},{"$f":"IF(AQ32=0,0,AQ72/AQ32)","v":0},{"$f":"IF(AR32=0,0,AR72/AR32)","v":0}]
[null,null,null,null,null,null,null,null,null,null,null,null,null,null,null,null,null,null,null,null,null,null,null,null,null,null,null,null,null,null,null,null,null,null,null,null,null,null,"1.2.1.2.1.2","СН1","руб./кВт*ч",{"$f":"IF(AP33=0,0,AP73/AP33)","v":0},0,0]
[null,null,null,null,null,null,null,null,null,null,null,null,null,null,null,null,null,null,null,null,null,null,null,null,null,null,null,null,null,null,null,null,null,null,null,null,null,null,"1.2.1.2.1.3","СН2","руб./кВт*ч",0,0,0]
[null,null,null,null,null,null,null,null,null,null,null,null,null,null,null,null,null,null,null,null,null,null,null,null,null,null,null,null,null,null,null,null,null,null,null,null,null,null,"1.2.1.2.1.4","ВН","руб./кВт*ч",0,0,0]
[null,null,null,null,null,null,null,null,null,null,null,null,null,null,null,null,null,null,null,null,null,null,null,null,null,null,null,null,null,null,null,null,null,null,null,null,null,null,"1.2.1.2.1.5","без разбивки по напряжению","руб./кВт*ч",0,0,0]
[null,null,null,null,null,null,null,null,null,null,null,null,null,null,null,null,null,null,null,null,null,null,null,null,null,null,null,null,null,null,null,null,null,null,null,null,null,null,"1.2.1.2.1.6","Средний одноставочный тариф на электрическую энергию","руб./кВт*ч",{"$f":"IF(AP31=0,0,AP71/AP31)","v":0},{"$f":"IF(AQ31=0,0,AQ71/AQ31)","v":0},{"$f":"IF(AR31=0,0,AR71/AR31)","v":0}]
[null,null,null,null,null,null,null,null,null,null,null,null,null,null,null,null,null,null,null,null,null,null,null,null,null,null,null,null,null,null,null,null,null,null,null,null,null,null,"1.2.1.2.2","по двухставочному тарифу"]
[null,null,null,null,null,null,null,null,null,null,null,null,null,null,null,null,null,null,null,null,null,null,null,null,null,null,null,null,null,null,null,null,null,null,null,null,null,null,"1.2.1.2.2.1","ставка за мощность","руб./МВт*мес",{"$f":"IF(AP38=0,0,AP77*1000/AP38)","v":0},0,0]
[null,null,null,null,null,null,null,null,null,null,null,null,null,null,null,null,null,null,null,null,null,null,null,null,null,null,null,null,null,null,null,null,null,null,null,null,null,null,"1.2.1.2.2.1.1","НН","руб./МВт*мес",0,0,0]
[null,null,null,null,null,null,null,null,null,null,null,null,null,null,null,null,null,null,null,null,null,null,null,null,null,null,null,null,null,null,null,null,null,null,null,null,null,null,"1.2.1.2.2.1.2","СН1","руб./МВт*мес",0,0,0]
[null,null,null,null,null,null,null,null,null,null,null,null,null,null,null,null,null,null,null,null,null,null,null,null,null,null,null,null,null,null,null,null,null,null,null,null,null,null,"1.2.1.2.2.1.3","СН2","руб./МВт*мес",0,0,0]
[null,null,null,null,null,null,null,null,null,null,null,null,null,null,null,null,null,null,null,null,null,null,null,null,null,null,null,null,null,null,null,null,null,null,null,null,null,null,"1.2.1.2.2.1.4","ВН","руб./МВт*мес",0,0,0]
[null,null,null,null,null,null,null,null,null,null,null,null,null,null,null,null,null,null,null,null,null,null,null,null,null,null,null,null,null,null,null,null,null,null,null,null,null,null,"1.2.1.2.2.1.5","ГН","руб./МВт*мес",0,0,0]
[null,null,null,null,null,null,null,null,null,null,null,null,null,null,null,null,null,null,null,null,null,null,null,null,null,null,null,null,null,null,null,null,null,null,null,null,null,null,"1.2.1.2.2.2","ставка за электроэнергию","руб./кВт*ч",{"$f":"IF(AP44=0,0,AP83/AP44)","v":0},{"$f":"IF(AQ44=0,0,AQ83/AQ44)","v":0},{"$f":"IF(AR44=0,0,AR83/AR44)","v":0}]
[null,null,null,null,null,null,null,null,null,null,null,null,null,null,null,null,null,null,null,null,null,null,null,null,null,null,null,null,null,null,null,null,null,null,null,null,null,null,"1.2.1.2.2.2.1","НН","руб./кВт*ч",{"$f":"IF(AP45=0,0,AP84/AP45)","v":0},0,0]
[null,null,null,null,null,null,null,null,null,null,null,null,null,null,null,null,null,null,null,null,null,null,null,null,null,null,null,null,null,null,null,null,null,null,null,null,null,null,"1.2.1.2.2.2.2","СН1","руб./кВт*ч",0,0,0]
[null,null,null,null,null,null,null,null,null,null,null,null,null,null,null,null,null,null,null,null,null,null,null,null,null,null,null,null,null,null,null,null,null,null,null,null,null,null,"1.2.1.2.2.2.3","СН2","руб./кВт*ч",0,0,0]
[null,null,null,null,null,null,null,null,null,null,null,null,null,null,null,null,null,null,null,null,null,null,null,null,null,null,null,null,null,null,null,null,null,null,null,null,null,null,"1.2.1.2.2.2.4","ВН","руб./кВт*ч",0,0,0]
[null,null,null,null,null,null,null,null,null,null,null,null,null,null,null,null,null,null,null,null,null,null,null,null,null,null,null,null,null,null,null,null,null,null,null,null,null,null,"1.2.1.2.2.2.5","ГН","руб./кВт*ч",0,0,0]
[null,null,null,null,null,null,null,null,null,null,null,null,null,null,null,null,null,null,null,null,null,null,null,null,null,null,null,null,null,null,null,null,null,null,null,null,null,null,"1.2.1.3","Затраты на покупку энергии по одноставочному тарифу","тыс.руб.",{"$f":"SUMIF($AS$9:$AT$9,AP$9,$AS71:$AT71)","v":0},0,0]
[null,null,null,null,null,null,null,null,null,null,null,null,null,null,null,null,null,null,null,null,null,null,null,null,null,null,null,null,null,null,null,null,null,null,null,null,null,null,"1.2.1.3.1","НН","тыс.руб.",0,0,0]
[null,null,null,null,null,null,null,null,null,null,null,null,null,null,null,null,null,null,null,null,null,null,null,null,null,null,null,null,null,null,null,null,null,null,null,null,null,null,"1.2.1.3.2","СН1","тыс.руб.",0,0,0]
[null,null,null,null,null,null,null,null,null,null,null,null,null,null,null,null,null,null,null,null,null,null,null,null,null,null,null,null,null,null,null,null,null,null,null,null,null,null,"1.2.1.3.3","СН2","тыс.руб.",0,0,0]
[null,null,null,null,null,null,null,null,null,null,null,null,null,null,null,null,null,null,null,null,null,null,null,null,null,null,null,null,null,null,null,null,null,null,null,null,null,null,"1.2.1.3.4","ВН","тыс.руб.",0,0,0]
[null,null,null,null,null,null,null,null,null,null,null,null,null,null,null,null,null,null,null,null,null,null,null,null,null,null,null,null,null,null,null,null,null,null,null,null,null,null,"1.2.1.3.5","без разбивки по напряжению","тыс.руб.",0,0,0]
[null,null,null,null,null,null,null,null,null,null,null,null,null,null,null,null,null,null,null,null,null,null,null,null,null,null,null,null,null,null,null,null,null,null,null,null,null,null,"1.2.1.4","Затраты на покупку мощности по двухставочному тарифу","тыс.руб.",0,0,0]
[null,null,null,null,null,null,null,null,null,null,null,null,null,null,null,null,null,null,null,null,null,null,null,null,null,null,null,null,null,null,null,null,null,null,null,null,null,null,"1.2.1.4.1","НН","тыс.руб.",0,0,0]
[null,null,null,null,null,null,null,null,null,null,null,null,null,null,null,null,null,null,null,null,null,null,null,null,null,null,null,null,null,null,null,null,null,null,null,null,null,null,"1.2.1.4.2","СН1","тыс.руб.",0,0,0]
[null,null,null,null,null,null,null,null,null,null,null,null,null,null,null,null,null,null,null,null,null,null,null,null,null,null,null,null,null,null,null,null,null,null,null,null,null,null,"1.2.1.4.3","СН2","тыс.руб.",0,0,0]
[null,null,null,null,null,null,null,null,null,null,null,null,null,null,null,null,null,null,null,null,null,null,null,null,null,null,null,null,null,null,null,null,null,null,null,null,null,null,"1.2.1.4.4","ВН","тыс.руб.",0,0,0]
[null,null,null,null,null,null,null,null,null,null,null,null,null,null,null,null,null,null,null,null,null,null,null,null,null,null,null,null,null,null,null,null,null,null,null,null,null,null,"1.2.1.4.5","ГН","тыс.руб.",0,0,0]
[null,null,null,null,null,null,null,null,null,null,null,null,null,null,null,null,null,null,null,null,null,null,null,null,null,null,null,null,null,null,null,null,null,null,null,null,null,null,"1.2.1.5","Затраты на покупку энергии по двухставочному тарифу","тыс.руб.",0,0,0]
[null,null,null,null,null,null,null,null,null,null,null,null,null,null,null,null,null,null,null,null,null,null,null,null,null,null,null,null,null,null,null,null,null,null,null,null,null,null,"1.2.1.5.1","НН","тыс.руб.",0,0,0]
[null,null,null,null,null,null,null,null,null,null,null,null,null,null,null,null,null,null,null,null,null,null,null,null,null,null,null,null,null,null,null,null,null,null,null,null,null,null,"1.2.1.5.2","СН1","тыс.руб.",0,0,0]
[null,null,null,null,null,null,null,null,null,null,null,null,null,null,null,null,null,null,null,null,null,null,null,null,null,null,null,null,null,null,null,null,null,null,null,null,null,null,"1.2.1.5.3","СН2","тыс.руб.",0,0,0]
[null,null,null,null,null,null,null,null,null,null,null,null,null,null,null,null,null,null,null,null,null,null,null,null,null,null,null,null,null,null,null,null,null,null,null,null,null,null,"1.2.1.5.4","ВН","тыс.руб.",0,0,0]
[null,null,null,null,null,null,null,null,null,null,null,null,null,null,null,null,null,null,null,null,null,null,null,null,null,null,null,null,null,null,null,null,null,null,null,null,null,null,"1.2.1.5.5","ГН","тыс.руб.",0,0,0]
[null,null,null,null,null,null,null,null,null,null,null,null,null,null,null,null,null,null,null,null,null,null,null,null,null,null,null,null,null,null,null,null,null,null,null,null,null,null,"1.2.2","теплоэнергия","тыс.руб.",0,0,0]
[null,null,null,null,null,null,null,null,null,null,null,null,null,null,null,null,null,null,null,null,null,null,null,null,null,null,null,null,null,null,null,null,null,null,null,null,null,null,"1.2.3","теплоноситель","тыс.руб.",0,0,0]
[null,null,null,null,null,null,null,null,null,null,null,null,null,null,null,null,null,null,null,null,null,null,null,null,null,null,null,null,null,null,null,null,null,null,null,null,null,null,"1.2.4","топливо","тыс.руб.",0,0,0]
[]
[]
[]
[]
[null,null,null,null,null,null,null,null,null,null,null,null,null,null,null,null,null,null,null,null,null,null,null,null,null,null,null,null,null,null,null,null,null,null,null,null,null,null,"1.2.5","холодная вода","тыс.руб.",{"$f":"SUMIF($AS$9:$AT$9,AP$9,$AS96:$AT96)","v":0},{"$f":"SUMIF($AS$9:$AT$9,AQ$9,$AS96:$AT96)","v":0},{"$f":"SUMIF($AS$9:$AT$9,AR$9,$AS96:$AT96)","v":0}]
[null,null,null,null,null,null,null,null,null,null,null,null,null,null,null,null,null,null,null,null,null,null,null,null,null,null,null,null,null,null,null,null,null,null,null,null,null,null,"1.2.5.1","цена","руб./куб.м",{"$f":"IF(AP98=0,0,AP96/AP98)","v":0},{"$f":"IF(AQ98=0,0,AQ96/AQ98)","v":0},{"$f":"IF(AR98=0,0,AR96/AR98)","v":0}]
[null,null,null,null,null,null,null,null,null,null,null,null,null,null,null,null,null,null,null,null,null,null,null,null,null,null,null,null,null,null,null,null,null,null,null,null,null,null,"1.2.5.2","объём","тыс.куб.м",{"$f":"SUMIF($AS$9:$AT$9,AP$9,$AS98:$AT98)","v":0},{"$f":"SUMIF($AS$9:$AT$9,AQ$9,$AS98:$AT98)","v":0},{"$f":"SUMIF($AS$9:$AT$9,AR$9,$AS98:$AT98)","v":0}]
[]
[]
[]
[]
[]
[]
[]
[null,null,null,null,null,null,null,null,null,null,null,null,null,null,null,null,null,null,null,null,null,null,null,null,null,null,null,null,null,null,null,null,null,null,null,null,null,null,"1.3","Расходы на оплату работ и услуг, выполняемые сторонними организациями и индивидуальными предпринимателями, связанные с эксплуатацией централизованных систем либо объектов в составе таких систем","тыс.руб.",{"$f":"SUMIF($AS$9:$AT$9,AP$9,$AS106:$AT106)","v":0},0,0]
[null,null,null,null,null,null,null,null,null,null,null,null,null,null,null,null,null,null,null,null,null,null,null,null,null,null,null,null,null,null,null,null,null,null,null,null,null,null,"1.4","Расходы на оплату труда и отчисления на социальные нужды основного производственного персонала, в том числе налоги и сборы ","тыс.руб.",0,0,0]
[null,null,null,null,null,null,null,null,null,null,null,null,null,null,null,null,null,null,null,null,null,null,null,null,null,null,null,null,null,null,null,null,null,null,null,null,null,null,"1.4.1","Расходы на оплату труда производственного персонала","тыс.руб.",0,0,0]
[null,null,null,null,null,null,null,null,null,null,null,null,null,null,null,null,null,null,null,null,null,null,null,null,null,null,null,null,null,null,null,null,null,null,null,null,null,null,"1.4.1.1","Численность (среднесписочная), принятая для расчёта","ед.",0,0,0]
[null,null,null,null,null,null,null,null,null,null,null,null,null,null,null,null,null,null,null,null,null,null,null,null,null,null,null,null,null,null,null,null,null,null,null,null,null,null,"1.4.1.2","Среднемесячная оплата труда основного производственного персонала","руб./мес.",{"$f":"IF(AP109=0,0,AP108/AP109*1000/AP$6)","v":0},{"$f":"IF(AQ109=0,0,AQ108/AQ109*1000/AQ$6)","v":0},{"$f":"IF(AR109=0,0,AR108/AR109*1000/AR$6)","v":0}]
[null,null,null,null,null,null,null,null,null,null,null,null,null,null,null,null,null,null,null,null,null,null,null,null,null,null,null,null,null,null,null,null,null,null,null,null,null,null,"1.4.1.3","Фактическая численность основного производственного персонала, относимого на регулируемый вид деятельности","ед.",{"$f":"SUMIF($AS$9:$AT$9,AP$9,$AS111:$AT111)","v":0},0,0]
[null,null,null,null,null,null,null,null,null,null,null,null,null,null,null,null,null,null,null,null,null,null,null,null,null,null,null,null,null,null,null,null,null,null,null,null,null,null,"1.4.1.4","Справочно: нормативная численность основного производственного персонала, относимого на регулируемый вид деятельности","ед.",0,0,0]
[null,null,null,null,null,null,null,null,null,null,null,null,null,null,null,null,null,null,null,null,null,null,null,null,null,null,null,null,null,null,null,null,null,null,null,null,null,null,"1.4.1.5","Тарифная ставка рабочего 1-го разряда","руб./мес."]
[null,null,null,null,null,null,null,null,null,null,null,null,null,null,null,null,null,null,null,null,null,null,null,null,null,null,null,null,null,null,null,null,null,null,null,null,null,null,"1.4.1.6","Индекс роста номинальной заработной платы"]
[null,null,null,null,null,null,null,null,null,null,null,null,null,null,null,null,null,null,null,null,null,null,null,null,null,null,null,null,null,null,null,null,null,null,null,null,null,null,"1.4.1.7","Тарифная ставка рабочего 1-го разряда с учётом дефлятора","руб./мес."]
[null,null,null,null,null,null,null,null,null,null,null,null,null,null,null,null,null,null,null,null,null,null,null,null,null,null,null,null,null,null,null,null,null,null,null,null,null,null,"1.4.1.8","Средний тарифный коэффициент"]
[null,null,null,null,null,null,null,null,null,null,null,null,null,null,null,null,null,null,null,null,null,null,null,null,null,null,null,null,null,null,null,null,null,null,null,null,null,null,"1.4.1.9","Среднемесячная тарифная ставка","руб./мес."]
[null,null,null,null,null,null,null,null,null,null,null,null,null,null,null,null,null,null,null,null,null,null,null,null,null,null,null,null,null,null,null,null,null,null,null,null,null,null,"1.4.1.10","Минимальный размер оплаты труда по отраслевому тарифному соглашению","руб./мес."]
[null,null,null,null,null,null,null,null,null,null,null,null,null,null,null,null,null,null,null,null,null,null,null,null,null,null,null,null,null,null,null,null,null,null,null,null,null,null,"1.4.2","Отчисления на социальные нужды производственного персонала, в том числе налоги и сборы","тыс.руб.",{"$f":"SUMIF($AS$9:$AT$9,AP$9,$AS119:$AT119)","v":0},0,0]
[null,null,null,null,null,null,null,null,null,null,null,null,null,null,null,null,null,null,null,null,null,null,null,null,null,null,null,null,null,null,null,null,null,null,null,null,null,null,"1.5","Расходы на уплату процентов по займам и кредитам, не учитываемые при определении налогооблагаемой базы налога на прибыль","тыс.руб.",0,0,0]
[null,null,null,null,null,null,null,null,null,null,null,null,null,null,null,null,null,null,null,null,null,null,null,null,null,null,null,null,null,null,null,null,null,null,null,null,null,null,"1.6","Общехозяйственные расходы","тыс.руб.",0,0,0]
[null,null,null,null,null,null,null,null,null,null,null,null,null,null,null,null,null,null,null,null,null,null,null,null,null,null,null,null,null,null,null,null,null,null,null,null,null,null,"1.7","Прочие производственные расходы","тыс.руб.",0,0,0]
[null,null,null,null,null,null,null,null,null,null,null,null,null,null,null,null,null,null,null,null,null,null,null,null,null,null,null,null,null,null,null,null,null,null,null,null,null,null,"1.7.1","Расходы на амортизацию транспорта","тыс.руб.",0,0,0]
[null,null,null,null,null,null,null,null,null,null,null,null,null,null,null,null,null,null,null,null,null,null,null,null,null,null,null,null,null,null,null,null,null,null,null,null,null,null,{"$f":"IF(TEMPLATE_SPHERE_CODE=\"COLDVSNA\",\"1.7.2\",IF(TEMPLATE_SPHERE_CODE=\"VOTV\",\"1.7.2\",\"\"))","v":""},{"$f":"IF(TEMPLATE_SPHERE_CODE=\"COLDVSNA\",\"Контроль качества воды\",IF(TEMPLATE_SPHERE_CODE=\"VOTV\",\"Контроль сточных вод\",\"\"))","v":""},"тыс.руб.",0,0,0]
[null,null,null,null,null,null,null,null,null,null,null,null,null,null,null,null,null,null,null,null,null,null,null,null,null,null,null,null,null,null,null,null,null,null,null,null,null,null,"1.7.3","Расходы на аварийно-диспетчерское обслуживание","тыс.руб.",0,0,0]
[null,null,null,null,null,null,null,null,null,null,null,null,null,null,null,null,null,null,null,null,null,null,null,null,null,null,null,null,null,null,null,null,null,null,null,null,null,null,{"$f":"IF(TEMPLATE_SPHERE_CODE=\"COLDVSNA\",\"\",IF(TEMPLATE_SPHERE_CODE=\"VOTV\",\"1.7.4\",\"\"))","v":""},{"$f":"IF(TEMPLATE_SPHERE_CODE=\"COLDVSNA\",\"\",IF(TEMPLATE_SPHERE_CODE=\"VOTV\",\"Услуги по обращению с осадком сточных вод\",\"\"))","v":""},{"$f":"IF(TEMPLATE_SPHERE_CODE=\"COLDVSNA\",\"\",IF(TEMPLATE_SPHERE_CODE=\"VOTV\",\"тыс.руб.\",\"\"))","v":""},{"$f":"IF(TEMPLATE_SPHERE_CODE=\"COLDVSNA\",\"\",SUMIF($AS$9:$AT$9,AP$9,$AS126:$AT126))","v":0},{"$f":"IF(TEMPLATE_SPHERE_CODE=\"COLDVSNA\",\"\",SUMIF($AS$9:$AT$9,AQ$9,$AS126:$AT126))","v":0},{"$f":"IF(TEMPLATE_SPHERE_CODE=\"COLDVSNA\",\"\",SUMIF($AS$9:$AT$9,AR$9,$AS126:$AT126))","v":0}]
[null,null,null,null,null,null,null,null,null,null,null,null,null,null,null,null,null,null,null,null,null,null,null,null,null,null,null,null,null,null,null,null,null,null,null,null,null,null,"1.8","Цеховые расходы","тыс.руб.",{"$f":"SUMIF($AS$9:$AT$9,AP$9,$AS127:$AT127)","v":0},0,0]
[null,null,null,null,null,null,null,null,null,null,null,null,null,null,null,null,null,null,null,null,null,null,null,null,null,null,null,null,null,null,null,null,null,null,null,null,null,null,"1.8.1","Расходы на оплату труда цехового персонала","тыс.руб.",0,0,0]
[null,null,null,null,null,null,null,null,null,null,null,null,null,null,null,null,null,null,null,null,null,null,null,null,null,null,null,null,null,null,null,null,null,null,null,null,null,null,"1.8.2","Отчисления на социальные нужды цехового персонала, в том числе налоги и сборы","тыс.руб.",0,0,0]
[null,null,null,null,null,null,null,null,null,null,null,null,null,null,null,null,null,null,null,null,null,null,null,null,null,null,null,null,null,null,null,null,null,null,null,null,null,null,"1.8.3","Расходы на охрану труда","тыс.руб.",0,0,0]
[null,null,null,null,null,null,null,null,null,null,null,null,null,null,null,null,null,null,null,null,null,null,null,null,null,null,null,null,null,null,null,null,null,null,null,null,null,null,"1.8.4","Прочие","тыс.руб.",0,0,0]
[null,null,null,null,null,null,null,null,null,null,null,null,null,null,null,null,null,null,null,null,null,null,null,null,null,null,null,null,null,null,null,null,null,null,null,null,null,null,"2","Ремонтные расходы","тыс.руб.",0,0,0]
[null,null,null,null,null,null,null,null,null,null,null,null,null,null,null,null,null,null,null,null,null,null,null,null,null,null,null,null,null,null,null,null,null,null,null,null,null,null,"2.1","Расходы на текущий ремонт централизованных систем водоснабжения и (или) водоотведения либо объектов, входящих в состав таких систем","тыс.руб.",0,0,0]
[null,null,null,null,null,null,null,null,null,null,null,null,null,null,null,null,null,null,null,null,null,null,null,null,null,null,null,null,null,null,null,null,null,null,null,null,null,null,"2.1.1","Справочно: расходы на текущий ремонт, предусмотренные производственной программой регулируемой организации","тыс.руб.",0,0,0]
[null,null,null,null,null,null,null,null,null,null,null,null,null,null,null,null,null,null,null,null,null,null,null,null,null,null,null,null,null,null,null,null,null,null,null,null,null,null,"2.2","Расходы на капитальный ремонт централизованных систем водоснабжения и (или водоотведения) либо объектов, входящих в состав таких систем","тыс.руб.",0,0,0]
[null,null,null,null,null,null,null,null,null,null,null,null,null,null,null,null,null,null,null,null,null,null,null,null,null,null,null,null,null,null,null,null,null,null,null,null,null,null,"2.2.1","Справочно: расходы на капитальный ремонт, предусмотренные производственной программой регулируемой организации","тыс.руб.",0,0,0]
[null,null,null,null,null,null,null,null,null,null,null,null,null,null,null,null,null,null,null,null,null,null,null,null,null,null,null,null,null,null,null,null,null,null,null,null,null,null,"2.3","Расходы на оплату труда и отчисления на социальные нужды ремонтного персонала, в том числе налоги и сборы","тыс.руб.",0,0,0]
[null,null,null,null,null,null,null,null,null,null,null,null,null,null,null,null,null,null,null,null,null,null,null,null,null,null,null,null,null,null,null,null,null,null,null,null,null,null,"2.3.1","Расходы на оплату труда ремонтного персонала","тыс.руб.",0,0,0]
[null,null,null,null,null,null,null,null,null,null,null,null,null,null,null,null,null,null,null,null,null,null,null,null,null,null,null,null,null,null,null,null,null,null,null,null,null,null,"2.3.1.1","Численность (среднесписочная), принятая для расчёта","ед.",0,0,0]
[null,null,null,null,null,null,null,null,null,null,null,null,null,null,null,null,null,null,null,null,null,null,null,null,null,null,null,null,null,null,null,null,null,null,null,null,null,null,"2.3.1.2","Среднемесячная оплата труда ремонтного персонала","руб./мес.",{"$f":"IF(AP139=0,0,AP138/AP139*1000/AP$6)","v":0},{"$f":"IF(AQ139=0,0,AQ138/AQ139*1000/AQ$6)","v":0},{"$f":"IF(AR139=0,0,AR138/AR139*1000/AR$6)","v":0}]
[null,null,null,null,null,null,null,null,null,null,null,null,null,null,null,null,null,null,null,null,null,null,null,null,null,null,null,null,null,null,null,null,null,null,null,null,null,null,"2.3.1.3","Фактическая численность ремонтного персонала, относимого на регулируемый вид деятельности","ед.",{"$f":"SUMIF($AS$9:$AT$9,AP$9,$AS141:$AT141)","v":0},0,0]
[null,null,null,null,null,null,null,null,null,null,null,null,null,null,null,null,null,null,null,null,null,null,null,null,null,null,null,null,null,null,null,null,null,null,null,null,null,null,"2.3.1.4","Справочно: нормативная численность ремонтного персонала, относимого на регулируемый вид деятельности","ед.",0,0,0]
[null,null,null,null,null,null,null,null,null,null,null,null,null,null,null,null,null,null,null,null,null,null,null,null,null,null,null,null,null,null,null,null,null,null,null,null,null,null,"2.3.1.5","Тарифная ставка рабочего 1-го разряда","руб./мес."]
[null,null,null,null,null,null,null,null,null,null,null,null,null,null,null,null,null,null,null,null,null,null,null,null,null,null,null,null,null,null,null,null,null,null,null,null,null,null,"2.3.1.6","Индекс роста номинальной заработной платы"]
[null,null,null,null,null,null,null,null,null,null,null,null,null,null,null,null,null,null,null,null,null,null,null,null,null,null,null,null,null,null,null,null,null,null,null,null,null,null,"2.3.1.7","Тарифная ставка рабочего 1-го разряда с учётом дефлятора","руб./мес."]
[null,null,null,null,null,null,null,null,null,null,null,null,null,null,null,null,null,null,null,null,null,null,null,null,null,null,null,null,null,null,null,null,null,null,null,null,null,null,"2.3.1.8","Средний тарифный коэффициент"]
[null,null,null,null,null,null,null,null,null,null,null,null,null,null,null,null,null,null,null,null,null,null,null,null,null,null,null,null,null,null,null,null,null,null,null,null,null,null,"2.3.1.9","Среднемесячная тарифная ставка","руб./мес."]
[null,null,null,null,null,null,null,null,null,null,null,null,null,null,null,null,null,null,null,null,null,null,null,null,null,null,null,null,null,null,null,null,null,null,null,null,null,null,"2.3.1.10","Минимальный размер оплаты труда по отраслевому тарифному соглашению","руб./мес."]
[null,null,null,null,null,null,null,null,null,null,null,null,null,null,null,null,null,null,null,null,null,null,null,null,null,null,null,null,null,null,null,null,null,null,null,null,null,null,"2.3.2","Отчисления на социальные нужды ремонтного персонала, в том числе налоги и сборы","тыс.руб.",{"$f":"SUMIF($AS$9:$AT$9,AP$9,$AS149:$AT149)","v":0},0,0]
[null,null,null,null,null,null,null,null,null,null,null,null,null,null,null,null,null,null,null,null,null,null,null,null,null,null,null,null,null,null,null,null,null,null,null,null,null,null,3,"Административные расходы","тыс.руб.",0,0,0]
[null,null,null,null,null,null,null,null,null,null,null,null,null,null,null,null,null,null,null,null,null,null,null,null,null,null,null,null,null,null,null,null,null,null,null,null,null,null,"3.1","Расходы на оплату работ и услуг, выполняемых сторонними организациями","тыс.руб.",0,0,0]
[null,null,null,null,null,null,null,null,null,null,null,null,null,null,null,null,null,null,null,null,null,null,null,null,null,null,null,null,null,null,null,null,null,null,null,null,null,null,"3.1.1","услуги связи и интернет","тыс.руб.",0,0,0]
[null,null,null,null,null,null,null,null,null,null,null,null,null,null,null,null,null,null,null,null,null,null,null,null,null,null,null,null,null,null,null,null,null,null,null,null,null,null,"3.1.2","юридические услуги","тыс.руб.",0,0,0]
[null,null,null,null,null,null,null,null,null,null,null,null,null,null,null,null,null,null,null,null,null,null,null,null,null,null,null,null,null,null,null,null,null,null,null,null,null,null,"3.1.3","аудиторские услуги","тыс.руб.",0,0,0]
[null,null,null,null,null,null,null,null,null,null,null,null,null,null,null,null,null,null,null,null,null,null,null,null,null,null,null,null,null,null,null,null,null,null,null,null,null,null,"3.1.4","консультационные услуги","тыс.руб.",0,0,0]
[null,null,null,null,null,null,null,null,null,null,null,null,null,null,null,null,null,null,null,null,null,null,null,null,null,null,null,null,null,null,null,null,null,null,null,null,null,null,"3.1.5","услуги по вневедомственной охране объектов и территорий","тыс.руб.",0,0,0]
[null,null,null,null,null,null,null,null,null,null,null,null,null,null,null,null,null,null,null,null,null,null,null,null,null,null,null,null,null,null,null,null,null,null,null,null,null,null,"3.1.6","информационные услуги","тыс.руб.",0,0,0]
[null,null,null,null,null,null,null,null,null,null,null,null,null,null,null,null,null,null,null,null,null,null,null,null,null,null,null,null,null,null,null,null,null,null,null,null,null,null,"3.2","Расходы на оплату труда и отчисления на социальные нужды административно-управленческого персонала, в том числе налоги и сборы","тыс.руб.",0,0,0]
[null,null,null,null,null,null,null,null,null,null,null,null,null,null,null,null,null,null,null,null,null,null,null,null,null,null,null,null,null,null,null,null,null,null,null,null,null,null,"3.2.1","Расходы на оплату труда административно-управленческого персонала","тыс.руб.",0,0,0]
[null,null,null,null,null,null,null,null,null,null,null,null,null,null,null,null,null,null,null,null,null,null,null,null,null,null,null,null,null,null,null,null,null,null,null,null,null,null,"3.2.1.1","Численность (среднесписочная), принятая для расчёта","ед.",0,0,0]
[null,null,null,null,null,null,null,null,null,null,null,null,null,null,null,null,null,null,null,null,null,null,null,null,null,null,null,null,null,null,null,null,null,null,null,null,null,null,"3.2.1.2","Среднемесячная оплата труда административно-управленческого персонала","руб./мес.",{"$f":"IF(AP160=0,0,AP159/AP160*1000/AP$6)","v":0},{"$f":"IF(AQ160=0,0,AQ159/AQ160*1000/AQ$6)","v":0},{"$f":"IF(AR160=0,0,AR159/AR160*1000/AR$6)","v":0}]
[null,null,null,null,null,null,null,null,null,null,null,null,null,null,null,null,null,null,null,null,null,null,null,null,null,null,null,null,null,null,null,null,null,null,null,null,null,null,"3.2.1.3","Фактическая численность административно-управленческого персонала, относимого на регулируемый вид деятельности","ед.",{"$f":"SUMIF($AS$9:$AT$9,AP$9,$AS162:$AT162)","v":0},0,0]
[null,null,null,null,null,null,null,null,null,null,null,null,null,null,null,null,null,null,null,null,null,null,null,null,null,null,null,null,null,null,null,null,null,null,null,null,null,null,"3.2.1.4","Справочно: нормативная численность административно-управленческого персонала, относимого на регулируемый вид деятельности","ед.",0,0,0]
[null,null,null,null,null,null,null,null,null,null,null,null,null,null,null,null,null,null,null,null,null,null,null,null,null,null,null,null,null,null,null,null,null,null,null,null,null,null,"3.2.1.5","Тарифная ставка рабочего 1-го разряда","руб./мес."]
[null,null,null,null,null,null,null,null,null,null,null,null,null,null,null,null,null,null,null,null,null,null,null,null,null,null,null,null,null,null,null,null,null,null,null,null,null,null,"3.2.1.6","Индекс роста номинальной заработной платы"]
[null,null,null,null,null,null,null,null,null,null,null,null,null,null,null,null,null,null,null,null,null,null,null,null,null,null,null,null,null,null,null,null,null,null,null,null,null,null,"3.2.1.7","Тарифная ставка рабочего 1-го разряда с учётом дефлятора","руб./мес."]
[null,null,null,null,null,null,null,null,null,null,null,null,null,null,null,null,null,null,null,null,null,null,null,null,null,null,null,null,null,null,null,null,null,null,null,null,null,null,"3.2.1.8","Средний тарифный коэффициент"]
[null,null,null,null,null,null,null,null,null,null,null,null,null,null,null,null,null,null,null,null,null,null,null,null,null,null,null,null,null,null,null,null,null,null,null,null,null,null,"3.2.1.9","Среднемесячная тарифная ставка","руб./мес."]
[null,null,null,null,null,null,null,null,null,null,null,null,null,null,null,null,null,null,null,null,null,null,null,null,null,null,null,null,null,null,null,null,null,null,null,null,null,null,"3.2.1.10","Минимальный размер оплаты труда по отраслевому тарифному соглашению","руб./мес."]
[null,null,null,null,null,null,null,null,null,null,null,null,null,null,null,null,null,null,null,null,null,null,null,null,null,null,null,null,null,null,null,null,null,null,null,null,null,null,"3.2.2","Отчисления на социальные нужды административно-управленческого персонала, в том числе налоги и сборы","тыс.руб.",{"$f":"SUMIF($AS$9:$AT$9,AP$9,$AS170:$AT170)","v":0},0,0]
[null,null,null,null,null,null,null,null,null,null,null,null,null,null,null,null,null,null,null,null,null,null,null,null,null,null,null,null,null,null,null,null,null,null,null,null,null,null,"3.3","Арендная плата, лизинговые платежи, не связанные с арендой (лизингом) централизованных систем водоснабжения и (или) водоотведения либо объектов, входящих в состав таких систем","тыс.руб.",0,0,0]
[null,null,null,null,null,null,null,null,null,null,null,null,null,null,null,null,null,null,null,null,null,null,null,null,null,null,null,null,null,null,null,null,null,null,null,null,null,null,"3.4","Служебные командировки","тыс.руб.",0,0,0]
[null,null,null,null,null,null,null,null,null,null,null,null,null,null,null,null,null,null,null,null,null,null,null,null,null,null,null,null,null,null,null,null,null,null,null,null,null,null,"3.5","Обучение персонала","тыс.руб.",0,0,0]
[null,null,null,null,null,null,null,null,null,null,null,null,null,null,null,null,null,null,null,null,null,null,null,null,null,null,null,null,null,null,null,null,null,null,null,null,null,null,"3.6","Страхование производственных объектов","тыс.руб.",0,0,0]
[null,null,null,null,null,null,null,null,null,null,null,null,null,null,null,null,null,null,null,null,null,null,null,null,null,null,null,null,null,null,null,null,null,null,null,null,null,null,"3.7","Прочие административные расходы","тыс.руб.",0,0,0]
[null,null,null,null,null,null,null,null,null,null,null,null,null,null,null,null,null,null,null,null,null,null,null,null,null,null,null,null,null,null,null,null,null,null,null,null,null,null,"3.7.1","Расходы на амортизацию непроизводственных активов","тыс.руб.",0,0,0]
[null,null,null,null,null,null,null,null,null,null,null,null,null,null,null,null,null,null,null,null,null,null,null,null,null,null,null,null,null,null,null,null,null,null,null,null,null,null,"3.7.2","Расходы по охране объектов и территорий","тыс.руб.",0,0,0]
[null,null,null,null,null,null,null,null,null,null,null,null,null,null,null,null,null,null,null,null,null,null,null,null,null,null,null,null,null,null,null,null,null,null,null,null,null,null,4,"Сбытовые расходы гарантирующих организаций","тыс.руб.",0,0,0]
[null,null,null,null,null,null,null,null,null,null,null,null,null,null,null,null,null,null,null,null,null,null,null,null,null,null,null,null,null,null,null,null,null,null,null,null,null,null,"4.1","Расходы по сомнительным долгам, в размере не более 2% НВВ","тыс.руб.",0,0,0]
[null,null,null,null,null,null,null,null,null,null,null,null,null,null,null,null,null,null,null,null,null,null,null,null,null,null,null,null,null,null,null,null,null,null,null,null,null,null,5,"Амортизация","тыс.руб.",0,0,0]
[null,null,null,null,null,null,null,null,null,null,null,null,null,null,null,null,null,null,null,null,null,null,null,null,null,null,null,null,null,null,null,null,null,null,null,null,null,null,"5.1","Амортизация основных средств и нематериальных активов, относимых к объектам централизованной системы водоснабжения и водоотведения","тыс.руб.",0,0,0]
[null,null,null,null,null,null,null,null,null,null,null,null,null,null,null,null,null,null,null,null,null,null,null,null,null,null,null,null,null,null,null,null,null,null,null,null,null,null,6,"Расходы на арендную плату, лизинговые платежи, концессионную плату, связанные с арендой (лизингом) централизованных систем водоснабжения и (или) водоотведения либо объектов, входящих в состав таких систем","тыс.руб.",0,0,0]
[null,null,null,null,null,null,null,null,null,null,null,null,null,null,null,null,null,null,null,null,null,null,null,null,null,null,null,null,null,null,null,null,null,null,null,null,null,null,"6.1","Аренда имущества","тыс.руб.",0,0,0]
[null,null,null,null,null,null,null,null,null,null,null,null,null,null,null,null,null,null,null,null,null,null,null,null,null,null,null,null,null,null,null,null,null,null,null,null,null,null,"6.1.1","Аренда объектов в государственной собственности","тыс.руб.",0,0,0]
[null,null,null,null,null,null,null,null,null,null,null,null,null,null,null,null,null,null,null,null,null,null,null,null,null,null,null,null,null,null,null,null,null,null,null,null,null,null,"6.1.2","Аренда объектов в муниципальной собственности","тыс.руб.",0,0,0]
[null,null,null,null,null,null,null,null,null,null,null,null,null,null,null,null,null,null,null,null,null,null,null,null,null,null,null,null,null,null,null,null,null,null,null,null,null,null,"6.1.3","Прочее","тыс.руб.",0,0,0]
[null,null,null,null,null,null,null,null,null,null,null,null,null,null,null,null,null,null,null,null,null,null,null,null,null,null,null,null,null,null,null,null,null,null,null,null,null,null,"6.2","Концессионная плата","тыс.руб.",0,0,0]
[null,null,null,null,null,null,null,null,null,null,null,null,null,null,null,null,null,null,null,null,null,null,null,null,null,null,null,null,null,null,null,null,null,null,null,null,null,null,"6.3","Лизинговые платежи","тыс.руб.",0,0,0]
[null,null,null,null,null,null,null,null,null,null,null,null,null,null,null,null,null,null,null,null,null,null,null,null,null,null,null,null,null,null,null,null,null,null,null,null,null,null,"6.4","Аренда земельных участков","тыс.руб.",0,0,0]
[null,null,null,null,null,null,null,null,null,null,null,null,null,null,null,null,null,null,null,null,null,null,null,null,null,null,null,null,null,null,null,null,null,null,null,null,null,null,"6.5","Иное","тыс.руб.",0,0,0]
[null,null,null,null,null,null,null,null,null,null,null,null,null,null,null,null,null,null,null,null,null,null,null,null,null,null,null,null,null,null,null,null,null,null,null,null,null,null,7,"Расходы, связанные с уплатой налогов и сборов, связанные с арендой (лизингом) централизованных систем водоснабжения и (или) водоотведения либо объектов, входящих в состав таких систем","тыс.руб.",0,0,0]
[null,null,null,null,null,null,null,null,null,null,null,null,null,null,null,null,null,null,null,null,null,null,null,null,null,null,null,null,null,null,null,null,null,null,null,null,null,null,"7.1","Налог на прибыль","тыс.руб.",0,0,0]
[null,null,null,null,null,null,null,null,null,null,null,null,null,null,null,null,null,null,null,null,null,null,null,null,null,null,null,null,null,null,null,null,null,null,null,null,null,null,"7.2","Налог на имущество организаций","тыс.руб.",0,0,0]
[null,null,null,null,null,null,null,null,null,null,null,null,null,null,null,null,null,null,null,null,null,null,null,null,null,null,null,null,null,null,null,null,null,null,null,null,null,null,"7.3","Плата за негативное воздействие на окружающую среду","тыс.руб.",0,0,0]
[null,null,null,null,null,null,null,null,null,null,null,null,null,null,null,null,null,null,null,null,null,null,null,null,null,null,null,null,null,null,null,null,null,null,null,null,null,null,"7.4","Водный налог и плата за пользование водным объектом","тыс.руб.",0,0,0]
[null,null,null,null,null,null,null,null,null,null,null,null,null,null,null,null,null,null,null,null,null,null,null,null,null,null,null,null,null,null,null,null,null,null,null,null,null,null,"7.5","Земельный налог","тыс.руб.",0,0,0]
[null,null,null,null,null,null,null,null,null,null,null,null,null,null,null,null,null,null,null,null,null,null,null,null,null,null,null,null,null,null,null,null,null,null,null,null,null,null,"7.6","Транспортный налог","тыс.руб.",0,0,0]
[null,null,null,null,null,null,null,null,null,null,null,null,null,null,null,null,null,null,null,null,null,null,null,null,null,null,null,null,null,null,null,null,null,null,null,null,null,null,"7.7","Прочие налоги и сборы, за исключением налогов и сборов с фонда оплаты труда, учитываемых в составе производственных, ремонтных и административных расходов","тыс.руб.",0,0,0]
[null,null,null,null,null,null,null,null,null,null,null,null,null,null,null,null,null,null,null,null,null,null,null,null,null,null,null,null,null,null,null,null,null,null,null,null,null,null,"8","Расходы на оплату товаров (услуг, работ), приобретаемых у других организаций, осуществляющих регулируемые виды деятельности","тыс.руб.",0,0,0]
[null,null,null,null,null,null,null,null,null,null,null,null,null,null,null,null,null,null,null,null,null,null,null,null,null,null,null,null,null,null,null,null,null,null,null,null,null,null,"9","Расходы на обслуживание бесхозяйных сетей","тыс.руб.",0,0,0]
[null,null,null,null,null,null,null,null,null,null,null,null,null,null,null,null,null,null,null,null,null,null,null,null,null,null,null,null,null,null,null,null,null,null,null,null,null,null,"10","Прочие неподконтрольные расходы","тыс.руб.",0,0,0]
[]
[null,null,null,null,null,null,null,null,null,null,null,null,null,null,null,null,null,null,null,null,null,null,null,null,null,null,null,null,null,null,null,null,null,null,null,null,null,null,"РО","Итого расходы","тыс.руб.",{"$f":"SUMIF($AS$9:$AT$9,AP$9,$AS203:$AT203)","v":0},{"$f":"SUMIF($AS$9:$AT$9,AQ$9,$AS203:$AT203)","v":0},{"$f":"SUMIF($AS$9:$AT$9,AR$9,$AS203:$AT203)","v":0}]
[]
[null,null,null,null,null,null,null,null,null,null,null,null,null,null,null,null,null,null,null,null,null,null,null,null,null,null,null,null,null,null,null,null,null,null,null,null,null,null,"РР","Итого расходы на реализацию","тыс.руб.",{"$f":"SUMIF($AS$9:$AT$9,AP$9,$AS205:$AT205)","v":0},{"$f":"SUMIF($AS$9:$AT$9,AQ$9,$AS205:$AT205)","v":0},{"$f":"SUMIF($AS$9:$AT$9,AR$9,$AS205:$AT205)","v":0}]
[]
[null,null,null,null,null,null,null,null,null,null,null,null,null,null,null,null,null,null,null,null,null,null,null,null,null,null,null,null,null,null,null,null,null,null,null,null,null,null,"У","Убыток","тыс.руб.",{"$f":"SUMIF($AS$9:$AT$9,AP$9,$AS207:$AT207)","v":0},0,0]
[null,null,null,null,null,null,null,null,null,null,null,null,null,null,null,null,null,null,null,null,null,null,null,null,null,null,null,null,null,null,null,null,null,null,null,null,null,null,"П","Прибыль","тыс.руб.",0,0,0]
[]
[null,null,null,null,null,null,null,null,null,null,null,null,null,null,null,null,null,null,null,null,null,null,null,null,null,null,null,null,null,null,null,null,null,null,null,null,null,null,"П.1","Прибыль на развитие производства (капитальные вложения)","тыс.руб.",{"$f":"SUMIF($AS$9:$AT$9,AP$9,$AS210:$AT210)","v":0},0,0]
[null,null,null,null,null,null,null,null,null,null,null,null,null,null,null,null,null,null,null,null,null,null,null,null,null,null,null,null,null,null,null,null,null,null,null,null,null,null,"П.2","Прибыль на социальное развитие","тыс.руб.",0,0,0]
[null,null,null,null,null,null,null,null,null,null,null,null,null,null,null,null,null,null,null,null,null,null,null,null,null,null,null,null,null,null,null,null,null,null,null,null,null,null,"П.3","Прибыль на поощрение","тыс.руб.",0,0,0]
[null,null,null,null,null,null,null,null,null,null,null,null,null,null,null,null,null,null,null,null,null,null,null,null,null,null,null,null,null,null,null,null,null,null,null,null,null,null,"П.4","Прибыль на прочие цели","тыс.руб.",0,0,0]
[]
[]
[]
[]
[]
[]
[]
[]
[null,null,null,null,null,null,null,null,null,null,null,null,null,null,null,null,null,null,null,null,null,null,null,null,null,null,null,null,null,null,null,null,null,null,null,null,null,null,"РП","Итого расходы с учётом расходов из прибыли","тыс.руб.",{"$f":"SUMIF($AS$9:$AT$9,AP$9,$AS222:$AT222)","v":0},{"$f":"SUMIF($AS$9:$AT$9,AQ$9,$AS222:$AT222)","v":0},{"$f":"SUMIF($AS$9:$AT$9,AR$9,$AS222:$AT222)","v":0}]
[]
[]
[]
[]
[]
[]
[]
[]
[]
[]
[]
[]
[]
[]
[]
[]
[]
[null,null,null,null,null,null,null,null,null,null,null,null,null,null,null,null,null,null,null,null,null,null,null,null,null,null,null,null,null,null,null,null,null,null,null,null,null,null,"UI.TOTAL","Полезный отпуск продукции всего:\n[БТр!п.3] - транспортировка\n[БПр!п.5.2] - производство","тыс.куб.м",{"$f":"SUMIF($AS$9:$AT$9,AP$9,$AS240:$AT240)","v":0},0,0]
[null,null,null,null,null,null,null,null,null,null,null,null,null,null,null,null,null,null,null,null,null,null,null,null,null,null,null,null,null,null,null,null,null,null,null,null,null,null,"UI.EC","Полезный отпуск на реализацию потребителям:\n[БТр!п.3.2:3.5] - транспортировка\n[БПр!п.5.2.2 + БПр!п.5.2.3] - производство","тыс.куб.м",0,0,0]
[null,null,null,null,null,null,null,null,null,null,null,null,null,null,null,null,null,null,null,null,null,null,null,null,null,null,null,null,null,null,null,null,null,null,null,null,null,null,"UI.COEF","Коэффициент (доля) на реализацию потребителям",null,{"$f":"IF(AP240=0,0,AP241/AP240)","v":0},{"$f":"IF(AQ240=0,0,AQ241/AQ240)","v":0},{"$f":"IF(AR240=0,0,AR241/AR240)","v":0}]
[null,null,null,null,null,null,null,null,null,null,null,null,null,null,null,null,null,null,null,null,null,null,null,null,null,null,null,null,null,null,null,null,null,null,null,null,null,null,"UI.PURE.EC","Полезный отпуск на реализацию потребителям:\n[БТр!п.3.3:3.5] - транспортировка\n[БПр!п.5.2.3] - производство","тыс.куб.м",{"$f":"SUMIF($AS$9:$AT$9,AP$9,$AS243:$AT243)","v":0},{"$f":"SUMIF($AS$9:$AT$9,AQ$9,$AS243:$AT243)","v":0},{"$f":"SUMIF($AS$9:$AT$9,AR$9,$AS243:$AT243)","v":0}]
[]
[null,null,null,null,null,null,null,null,null,null,null,null,null,null,null,null,null,null,null,null,null,null,null,null,null,null,null,null,null,null,null,null,null,null,null,null,null,null,"UI.TTL",{"$f":"IF(TEMPLATE_SPHERE_CODE=\"COLDVSNA\",\"Объём отпуска воды\",IF(TEMPLATE_SPHERE_CODE=\"VOTV\",\"Объём сточных вод\",\"\"))","v":""},"тыс.куб.м",{"$f":"SUMIF($AS$9:$AT$9,AP$9,$AS245:$AT245)","v":0},{"$f":"SUMIF($AS$9:$AT$9,AQ$9,$AS245:$AT245)","v":0},{"$f":"SUMIF($AS$9:$AT$9,AR$9,$AS245:$AT245)","v":0}]
[]
[null,null,null,null,null,null,null,null,null,null,null,null,null,null,null,null,null,null,null,null,null,null,null,null,null,null,null,null,null,null,null,null,null,null,null,null,null,null,"PROFITABILITY","Рентабельность","%",{"$f":"IF(AP203=0,0,AP218/AP203*100)","v":0},{"$f":"IF(AQ203=0,0,AQ218/AQ203*100)","v":0},{"$f":"IF(AR203=0,0,AR218/AR203*100)","v":0}]
[null,null,null,null,null,null,null,null,null,null,null,null,null,null,null,null,null,null,null,null,null,null,null,null,null,null,null,null,null,null,null,null,null,null,null,null,null,null,null,"Подстановка тарифов I и II полугодий одновременно","a"]
[null,null,null,null,null,null,null,null,null,null,null,null,null,null,null,null,null,null,null,null,null,null,null,null,null,null,null,null,null,null,null,null,null,null,null,null,null,null,"D","Справочно: результат деятельности в периоде регулирования","тыс.руб.",{"$f":"SUMIF($AS$9:$AT$9,AP$9,$AS249:$AT249)","v":0},0,0]
[null,null,null,null,null,null,null,null,null,null,null,null,null,null,null,null,null,null,null,null,null,null,null,null,null,null,null,null,null,null,null,null,null,null,null,null,null,null,{"$f":"AM249 & \".0.1\"","v":"D.0.1"},"Общий доход от реализации потребителям без учёта НДС, исходя из утверждённых тарифов","тыс.руб.",0,0,0]
[null,null,null,null,null,null,null,null,null,null,null,null,null,null,null,null,null,null,null,null,null,null,null,null,null,null,null,null,null,null,null,null,null,null,null,null,null,null,{"$f":"AM249 & \".0.2\"","v":"D.0.2"},"Полезный отпуск продукции на реализацию потребителям","тыс.куб.м",0,0,0]
[null,null,null,null,null,null,null,null,null,null,null,null,null,null,null,null,null,null,null,null,null,null,null,null,null,null,null,null,null,null,null,null,null,null,null,null,null,null,{"$f":"AM249 & \".1\"","v":"D.1"},"Организации-перепродавцы","тыс.руб.",0,0,0]
[null,null,null,null,null,null,null,null,null,null,null,null,null,null,null,null,null,null,null,null,null,null,null,null,null,null,null,null,null,null,null,null,null,null,null,null,null,null,{"$f":"AM252 & \".1\"","v":"D.1.1"},"средневзвешенный тариф","руб./куб.м",{"$f":"IF(AP254=0,0,AP252/AP254)","v":0},{"$f":"IF(AQ254=0,0,AQ252/AQ254)","v":0},{"$f":"IF(AR254=0,0,AR252/AR254)","v":0}]
[null,null,null,null,null,null,null,null,null,null,null,null,null,null,null,null,null,null,null,null,null,null,null,null,null,null,null,null,null,null,null,null,null,null,null,null,null,null,{"$f":"AM252 & \".2\"","v":"D.1.2"},"объём","тыс.куб.м",{"$f":"SUMIF($AS$9:$AT$9,AP$9,$AS254:$AT254)","v":0},0,0]
[null,null,null,null,null,null,null,null,null,null,null,null,null,null,null,null,null,null,null,null,null,null,null,null,null,null,null,null,null,null,null,null,null,null,null,null,null,null,{"$f":"AM249 & \".2\"","v":"D.2"},"Бюджетные потребители","тыс.руб.",0,0,0]
[null,null,null,null,null,null,null,null,null,null,null,null,null,null,null,null,null,null,null,null,null,null,null,null,null,null,null,null,null,null,null,null,null,null,null,null,null,null,{"$f":"AM255 & \".1\"","v":"D.2.1"},"средневзвешенный тариф","руб./куб.м",{"$f":"IF(AP257=0,0,AP255/AP257)","v":0},{"$f":"IF(AQ257=0,0,AQ255/AQ257)","v":0},{"$f":"IF(AR257=0,0,AR255/AR257)","v":0}]
[null,null,null,null,null,null,null,null,null,null,null,null,null,null,null,null,null,null,null,null,null,null,null,null,null,null,null,null,null,null,null,null,null,null,null,null,null,null,{"$f":"AM255 & \".2\"","v":"D.2.2"},"объём","тыс.куб.м",{"$f":"SUMIF($AS$9:$AT$9,AP$9,$AS257:$AT257)","v":0},0,0]
[null,null,null,null,null,null,null,null,null,null,null,null,null,null,null,null,null,null,null,null,null,null,null,null,null,null,null,null,null,null,null,null,null,null,null,null,null,null,{"$f":"AM249 & \".3\"","v":"D.3"},"Население","тыс.руб.",0,0,0]
[null,null,null,null,null,null,null,null,null,null,null,null,null,null,null,null,null,null,null,null,null,null,null,null,null,null,null,null,null,null,null,null,null,null,null,null,null,null,{"$f":"AM258 & \".1\"","v":"D.3.1"},"средневзвешенный тариф","руб./куб.м",{"$f":"IF(AP260=0,0,AP258/AP260)","v":0},{"$f":"IF(AQ260=0,0,AQ258/AQ260)","v":0},{"$f":"IF(AR260=0,0,AR258/AR260)","v":0}]
[null,null,null,null,null,null,null,null,null,null,null,null,null,null,null,null,null,null,null,null,null,null,null,null,null,null,null,null,null,null,null,null,null,null,null,null,null,null,{"$f":"AM258 & \".2\"","v":"D.3.2"},"объём","тыс.куб.м",{"$f":"SUMIF($AS$9:$AT$9,AP$9,$AS260:$AT260)","v":0},0,0]
[null,null,null,null,null,null,null,null,null,null,null,null,null,null,null,null,null,null,null,null,null,null,null,null,null,null,null,null,null,null,null,null,null,null,null,null,null,null,{"$f":"AM249 & \".4\"","v":"D.4"},"Прочие","тыс.руб.",0,0,0]
[null,null,null,null,null,null,null,null,null,null,null,null,null,null,null,null,null,null,null,null,null,null,null,null,null,null,null,null,null,null,null,null,null,null,null,null,null,null,{"$f":"AM261 & \".1\"","v":"D.4.1"},"средневзвешенный тариф","руб./куб.м",{"$f":"IF(AP263=0,0,AP261/AP263)","v":0},{"$f":"IF(AQ263=0,0,AQ261/AQ263)","v":0},{"$f":"IF(AR263=0,0,AR261/AR263)","v":0}]
[null,null,null,null,null,null,null,null,null,null,null,null,null,null,null,null,null,null,null,null,null,null,null,null,null,null,null,null,null,null,null,null,null,null,null,null,null,null,{"$f":"AM261 & \".2\"","v":"D.4.2"},"объём","тыс.куб.м",{"$f":"SUMIF($AS$9:$AT$9,AP$9,$AS263:$AT263)","v":0},0,0]
[null,null,null,null,null,null,null,null,null,null,null,null,null,null,null,null,null,null,null,null,null,null,null,null,null,null,null,null,null,null,null,null,null,null,null,null,null,null,{"$f":"AM249 & \".5\"","v":"D.5"},"Объём дотаций из всех уровней бюджета","тыс.руб.",0,0,0]
[null,null,null,null,null,null,null,null,null,null,null,null,null,null,null,null,null,null,null,null,null,null,null,null,null,null,null,null,null,null,null,null,null,null,null,null,null,null,{"$f":"AM249 & \".6\"","v":"D.6"},"Доходы, полученные сверх реализации по утверждённым тарифам","тыс.руб.",0,0,0]
[]
[]
[]
[]
[]
[]
[null,null,null,null,null,null,null,null,null,null,null,null,null,null,null,null,null,null,null,null,null,null,null,null,null,null,null,null,null,null,null,null,null,null,null,null,null,null,null,"Дополнительные показатели"]
[null,null,null,null,null,null,null,null,null,null,null,null,null,null,null,null,null,null,null,null,null,null,null,null,null,null,null,null,null,null,null,null,null,null,null,null,null,null,null,"Производство"]
[null,null,null,null,null,null,null,null,null,null,null,null,null,null,null,null,null,null,null,null,null,null,null,null,null,null,null,null,null,null,null,null,null,null,null,null,null,null,null,{"$f":"\"Стоимость основных средств, относимых на источники производства (приём) \" & RESOURCE_IDENTIFIER","v":"Стоимость основных средств, относимых на источники производства (приём) ТЭ"},"тыс.руб."]
[null,null,null,null,null,null,null,null,null,null,null,null,null,null,null,null,null,null,null,null,null,null,null,null,null,null,null,null,null,null,null,null,null,null,null,null,null,null,null,{"$f":"\"Количество \" & TEMPLATE_SPHERE_OKK_SOURCE","v":"Количество ТИ"},"ед."]
[null,null,null,null,null,null,null,null,null,null,null,null,null,null,null,null,null,null,null,null,null,null,null,null,null,null,null,null,null,null,null,null,null,null,null,null,null,null,null,"Износ основных средств","%"]
[null,null,null,null,null,null,null,null,null,null,null,null,null,null,null,null,null,null,null,null,null,null,null,null,null,null,null,null,null,null,null,null,null,null,null,null,null,null,null,"Очистка"]
[null,null,null,null,null,null,null,null,null,null,null,null,null,null,null,null,null,null,null,null,null,null,null,null,null,null,null,null,null,null,null,null,null,null,null,null,null,null,null,{"$f":"\"Стоимость основных средств, относимых на системы / сооружения для очистки \" & RESOURCE_IDENTIFIER","v":"Стоимость основных средств, относимых на системы / сооружения для очистки ТЭ"},"тыс.руб."]
[]
[]
[null,null,null,null,null,null,null,null,null,null,null,null,null,null,null,null,null,null,null,null,null,null,null,null,null,null,null,null,null,null,null,null,null,null,null,null,null,null,null,"Износ основных средств","%"]
[null,null,null,null,null,null,null,null,null,null,null,null,null,null,null,null,null,null,null,null,null,null,null,null,null,null,null,null,null,null,null,null,null,null,null,null,null,null,null,"Транспортировка"]
[null,null,null,null,null,null,null,null,null,null,null,null,null,null,null,null,null,null,null,null,null,null,null,null,null,null,null,null,null,null,null,null,null,null,null,null,null,null,null,"Стоимость основных средств, относимых на транспортировку стоков","тыс.руб."]
[null,null,null,null,null,null,null,null,null,null,null,null,null,null,null,null,null,null,null,null,null,null,null,null,null,null,null,null,null,null,null,null,null,null,null,null,null,null,null,"Протяженность сетей","км"]
[null,null,null,null,null,null,null,null,null,null,null,null,null,null,null,null,null,null,null,null,null,null,null,null,null,null,null,null,null,null,null,null,null,null,null,null,null,null,null,"Протяженность сетей, подлежащих замене (износ 100%)","км"]
[null,null,null,null,null,null,null,null,null,null,null,null,null,null,null,null,null,null,null,null,null,null,null,null,null,null,null,null,null,null,null,null,null,null,null,null,null,null,null,"Сбыт"]
[null,null,null,null,null,null,null,null,null,null,null,null,null,null,null,null,null,null,null,null,null,null,null,null,null,null,null,null,null,null,null,null,null,null,null,null,null,null,null,"Полезный отпуск (приём стоков) от наиболее крупного единичного потребителя","тыс.куб.м"]
[null,null,null,null,null,null,null,null,null,null,null,null,null,null,null,null,null,null,null,null,null,null,null,null,null,null,null,null,null,null,null,null,null,null,null,null,null,null,null,"Численность обслуживаемого населения","чел."]
[null,null,null,null,null,null,null,null,null,null,null,null,null,null,null,null,null,null,null,null,null,null,null,null,null,null,null,null,null,null,null,null,null,null,null,null,null,null,null,"Количество абонентов","тыс.ед."]

{"sheet":"ВО.Р","index":23,"n_rows":348,"n_cols":46,"rows_kept":348,"cut":false,"hidden":true,"merged":[[12,38,13,39],[13,41,13,43],[18,38,19,38],[18,39,19,39],[18,40,19,40],[18,41,19,43]]}
[]
[]
[]
[]
[]
[null,null,null,null,null,null,null,null,null,null,null,null,null,null,null,null,null,null,null,null,null,null,null,null,null,null,null,null,null,null,null,null,null,null,null,null,null,null,null,null,null,12,6,6]
[]
[]
[null,null,null,null,null,null,null,null,null,null,null,null,null,null,null,null,null,null,null,null,null,null,null,null,null,null,null,null,null,null,null,null,null,null,null,null,null,null,null,null,null,"Y","I","II"]
[null,null,null,null,null,null,null,null,null,null,null,null,null,null,null,null,null,null,null,null,null,null,null,null,null,null,null,null,null,null,null,null,null,null,null,null,null,null,null,null,null,null,null,null,"START","END"]
[]
[null,null,null,null,null,null,null,null,null,null,null,null,null,null,null,null,null,null,null,null,null,null,null,null,null,null,null,null,null,null,null,null,null,null,null,null,null,null,null,"Необходимо указывать значения по полугодиям (6 и 6 месяцев)"]
["FULL_MODE",null,null,null,null,null,null,null,null,null,null,null,null,null,null,null,null,null,null,null,null,null,null,null,null,null,null,null,null,null,null,null,null,null,null,null,null,null,"Реагенты",null,"Период","Год","I полугодие","II полугодие"]
[]
[]
[]
[]
[null,null,null,null,null,null,null,null,null,null,null,null,null,null,null,null,null,null,null,null,null,null,null,null,null,null,null,null,null,null,null,null,null,null,null,null,null,null,null,null,null,null,null,null,null,"Добавить"]
[null,null,null,null,null,null,null,null,null,null,null,null,null,null,null,null,null,null,null,null,null,null,null,null,null,null,null,null,null,null,null,null,null,null,null,null,null,null,"№ п/п","Наименование показателя","Единица измерения","Всего по организации",null,null,0]
[]
[null,null,null,null,null,null,null,null,null,null,null,null,null,null,null,null,null,null,null,null,null,null,null,null,null,null,null,null,null,null,null,null,null,null,null,null,null,null,null,"Является ли организация плательщиком НДС"]
[null,null,null,null,null,null,null,null,null,null,null,null,null,null,null,null,null,null,null,null,null,null,null,null,null,null,null,null,null,null,null,null,null,null,null,null,null,null,null,"Выбор используемых реагентов - двойным щелчком мыши в расчётном блоке (в колонке \"Год\") напротив наименования"]
[]
[]
[null,null,null,null,null,null,null,null,null,null,null,null,null,null,null,null,null,null,null,null,null,null,null,null,null,null,null,null,null,null,null,null,null,null,null,null,null,null,"1.1.1","Итого","тыс.руб.",{"$f":"SUMIF($AS$9:$AT$9,AP$9,$AS25:$AT25)","v":0},{"$f":"SUMIF($AS$9:$AT$9,AQ$9,$AS25:$AT25)","v":0},{"$f":"SUMIF($AS$9:$AT$9,AR$9,$AS25:$AT25)","v":0}]
[]
[null,null,null,null,null,null,null,null,null,null,null,null,null,null,null,null,null,null,null,null,null,null,null,null,null,null,null,null,null,null,null,null,null,null,null,null,null,null,"COAG","Коагулянты","тыс.руб.",{"$f":"SUMIF($AS$9:$AT$9,AP$9,$AS27:$AT27)","v":0},{"$f":"SUMIF($AS$9:$AT$9,AQ$9,$AS27:$AT27)","v":0},{"$f":"SUMIF($AS$9:$AT$9,AR$9,$AS27:$AT27)","v":0}]
[]
[null,null,null,null,null,null,null,null,null,null,null,null,null,null,null,null,null,null,null,null,null,null,null,null,null,null,null,null,null,null,null,"ADJUSTABLE.C",null,null,null,null,null,null,"HDSFAL","гидроксохлоросульфат алюминия (коагулянт смешанного типа)","тыс.руб.",{"$f":"SUMIF($AS$9:$AT$9,AP$9,$AS29:$AT29)","v":0},{"$f":"SUMIF($AS$9:$AT$9,AQ$9,$AS29:$AT29)","v":0},{"$f":"SUMIF($AS$9:$AT$9,AR$9,$AS29:$AT29)","v":0}]
[null,null,null,null,null,null,null,null,null,null,null,null,null,null,null,null,null,null,null,null,null,null,null,null,null,null,null,null,null,null,null,"ADJUSTABLE.P",null,null,null,null,null,null,{"$f":"AM29 & \".P\"","v":"HDSFAL.P"},"Цена за единицу","руб./ед.",{"$f":"IF(AP31=0,0,AP29*1000/AP31)","v":0},{"$f":"IF(AQ31=0,0,AQ29*1000/AQ31)","v":0},{"$f":"IF(AR31=0,0,AR29*1000/AR31)","v":0}]
[null,null,null,null,null,null,null,null,null,null,null,null,null,null,null,null,null,null,null,null,null,null,null,null,null,null,null,null,null,null,null,"ADJUSTABLE.V",null,null,null,null,null,null,{"$f":"AM29 & \".V\"","v":"HDSFAL.V"},"Объём","ед.",{"$f":"SUMIF($AS$9:$AT$9,AP$9,$AS31:$AT31)","v":0},0,0]
[null,null,null,null,null,null,null,null,null,null,null,null,null,null,null,null,null,null,null,null,null,null,null,null,null,null,null,null,null,null,null,"ADJUSTABLE.C",null,null,null,null,null,null,"FES","железный купорос","тыс.руб.",0,0,0]
[null,null,null,null,null,null,null,null,null,null,null,null,null,null,null,null,null,null,null,null,null,null,null,null,null,null,null,null,null,null,null,"ADJUSTABLE.P",null,null,null,null,null,null,{"$f":"AM32 & \".P\"","v":"FES.P"},"Цена за единицу","руб./ед.",{"$f":"IF(AP34=0,0,AP32*1000/AP34)","v":0},{"$f":"IF(AQ34=0,0,AQ32*1000/AQ34)","v":0},{"$f":"IF(AR34=0,0,AR32*1000/AR34)","v":0}]
[null,null,null,null,null,null,null,null,null,null,null,null,null,null,null,null,null,null,null,null,null,null,null,null,null,null,null,null,null,null,null,"ADJUSTABLE.V",null,null,null,null,null,null,{"$f":"AM32 & \".V\"","v":"FES.V"},"Объём","ед.",{"$f":"SUMIF($AS$9:$AT$9,AP$9,$AS34:$AT34)","v":0},0,0]
[null,null,null,null,null,null,null,null,null,null,null,null,null,null,null,null,null,null,null,null,null,null,null,null,null,null,null,null,null,null,null,"ADJUSTABLE.C",null,null,null,null,null,null,"OXCLAL","оксихлорид алюминия","тыс.руб.",0,0,0]
[null,null,null,null,null,null,null,null,null,null,null,null,null,null,null,null,null,null,null,null,null,null,null,null,null,null,null,null,null,null,null,"ADJUSTABLE.P",null,null,null,null,null,null,{"$f":"AM35 & \".P\"","v":"OXCLAL.P"},"Цена за единицу","руб./ед.",{"$f":"IF(AP37=0,0,AP35*1000/AP37)","v":0},{"$f":"IF(AQ37=0,0,AQ35*1000/AQ37)","v":0},{"$f":"IF(AR37=0,0,AR35*1000/AR37)","v":0}]
[null,null,null,null,null,null,null,null,null,null,null,null,null,null,null,null,null,null,null,null,null,null,null,null,null,null,null,null,null,null,null,"ADJUSTABLE.V",null,null,null,null,null,null,{"$f":"AM35 & \".V\"","v":"OXCLAL.V"},"Объём","ед.",{"$f":"SUMIF($AS$9:$AT$9,AP$9,$AS37:$AT37)","v":0},0,0]
[null,null,null,null,null,null,null,null,null,null,null,null,null,null,null,null,null,null,null,null,null,null,null,null,null,null,null,null,null,null,null,"ADJUSTABLE.C",null,null,null,null,null,null,"OXCLAL10","оксихлорид алюминия 10 %","тыс.руб.",0,0,0]
[null,null,null,null,null,null,null,null,null,null,null,null,null,null,null,null,null,null,null,null,null,null,null,null,null,null,null,null,null,null,null,"ADJUSTABLE.P",null,null,null,null,null,null,{"$f":"AM38 & \".P\"","v":"OXCLAL10.P"},"Цена за единицу","руб./ед.",{"$f":"IF(AP40=0,0,AP38*1000/AP40)","v":0},{"$f":"IF(AQ40=0,0,AQ38*1000/AQ40)","v":0},{"$f":"IF(AR40=0,0,AR38*1000/AR40)","v":0}]
[null,null,null,null,null,null,null,null,null,null,null,null,null,null,null,null,null,null,null,null,null,null,null,null,null,null,null,null,null,null,null,"ADJUSTABLE.V",null,null,null,null,null,null,{"$f":"AM38 & \".V\"","v":"OXCLAL10.V"},"Объём","ед.",0,0,0]
[null,null,null,null,null,null,null,null,null,null,null,null,null,null,null,null,null,null,null,null,null,null,null,null,null,null,null,null,null,null,null,"ADJUSTABLE.C",null,null,null,null,null,null,"OXCLAL18","оксихлорид алюминия 18 %","тыс.руб.",0,0,0]
[null,null,null,null,null,null,null,null,null,null,null,null,null,null,null,null,null,null,null,null,null,null,null,null,null,null,null,null,null,null,null,"ADJUSTABLE.P",null,null,null,null,null,null,{"$f":"AM41 & \".P\"","v":"OXCLAL18.P"},"Цена за единицу","руб./ед.",{"$f":"IF(AP43=0,0,AP41*1000/AP43)","v":0},{"$f":"IF(AQ43=0,0,AQ41*1000/AQ43)","v":0},{"$f":"IF(AR43=0,0,AR41*1000/AR43)","v":0}]
[null,null,null,null,null,null,null,null,null,null,null,null,null,null,null,null,null,null,null,null,null,null,null,null,null,null,null,null,null,null,null,"ADJUSTABLE.V",null,null,null,null,null,null,{"$f":"AM41 & \".V\"","v":"OXCLAL18.V"},"Объём","ед.",0,0,0]
[null,null,null,null,null,null,null,null,null,null,null,null,null,null,null,null,null,null,null,null,null,null,null,null,null,null,null,null,null,null,null,"ADJUSTABLE.C",null,null,null,null,null,null,"OXCLAL30","оксихлорид алюминия 30 %","тыс.руб.",0,0,0]
[null,null,null,null,null,null,null,null,null,null,null,null,null,null,null,null,null,null,null,null,null,null,null,null,null,null,null,null,null,null,null,"ADJUSTABLE.P",null,null,null,null,null,null,{"$f":"AM44 & \".P\"","v":"OXCLAL30.P"},"Цена за единицу","руб./ед.",{"$f":"IF(AP46=0,0,AP44*1000/AP46)","v":0},{"$f":"IF(AQ46=0,0,AQ44*1000/AQ46)","v":0},{"$f":"IF(AR46=0,0,AR44*1000/AR46)","v":0}]
[null,null,null,null,null,null,null,null,null,null,null,null,null,null,null,null,null,null,null,null,null,null,null,null,null,null,null,null,null,null,null,"ADJUSTABLE.V",null,null,null,null,null,null,{"$f":"AM44 & \".V\"","v":"OXCLAL30.V"},"Объём","ед.",0,0,0]
[null,null,null,null,null,null,null,null,null,null,null,null,null,null,null,null,null,null,null,null,null,null,null,null,null,null,null,null,null,null,null,"ADJUSTABLE.C",null,null,null,null,null,null,"PLOXCLAL","полиоксихлорид алюминия ","тыс.руб.",0,0,0]
[null,null,null,null,null,null,null,null,null,null,null,null,null,null,null,null,null,null,null,null,null,null,null,null,null,null,null,null,null,null,null,"ADJUSTABLE.P",null,null,null,null,null,null,{"$f":"AM47 & \".P\"","v":"PLOXCLAL.P"},"Цена за единицу","руб./ед.",{"$f":"IF(AP49=0,0,AP47*1000/AP49)","v":0},{"$f":"IF(AQ49=0,0,AQ47*1000/AQ49)","v":0},{"$f":"IF(AR49=0,0,AR47*1000/AR49)","v":0}]
[null,null,null,null,null,null,null,null,null,null,null,null,null,null,null,null,null,null,null,null,null,null,null,null,null,null,null,null,null,null,null,"ADJUSTABLE.V",null,null,null,null,null,null,{"$f":"AM47 & \".V\"","v":"PLOXCLAL.V"},"Объём","ед.",{"$f":"SUMIF($AS$9:$AT$9,AP$9,$AS49:$AT49)","v":0},0,0]
[null,null,null,null,null,null,null,null,null,null,null,null,null,null,null,null,null,null,null,null,null,null,null,null,null,null,null,null,null,null,null,"ADJUSTABLE.C",null,null,null,null,null,null,"PLOXCLAL10","полиоксихлорид алюминия 10 %","тыс.руб.",0,0,0]
[null,null,null,null,null,null,null,null,null,null,null,null,null,null,null,null,null,null,null,null,null,null,null,null,null,null,null,null,null,null,null,"ADJUSTABLE.P",null,null,null,null,null,null,{"$f":"AM50 & \".P\"","v":"PLOXCLAL10.P"},"Цена за единицу","руб./ед.",{"$f":"IF(AP52=0,0,AP50*1000/AP52)","v":0},{"$f":"IF(AQ52=0,0,AQ50*1000/AQ52)","v":0},{"$f":"IF(AR52=0,0,AR50*1000/AR52)","v":0}]
[null,null,null,null,null,null,null,null,null,null,null,null,null,null,null,null,null,null,null,null,null,null,null,null,null,null,null,null,null,null,null,"ADJUSTABLE.V",null,null,null,null,null,null,{"$f":"AM50 & \".V\"","v":"PLOXCLAL10.V"},"Объём","ед.",{"$f":"SUMIF($AS$9:$AT$9,AP$9,$AS52:$AT52)","v":0},0,0]
[null,null,null,null,null,null,null,null,null,null,null,null,null,null,null,null,null,null,null,null,null,null,null,null,null,null,null,null,null,null,null,"ADJUSTABLE.C",null,null,null,null,null,null,"PLOXCLAL18","полиоксихлорид алюминия 18 %","тыс.руб.",0,0,0]
[null,null,null,null,null,null,null,null,null,null,null,null,null,null,null,null,null,null,null,null,null,null,null,null,null,null,null,null,null,null,null,"ADJUSTABLE.P",null,null,null,null,null,null,{"$f":"AM53 & \".P\"","v":"PLOXCLAL18.P"},"Цена за единицу","руб./ед.",{"$f":"IF(AP55=0,0,AP53*1000/AP55)","v":0},{"$f":"IF(AQ55=0,0,AQ53*1000/AQ55)","v":0},{"$f":"IF(AR55=0,0,AR53*1000/AR55)","v":0}]
[null,null,null,null,null,null,null,null,null,null,null,null,null,null,null,null,null,null,null,null,null,null,null,null,null,null,null,null,null,null,null,"ADJUSTABLE.V",null,null,null,null,null,null,{"$f":"AM53 & \".V\"","v":"PLOXCLAL18.V"},"Объём","ед.",{"$f":"SUMIF($AS$9:$AT$9,AP$9,$AS55:$AT55)","v":0},0,0]
[null,null,null,null,null,null,null,null,null,null,null,null,null,null,null,null,null,null,null,null,null,null,null,null,null,null,null,null,null,null,null,"ADJUSTABLE.C",null,null,null,null,null,null,"PLOXCLAL30","полиоксихлорид алюминия 30 %","тыс.руб.",0,0,0]
[null,null,null,null,null,null,null,null,null,null,null,null,null,null,null,null,null,null,null,null,null,null,null,null,null,null,null,null,null,null,null,"ADJUSTABLE.P",null,null,null,null,null,null,{"$f":"AM56 & \".P\"","v":"PLOXCLAL30.P"},"Цена за единицу","руб./ед.",{"$f":"IF(AP58=0,0,AP56*1000/AP58)","v":0},{"$f":"IF(AQ58=0,0,AQ56*1000/AQ58)","v":0},{"$f":"IF(AR58=0,0,AR56*1000/AR58)","v":0}]
[null,null,null,null,null,null,null,null,null,null,null,null,null,null,null,null,null,null,null,null,null,null,null,null,null,null,null,null,null,null,null,"ADJUSTABLE.V",null,null,null,null,null,null,{"$f":"AM56 & \".V\"","v":"PLOXCLAL30.V"},"Объём","ед.",{"$f":"SUMIF($AS$9:$AT$9,AP$9,$AS58:$AT58)","v":0},0,0]
[null,null,null,null,null,null,null,null,null,null,null,null,null,null,null,null,null,null,null,null,null,null,null,null,null,null,null,null,null,null,null,"ADJUSTABLE.C",null,null,null,null,null,null,"SFAL","сульфат алюминия ","тыс.руб.",0,0,0]
[null,null,null,null,null,null,null,null,null,null,null,null,null,null,null,null,null,null,null,null,null,null,null,null,null,null,null,null,null,null,null,"ADJUSTABLE.P",null,null,null,null,null,null,{"$f":"AM59 & \".P\"","v":"SFAL.P"},"Цена за единицу","руб./ед.",{"$f":"IF(AP61=0,0,AP59*1000/AP61)","v":0},{"$f":"IF(AQ61=0,0,AQ59*1000/AQ61)","v":0},{"$f":"IF(AR61=0,0,AR59*1000/AR61)","v":0}]
[null,null,null,null,null,null,null,null,null,null,null,null,null,null,null,null,null,null,null,null,null,null,null,null,null,null,null,null,null,null,null,"ADJUSTABLE.V",null,null,null,null,null,null,{"$f":"AM59 & \".V\"","v":"SFAL.V"},"Объём","ед.",{"$f":"SUMIF($AS$9:$AT$9,AP$9,$AS61:$AT61)","v":0},0,0]
[null,null,null,null,null,null,null,null,null,null,null,null,null,null,null,null,null,null,null,null,null,null,null,null,null,null,null,null,null,null,null,"ADJUSTABLE.OTH",null,null,null,null,null,null,"OTH","прочие","тыс.руб.",0,0,0]
[]
[null,null,null,null,null,null,null,null,null,null,null,null,null,null,null,null,null,null,null,null,null,null,null,null,null,null,null,null,null,null,null,null,null,null,null,null,null,null,"FLOC","Флокулянты","тыс.руб.",{"$f":"SUMIF($AS$9:$AT$9,AP$9,$AS64:$AT64)","v":0},{"$f":"SUMIF($AS$9:$AT$9,AQ$9,$AS64:$AT64)","v":0},{"$f":"SUMIF($AS$9:$AT$9,AR$9,$AS64:$AT64)","v":0}]
[]
[null,null,null,null,null,null,null,null,null,null,null,null,null,null,null,null,null,null,null,null,null,null,null,null,null,null,null,null,null,null,null,"ADJUSTABLE.C",null,null,null,null,null,null,"MGFLK","Магнафлок","тыс.руб.",{"$f":"SUMIF($AS$9:$AT$9,AP$9,$AS66:$AT66)","v":0},{"$f":"SUMIF($AS$9:$AT$9,AQ$9,$AS66:$AT66)","v":0},{"$f":"SUMIF($AS$9:$AT$9,AR$9,$AS66:$AT66)","v":0}]
[null,null,null,null,null,null,null,null,null,null,null,null,null,null,null,null,null,null,null,null,null,null,null,null,null,null,null,null,null,null,null,"ADJUSTABLE.P",null,null,null,null,null,null,{"$f":"AM66 & \".P\"","v":"MGFLK.P"},"Цена за единицу","руб./ед.",{"$f":"IF(AP68=0,0,AP66*1000/AP68)","v":0},{"$f":"IF(AQ68=0,0,AQ66*1000/AQ68)","v":0},{"$f":"IF(AR68=0,0,AR66*1000/AR68)","v":0}]
[null,null,null,null,null,null,null,null,null,null,null,null,null,null,null,null,null,null,null,null,null,null,null,null,null,null,null,null,null,null,null,"ADJUSTABLE.V",null,null,null,null,null,null,{"$f":"AM66 & \".V\"","v":"MGFLK.V"},"Объём","ед.",{"$f":"SUMIF($AS$9:$AT$9,AP$9,$AS68:$AT68)","v":0},0,0]
[null,null,null,null,null,null,null,null,null,null,null,null,null,null,null,null,null,null,null,null,null,null,null,null,null,null,null,null,null,null,null,"ADJUSTABLE.C",null,null,null,null,null,null,"PRSTL","Праестол","тыс.руб.",0,0,0]
[null,null,null,null,null,null,null,null,null,null,null,null,null,null,null,null,null,null,null,null,null,null,null,null,null,null,null,null,null,null,null,"ADJUSTABLE.P",null,null,null,null,null,null,{"$f":"AM69 & \".P\"","v":"PRSTL.P"},"Цена за единицу","руб./ед.",{"$f":"IF(AP71=0,0,AP69*1000/AP71)","v":0},{"$f":"IF(AQ71=0,0,AQ69*1000/AQ71)","v":0},{"$f":"IF(AR71=0,0,AR69*1000/AR71)","v":0}]
[null,null,null,null,null,null,null,null,null,null,null,null,null,null,null,null,null,null,null,null,null,null,null,null,null,null,null,null,null,null,null,"ADJUSTABLE.V",null,null,null,null,null,null,{"$f":"AM69 & \".V\"","v":"PRSTL.V"},"Объём","ед.",{"$f":"SUMIF($AS$9:$AT$9,AP$9,$AS71:$AT71)","v":0},0,0]
[null,null,null,null,null,null,null,null,null,null,null,null,null,null,null,null,null,null,null,null,null,null,null,null,null,null,null,null,null,null,null,"ADJUSTABLE.C",null,null,null,null,null,null,"PRSTL853","Праестол 853 BC","тыс.руб.",0,0,0]
[null,null,null,null,null,null,null,null,null,null,null,null,null,null,null,null,null,null,null,null,null,null,null,null,null,null,null,null,null,null,null,"ADJUSTABLE.P",null,null,null,null,null,null,{"$f":"AM72 & \".P\"","v":"PRSTL853.P"},"Цена за единицу","руб./ед.",{"$f":"IF(AP74=0,0,AP72*1000/AP74)","v":0},{"$f":"IF(AQ74=0,0,AQ72*1000/AQ74)","v":0},{"$f":"IF(AR74=0,0,AR72*1000/AR74)","v":0}]
[null,null,null,null,null,null,null,null,null,null,null,null,null,null,null,null,null,null,null,null,null,null,null,null,null,null,null,null,null,null,null,"ADJUSTABLE.V",null,null,null,null,null,null,{"$f":"AM72 & \".V\"","v":"PRSTL853.V"},"Объём","ед.",{"$f":"SUMIF($AS$9:$AT$9,AP$9,$AS74:$AT74)","v":0},0,0]
[null,null,null,null,null,null,null,null,null,null,null,null,null,null,null,null,null,null,null,null,null,null,null,null,null,null,null,null,null,null,null,"ADJUSTABLE.C",null,null,null,null,null,null,"PRSTL650","Праестол 650 BC","тыс.руб.",0,0,0]
[null,null,null,null,null,null,null,null,null,null,null,null,null,null,null,null,null,null,null,null,null,null,null,null,null,null,null,null,null,null,null,"ADJUSTABLE.P",null,null,null,null,null,null,{"$f":"AM75 & \".P\"","v":"PRSTL650.P"},"Цена за единицу","руб./ед.",{"$f":"IF(AP77=0,0,AP75*1000/AP77)","v":0},{"$f":"IF(AQ77=0,0,AQ75*1000/AQ77)","v":0},{"$f":"IF(AR77=0,0,AR75*1000/AR77)","v":0}]
[null,null,null,null,null,null,null,null,null,null,null,null,null,null,null,null,null,null,null,null,null,null,null,null,null,null,null,null,null,null,null,"ADJUSTABLE.V",null,null,null,null,null,null,{"$f":"AM75 & \".V\"","v":"PRSTL650.V"},"Объём","ед.",{"$f":"SUMIF($AS$9:$AT$9,AP$9,$AS77:$AT77)","v":0},0,0]
[null,null,null,null,null,null,null,null,null,null,null,null,null,null,null,null,null,null,null,null,null,null,null,null,null,null,null,null,null,null,null,"ADJUSTABLE.C",null,null,null,null,null,null,"PRSTL2515","Праестол 2515 TR","тыс.руб.",0,0,0]
[null,null,null,null,null,null,null,null,null,null,null,null,null,null,null,null,null,null,null,null,null,null,null,null,null,null,null,null,null,null,null,"ADJUSTABLE.P",null,null,null,null,null,null,{"$f":"AM78 & \".P\"","v":"PRSTL2515.P"},"Цена за единицу","руб./ед.",{"$f":"IF(AP80=0,0,AP78*1000/AP80)","v":0},{"$f":"IF(AQ80=0,0,AQ78*1000/AQ80)","v":0},{"$f":"IF(AR80=0,0,AR78*1000/AR80)","v":0}]
[null,null,null,null,null,null,null,null,null,null,null,null,null,null,null,null,null,null,null,null,null,null,null,null,null,null,null,null,null,null,null,"ADJUSTABLE.V",null,null,null,null,null,null,{"$f":"AM78 & \".V\"","v":"PRSTL2515.V"},"Объём","ед.",{"$f":"SUMIF($AS$9:$AT$9,AP$9,$AS80:$AT80)","v":0},0,0]
[null,null,null,null,null,null,null,null,null,null,null,null,null,null,null,null,null,null,null,null,null,null,null,null,null,null,null,null,null,null,null,"ADJUSTABLE.C",null,null,null,null,null,null,"GRLIFEK47","Гринлайф К 47","тыс.руб.",0,0,0]
[null,null,null,null,null,null,null,null,null,null,null,null,null,null,null,null,null,null,null,null,null,null,null,null,null,null,null,null,null,null,null,"ADJUSTABLE.P",null,null,null,null,null,null,{"$f":"AM81 & \".P\"","v":"GRLIFEK47.P"},"Цена за единицу","руб./ед.",{"$f":"IF(AP83=0,0,AP81*1000/AP83)","v":0},{"$f":"IF(AQ83=0,0,AQ81*1000/AQ83)","v":0},{"$f":"IF(AR83=0,0,AR81*1000/AR83)","v":0}]
[null,null,null,null,null,null,null,null,null,null,null,null,null,null,null,null,null,null,null,null,null,null,null,null,null,null,null,null,null,null,null,"ADJUSTABLE.V",null,null,null,null,null,null,{"$f":"AM81 & \".V\"","v":"GRLIFEK47.V"},"Объём","ед.",{"$f":"SUMIF($AS$9:$AT$9,AP$9,$AS83:$AT83)","v":0},0,0]
[null,null,null,null,null,null,null,null,null,null,null,null,null,null,null,null,null,null,null,null,null,null,null,null,null,null,null,null,null,null,null,"ADJUSTABLE.C",null,null,null,null,null,null,"GRLIFEK41","Гринлайф К 41","тыс.руб.",0,0,0]
[null,null,null,null,null,null,null,null,null,null,null,null,null,null,null,null,null,null,null,null,null,null,null,null,null,null,null,null,null,null,null,"ADJUSTABLE.P",null,null,null,null,null,null,{"$f":"AM84 & \".P\"","v":"GRLIFEK41.P"},"Цена за единицу","руб./ед.",{"$f":"IF(AP86=0,0,AP84*1000/AP86)","v":0},{"$f":"IF(AQ86=0,0,AQ84*1000/AQ86)","v":0},{"$f":"IF(AR86=0,0,AR84*1000/AR86)","v":0}]
[null,null,null,null,null,null,null,null,null,null,null,null,null,null,null,null,null,null,null,null,null,null,null,null,null,null,null,null,null,null,null,"ADJUSTABLE.V",null,null,null,null,null,null,{"$f":"AM84 & \".V\"","v":"GRLIFEK41.V"},"Объём","ед.",{"$f":"SUMIF($AS$9:$AT$9,AP$9,$AS86:$AT86)","v":0},0,0]
[null,null,null,null,null,null,null,null,null,null,null,null,null,null,null,null,null,null,null,null,null,null,null,null,null,null,null,null,null,null,null,"ADJUSTABLE.C",null,null,null,null,null,null,"GRLIFEA10PV","Гринлайф А 10 ПВ","тыс.руб.",0,0,0]
[null,null,null,null,null,null,null,null,null,null,null,null,null,null,null,null,null,null,null,null,null,null,null,null,null,null,null,null,null,null,null,"ADJUSTABLE.P",null,null,null,null,null,null,{"$f":"AM87 & \".P\"","v":"GRLIFEA10PV.P"},"Цена за единицу","руб./ед.",{"$f":"IF(AP89=0,0,AP87*1000/AP89)","v":0},{"$f":"IF(AQ89=0,0,AQ87*1000/AQ89)","v":0},{"$f":"IF(AR89=0,0,AR87*1000/AR89)","v":0}]
[null,null,null,null,null,null,null,null,null,null,null,null,null,null,null,null,null,null,null,null,null,null,null,null,null,null,null,null,null,null,null,"ADJUSTABLE.V",null,null,null,null,null,null,{"$f":"AM87 & \".V\"","v":"GRLIFEA10PV.V"},"Объём","ед.",{"$f":"SUMIF($AS$9:$AT$9,AP$9,$AS89:$AT89)","v":0},0,0]
[null,null,null,null,null,null,null,null,null,null,null,null,null,null,null,null,null,null,null,null,null,null,null,null,null,null,null,null,null,null,null,"ADJUSTABLE.OTH",null,null,null,null,null,null,"OTH","прочие","тыс.руб.",0,0,0]
[]
[null,null,null,null,null,null,null,null,null,null,null,null,null,null,null,null,null,null,null,null,null,null,null,null,null,null,null,null,null,null,null,null,null,null,null,null,null,null,"REAG","Реагенты","тыс.руб.",{"$f":"SUMIF($AS$9:$AT$9,AP$9,$AS92:$AT92)","v":0},{"$f":"SUMIF($AS$9:$AT$9,AQ$9,$AS92:$AT92)","v":0},{"$f":"SUMIF($AS$9:$AT$9,AR$9,$AS92:$AT92)","v":0}]
[]
[null,null,null,null,null,null,null,null,null,null,null,null,null,null,null,null,null,null,null,null,null,null,null,null,null,null,null,null,null,null,null,"ADJUSTABLE.C",null,null,null,null,null,null,"AGRP","агар питательный","тыс.руб.",{"$f":"SUMIF($AS$9:$AT$9,AP$9,$AS94:$AT94)","v":0},{"$f":"SUMIF($AS$9:$AT$9,AQ$9,$AS94:$AT94)","v":0},{"$f":"SUMIF($AS$9:$AT$9,AR$9,$AS94:$AT94)","v":0}]
[null,null,null,null,null,null,null,null,null,null,null,null,null,null,null,null,null,null,null,null,null,null,null,null,null,null,null,null,null,null,null,"ADJUSTABLE.P",null,null,null,null,null,null,{"$f":"AM94 & \".P\"","v":"AGRP.P"},"Цена за единицу","руб./ед.",{"$f":"IF(AP96=0,0,AP94*1000/AP96)","v":0},{"$f":"IF(AQ96=0,0,AQ94*1000/AQ96)","v":0},{"$f":"IF(AR96=0,0,AR94*1000/AR96)","v":0}]
[null,null,null,null,null,null,null,null,null,null,null,null,null,null,null,null,null,null,null,null,null,null,null,null,null,null,null,null,null,null,null,"ADJUSTABLE.V",null,null,null,null,null,null,{"$f":"AM94 & \".V\"","v":"AGRP.V"},"Объём","ед.",{"$f":"SUMIF($AS$9:$AT$9,AP$9,$AS96:$AT96)","v":0},0,0]
[null,null,null,null,null,null,null,null,null,null,null,null,null,null,null,null,null,null,null,null,null,null,null,null,null,null,null,null,null,null,null,"ADJUSTABLE.C",null,null,null,null,null,null,"AGRE","агар Эндо","тыс.руб.",0,0,0]
[null,null,null,null,null,null,null,null,null,null,null,null,null,null,null,null,null,null,null,null,null,null,null,null,null,null,null,null,null,null,null,"ADJUSTABLE.P",null,null,null,null,null,null,{"$f":"AM97 & \".P\"","v":"AGRE.P"},"Цена за единицу","руб./ед.",{"$f":"IF(AP99=0,0,AP97*1000/AP99)","v":0},{"$f":"IF(AQ99=0,0,AQ97*1000/AQ99)","v":0},{"$f":"IF(AR99=0,0,AR97*1000/AR99)","v":0}]
[null,null,null,null,null,null,null,null,null,null,null,null,null,null,null,null,null,null,null,null,null,null,null,null,null,null,null,null,null,null,null,"ADJUSTABLE.V",null,null,null,null,null,null,{"$f":"AM97 & \".V\"","v":"AGRE.V"},"Объём","ед.",{"$f":"SUMIF($AS$9:$AT$9,AP$9,$AS99:$AT99)","v":0},0,0]
[null,null,null,null,null,null,null,null,null,null,null,null,null,null,null,null,null,null,null,null,null,null,null,null,null,null,null,null,null,null,null,"ADJUSTABLE.C",null,null,null,null,null,null,"ALOX","алюминий окись","тыс.руб.",0,0,0]
[null,null,null,null,null,null,null,null,null,null,null,null,null,null,null,null,null,null,null,null,null,null,null,null,null,null,null,null,null,null,null,"ADJUSTABLE.P",null,null,null,null,null,null,{"$f":"AM100 & \".P\"","v":"ALOX.P"},"Цена за единицу","руб./ед.",{"$f":"IF(AP102=0,0,AP100*1000/AP102)","v":0},{"$f":"IF(AQ102=0,0,AQ100*1000/AQ102)","v":0},{"$f":"IF(AR102=0,0,AR100*1000/AR102)","v":0}]
[null,null,null,null,null,null,null,null,null,null,null,null,null,null,null,null,null,null,null,null,null,null,null,null,null,null,null,null,null,null,null,"ADJUSTABLE.V",null,null,null,null,null,null,{"$f":"AM100 & \".V\"","v":"ALOX.V"},"Объём","ед.",{"$f":"SUMIF($AS$9:$AT$9,AP$9,$AS102:$AT102)","v":0},0,0]
[null,null,null,null,null,null,null,null,null,null,null,null,null,null,null,null,null,null,null,null,null,null,null,null,null,null,null,null,null,null,null,"ADJUSTABLE.C",null,null,null,null,null,null,"ALS","алюминий сернокислый","тыс.руб.",0,0,0]
[null,null,null,null,null,null,null,null,null,null,null,null,null,null,null,null,null,null,null,null,null,null,null,null,null,null,null,null,null,null,null,"ADJUSTABLE.P",null,null,null,null,null,null,{"$f":"AM103 & \".P\"","v":"ALS.P"},"Цена за единицу","руб./ед.",{"$f":"IF(AP105=0,0,AP103*1000/AP105)","v":0},{"$f":"IF(AQ105=0,0,AQ103*1000/AQ105)","v":0},{"$f":"IF(AR105=0,0,AR103*1000/AR105)","v":0}]
[null,null,null,null,null,null,null,null,null,null,null,null,null,null,null,null,null,null,null,null,null,null,null,null,null,null,null,null,null,null,null,"ADJUSTABLE.V",null,null,null,null,null,null,{"$f":"AM103 & \".V\"","v":"ALS.V"},"Объём","ед.",{"$f":"SUMIF($AS$9:$AT$9,AP$9,$AS105:$AT105)","v":0},0,0]
[null,null,null,null,null,null,null,null,null,null,null,null,null,null,null,null,null,null,null,null,null,null,null,null,null,null,null,null,null,null,null,"ADJUSTABLE.C",null,null,null,null,null,null,"AM","аммиак","тыс.руб.",0,0,0]
[null,null,null,null,null,null,null,null,null,null,null,null,null,null,null,null,null,null,null,null,null,null,null,null,null,null,null,null,null,null,null,"ADJUSTABLE.P",null,null,null,null,null,null,{"$f":"AM106 & \".P\"","v":"AM.P"},"Цена за единицу","руб./ед.",{"$f":"IF(AP108=0,0,AP106*1000/AP108)","v":0},{"$f":"IF(AQ108=0,0,AQ106*1000/AQ108)","v":0},{"$f":"IF(AR108=0,0,AR106*1000/AR108)","v":0}]
[null,null,null,null,null,null,null,null,null,null,null,null,null,null,null,null,null,null,null,null,null,null,null,null,null,null,null,null,null,null,null,"ADJUSTABLE.V",null,null,null,null,null,null,{"$f":"AM106 & \".V\"","v":"AM.V"},"Объём","ед.",{"$f":"SUMIF($AS$9:$AT$9,AP$9,$AS108:$AT108)","v":0},0,0]
[null,null,null,null,null,null,null,null,null,null,null,null,null,null,null,null,null,null,null,null,null,null,null,null,null,null,null,null,null,null,null,"ADJUSTABLE.C",null,null,null,null,null,null,"AMW","аммиачная вода","тыс.руб.",0,0,0]
[null,null,null,null,null,null,null,null,null,null,null,null,null,null,null,null,null,null,null,null,null,null,null,null,null,null,null,null,null,null,null,"ADJUSTABLE.P",null,null,null,null,null,null,{"$f":"AM109 & \".P\"","v":"AMW.P"},"Цена за единицу","руб./ед.",{"$f":"IF(AP111=0,0,AP109*1000/AP111)","v":0},{"$f":"IF(AQ111=0,0,AQ109*1000/AQ111)","v":0},{"$f":"IF(AR111=0,0,AR109*1000/AR111)","v":0}]
[null,null,null,null,null,null,null,null,null,null,null,null,null,null,null,null,null,null,null,null,null,null,null,null,null,null,null,null,null,null,null,"ADJUSTABLE.V",null,null,null,null,null,null,{"$f":"AM109 & \".V\"","v":"AMW.V"},"Объём","ед.",{"$f":"SUMIF($AS$9:$AT$9,AP$9,$AS111:$AT111)","v":0},0,0]
[null,null,null,null,null,null,null,null,null,null,null,null,null,null,null,null,null,null,null,null,null,null,null,null,null,null,null,null,null,null,null,"ADJUSTABLE.C",null,null,null,null,null,null,"AMN","аммоний","тыс.руб.",0,0,0]
[null,null,null,null,null,null,null,null,null,null,null,null,null,null,null,null,null,null,null,null,null,null,null,null,null,null,null,null,null,null,null,"ADJUSTABLE.P",null,null,null,null,null,null,{"$f":"AM112 & \".P\"","v":"AMN.P"},"Цена за единицу","руб./ед.",{"$f":"IF(AP114=0,0,AP112*1000/AP114)","v":0},{"$f":"IF(AQ114=0,0,AQ112*1000/AQ114)","v":0},{"$f":"IF(AR114=0,0,AR112*1000/AR114)","v":0}]
[null,null,null,null,null,null,null,null,null,null,null,null,null,null,null,null,null,null,null,null,null,null,null,null,null,null,null,null,null,null,null,"ADJUSTABLE.V",null,null,null,null,null,null,{"$f":"AM112 & \".V\"","v":"AMN.V"},"Объём","ед.",{"$f":"SUMIF($AS$9:$AT$9,AP$9,$AS114:$AT114)","v":0},0,0]
[null,null,null,null,null,null,null,null,null,null,null,null,null,null,null,null,null,null,null,null,null,null,null,null,null,null,null,null,null,null,null,"ADJUSTABLE.C",null,null,null,null,null,null,"AMNCL","аммоний хлористый","тыс.руб.",0,0,0]
[null,null,null,null,null,null,null,null,null,null,null,null,null,null,null,null,null,null,null,null,null,null,null,null,null,null,null,null,null,null,null,"ADJUSTABLE.P",null,null,null,null,null,null,{"$f":"AM115 & \".P\"","v":"AMNCL.P"},"Цена за единицу","руб./ед.",{"$f":"IF(AP117=0,0,AP115*1000/AP117)","v":0},{"$f":"IF(AQ117=0,0,AQ115*1000/AQ117)","v":0},{"$f":"IF(AR117=0,0,AR115*1000/AR117)","v":0}]
[null,null,null,null,null,null,null,null,null,null,null,null,null,null,null,null,null,null,null,null,null,null,null,null,null,null,null,null,null,null,null,"ADJUSTABLE.V",null,null,null,null,null,null,{"$f":"AM115 & \".V\"","v":"AMNCL.V"},"Объём","ед.",{"$f":"SUMIF($AS$9:$AT$9,AP$9,$AS117:$AT117)","v":0},0,0]
[null,null,null,null,null,null,null,null,null,null,null,null,null,null,null,null,null,null,null,null,null,null,null,null,null,null,null,null,null,null,null,"ADJUSTABLE.C",null,null,null,null,null,null,"BACL","барий хлористый","тыс.руб.",0,0,0]
[null,null,null,null,null,null,null,null,null,null,null,null,null,null,null,null,null,null,null,null,null,null,null,null,null,null,null,null,null,null,null,"ADJUSTABLE.P",null,null,null,null,null,null,{"$f":"AM118 & \".P\"","v":"BACL.P"},"Цена за единицу","руб./ед.",{"$f":"IF(AP120=0,0,AP118*1000/AP120)","v":0},{"$f":"IF(AQ120=0,0,AQ118*1000/AQ120)","v":0},{"$f":"IF(AR120=0,0,AR118*1000/AR120)","v":0}]
[null,null,null,null,null,null,null,null,null,null,null,null,null,null,null,null,null,null,null,null,null,null,null,null,null,null,null,null,null,null,null,"ADJUSTABLE.V",null,null,null,null,null,null,{"$f":"AM118 & \".V\"","v":"BACL.V"},"Объём","ед.",{"$f":"SUMIF($AS$9:$AT$9,AP$9,$AS120:$AT120)","v":0},0,0]
[null,null,null,null,null,null,null,null,null,null,null,null,null,null,null,null,null,null,null,null,null,null,null,null,null,null,null,null,null,null,null,"ADJUSTABLE.C",null,null,null,null,null,null,"BIOX","биоксимин","тыс.руб.",0,0,0]
[null,null,null,null,null,null,null,null,null,null,null,null,null,null,null,null,null,null,null,null,null,null,null,null,null,null,null,null,null,null,null,"ADJUSTABLE.P",null,null,null,null,null,null,{"$f":"AM121 & \".P\"","v":"BIOX.P"},"Цена за единицу","руб./ед.",{"$f":"IF(AP123=0,0,AP121*1000/AP123)","v":0},{"$f":"IF(AQ123=0,0,AQ121*1000/AQ123)","v":0},{"$f":"IF(AR123=0,0,AR121*1000/AR123)","v":0}]
[null,null,null,null,null,null,null,null,null,null,null,null,null,null,null,null,null,null,null,null,null,null,null,null,null,null,null,null,null,null,null,"ADJUSTABLE.V",null,null,null,null,null,null,{"$f":"AM121 & \".V\"","v":"BIOX.V"},"Объём","ед.",{"$f":"SUMIF($AS$9:$AT$9,AP$9,$AS123:$AT123)","v":0},0,0]
[null,null,null,null,null,null,null,null,null,null,null,null,null,null,null,null,null,null,null,null,null,null,null,null,null,null,null,null,null,null,null,"ADJUSTABLE.C",null,null,null,null,null,null,"BRFNL","бромфеноловый синий","тыс.руб.",0,0,0]
[null,null,null,null,null,null,null,null,null,null,null,null,null,null,null,null,null,null,null,null,null,null,null,null,null,null,null,null,null,null,null,"ADJUSTABLE.P",null,null,null,null,null,null,{"$f":"AM124 & \".P\"","v":"BRFNL.P"},"Цена за единицу","руб./ед.",{"$f":"IF(AP126=0,0,AP124*1000/AP126)","v":0},{"$f":"IF(AQ126=0,0,AQ124*1000/AQ126)","v":0},{"$f":"IF(AR126=0,0,AR124*1000/AR126)","v":0}]
[null,null,null,null,null,null,null,null,null,null,null,null,null,null,null,null,null,null,null,null,null,null,null,null,null,null,null,null,null,null,null,"ADJUSTABLE.V",null,null,null,null,null,null,{"$f":"AM124 & \".V\"","v":"BRFNL.V"},"Объём","ед.",{"$f":"SUMIF($AS$9:$AT$9,AP$9,$AS126:$AT126)","v":0},0,0]
[null,null,null,null,null,null,null,null,null,null,null,null,null,null,null,null,null,null,null,null,null,null,null,null,null,null,null,null,null,null,null,"ADJUSTABLE.C",null,null,null,null,null,null,"HDOX","водорода перекись","тыс.руб.",0,0,0]
[null,null,null,null,null,null,null,null,null,null,null,null,null,null,null,null,null,null,null,null,null,null,null,null,null,null,null,null,null,null,null,"ADJUSTABLE.P",null,null,null,null,null,null,{"$f":"AM127 & \".P\"","v":"HDOX.P"},"Цена за единицу","руб./ед.",{"$f":"IF(AP129=0,0,AP127*1000/AP129)","v":0},{"$f":"IF(AQ129=0,0,AQ127*1000/AQ129)","v":0},{"$f":"IF(AR129=0,0,AR127*1000/AR129)","v":0}]
[null,null,null,null,null,null,null,null,null,null,null,null,null,null,null,null,null,null,null,null,null,null,null,null,null,null,null,null,null,null,null,"ADJUSTABLE.V",null,null,null,null,null,null,{"$f":"AM127 & \".V\"","v":"HDOX.V"},"Объём","ед.",{"$f":"SUMIF($AS$9:$AT$9,AP$9,$AS129:$AT129)","v":0},0,0]
[null,null,null,null,null,null,null,null,null,null,null,null,null,null,null,null,null,null,null,null,null,null,null,null,null,null,null,null,null,null,null,"ADJUSTABLE.C",null,null,null,null,null,null,"GEXN","гексан","тыс.руб.",0,0,0]
[null,null,null,null,null,null,null,null,null,null,null,null,null,null,null,null,null,null,null,null,null,null,null,null,null,null,null,null,null,null,null,"ADJUSTABLE.P",null,null,null,null,null,null,{"$f":"AM130 & \".P\"","v":"GEXN.P"},"Цена за единицу","руб./ед.",{"$f":"IF(AP132=0,0,AP130*1000/AP132)","v":0},{"$f":"IF(AQ132=0,0,AQ130*1000/AQ132)","v":0},{"$f":"IF(AR132=0,0,AR130*1000/AR132)","v":0}]
[null,null,null,null,null,null,null,null,null,null,null,null,null,null,null,null,null,null,null,null,null,null,null,null,null,null,null,null,null,null,null,"ADJUSTABLE.V",null,null,null,null,null,null,{"$f":"AM130 & \".V\"","v":"GEXN.V"},"Объём","ед.",{"$f":"SUMIF($AS$9:$AT$9,AP$9,$AS132:$AT132)","v":0},0,0]
[null,null,null,null,null,null,null,null,null,null,null,null,null,null,null,null,null,null,null,null,null,null,null,null,null,null,null,null,null,null,null,"ADJUSTABLE.C",null,null,null,null,null,null,"HDOXCL","гидроксиламин солянокислый","тыс.руб.",0,0,0]
[null,null,null,null,null,null,null,null,null,null,null,null,null,null,null,null,null,null,null,null,null,null,null,null,null,null,null,null,null,null,null,"ADJUSTABLE.P",null,null,null,null,null,null,{"$f":"AM133 & \".P\"","v":"HDOXCL.P"},"Цена за единицу","руб./ед.",{"$f":"IF(AP135=0,0,AP133*1000/AP135)","v":0},{"$f":"IF(AQ135=0,0,AQ133*1000/AQ135)","v":0},{"$f":"IF(AR135=0,0,AR133*1000/AR135)","v":0}]
[null,null,null,null,null,null,null,null,null,null,null,null,null,null,null,null,null,null,null,null,null,null,null,null,null,null,null,null,null,null,null,"ADJUSTABLE.V",null,null,null,null,null,null,{"$f":"AM133 & \".V\"","v":"HDOXCL.V"},"Объём","ед.",{"$f":"SUMIF($AS$9:$AT$9,AP$9,$AS135:$AT135)","v":0},0,0]
[null,null,null,null,null,null,null,null,null,null,null,null,null,null,null,null,null,null,null,null,null,null,null,null,null,null,null,null,null,null,null,"ADJUSTABLE.C",null,null,null,null,null,null,"HDCLCA","гидрохлорид кальция","тыс.руб.",0,0,0]
[null,null,null,null,null,null,null,null,null,null,null,null,null,null,null,null,null,null,null,null,null,null,null,null,null,null,null,null,null,null,null,"ADJUSTABLE.P",null,null,null,null,null,null,{"$f":"AM136 & \".P\"","v":"HDCLCA.P"},"Цена за единицу","руб./ед.",{"$f":"IF(AP138=0,0,AP136*1000/AP138)","v":0},{"$f":"IF(AQ138=0,0,AQ136*1000/AQ138)","v":0},{"$f":"IF(AR138=0,0,AR136*1000/AR138)","v":0}]
[null,null,null,null,null,null,null,null,null,null,null,null,null,null,null,null,null,null,null,null,null,null,null,null,null,null,null,null,null,null,null,"ADJUSTABLE.V",null,null,null,null,null,null,{"$f":"AM136 & \".V\"","v":"HDCLCA.V"},"Объём","ед.",{"$f":"SUMIF($AS$9:$AT$9,AP$9,$AS138:$AT138)","v":0},0,0]
[null,null,null,null,null,null,null,null,null,null,null,null,null,null,null,null,null,null,null,null,null,null,null,null,null,null,null,null,null,null,null,"ADJUSTABLE.C",null,null,null,null,null,null,"HPCLCA","гипохлорит кальция","тыс.руб.",0,0,0]
[null,null,null,null,null,null,null,null,null,null,null,null,null,null,null,null,null,null,null,null,null,null,null,null,null,null,null,null,null,null,null,"ADJUSTABLE.P",null,null,null,null,null,null,{"$f":"AM139 & \".P\"","v":"HPCLCA.P"},"Цена за единицу","руб./ед.",{"$f":"IF(AP141=0,0,AP139*1000/AP141)","v":0},{"$f":"IF(AQ141=0,0,AQ139*1000/AQ141)","v":0},{"$f":"IF(AR141=0,0,AR139*1000/AR141)","v":0}]
[null,null,null,null,null,null,null,null,null,null,null,null,null,null,null,null,null,null,null,null,null,null,null,null,null,null,null,null,null,null,null,"ADJUSTABLE.V",null,null,null,null,null,null,{"$f":"AM139 & \".V\"","v":"HPCLCA.V"},"Объём","ед.",{"$f":"SUMIF($AS$9:$AT$9,AP$9,$AS141:$AT141)","v":0},0,0]
[null,null,null,null,null,null,null,null,null,null,null,null,null,null,null,null,null,null,null,null,null,null,null,null,null,null,null,null,null,null,null,"ADJUSTABLE.C",null,null,null,null,null,null,"HPCLNA","гипохлорит натрия","тыс.руб.",0,0,0]
[null,null,null,null,null,null,null,null,null,null,null,null,null,null,null,null,null,null,null,null,null,null,null,null,null,null,null,null,null,null,null,"ADJUSTABLE.P",null,null,null,null,null,null,{"$f":"AM142 & \".P\"","v":"HPCLNA.P"},"Цена за единицу","руб./ед.",{"$f":"IF(AP144=0,0,AP142*1000/AP144)","v":0},{"$f":"IF(AQ144=0,0,AQ142*1000/AQ144)","v":0},{"$f":"IF(AR144=0,0,AR142*1000/AR144)","v":0}]
[null,null,null,null,null,null,null,null,null,null,null,null,null,null,null,null,null,null,null,null,null,null,null,null,null,null,null,null,null,null,null,"ADJUSTABLE.V",null,null,null,null,null,null,{"$f":"AM142 & \".V\"","v":"HPCLNA.V"},"Объём","ед.",{"$f":"SUMIF($AS$9:$AT$9,AP$9,$AS144:$AT144)","v":0},0,0]
[null,null,null,null,null,null,null,null,null,null,null,null,null,null,null,null,null,null,null,null,null,null,null,null,null,null,null,null,null,null,null,"ADJUSTABLE.C",null,null,null,null,null,null,"GLC","глицерин","тыс.руб.",0,0,0]
[null,null,null,null,null,null,null,null,null,null,null,null,null,null,null,null,null,null,null,null,null,null,null,null,null,null,null,null,null,null,null,"ADJUSTABLE.P",null,null,null,null,null,null,{"$f":"AM145 & \".P\"","v":"GLC.P"},"Цена за единицу","руб./ед.",{"$f":"IF(AP147=0,0,AP145*1000/AP147)","v":0},{"$f":"IF(AQ147=0,0,AQ145*1000/AQ147)","v":0},{"$f":"IF(AR147=0,0,AR145*1000/AR147)","v":0}]
[null,null,null,null,null,null,null,null,null,null,null,null,null,null,null,null,null,null,null,null,null,null,null,null,null,null,null,null,null,null,null,"ADJUSTABLE.V",null,null,null,null,null,null,{"$f":"AM145 & \".V\"","v":"GLC.V"},"Объём","ед.",{"$f":"SUMIF($AS$9:$AT$9,AP$9,$AS147:$AT147)","v":0},0,0]
[null,null,null,null,null,null,null,null,null,null,null,null,null,null,null,null,null,null,null,null,null,null,null,null,null,null,null,null,null,null,null,"ADJUSTABLE.C",null,null,null,null,null,null,"DFNLCD","дифенилкарбазид","тыс.руб.",0,0,0]
[null,null,null,null,null,null,null,null,null,null,null,null,null,null,null,null,null,null,null,null,null,null,null,null,null,null,null,null,null,null,null,"ADJUSTABLE.P",null,null,null,null,null,null,{"$f":"AM148 & \".P\"","v":"DFNLCD.P"},"Цена за единицу","руб./ед.",{"$f":"IF(AP150=0,0,AP148*1000/AP150)","v":0},{"$f":"IF(AQ150=0,0,AQ148*1000/AQ150)","v":0},{"$f":"IF(AR150=0,0,AR148*1000/AR150)","v":0}]
[null,null,null,null,null,null,null,null,null,null,null,null,null,null,null,null,null,null,null,null,null,null,null,null,null,null,null,null,null,null,null,"ADJUSTABLE.V",null,null,null,null,null,null,{"$f":"AM148 & \".V\"","v":"DFNLCD.V"},"Объём","ед.",{"$f":"SUMIF($AS$9:$AT$9,AP$9,$AS150:$AT150)","v":0},0,0]
[null,null,null,null,null,null,null,null,null,null,null,null,null,null,null,null,null,null,null,null,null,null,null,null,null,null,null,null,null,null,null,"ADJUSTABLE.C",null,null,null,null,null,null,"DFNLCN","дифенилкарбазон","тыс.руб.",0,0,0]
[null,null,null,null,null,null,null,null,null,null,null,null,null,null,null,null,null,null,null,null,null,null,null,null,null,null,null,null,null,null,null,"ADJUSTABLE.P",null,null,null,null,null,null,{"$f":"AM151 & \".P\"","v":"DFNLCN.P"},"Цена за единицу","руб./ед.",{"$f":"IF(AP153=0,0,AP151*1000/AP153)","v":0},{"$f":"IF(AQ153=0,0,AQ151*1000/AQ153)","v":0},{"$f":"IF(AR153=0,0,AR151*1000/AR153)","v":0}]
[null,null,null,null,null,null,null,null,null,null,null,null,null,null,null,null,null,null,null,null,null,null,null,null,null,null,null,null,null,null,null,"ADJUSTABLE.V",null,null,null,null,null,null,{"$f":"AM151 & \".V\"","v":"DFNLCN.V"},"Объём","ед.",{"$f":"SUMIF($AS$9:$AT$9,AP$9,$AS153:$AT153)","v":0},0,0]
[null,null,null,null,null,null,null,null,null,null,null,null,null,null,null,null,null,null,null,null,null,null,null,null,null,null,null,null,null,null,null,"ADJUSTABLE.C",null,null,null,null,null,null,"FES","железо сернокислое","тыс.руб.",0,0,0]
[null,null,null,null,null,null,null,null,null,null,null,null,null,null,null,null,null,null,null,null,null,null,null,null,null,null,null,null,null,null,null,"ADJUSTABLE.P",null,null,null,null,null,null,{"$f":"AM154 & \".P\"","v":"FES.P"},"Цена за единицу","руб./ед.",{"$f":"IF(AP156=0,0,AP154*1000/AP156)","v":0},{"$f":"IF(AQ156=0,0,AQ154*1000/AQ156)","v":0},{"$f":"IF(AR156=0,0,AR154*1000/AR156)","v":0}]
[null,null,null,null,null,null,null,null,null,null,null,null,null,null,null,null,null,null,null,null,null,null,null,null,null,null,null,null,null,null,null,"ADJUSTABLE.V",null,null,null,null,null,null,{"$f":"AM154 & \".V\"","v":"FES.V"},"Объём","ед.",{"$f":"SUMIF($AS$9:$AT$9,AP$9,$AS156:$AT156)","v":0},0,0]
[null,null,null,null,null,null,null,null,null,null,null,null,null,null,null,null,null,null,null,null,null,null,null,null,null,null,null,null,null,null,null,"ADJUSTABLE.C",null,null,null,null,null,null,"FECL","железо трёххлористое","тыс.руб.",0,0,0]
[null,null,null,null,null,null,null,null,null,null,null,null,null,null,null,null,null,null,null,null,null,null,null,null,null,null,null,null,null,null,null,"ADJUSTABLE.P",null,null,null,null,null,null,{"$f":"AM157 & \".P\"","v":"FECL.P"},"Цена за единицу","руб./ед.",{"$f":"IF(AP159=0,0,AP157*1000/AP159)","v":0},{"$f":"IF(AQ159=0,0,AQ157*1000/AQ159)","v":0},{"$f":"IF(AR159=0,0,AR157*1000/AR159)","v":0}]
[null,null,null,null,null,null,null,null,null,null,null,null,null,null,null,null,null,null,null,null,null,null,null,null,null,null,null,null,null,null,null,"ADJUSTABLE.V",null,null,null,null,null,null,{"$f":"AM157 & \".V\"","v":"FECL.V"},"Объём","ед.",{"$f":"SUMIF($AS$9:$AT$9,AP$9,$AS159:$AT159)","v":0},0,0]
[null,null,null,null,null,null,null,null,null,null,null,null,null,null,null,null,null,null,null,null,null,null,null,null,null,null,null,null,null,null,null,"ADJUSTABLE.C",null,null,null,null,null,null,"LIMENP","известь негашёная (порошок)","тыс.руб.",0,0,0]
[null,null,null,null,null,null,null,null,null,null,null,null,null,null,null,null,null,null,null,null,null,null,null,null,null,null,null,null,null,null,null,"ADJUSTABLE.P",null,null,null,null,null,null,{"$f":"AM160 & \".P\"","v":"LIMENP.P"},"Цена за единицу","руб./ед.",{"$f":"IF(AP162=0,0,AP160*1000/AP162)","v":0},{"$f":"IF(AQ162=0,0,AQ160*1000/AQ162)","v":0},{"$f":"IF(AR162=0,0,AR160*1000/AR162)","v":0}]
[null,null,null,null,null,null,null,null,null,null,null,null,null,null,null,null,null,null,null,null,null,null,null,null,null,null,null,null,null,null,null,"ADJUSTABLE.V",null,null,null,null,null,null,{"$f":"AM160 & \".V\"","v":"LIMENP.V"},"Объём","ед.",{"$f":"SUMIF($AS$9:$AT$9,AP$9,$AS162:$AT162)","v":0},0,0]
[null,null,null,null,null,null,null,null,null,null,null,null,null,null,null,null,null,null,null,null,null,null,null,null,null,null,null,null,null,null,null,"ADJUSTABLE.C",null,null,null,null,null,null,"LIMENH","известь негашёная гидратная","тыс.руб.",0,0,0]
[null,null,null,null,null,null,null,null,null,null,null,null,null,null,null,null,null,null,null,null,null,null,null,null,null,null,null,null,null,null,null,"ADJUSTABLE.P",null,null,null,null,null,null,{"$f":"AM163 & \".P\"","v":"LIMENH.P"},"Цена за единицу","руб./ед.",{"$f":"IF(AP165=0,0,AP163*1000/AP165)","v":0},{"$f":"IF(AQ165=0,0,AQ163*1000/AQ165)","v":0},{"$f":"IF(AR165=0,0,AR163*1000/AR165)","v":0}]
[null,null,null,null,null,null,null,null,null,null,null,null,null,null,null,null,null,null,null,null,null,null,null,null,null,null,null,null,null,null,null,"ADJUSTABLE.V",null,null,null,null,null,null,{"$f":"AM163 & \".V\"","v":"LIMENH.V"},"Объём","ед.",{"$f":"SUMIF($AS$9:$AT$9,AP$9,$AS165:$AT165)","v":0},0,0]
[null,null,null,null,null,null,null,null,null,null,null,null,null,null,null,null,null,null,null,null,null,null,null,null,null,null,null,null,null,null,null,"ADJUSTABLE.C",null,null,null,null,null,null,"LIMECL","известь хлорная","тыс.руб.",0,0,0]
[null,null,null,null,null,null,null,null,null,null,null,null,null,null,null,null,null,null,null,null,null,null,null,null,null,null,null,null,null,null,null,"ADJUSTABLE.P",null,null,null,null,null,null,{"$f":"AM166 & \".P\"","v":"LIMECL.P"},"Цена за единицу","руб./ед.",{"$f":"IF(AP168=0,0,AP166*1000/AP168)","v":0},{"$f":"IF(AQ168=0,0,AQ166*1000/AQ168)","v":0},{"$f":"IF(AR168=0,0,AR166*1000/AR168)","v":0}]
[null,null,null,null,null,null,null,null,null,null,null,null,null,null,null,null,null,null,null,null,null,null,null,null,null,null,null,null,null,null,null,"ADJUSTABLE.V",null,null,null,null,null,null,{"$f":"AM166 & \".V\"","v":"LIMECL.V"},"Объём","ед.",{"$f":"SUMIF($AS$9:$AT$9,AP$9,$AS168:$AT168)","v":0},0,0]
[null,null,null,null,null,null,null,null,null,null,null,null,null,null,null,null,null,null,null,null,null,null,null,null,null,null,null,null,null,null,null,"ADJUSTABLE.C",null,null,null,null,null,null,"KN","калий азотнокислый","тыс.руб.",0,0,0]
[null,null,null,null,null,null,null,null,null,null,null,null,null,null,null,null,null,null,null,null,null,null,null,null,null,null,null,null,null,null,null,"ADJUSTABLE.P",null,null,null,null,null,null,{"$f":"AM169 & \".P\"","v":"KN.P"},"Цена за единицу","руб./ед.",{"$f":"IF(AP171=0,0,AP169*1000/AP171)","v":0},{"$f":"IF(AQ171=0,0,AQ169*1000/AQ171)","v":0},{"$f":"IF(AR171=0,0,AR169*1000/AR171)","v":0}]
[null,null,null,null,null,null,null,null,null,null,null,null,null,null,null,null,null,null,null,null,null,null,null,null,null,null,null,null,null,null,null,"ADJUSTABLE.V",null,null,null,null,null,null,{"$f":"AM169 & \".V\"","v":"KN.V"},"Объём","ед.",{"$f":"SUMIF($AS$9:$AT$9,AP$9,$AS171:$AT171)","v":0},0,0]
[null,null,null,null,null,null,null,null,null,null,null,null,null,null,null,null,null,null,null,null,null,null,null,null,null,null,null,null,null,null,null,"ADJUSTABLE.C",null,null,null,null,null,null,"KCR","калий двухромовокислый","тыс.руб.",0,0,0]
[null,null,null,null,null,null,null,null,null,null,null,null,null,null,null,null,null,null,null,null,null,null,null,null,null,null,null,null,null,null,null,"ADJUSTABLE.P",null,null,null,null,null,null,{"$f":"AM172 & \".P\"","v":"KCR.P"},"Цена за единицу","руб./ед.",{"$f":"IF(AP174=0,0,AP172*1000/AP174)","v":0},{"$f":"IF(AQ174=0,0,AQ172*1000/AQ174)","v":0},{"$f":"IF(AR174=0,0,AR172*1000/AR174)","v":0}]
[null,null,null,null,null,null,null,null,null,null,null,null,null,null,null,null,null,null,null,null,null,null,null,null,null,null,null,null,null,null,null,"ADJUSTABLE.V",null,null,null,null,null,null,{"$f":"AM172 & \".V\"","v":"KCR.V"},"Объём","ед.",{"$f":"SUMIF($AS$9:$AT$9,AP$9,$AS174:$AT174)","v":0},0,0]
[null,null,null,null,null,null,null,null,null,null,null,null,null,null,null,null,null,null,null,null,null,null,null,null,null,null,null,null,null,null,null,"ADJUSTABLE.C",null,null,null,null,null,null,"KI","калий йодистый","тыс.руб.",0,0,0]
[null,null,null,null,null,null,null,null,null,null,null,null,null,null,null,null,null,null,null,null,null,null,null,null,null,null,null,null,null,null,null,"ADJUSTABLE.P",null,null,null,null,null,null,{"$f":"AM175 & \".P\"","v":"KI.P"},"Цена за единицу","руб./ед.",{"$f":"IF(AP177=0,0,AP175*1000/AP177)","v":0},{"$f":"IF(AQ177=0,0,AQ175*1000/AQ177)","v":0},{"$f":"IF(AR177=0,0,AR175*1000/AR177)","v":0}]
[null,null,null,null,null,null,null,null,null,null,null,null,null,null,null,null,null,null,null,null,null,null,null,null,null,null,null,null,null,null,null,"ADJUSTABLE.V",null,null,null,null,null,null,{"$f":"AM175 & \".V\"","v":"KI.V"},"Объём","ед.",{"$f":"SUMIF($AS$9:$AT$9,AP$9,$AS177:$AT177)","v":0},0,0]
[null,null,null,null,null,null,null,null,null,null,null,null,null,null,null,null,null,null,null,null,null,null,null,null,null,null,null,null,null,null,null,"ADJUSTABLE.C",null,null,null,null,null,null,"KMN","калий марганцевокислый","тыс.руб.",0,0,0]
[null,null,null,null,null,null,null,null,null,null,null,null,null,null,null,null,null,null,null,null,null,null,null,null,null,null,null,null,null,null,null,"ADJUSTABLE.P",null,null,null,null,null,null,{"$f":"AM178 & \".P\"","v":"KMN.P"},"Цена за единицу","руб./ед.",{"$f":"IF(AP180=0,0,AP178*1000/AP180)","v":0},{"$f":"IF(AQ180=0,0,AQ178*1000/AQ180)","v":0},{"$f":"IF(AR180=0,0,AR178*1000/AR180)","v":0}]
[null,null,null,null,null,null,null,null,null,null,null,null,null,null,null,null,null,null,null,null,null,null,null,null,null,null,null,null,null,null,null,"ADJUSTABLE.V",null,null,null,null,null,null,{"$f":"AM178 & \".V\"","v":"KMN.V"},"Объём","ед.",{"$f":"SUMIF($AS$9:$AT$9,AP$9,$AS180:$AT180)","v":0},0,0]
[null,null,null,null,null,null,null,null,null,null,null,null,null,null,null,null,null,null,null,null,null,null,null,null,null,null,null,null,null,null,null,"ADJUSTABLE.C",null,null,null,null,null,null,"KP","калий фосфорнокислый","тыс.руб.",0,0,0]
[null,null,null,null,null,null,null,null,null,null,null,null,null,null,null,null,null,null,null,null,null,null,null,null,null,null,null,null,null,null,null,"ADJUSTABLE.P",null,null,null,null,null,null,{"$f":"AM181 & \".P\"","v":"KP.P"},"Цена за единицу","руб./ед.",{"$f":"IF(AP183=0,0,AP181*1000/AP183)","v":0},{"$f":"IF(AQ183=0,0,AQ181*1000/AQ183)","v":0},{"$f":"IF(AR183=0,0,AR181*1000/AR183)","v":0}]
[null,null,null,null,null,null,null,null,null,null,null,null,null,null,null,null,null,null,null,null,null,null,null,null,null,null,null,null,null,null,null,"ADJUSTABLE.V",null,null,null,null,null,null,{"$f":"AM181 & \".V\"","v":"KP.V"},"Объём","ед.",{"$f":"SUMIF($AS$9:$AT$9,AP$9,$AS183:$AT183)","v":0},0,0]
[null,null,null,null,null,null,null,null,null,null,null,null,null,null,null,null,null,null,null,null,null,null,null,null,null,null,null,null,null,null,null,"ADJUSTABLE.C",null,null,null,null,null,null,"HCL","калий хлористый","тыс.руб.",0,0,0]
[null,null,null,null,null,null,null,null,null,null,null,null,null,null,null,null,null,null,null,null,null,null,null,null,null,null,null,null,null,null,null,"ADJUSTABLE.P",null,null,null,null,null,null,{"$f":"AM184 & \".P\"","v":"HCL.P"},"Цена за единицу","руб./ед.",{"$f":"IF(AP186=0,0,AP184*1000/AP186)","v":0},{"$f":"IF(AQ186=0,0,AQ184*1000/AQ186)","v":0},{"$f":"IF(AR186=0,0,AR184*1000/AR186)","v":0}]
[null,null,null,null,null,null,null,null,null,null,null,null,null,null,null,null,null,null,null,null,null,null,null,null,null,null,null,null,null,null,null,"ADJUSTABLE.V",null,null,null,null,null,null,{"$f":"AM184 & \".V\"","v":"HCL.V"},"Объём","ед.",{"$f":"SUMIF($AS$9:$AT$9,AP$9,$AS186:$AT186)","v":0},0,0]
[null,null,null,null,null,null,null,null,null,null,null,null,null,null,null,null,null,null,null,null,null,null,null,null,null,null,null,null,null,null,null,"ADJUSTABLE.C",null,null,null,null,null,null,"KNA","калий-натрий виннокислый","тыс.руб.",0,0,0]
[null,null,null,null,null,null,null,null,null,null,null,null,null,null,null,null,null,null,null,null,null,null,null,null,null,null,null,null,null,null,null,"ADJUSTABLE.P",null,null,null,null,null,null,{"$f":"AM187 & \".P\"","v":"KNA.P"},"Цена за единицу","руб./ед.",{"$f":"IF(AP189=0,0,AP187*1000/AP189)","v":0},{"$f":"IF(AQ189=0,0,AQ187*1000/AQ189)","v":0},{"$f":"IF(AR189=0,0,AR187*1000/AR189)","v":0}]
[null,null,null,null,null,null,null,null,null,null,null,null,null,null,null,null,null,null,null,null,null,null,null,null,null,null,null,null,null,null,null,"ADJUSTABLE.V",null,null,null,null,null,null,{"$f":"AM187 & \".V\"","v":"KNA.V"},"Объём","ед.",{"$f":"SUMIF($AS$9:$AT$9,AP$9,$AS189:$AT189)","v":0},0,0]
[null,null,null,null,null,null,null,null,null,null,null,null,null,null,null,null,null,null,null,null,null,null,null,null,null,null,null,null,null,null,null,"ADJUSTABLE.C",null,null,null,null,null,null,"CAC","кальций углекислый","тыс.руб.",0,0,0]
[null,null,null,null,null,null,null,null,null,null,null,null,null,null,null,null,null,null,null,null,null,null,null,null,null,null,null,null,null,null,null,"ADJUSTABLE.P",null,null,null,null,null,null,{"$f":"AM190 & \".P\"","v":"CAC.P"},"Цена за единицу","руб./ед.",{"$f":"IF(AP192=0,0,AP190*1000/AP192)","v":0},{"$f":"IF(AQ192=0,0,AQ190*1000/AQ192)","v":0},{"$f":"IF(AR192=0,0,AR190*1000/AR192)","v":0}]
[null,null,null,null,null,null,null,null,null,null,null,null,null,null,null,null,null,null,null,null,null,null,null,null,null,null,null,null,null,null,null,"ADJUSTABLE.V",null,null,null,null,null,null,{"$f":"AM190 & \".V\"","v":"CAC.V"},"Объём","ед.",{"$f":"SUMIF($AS$9:$AT$9,AP$9,$AS192:$AT192)","v":0},0,0]
[null,null,null,null,null,null,null,null,null,null,null,null,null,null,null,null,null,null,null,null,null,null,null,null,null,null,null,null,null,null,null,"ADJUSTABLE.C",null,null,null,null,null,null,"CACL","кальций хлористый","тыс.руб.",0,0,0]
[null,null,null,null,null,null,null,null,null,null,null,null,null,null,null,null,null,null,null,null,null,null,null,null,null,null,null,null,null,null,null,"ADJUSTABLE.P",null,null,null,null,null,null,{"$f":"AM193 & \".P\"","v":"CACL.P"},"Цена за единицу","руб./ед.",{"$f":"IF(AP195=0,0,AP193*1000/AP195)","v":0},{"$f":"IF(AQ195=0,0,AQ193*1000/AQ195)","v":0},{"$f":"IF(AR195=0,0,AR193*1000/AR195)","v":0}]
[null,null,null,null,null,null,null,null,null,null,null,null,null,null,null,null,null,null,null,null,null,null,null,null,null,null,null,null,null,null,null,"ADJUSTABLE.V",null,null,null,null,null,null,{"$f":"AM193 & \".V\"","v":"CACL.V"},"Объём","ед.",{"$f":"SUMIF($AS$9:$AT$9,AP$9,$AS195:$AT195)","v":0},0,0]
[null,null,null,null,null,null,null,null,null,null,null,null,null,null,null,null,null,null,null,null,null,null,null,null,null,null,null,null,null,null,null,"ADJUSTABLE.C",null,null,null,null,null,null,"CAHPCL","кальция гипохлорит","тыс.руб.",0,0,0]
[null,null,null,null,null,null,null,null,null,null,null,null,null,null,null,null,null,null,null,null,null,null,null,null,null,null,null,null,null,null,null,"ADJUSTABLE.P",null,null,null,null,null,null,{"$f":"AM196 & \".P\"","v":"CAHPCL.P"},"Цена за единицу","руб./ед.",{"$f":"IF(AP198=0,0,AP196*1000/AP198)","v":0},{"$f":"IF(AQ198=0,0,AQ196*1000/AQ198)","v":0},{"$f":"IF(AR198=0,0,AR196*1000/AR198)","v":0}]
[null,null,null,null,null,null,null,null,null,null,null,null,null,null,null,null,null,null,null,null,null,null,null,null,null,null,null,null,null,null,null,"ADJUSTABLE.V",null,null,null,null,null,null,{"$f":"AM196 & \".V\"","v":"CAHPCL.V"},"Объём","ед.",{"$f":"SUMIF($AS$9:$AT$9,AP$9,$AS198:$AT198)","v":0},0,0]
[null,null,null,null,null,null,null,null,null,null,null,null,null,null,null,null,null,null,null,null,null,null,null,null,null,null,null,null,null,null,null,"ADJUSTABLE.C",null,null,null,null,null,null,"SAND","кварцевый песок","тыс.руб.",0,0,0]
[null,null,null,null,null,null,null,null,null,null,null,null,null,null,null,null,null,null,null,null,null,null,null,null,null,null,null,null,null,null,null,"ADJUSTABLE.P",null,null,null,null,null,null,{"$f":"AM199 & \".P\"","v":"SAND.P"},"Цена за единицу","руб./ед.",{"$f":"IF(AP201=0,0,AP199*1000/AP201)","v":0},{"$f":"IF(AQ201=0,0,AQ199*1000/AQ201)","v":0},{"$f":"IF(AR201=0,0,AR199*1000/AR201)","v":0}]
[null,null,null,null,null,null,null,null,null,null,null,null,null,null,null,null,null,null,null,null,null,null,null,null,null,null,null,null,null,null,null,"ADJUSTABLE.V",null,null,null,null,null,null,{"$f":"AM199 & \".V\"","v":"SAND.V"},"Объём","ед.",{"$f":"SUMIF($AS$9:$AT$9,AP$9,$AS201:$AT201)","v":0},0,0]
[null,null,null,null,null,null,null,null,null,null,null,null,null,null,null,null,null,null,null,null,null,null,null,null,null,null,null,null,null,null,null,"ADJUSTABLE.C",null,null,null,null,null,null,"ACIDN","кислота азотная","тыс.руб.",0,0,0]
[null,null,null,null,null,null,null,null,null,null,null,null,null,null,null,null,null,null,null,null,null,null,null,null,null,null,null,null,null,null,null,"ADJUSTABLE.P",null,null,null,null,null,null,{"$f":"AM202 & \".P\"","v":"ACIDN.P"},"Цена за единицу","руб./ед.",{"$f":"IF(AP204=0,0,AP202*1000/AP204)","v":0},{"$f":"IF(AQ204=0,0,AQ202*1000/AQ204)","v":0},{"$f":"IF(AR204=0,0,AR202*1000/AR204)","v":0}]
[null,null,null,null,null,null,null,null,null,null,null,null,null,null,null,null,null,null,null,null,null,null,null,null,null,null,null,null,null,null,null,"ADJUSTABLE.V",null,null,null,null,null,null,{"$f":"AM202 & \".V\"","v":"ACIDN.V"},"Объём","ед.",{"$f":"SUMIF($AS$9:$AT$9,AP$9,$AS204:$AT204)","v":0},0,0]
[null,null,null,null,null,null,null,null,null,null,null,null,null,null,null,null,null,null,null,null,null,null,null,null,null,null,null,null,null,null,null,"ADJUSTABLE.C",null,null,null,null,null,null,"ACIDA","кислота аскорбиновая","тыс.руб.",0,0,0]
[null,null,null,null,null,null,null,null,null,null,null,null,null,null,null,null,null,null,null,null,null,null,null,null,null,null,null,null,null,null,null,"ADJUSTABLE.P",null,null,null,null,null,null,{"$f":"AM205 & \".P\"","v":"ACIDA.P"},"Цена за единицу","руб./ед.",{"$f":"IF(AP207=0,0,AP205*1000/AP207)","v":0},{"$f":"IF(AQ207=0,0,AQ205*1000/AQ207)","v":0},{"$f":"IF(AR207=0,0,AR205*1000/AR207)","v":0}]
[null,null,null,null,null,null,null,null,null,null,null,null,null,null,null,null,null,null,null,null,null,null,null,null,null,null,null,null,null,null,null,"ADJUSTABLE.V",null,null,null,null,null,null,{"$f":"AM205 & \".V\"","v":"ACIDA.V"},"Объём","ед.",{"$f":"SUMIF($AS$9:$AT$9,AP$9,$AS207:$AT207)","v":0},0,0]
[null,null,null,null,null,null,null,null,null,null,null,null,null,null,null,null,null,null,null,null,null,null,null,null,null,null,null,null,null,null,null,"ADJUSTABLE.C",null,null,null,null,null,null,"ACIDL","кислота лимонная","тыс.руб.",0,0,0]
[null,null,null,null,null,null,null,null,null,null,null,null,null,null,null,null,null,null,null,null,null,null,null,null,null,null,null,null,null,null,null,"ADJUSTABLE.P",null,null,null,null,null,null,{"$f":"AM208 & \".P\"","v":"ACIDL.P"},"Цена за единицу","руб./ед.",{"$f":"IF(AP210=0,0,AP208*1000/AP210)","v":0},{"$f":"IF(AQ210=0,0,AQ208*1000/AQ210)","v":0},{"$f":"IF(AR210=0,0,AR208*1000/AR210)","v":0}]
[null,null,null,null,null,null,null,null,null,null,null,null,null,null,null,null,null,null,null,null,null,null,null,null,null,null,null,null,null,null,null,"ADJUSTABLE.V",null,null,null,null,null,null,{"$f":"AM208 & \".V\"","v":"ACIDL.V"},"Объём","ед.",{"$f":"SUMIF($AS$9:$AT$9,AP$9,$AS210:$AT210)","v":0},0,0]
[null,null,null,null,null,null,null,null,null,null,null,null,null,null,null,null,null,null,null,null,null,null,null,null,null,null,null,null,null,null,null,"ADJUSTABLE.C",null,null,null,null,null,null,"AURIN","кислота розоловая (аурин)","тыс.руб.",0,0,0]
[null,null,null,null,null,null,null,null,null,null,null,null,null,null,null,null,null,null,null,null,null,null,null,null,null,null,null,null,null,null,null,"ADJUSTABLE.P",null,null,null,null,null,null,{"$f":"AM211 & \".P\"","v":"AURIN.P"},"Цена за единицу","руб./ед.",{"$f":"IF(AP213=0,0,AP211*1000/AP213)","v":0},{"$f":"IF(AQ213=0,0,AQ211*1000/AQ213)","v":0},{"$f":"IF(AR213=0,0,AR211*1000/AR213)","v":0}]
[null,null,null,null,null,null,null,null,null,null,null,null,null,null,null,null,null,null,null,null,null,null,null,null,null,null,null,null,null,null,null,"ADJUSTABLE.V",null,null,null,null,null,null,{"$f":"AM211 & \".V\"","v":"AURIN.V"},"Объём","ед.",{"$f":"SUMIF($AS$9:$AT$9,AP$9,$AS213:$AT213)","v":0},0,0]
[null,null,null,null,null,null,null,null,null,null,null,null,null,null,null,null,null,null,null,null,null,null,null,null,null,null,null,null,null,null,null,"ADJUSTABLE.C",null,null,null,null,null,null,"ACIDS","кислота серная","тыс.руб.",0,0,0]
[null,null,null,null,null,null,null,null,null,null,null,null,null,null,null,null,null,null,null,null,null,null,null,null,null,null,null,null,null,null,null,"ADJUSTABLE.P",null,null,null,null,null,null,{"$f":"AM214 & \".P\"","v":"ACIDS.P"},"Цена за единицу","руб./ед.",{"$f":"IF(AP216=0,0,AP214*1000/AP216)","v":0},{"$f":"IF(AQ216=0,0,AQ214*1000/AQ216)","v":0},{"$f":"IF(AR216=0,0,AR214*1000/AR216)","v":0}]
[null,null,null,null,null,null,null,null,null,null,null,null,null,null,null,null,null,null,null,null,null,null,null,null,null,null,null,null,null,null,null,"ADJUSTABLE.V",null,null,null,null,null,null,{"$f":"AM214 & \".V\"","v":"ACIDS.V"},"Объём","ед.",{"$f":"SUMIF($AS$9:$AT$9,AP$9,$AS216:$AT216)","v":0},0,0]
[null,null,null,null,null,null,null,null,null,null,null,null,null,null,null,null,null,null,null,null,null,null,null,null,null,null,null,null,null,null,null,"ADJUSTABLE.C",null,null,null,null,null,null,"ADIDCL","кислота соляная","тыс.руб.",0,0,0]
[null,null,null,null,null,null,null,null,null,null,null,null,null,null,null,null,null,null,null,null,null,null,null,null,null,null,null,null,null,null,null,"ADJUSTABLE.P",null,null,null,null,null,null,{"$f":"AM217 & \".P\"","v":"ADIDCL.P"},"Цена за единицу","руб./ед.",{"$f":"IF(AP219=0,0,AP217*1000/AP219)","v":0},{"$f":"IF(AQ219=0,0,AQ217*1000/AQ219)","v":0},{"$f":"IF(AR219=0,0,AR217*1000/AR219)","v":0}]
[null,null,null,null,null,null,null,null,null,null,null,null,null,null,null,null,null,null,null,null,null,null,null,null,null,null,null,null,null,null,null,"ADJUSTABLE.V",null,null,null,null,null,null,{"$f":"AM217 & \".V\"","v":"ADIDCL.V"},"Объём","ед.",{"$f":"SUMIF($AS$9:$AT$9,AP$9,$AS219:$AT219)","v":0},0,0]
[null,null,null,null,null,null,null,null,null,null,null,null,null,null,null,null,null,null,null,null,null,null,null,null,null,null,null,null,null,null,null,"ADJUSTABLE.C",null,null,null,null,null,null,"ACIDAC","кислота уксусная","тыс.руб.",0,0,0]
[null,null,null,null,null,null,null,null,null,null,null,null,null,null,null,null,null,null,null,null,null,null,null,null,null,null,null,null,null,null,null,"ADJUSTABLE.P",null,null,null,null,null,null,{"$f":"AM220 & \".P\"","v":"ACIDAC.P"},"Цена за единицу","руб./ед.",{"$f":"IF(AP222=0,0,AP220*1000/AP222)","v":0},{"$f":"IF(AQ222=0,0,AQ220*1000/AQ222)","v":0},{"$f":"IF(AR222=0,0,AR220*1000/AR222)","v":0}]
[null,null,null,null,null,null,null,null,null,null,null,null,null,null,null,null,null,null,null,null,null,null,null,null,null,null,null,null,null,null,null,"ADJUSTABLE.V",null,null,null,null,null,null,{"$f":"AM220 & \".V\"","v":"ACIDAC.V"},"Объём","ед.",{"$f":"SUMIF($AS$9:$AT$9,AP$9,$AS222:$AT222)","v":0},0,0]
[null,null,null,null,null,null,null,null,null,null,null,null,null,null,null,null,null,null,null,null,null,null,null,null,null,null,null,null,null,null,null,"ADJUSTABLE.C",null,null,null,null,null,null,"ACIDOX","кислота щавелевая","тыс.руб.",0,0,0]
[null,null,null,null,null,null,null,null,null,null,null,null,null,null,null,null,null,null,null,null,null,null,null,null,null,null,null,null,null,null,null,"ADJUSTABLE.P",null,null,null,null,null,null,{"$f":"AM223 & \".P\"","v":"ACIDOX.P"},"Цена за единицу","руб./ед.",{"$f":"IF(AP225=0,0,AP223*1000/AP225)","v":0},{"$f":"IF(AQ225=0,0,AQ223*1000/AQ225)","v":0},{"$f":"IF(AR225=0,0,AR223*1000/AR225)","v":0}]
[null,null,null,null,null,null,null,null,null,null,null,null,null,null,null,null,null,null,null,null,null,null,null,null,null,null,null,null,null,null,null,"ADJUSTABLE.V",null,null,null,null,null,null,{"$f":"AM223 & \".V\"","v":"ACIDOX.V"},"Объём","ед.",{"$f":"SUMIF($AS$9:$AT$9,AP$9,$AS225:$AT225)","v":0},0,0]
[null,null,null,null,null,null,null,null,null,null,null,null,null,null,null,null,null,null,null,null,null,null,null,null,null,null,null,null,null,null,null,"ADJUSTABLE.C",null,null,null,null,null,null,"STARCH","крахмал","тыс.руб.",0,0,0]
[null,null,null,null,null,null,null,null,null,null,null,null,null,null,null,null,null,null,null,null,null,null,null,null,null,null,null,null,null,null,null,"ADJUSTABLE.P",null,null,null,null,null,null,{"$f":"AM226 & \".P\"","v":"STARCH.P"},"Цена за единицу","руб./ед.",{"$f":"IF(AP228=0,0,AP226*1000/AP228)","v":0},{"$f":"IF(AQ228=0,0,AQ226*1000/AQ228)","v":0},{"$f":"IF(AR228=0,0,AR226*1000/AR228)","v":0}]
[null,null,null,null,null,null,null,null,null,null,null,null,null,null,null,null,null,null,null,null,null,null,null,null,null,null,null,null,null,null,null,"ADJUSTABLE.V",null,null,null,null,null,null,{"$f":"AM226 & \".V\"","v":"STARCH.V"},"Объём","ед.",{"$f":"SUMIF($AS$9:$AT$9,AP$9,$AS228:$AT228)","v":0},0,0]
[null,null,null,null,null,null,null,null,null,null,null,null,null,null,null,null,null,null,null,null,null,null,null,null,null,null,null,null,null,null,null,"ADJUSTABLE.C",null,null,null,null,null,null,"LANTN","лантан азотнокислый","тыс.руб.",0,0,0]
[null,null,null,null,null,null,null,null,null,null,null,null,null,null,null,null,null,null,null,null,null,null,null,null,null,null,null,null,null,null,null,"ADJUSTABLE.P",null,null,null,null,null,null,{"$f":"AM229 & \".P\"","v":"LANTN.P"},"Цена за единицу","руб./ед.",{"$f":"IF(AP231=0,0,AP229*1000/AP231)","v":0},{"$f":"IF(AQ231=0,0,AQ229*1000/AQ231)","v":0},{"$f":"IF(AR231=0,0,AR229*1000/AR231)","v":0}]
[null,null,null,null,null,null,null,null,null,null,null,null,null,null,null,null,null,null,null,null,null,null,null,null,null,null,null,null,null,null,null,"ADJUSTABLE.V",null,null,null,null,null,null,{"$f":"AM229 & \".V\"","v":"LANTN.V"},"Объём","ед.",{"$f":"SUMIF($AS$9:$AT$9,AP$9,$AS231:$AT231)","v":0},0,0]
[null,null,null,null,null,null,null,null,null,null,null,null,null,null,null,null,null,null,null,null,null,null,null,null,null,null,null,null,null,null,null,"ADJUSTABLE.C",null,null,null,null,null,null,"MGS","магний сернокислый","тыс.руб.",0,0,0]
[null,null,null,null,null,null,null,null,null,null,null,null,null,null,null,null,null,null,null,null,null,null,null,null,null,null,null,null,null,null,null,"ADJUSTABLE.P",null,null,null,null,null,null,{"$f":"AM232 & \".P\"","v":"MGS.P"},"Цена за единицу","руб./ед.",{"$f":"IF(AP234=0,0,AP232*1000/AP234)","v":0},{"$f":"IF(AQ234=0,0,AQ232*1000/AQ234)","v":0},{"$f":"IF(AR234=0,0,AR232*1000/AR234)","v":0}]
[null,null,null,null,null,null,null,null,null,null,null,null,null,null,null,null,null,null,null,null,null,null,null,null,null,null,null,null,null,null,null,"ADJUSTABLE.V",null,null,null,null,null,null,{"$f":"AM232 & \".V\"","v":"MGS.V"},"Объём","ед.",{"$f":"SUMIF($AS$9:$AT$9,AP$9,$AS234:$AT234)","v":0},0,0]
[null,null,null,null,null,null,null,null,null,null,null,null,null,null,null,null,null,null,null,null,null,null,null,null,null,null,null,null,null,null,null,"ADJUSTABLE.C",null,null,null,null,null,null,"FLOSPERSE","модифицированные аминофосфоновые кислоты и фосфонаты (FLOSPERSE)","тыс.руб.",0,0,0]
[null,null,null,null,null,null,null,null,null,null,null,null,null,null,null,null,null,null,null,null,null,null,null,null,null,null,null,null,null,null,null,"ADJUSTABLE.P",null,null,null,null,null,null,{"$f":"AM235 & \".P\"","v":"FLOSPERSE.P"},"Цена за единицу","руб./ед.",{"$f":"IF(AP237=0,0,AP235*1000/AP237)","v":0},{"$f":"IF(AQ237=0,0,AQ235*1000/AQ237)","v":0},{"$f":"IF(AR237=0,0,AR235*1000/AR237)","v":0}]
[null,null,null,null,null,null,null,null,null,null,null,null,null,null,null,null,null,null,null,null,null,null,null,null,null,null,null,null,null,null,null,"ADJUSTABLE.V",null,null,null,null,null,null,{"$f":"AM235 & \".V\"","v":"FLOSPERSE.V"},"Объём","ед.",{"$f":"SUMIF($AS$9:$AT$9,AP$9,$AS237:$AT237)","v":0},{"$f":"SUMIF($AS$9:$AT$9,AQ$9,$AS237:$AT237)","v":0},{"$f":"SUMIF($AS$9:$AT$9,AR$9,$AS237:$AT237)","v":0}]
[null,null,null,null,null,null,null,null,null,null,null,null,null,null,null,null,null,null,null,null,null,null,null,null,null,null,null,null,null,null,null,"ADJUSTABLE.C",null,null,null,null,null,null,"NATR","натр едкий","тыс.руб.",0,0,0]
[null,null,null,null,null,null,null,null,null,null,null,null,null,null,null,null,null,null,null,null,null,null,null,null,null,null,null,null,null,null,null,"ADJUSTABLE.P",null,null,null,null,null,null,{"$f":"AM238 & \".P\"","v":"NATR.P"},"Цена за единицу","руб./ед.",{"$f":"IF(AP240=0,0,AP238*1000/AP240)","v":0},{"$f":"IF(AQ240=0,0,AQ238*1000/AQ240)","v":0},{"$f":"IF(AR240=0,0,AR238*1000/AR240)","v":0}]
[null,null,null,null,null,null,null,null,null,null,null,null,null,null,null,null,null,null,null,null,null,null,null,null,null,null,null,null,null,null,null,"ADJUSTABLE.V",null,null,null,null,null,null,{"$f":"AM238 & \".V\"","v":"NATR.V"},"Объём","ед.",{"$f":"SUMIF($AS$9:$AT$9,AP$9,$AS240:$AT240)","v":0},0,0]
[null,null,null,null,null,null,null,null,null,null,null,null,null,null,null,null,null,null,null,null,null,null,null,null,null,null,null,null,null,null,null,"ADJUSTABLE.C",null,null,null,null,null,null,"NAHDOX","натрий гидроокись","тыс.руб.",0,0,0]
[null,null,null,null,null,null,null,null,null,null,null,null,null,null,null,null,null,null,null,null,null,null,null,null,null,null,null,null,null,null,null,"ADJUSTABLE.P",null,null,null,null,null,null,{"$f":"AM241 & \".P\"","v":"NAHDOX.P"},"Цена за единицу","руб./ед.",{"$f":"IF(AP243=0,0,AP241*1000/AP243)","v":0},{"$f":"IF(AQ243=0,0,AQ241*1000/AQ243)","v":0},{"$f":"IF(AR243=0,0,AR241*1000/AR243)","v":0}]
[null,null,null,null,null,null,null,null,null,null,null,null,null,null,null,null,null,null,null,null,null,null,null,null,null,null,null,null,null,null,null,"ADJUSTABLE.V",null,null,null,null,null,null,{"$f":"AM241 & \".V\"","v":"NAHDOX.V"},"Объём","ед.",{"$f":"SUMIF($AS$9:$AT$9,AP$9,$AS243:$AT243)","v":0},0,0]
[null,null,null,null,null,null,null,null,null,null,null,null,null,null,null,null,null,null,null,null,null,null,null,null,null,null,null,null,null,null,null,"ADJUSTABLE.C",null,null,null,null,null,null,"NASLC","натрий салициловокислый","тыс.руб.",0,0,0]
[null,null,null,null,null,null,null,null,null,null,null,null,null,null,null,null,null,null,null,null,null,null,null,null,null,null,null,null,null,null,null,"ADJUSTABLE.P",null,null,null,null,null,null,{"$f":"AM244 & \".P\"","v":"NASLC.P"},"Цена за единицу","руб./ед.",{"$f":"IF(AP246=0,0,AP244*1000/AP246)","v":0},{"$f":"IF(AQ246=0,0,AQ244*1000/AQ246)","v":0},{"$f":"IF(AR246=0,0,AR244*1000/AR246)","v":0}]
[null,null,null,null,null,null,null,null,null,null,null,null,null,null,null,null,null,null,null,null,null,null,null,null,null,null,null,null,null,null,null,"ADJUSTABLE.V",null,null,null,null,null,null,{"$f":"AM244 & \".V\"","v":"NASLC.V"},"Объём","ед.",{"$f":"SUMIF($AS$9:$AT$9,AP$9,$AS246:$AT246)","v":0},0,0]
[null,null,null,null,null,null,null,null,null,null,null,null,null,null,null,null,null,null,null,null,null,null,null,null,null,null,null,null,null,null,null,"ADJUSTABLE.C",null,null,null,null,null,null,"NAS","натрий сернокислый","тыс.руб.",0,0,0]
[null,null,null,null,null,null,null,null,null,null,null,null,null,null,null,null,null,null,null,null,null,null,null,null,null,null,null,null,null,null,null,"ADJUSTABLE.P",null,null,null,null,null,null,{"$f":"AM247 & \".P\"","v":"NAS.P"},"Цена за единицу","руб./ед.",{"$f":"IF(AP249=0,0,AP247*1000/AP249)","v":0},{"$f":"IF(AQ249=0,0,AQ247*1000/AQ249)","v":0},{"$f":"IF(AR249=0,0,AR247*1000/AR249)","v":0}]
[null,null,null,null,null,null,null,null,null,null,null,null,null,null,null,null,null,null,null,null,null,null,null,null,null,null,null,null,null,null,null,"ADJUSTABLE.V",null,null,null,null,null,null,{"$f":"AM247 & \".V\"","v":"NAS.V"},"Объём","ед.",{"$f":"SUMIF($AS$9:$AT$9,AP$9,$AS249:$AT249)","v":0},0,0]
[null,null,null,null,null,null,null,null,null,null,null,null,null,null,null,null,null,null,null,null,null,null,null,null,null,null,null,null,null,null,null,"ADJUSTABLE.C",null,null,null,null,null,null,"NAC","натрий углекислый","тыс.руб.",0,0,0]
[null,null,null,null,null,null,null,null,null,null,null,null,null,null,null,null,null,null,null,null,null,null,null,null,null,null,null,null,null,null,null,"ADJUSTABLE.P",null,null,null,null,null,null,{"$f":"AM250 & \".P\"","v":"NAC.P"},"Цена за единицу","руб./ед.",{"$f":"IF(AP252=0,0,AP250*1000/AP252)","v":0},{"$f":"IF(AQ252=0,0,AQ250*1000/AQ252)","v":0},{"$f":"IF(AR252=0,0,AR250*1000/AR252)","v":0}]
[null,null,null,null,null,null,null,null,null,null,null,null,null,null,null,null,null,null,null,null,null,null,null,null,null,null,null,null,null,null,null,"ADJUSTABLE.V",null,null,null,null,null,null,{"$f":"AM250 & \".V\"","v":"NAC.V"},"Объём","ед.",{"$f":"SUMIF($AS$9:$AT$9,AP$9,$AS252:$AT252)","v":0},0,0]
[null,null,null,null,null,null,null,null,null,null,null,null,null,null,null,null,null,null,null,null,null,null,null,null,null,null,null,null,null,null,null,"ADJUSTABLE.C",null,null,null,null,null,null,"NAAC","натрий уксуснокислый","тыс.руб.",0,0,0]
[null,null,null,null,null,null,null,null,null,null,null,null,null,null,null,null,null,null,null,null,null,null,null,null,null,null,null,null,null,null,null,"ADJUSTABLE.P",null,null,null,null,null,null,{"$f":"AM253 & \".P\"","v":"NAAC.P"},"Цена за единицу","руб./ед.",{"$f":"IF(AP255=0,0,AP253*1000/AP255)","v":0},{"$f":"IF(AQ255=0,0,AQ253*1000/AQ255)","v":0},{"$f":"IF(AR255=0,0,AR253*1000/AR255)","v":0}]
[null,null,null,null,null,null,null,null,null,null,null,null,null,null,null,null,null,null,null,null,null,null,null,null,null,null,null,null,null,null,null,"ADJUSTABLE.V",null,null,null,null,null,null,{"$f":"AM253 & \".V\"","v":"NAAC.V"},"Объём","ед.",{"$f":"SUMIF($AS$9:$AT$9,AP$9,$AS255:$AT255)","v":0},0,0]
[null,null,null,null,null,null,null,null,null,null,null,null,null,null,null,null,null,null,null,null,null,null,null,null,null,null,null,null,null,null,null,"ADJUSTABLE.C",null,null,null,null,null,null,"NACL","натрий хлористый","тыс.руб.",0,0,0]
[null,null,null,null,null,null,null,null,null,null,null,null,null,null,null,null,null,null,null,null,null,null,null,null,null,null,null,null,null,null,null,"ADJUSTABLE.P",null,null,null,null,null,null,{"$f":"AM256 & \".P\"","v":"NACL.P"},"Цена за единицу","руб./ед.",{"$f":"IF(AP258=0,0,AP256*1000/AP258)","v":0},{"$f":"IF(AQ258=0,0,AQ256*1000/AQ258)","v":0},{"$f":"IF(AR258=0,0,AR256*1000/AR258)","v":0}]
[null,null,null,null,null,null,null,null,null,null,null,null,null,null,null,null,null,null,null,null,null,null,null,null,null,null,null,null,null,null,null,"ADJUSTABLE.V",null,null,null,null,null,null,{"$f":"AM256 & \".V\"","v":"NACL.V"},"Объём","ед.",{"$f":"SUMIF($AS$9:$AT$9,AP$9,$AS258:$AT258)","v":0},0,0]
[null,null,null,null,null,null,null,null,null,null,null,null,null,null,null,null,null,null,null,null,null,null,null,null,null,null,null,null,null,null,null,"ADJUSTABLE.C",null,null,null,null,null,null,"FLOFOAM","пеногаситель (FLOFOAM)","тыс.руб.",0,0,0]
[null,null,null,null,null,null,null,null,null,null,null,null,null,null,null,null,null,null,null,null,null,null,null,null,null,null,null,null,null,null,null,"ADJUSTABLE.P",null,null,null,null,null,null,{"$f":"AM259 & \".P\"","v":"FLOFOAM.P"},"Цена за единицу","руб./ед.",{"$f":"IF(AP261=0,0,AP259*1000/AP261)","v":0},{"$f":"IF(AQ261=0,0,AQ259*1000/AQ261)","v":0},{"$f":"IF(AR261=0,0,AR259*1000/AR261)","v":0}]
[null,null,null,null,null,null,null,null,null,null,null,null,null,null,null,null,null,null,null,null,null,null,null,null,null,null,null,null,null,null,null,"ADJUSTABLE.V",null,null,null,null,null,null,{"$f":"AM259 & \".V\"","v":"FLOFOAM.V"},"Объём","ед.",{"$f":"SUMIF($AS$9:$AT$9,AP$9,$AS261:$AT261)","v":0},{"$f":"SUMIF($AS$9:$AT$9,AQ$9,$AS261:$AT261)","v":0},{"$f":"SUMIF($AS$9:$AT$9,AR$9,$AS261:$AT261)","v":0}]
[null,null,null,null,null,null,null,null,null,null,null,null,null,null,null,null,null,null,null,null,null,null,null,null,null,null,null,null,null,null,null,"ADJUSTABLE.C",null,null,null,null,null,null,"RGRS","реактив Грисса","тыс.руб.",0,0,0]
[null,null,null,null,null,null,null,null,null,null,null,null,null,null,null,null,null,null,null,null,null,null,null,null,null,null,null,null,null,null,null,"ADJUSTABLE.P",null,null,null,null,null,null,{"$f":"AM262 & \".P\"","v":"RGRS.P"},"Цена за единицу","руб./ед.",{"$f":"IF(AP264=0,0,AP262*1000/AP264)","v":0},{"$f":"IF(AQ264=0,0,AQ262*1000/AQ264)","v":0},{"$f":"IF(AR264=0,0,AR262*1000/AR264)","v":0}]
[null,null,null,null,null,null,null,null,null,null,null,null,null,null,null,null,null,null,null,null,null,null,null,null,null,null,null,null,null,null,null,"ADJUSTABLE.V",null,null,null,null,null,null,{"$f":"AM262 & \".V\"","v":"RGRS.V"},"Объём","ед.",{"$f":"SUMIF($AS$9:$AT$9,AP$9,$AS264:$AT264)","v":0},0,0]
[null,null,null,null,null,null,null,null,null,null,null,null,null,null,null,null,null,null,null,null,null,null,null,null,null,null,null,null,null,null,null,"ADJUSTABLE.C",null,null,null,null,null,null,"RNSL","реактив Несслера","тыс.руб.",0,0,0]
[null,null,null,null,null,null,null,null,null,null,null,null,null,null,null,null,null,null,null,null,null,null,null,null,null,null,null,null,null,null,null,"ADJUSTABLE.P",null,null,null,null,null,null,{"$f":"AM265 & \".P\"","v":"RNSL.P"},"Цена за единицу","руб./ед.",{"$f":"IF(AP267=0,0,AP265*1000/AP267)","v":0},{"$f":"IF(AQ267=0,0,AQ265*1000/AQ267)","v":0},{"$f":"IF(AR267=0,0,AR265*1000/AR267)","v":0}]
[null,null,null,null,null,null,null,null,null,null,null,null,null,null,null,null,null,null,null,null,null,null,null,null,null,null,null,null,null,null,null,"ADJUSTABLE.V",null,null,null,null,null,null,{"$f":"AM265 & \".V\"","v":"RNSL.V"},"Объём","ед.",{"$f":"SUMIF($AS$9:$AT$9,AP$9,$AS267:$AT267)","v":0},0,0]
[null,null,null,null,null,null,null,null,null,null,null,null,null,null,null,null,null,null,null,null,null,null,null,null,null,null,null,null,null,null,null,"ADJUSTABLE.C",null,null,null,null,null,null,"PBAC","свинец уксуснокислый","тыс.руб.",0,0,0]
[null,null,null,null,null,null,null,null,null,null,null,null,null,null,null,null,null,null,null,null,null,null,null,null,null,null,null,null,null,null,null,"ADJUSTABLE.P",null,null,null,null,null,null,{"$f":"AM268 & \".P\"","v":"PBAC.P"},"Цена за единицу","руб./ед.",{"$f":"IF(AP270=0,0,AP268*1000/AP270)","v":0},{"$f":"IF(AQ270=0,0,AQ268*1000/AQ270)","v":0},{"$f":"IF(AR270=0,0,AR268*1000/AR270)","v":0}]
[null,null,null,null,null,null,null,null,null,null,null,null,null,null,null,null,null,null,null,null,null,null,null,null,null,null,null,null,null,null,null,"ADJUSTABLE.V",null,null,null,null,null,null,{"$f":"AM268 & \".V\"","v":"PBAC.V"},"Объём","ед.",{"$f":"SUMIF($AS$9:$AT$9,AP$9,$AS270:$AT270)","v":0},0,0]
[null,null,null,null,null,null,null,null,null,null,null,null,null,null,null,null,null,null,null,null,null,null,null,null,null,null,null,null,null,null,null,"ADJUSTABLE.C",null,null,null,null,null,null,"AGN","серебро азотнокислое","тыс.руб.",0,0,0]
[null,null,null,null,null,null,null,null,null,null,null,null,null,null,null,null,null,null,null,null,null,null,null,null,null,null,null,null,null,null,null,"ADJUSTABLE.P",null,null,null,null,null,null,{"$f":"AM271 & \".P\"","v":"AGN.P"},"Цена за единицу","руб./ед.",{"$f":"IF(AP273=0,0,AP271*1000/AP273)","v":0},{"$f":"IF(AQ273=0,0,AQ271*1000/AQ273)","v":0},{"$f":"IF(AR273=0,0,AR271*1000/AR273)","v":0}]
[null,null,null,null,null,null,null,null,null,null,null,null,null,null,null,null,null,null,null,null,null,null,null,null,null,null,null,null,null,null,null,"ADJUSTABLE.V",null,null,null,null,null,null,{"$f":"AM271 & \".V\"","v":"AGN.V"},"Объём","ед.",{"$f":"SUMIF($AS$9:$AT$9,AP$9,$AS273:$AT273)","v":0},0,0]
[null,null,null,null,null,null,null,null,null,null,null,null,null,null,null,null,null,null,null,null,null,null,null,null,null,null,null,null,null,null,null,"ADJUSTABLE.C",null,null,null,null,null,null,"AGS","серебро сернокислое","тыс.руб.",0,0,0]
[null,null,null,null,null,null,null,null,null,null,null,null,null,null,null,null,null,null,null,null,null,null,null,null,null,null,null,null,null,null,null,"ADJUSTABLE.P",null,null,null,null,null,null,{"$f":"AM274 & \".P\"","v":"AGS.P"},"Цена за единицу","руб./ед.",{"$f":"IF(AP276=0,0,AP274*1000/AP276)","v":0},{"$f":"IF(AQ276=0,0,AQ274*1000/AQ276)","v":0},{"$f":"IF(AR276=0,0,AR274*1000/AR276)","v":0}]
[null,null,null,null,null,null,null,null,null,null,null,null,null,null,null,null,null,null,null,null,null,null,null,null,null,null,null,null,null,null,null,"ADJUSTABLE.V",null,null,null,null,null,null,{"$f":"AM274 & \".V\"","v":"AGS.V"},"Объём","ед.",{"$f":"SUMIF($AS$9:$AT$9,AP$9,$AS276:$AT276)","v":0},0,0]
[null,null,null,null,null,null,null,null,null,null,null,null,null,null,null,null,null,null,null,null,null,null,null,null,null,null,null,null,null,null,null,"ADJUSTABLE.C",null,null,null,null,null,null,"SODACA","сода кальцинированная","тыс.руб.",0,0,0]
[null,null,null,null,null,null,null,null,null,null,null,null,null,null,null,null,null,null,null,null,null,null,null,null,null,null,null,null,null,null,null,"ADJUSTABLE.P",null,null,null,null,null,null,{"$f":"AM277 & \".P\"","v":"SODACA.P"},"Цена за единицу","руб./ед.",{"$f":"IF(AP279=0,0,AP277*1000/AP279)","v":0},{"$f":"IF(AQ279=0,0,AQ277*1000/AQ279)","v":0},{"$f":"IF(AR279=0,0,AR277*1000/AR279)","v":0}]
[null,null,null,null,null,null,null,null,null,null,null,null,null,null,null,null,null,null,null,null,null,null,null,null,null,null,null,null,null,null,null,"ADJUSTABLE.V",null,null,null,null,null,null,{"$f":"AM277 & \".V\"","v":"SODACA.V"},"Объём","ед.",{"$f":"SUMIF($AS$9:$AT$9,AP$9,$AS279:$AT279)","v":0},0,0]
[null,null,null,null,null,null,null,null,null,null,null,null,null,null,null,null,null,null,null,null,null,null,null,null,null,null,null,null,null,null,null,"ADJUSTABLE.C",null,null,null,null,null,null,"SODACS","сода каустическая","тыс.руб.",0,0,0]
[null,null,null,null,null,null,null,null,null,null,null,null,null,null,null,null,null,null,null,null,null,null,null,null,null,null,null,null,null,null,null,"ADJUSTABLE.P",null,null,null,null,null,null,{"$f":"AM280 & \".P\"","v":"SODACS.P"},"Цена за единицу","руб./ед.",{"$f":"IF(AP282=0,0,AP280*1000/AP282)","v":0},{"$f":"IF(AQ282=0,0,AQ280*1000/AQ282)","v":0},{"$f":"IF(AR282=0,0,AR280*1000/AR282)","v":0}]
[null,null,null,null,null,null,null,null,null,null,null,null,null,null,null,null,null,null,null,null,null,null,null,null,null,null,null,null,null,null,null,"ADJUSTABLE.V",null,null,null,null,null,null,{"$f":"AM280 & \".V\"","v":"SODACS.V"},"Объём","ед.",{"$f":"SUMIF($AS$9:$AT$9,AP$9,$AS282:$AT282)","v":0},0,0]
[null,null,null,null,null,null,null,null,null,null,null,null,null,null,null,null,null,null,null,null,null,null,null,null,null,null,null,null,null,null,null,"ADJUSTABLE.C",null,null,null,null,null,null,"SALT1G","соль 1 сорт","тыс.руб.",0,0,0]
[null,null,null,null,null,null,null,null,null,null,null,null,null,null,null,null,null,null,null,null,null,null,null,null,null,null,null,null,null,null,null,"ADJUSTABLE.P",null,null,null,null,null,null,{"$f":"AM283 & \".P\"","v":"SALT1G.P"},"Цена за единицу","руб./ед.",{"$f":"IF(AP285=0,0,AP283*1000/AP285)","v":0},{"$f":"IF(AQ285=0,0,AQ283*1000/AQ285)","v":0},{"$f":"IF(AR285=0,0,AR283*1000/AR285)","v":0}]
[null,null,null,null,null,null,null,null,null,null,null,null,null,null,null,null,null,null,null,null,null,null,null,null,null,null,null,null,null,null,null,"ADJUSTABLE.V",null,null,null,null,null,null,{"$f":"AM283 & \".V\"","v":"SALT1G.V"},"Объём","ед.",{"$f":"SUMIF($AS$9:$AT$9,AP$9,$AS285:$AT285)","v":0},0,0]
[null,null,null,null,null,null,null,null,null,null,null,null,null,null,null,null,null,null,null,null,null,null,null,null,null,null,null,null,null,null,null,"ADJUSTABLE.C",null,null,null,null,null,null,"SALT","соль пищевая поваренная","тыс.руб.",0,0,0]
[null,null,null,null,null,null,null,null,null,null,null,null,null,null,null,null,null,null,null,null,null,null,null,null,null,null,null,null,null,null,null,"ADJUSTABLE.P",null,null,null,null,null,null,{"$f":"AM286 & \".P\"","v":"SALT.P"},"Цена за единицу","руб./ед.",{"$f":"IF(AP288=0,0,AP286*1000/AP288)","v":0},{"$f":"IF(AQ288=0,0,AQ286*1000/AQ288)","v":0},{"$f":"IF(AR288=0,0,AR286*1000/AR288)","v":0}]
[null,null,null,null,null,null,null,null,null,null,null,null,null,null,null,null,null,null,null,null,null,null,null,null,null,null,null,null,null,null,null,"ADJUSTABLE.V",null,null,null,null,null,null,{"$f":"AM286 & \".V\"","v":"SALT.V"},"Объём","ед.",{"$f":"SUMIF($AS$9:$AT$9,AP$9,$AS288:$AT288)","v":0},0,0]
[null,null,null,null,null,null,null,null,null,null,null,null,null,null,null,null,null,null,null,null,null,null,null,null,null,null,null,null,null,null,null,"ADJUSTABLE.C",null,null,null,null,null,null,"SALTPL","соль таблетированная","тыс.руб.",0,0,0]
[null,null,null,null,null,null,null,null,null,null,null,null,null,null,null,null,null,null,null,null,null,null,null,null,null,null,null,null,null,null,null,"ADJUSTABLE.P",null,null,null,null,null,null,{"$f":"AM289 & \".P\"","v":"SALTPL.P"},"Цена за единицу","руб./ед.",{"$f":"IF(AP291=0,0,AP289*1000/AP291)","v":0},{"$f":"IF(AQ291=0,0,AQ289*1000/AQ291)","v":0},{"$f":"IF(AR291=0,0,AR289*1000/AR291)","v":0}]
[null,null,null,null,null,null,null,null,null,null,null,null,null,null,null,null,null,null,null,null,null,null,null,null,null,null,null,null,null,null,null,"ADJUSTABLE.V",null,null,null,null,null,null,{"$f":"AM289 & \".V\"","v":"SALTPL.V"},"Объём","ед.",{"$f":"SUMIF($AS$9:$AT$9,AP$9,$AS291:$AT291)","v":0},0,0]
[null,null,null,null,null,null,null,null,null,null,null,null,null,null,null,null,null,null,null,null,null,null,null,null,null,null,null,null,null,null,null,"ADJUSTABLE.C",null,null,null,null,null,null,"SALTTH","соль техническая","тыс.руб.",0,0,0]
[null,null,null,null,null,null,null,null,null,null,null,null,null,null,null,null,null,null,null,null,null,null,null,null,null,null,null,null,null,null,null,"ADJUSTABLE.P",null,null,null,null,null,null,{"$f":"AM292 & \".P\"","v":"SALTTH.P"},"Цена за единицу","руб./ед.",{"$f":"IF(AP294=0,0,AP292*1000/AP294)","v":0},{"$f":"IF(AQ294=0,0,AQ292*1000/AQ294)","v":0},{"$f":"IF(AR294=0,0,AR292*1000/AR294)","v":0}]
[null,null,null,null,null,null,null,null,null,null,null,null,null,null,null,null,null,null,null,null,null,null,null,null,null,null,null,null,null,null,null,"ADJUSTABLE.V",null,null,null,null,null,null,{"$f":"AM292 & \".V\"","v":"SALTTH.V"},"Объём","ед.",{"$f":"SUMIF($AS$9:$AT$9,AP$9,$AS294:$AT294)","v":0},0,0]
[null,null,null,null,null,null,null,null,null,null,null,null,null,null,null,null,null,null,null,null,null,null,null,null,null,null,null,null,null,null,null,"ADJUSTABLE.C",null,null,null,null,null,null,"SALTEX","соль экстра","тыс.руб.",0,0,0]
[null,null,null,null,null,null,null,null,null,null,null,null,null,null,null,null,null,null,null,null,null,null,null,null,null,null,null,null,null,null,null,"ADJUSTABLE.P",null,null,null,null,null,null,{"$f":"AM295 & \".P\"","v":"SALTEX.P"},"Цена за единицу","руб./ед.",{"$f":"IF(AP297=0,0,AP295*1000/AP297)","v":0},{"$f":"IF(AQ297=0,0,AQ295*1000/AQ297)","v":0},{"$f":"IF(AR297=0,0,AR295*1000/AR297)","v":0}]
[null,null,null,null,null,null,null,null,null,null,null,null,null,null,null,null,null,null,null,null,null,null,null,null,null,null,null,null,null,null,null,"ADJUSTABLE.V",null,null,null,null,null,null,{"$f":"AM295 & \".V\"","v":"SALTEX.V"},"Объём","ед.",{"$f":"SUMIF($AS$9:$AT$9,AP$9,$AS297:$AT297)","v":0},0,0]
[null,null,null,null,null,null,null,null,null,null,null,null,null,null,null,null,null,null,null,null,null,null,null,null,null,null,null,null,null,null,null,"ADJUSTABLE.C",null,null,null,null,null,null,"C2H5OH","спирт","тыс.руб.",0,0,0]
[null,null,null,null,null,null,null,null,null,null,null,null,null,null,null,null,null,null,null,null,null,null,null,null,null,null,null,null,null,null,null,"ADJUSTABLE.P",null,null,null,null,null,null,{"$f":"AM298 & \".P\"","v":"C2H5OH.P"},"Цена за единицу","руб./ед.",{"$f":"IF(AP300=0,0,AP298*1000/AP300)","v":0},{"$f":"IF(AQ300=0,0,AQ298*1000/AQ300)","v":0},{"$f":"IF(AR300=0,0,AR298*1000/AR300)","v":0}]
[null,null,null,null,null,null,null,null,null,null,null,null,null,null,null,null,null,null,null,null,null,null,null,null,null,null,null,null,null,null,null,"ADJUSTABLE.V",null,null,null,null,null,null,{"$f":"AM298 & \".V\"","v":"C2H5OH.V"},"Объём","ед.",{"$f":"SUMIF($AS$9:$AT$9,AP$9,$AS300:$AT300)","v":0},0,0]
[null,null,null,null,null,null,null,null,null,null,null,null,null,null,null,null,null,null,null,null,null,null,null,null,null,null,null,null,null,null,null,"ADJUSTABLE.C",null,null,null,null,null,null,"SFAL1G","сульфат алюминия 1 сорт","тыс.руб.",0,0,0]
[null,null,null,null,null,null,null,null,null,null,null,null,null,null,null,null,null,null,null,null,null,null,null,null,null,null,null,null,null,null,null,"ADJUSTABLE.P",null,null,null,null,null,null,{"$f":"AM301 & \".P\"","v":"SFAL1G.P"},"Цена за единицу","руб./ед.",{"$f":"IF(AP303=0,0,AP301*1000/AP303)","v":0},{"$f":"IF(AQ303=0,0,AQ301*1000/AQ303)","v":0},{"$f":"IF(AR303=0,0,AR301*1000/AR303)","v":0}]
[null,null,null,null,null,null,null,null,null,null,null,null,null,null,null,null,null,null,null,null,null,null,null,null,null,null,null,null,null,null,null,"ADJUSTABLE.V",null,null,null,null,null,null,{"$f":"AM301 & \".V\"","v":"SFAL1G.V"},"Объём","ед.",{"$f":"SUMIF($AS$9:$AT$9,AP$9,$AS303:$AT303)","v":0},0,0]
[null,null,null,null,null,null,null,null,null,null,null,null,null,null,null,null,null,null,null,null,null,null,null,null,null,null,null,null,null,null,null,"ADJUSTABLE.C",null,null,null,null,null,null,"SFALLQD","сульфат алюминия жидкий","тыс.руб.",0,0,0]
[null,null,null,null,null,null,null,null,null,null,null,null,null,null,null,null,null,null,null,null,null,null,null,null,null,null,null,null,null,null,null,"ADJUSTABLE.P",null,null,null,null,null,null,{"$f":"AM304 & \".P\"","v":"SFALLQD.P"},"Цена за единицу","руб./ед.",{"$f":"IF(AP306=0,0,AP304*1000/AP306)","v":0},{"$f":"IF(AQ306=0,0,AQ304*1000/AQ306)","v":0},{"$f":"IF(AR306=0,0,AR304*1000/AR306)","v":0}]
[null,null,null,null,null,null,null,null,null,null,null,null,null,null,null,null,null,null,null,null,null,null,null,null,null,null,null,null,null,null,null,"ADJUSTABLE.V",null,null,null,null,null,null,{"$f":"AM304 & \".V\"","v":"SFALLQD.V"},"Объём","ед.",{"$f":"SUMIF($AS$9:$AT$9,AP$9,$AS306:$AT306)","v":0},0,0]
[null,null,null,null,null,null,null,null,null,null,null,null,null,null,null,null,null,null,null,null,null,null,null,null,null,null,null,null,null,null,null,"ADJUSTABLE.C",null,null,null,null,null,null,"SFALT","сульфат алюминия технический","тыс.руб.",0,0,0]
[null,null,null,null,null,null,null,null,null,null,null,null,null,null,null,null,null,null,null,null,null,null,null,null,null,null,null,null,null,null,null,"ADJUSTABLE.P",null,null,null,null,null,null,{"$f":"AM307 & \".P\"","v":"SFALT.P"},"Цена за единицу","руб./ед.",{"$f":"IF(AP309=0,0,AP307*1000/AP309)","v":0},{"$f":"IF(AQ309=0,0,AQ307*1000/AQ309)","v":0},{"$f":"IF(AR309=0,0,AR307*1000/AR309)","v":0}]
[null,null,null,null,null,null,null,null,null,null,null,null,null,null,null,null,null,null,null,null,null,null,null,null,null,null,null,null,null,null,null,"ADJUSTABLE.V",null,null,null,null,null,null,{"$f":"AM307 & \".V\"","v":"SFALT.V"},"Объём","ед.",{"$f":"SUMIF($AS$9:$AT$9,AP$9,$AS309:$AT309)","v":0},0,0]
[null,null,null,null,null,null,null,null,null,null,null,null,null,null,null,null,null,null,null,null,null,null,null,null,null,null,null,null,null,null,null,"ADJUSTABLE.C",null,null,null,null,null,null,"SFAMN","сульфат аммония","тыс.руб.",0,0,0]
[null,null,null,null,null,null,null,null,null,null,null,null,null,null,null,null,null,null,null,null,null,null,null,null,null,null,null,null,null,null,null,"ADJUSTABLE.P",null,null,null,null,null,null,{"$f":"AM310 & \".P\"","v":"SFAMN.P"},"Цена за единицу","руб./ед.",{"$f":"IF(AP312=0,0,AP310*1000/AP312)","v":0},{"$f":"IF(AQ312=0,0,AQ310*1000/AQ312)","v":0},{"$f":"IF(AR312=0,0,AR310*1000/AR312)","v":0}]
[null,null,null,null,null,null,null,null,null,null,null,null,null,null,null,null,null,null,null,null,null,null,null,null,null,null,null,null,null,null,null,"ADJUSTABLE.V",null,null,null,null,null,null,{"$f":"AM310 & \".V\"","v":"SFAMN.V"},"Объём","ед.",{"$f":"SUMIF($AS$9:$AT$9,AP$9,$AS312:$AT312)","v":0},0,0]
[null,null,null,null,null,null,null,null,null,null,null,null,null,null,null,null,null,null,null,null,null,null,null,null,null,null,null,null,null,null,null,"ADJUSTABLE.C",null,null,null,null,null,null,"TM","тиомочевина","тыс.руб.",0,0,0]
[null,null,null,null,null,null,null,null,null,null,null,null,null,null,null,null,null,null,null,null,null,null,null,null,null,null,null,null,null,null,null,"ADJUSTABLE.P",null,null,null,null,null,null,{"$f":"AM313 & \".P\"","v":"TM.P"},"Цена за единицу","руб./ед.",{"$f":"IF(AP315=0,0,AP313*1000/AP315)","v":0},{"$f":"IF(AQ315=0,0,AQ313*1000/AQ315)","v":0},{"$f":"IF(AR315=0,0,AR313*1000/AR315)","v":0}]
[null,null,null,null,null,null,null,null,null,null,null,null,null,null,null,null,null,null,null,null,null,null,null,null,null,null,null,null,null,null,null,"ADJUSTABLE.V",null,null,null,null,null,null,{"$f":"AM313 & \".V\"","v":"TM.V"},"Объём","ед.",{"$f":"SUMIF($AS$9:$AT$9,AP$9,$AS315:$AT315)","v":0},0,0]
[null,null,null,null,null,null,null,null,null,null,null,null,null,null,null,null,null,null,null,null,null,null,null,null,null,null,null,null,null,null,null,"ADJUSTABLE.C",null,null,null,null,null,null,"TSFNA","тиосульфат натрия","тыс.руб.",0,0,0]
[null,null,null,null,null,null,null,null,null,null,null,null,null,null,null,null,null,null,null,null,null,null,null,null,null,null,null,null,null,null,null,"ADJUSTABLE.P",null,null,null,null,null,null,{"$f":"AM316 & \".P\"","v":"TSFNA.P"},"Цена за единицу","руб./ед.",{"$f":"IF(AP318=0,0,AP316*1000/AP318)","v":0},{"$f":"IF(AQ318=0,0,AQ316*1000/AQ318)","v":0},{"$f":"IF(AR318=0,0,AR316*1000/AR318)","v":0}]
[null,null,null,null,null,null,null,null,null,null,null,null,null,null,null,null,null,null,null,null,null,null,null,null,null,null,null,null,null,null,null,"ADJUSTABLE.V",null,null,null,null,null,null,{"$f":"AM316 & \".V\"","v":"TSFNA.V"},"Объём","ед.",{"$f":"SUMIF($AS$9:$AT$9,AP$9,$AS318:$AT318)","v":0},0,0]
[null,null,null,null,null,null,null,null,null,null,null,null,null,null,null,null,null,null,null,null,null,null,null,null,null,null,null,null,null,null,null,"ADJUSTABLE.C",null,null,null,null,null,null,"CARBONPWDRD","углерод порошкообразный","тыс.руб.",0,0,0]
[null,null,null,null,null,null,null,null,null,null,null,null,null,null,null,null,null,null,null,null,null,null,null,null,null,null,null,null,null,null,null,"ADJUSTABLE.P",null,null,null,null,null,null,{"$f":"AM319 & \".P\"","v":"CARBONPWDRD.P"},"Цена за единицу","руб./ед.",{"$f":"IF(AP321=0,0,AP319*1000/AP321)","v":0},{"$f":"IF(AQ321=0,0,AQ319*1000/AQ321)","v":0},{"$f":"IF(AR321=0,0,AR319*1000/AR321)","v":0}]
[null,null,null,null,null,null,null,null,null,null,null,null,null,null,null,null,null,null,null,null,null,null,null,null,null,null,null,null,null,null,null,"ADJUSTABLE.V",null,null,null,null,null,null,{"$f":"AM319 & \".V\"","v":"CARBONPWDRD.V"},"Объём","ед.",{"$f":"SUMIF($AS$9:$AT$9,AP$9,$AS321:$AT321)","v":0},{"$f":"SUMIF($AS$9:$AT$9,AQ$9,$AS321:$AT321)","v":0},{"$f":"SUMIF($AS$9:$AT$9,AR$9,$AS321:$AT321)","v":0}]
[null,null,null,null,null,null,null,null,null,null,null,null,null,null,null,null,null,null,null,null,null,null,null,null,null,null,null,null,null,null,null,"ADJUSTABLE.C",null,null,null,null,null,null,"CCL4","углерод четырёххлористый","тыс.руб.",0,0,0]
[null,null,null,null,null,null,null,null,null,null,null,null,null,null,null,null,null,null,null,null,null,null,null,null,null,null,null,null,null,null,null,"ADJUSTABLE.P",null,null,null,null,null,null,{"$f":"AM322 & \".P\"","v":"CCL4.P"},"Цена за единицу","руб./ед.",{"$f":"IF(AP324=0,0,AP322*1000/AP324)","v":0},{"$f":"IF(AQ324=0,0,AQ322*1000/AQ324)","v":0},{"$f":"IF(AR324=0,0,AR322*1000/AR324)","v":0}]
[null,null,null,null,null,null,null,null,null,null,null,null,null,null,null,null,null,null,null,null,null,null,null,null,null,null,null,null,null,null,null,"ADJUSTABLE.V",null,null,null,null,null,null,{"$f":"AM322 & \".V\"","v":"CCL4.V"},"Объём","ед.",{"$f":"SUMIF($AS$9:$AT$9,AP$9,$AS324:$AT324)","v":0},0,0]
[null,null,null,null,null,null,null,null,null,null,null,null,null,null,null,null,null,null,null,null,null,null,null,null,null,null,null,null,null,null,null,"ADJUSTABLE.C",null,null,null,null,null,null,"FFTLN","фенолфталеин","тыс.руб.",0,0,0]
[null,null,null,null,null,null,null,null,null,null,null,null,null,null,null,null,null,null,null,null,null,null,null,null,null,null,null,null,null,null,null,"ADJUSTABLE.P",null,null,null,null,null,null,{"$f":"AM325 & \".P\"","v":"FFTLN.P"},"Цена за единицу","руб./ед.",{"$f":"IF(AP327=0,0,AP325*1000/AP327)","v":0},{"$f":"IF(AQ327=0,0,AQ325*1000/AQ327)","v":0},{"$f":"IF(AR327=0,0,AR325*1000/AR327)","v":0}]
[null,null,null,null,null,null,null,null,null,null,null,null,null,null,null,null,null,null,null,null,null,null,null,null,null,null,null,null,null,null,null,"ADJUSTABLE.V",null,null,null,null,null,null,{"$f":"AM325 & \".V\"","v":"FFTLN.V"},"Объём","ед.",{"$f":"SUMIF($AS$9:$AT$9,AP$9,$AS327:$AT327)","v":0},0,0]
[null,null,null,null,null,null,null,null,null,null,null,null,null,null,null,null,null,null,null,null,null,null,null,null,null,null,null,null,null,null,null,"ADJUSTABLE.C",null,null,null,null,null,null,"CL","хлор","тыс.руб.",0,0,0]
[null,null,null,null,null,null,null,null,null,null,null,null,null,null,null,null,null,null,null,null,null,null,null,null,null,null,null,null,null,null,null,"ADJUSTABLE.P",null,null,null,null,null,null,{"$f":"AM328 & \".P\"","v":"CL.P"},"Цена за единицу","руб./ед.",{"$f":"IF(AP330=0,0,AP328*1000/AP330)","v":0},{"$f":"IF(AQ330=0,0,AQ328*1000/AQ330)","v":0},{"$f":"IF(AR330=0,0,AR328*1000/AR330)","v":0}]
[null,null,null,null,null,null,null,null,null,null,null,null,null,null,null,null,null,null,null,null,null,null,null,null,null,null,null,null,null,null,null,"ADJUSTABLE.V",null,null,null,null,null,null,{"$f":"AM328 & \".V\"","v":"CL.V"},"Объём","ед.",{"$f":"SUMIF($AS$9:$AT$9,AP$9,$AS330:$AT330)","v":0},0,0]
[null,null,null,null,null,null,null,null,null,null,null,null,null,null,null,null,null,null,null,null,null,null,null,null,null,null,null,null,null,null,null,"ADJUSTABLE.C",null,null,null,null,null,null,"CLLIQ","хлор жидкий","тыс.руб.",0,0,0]
[null,null,null,null,null,null,null,null,null,null,null,null,null,null,null,null,null,null,null,null,null,null,null,null,null,null,null,null,null,null,null,"ADJUSTABLE.P",null,null,null,null,null,null,{"$f":"AM331 & \".P\"","v":"CLLIQ.P"},"Цена за единицу","руб./ед.",{"$f":"IF(AP333=0,0,AP331*1000/AP333)","v":0},{"$f":"IF(AQ333=0,0,AQ331*1000/AQ333)","v":0},{"$f":"IF(AR333=0,0,AR331*1000/AR333)","v":0}]
[null,null,null,null,null,null,null,null,null,null,null,null,null,null,null,null,null,null,null,null,null,null,null,null,null,null,null,null,null,null,null,"ADJUSTABLE.V",null,null,null,null,null,null,{"$f":"AM331 & \".V\"","v":"CLLIQ.V"},"Объём","ед.",{"$f":"SUMIF($AS$9:$AT$9,AP$9,$AS333:$AT333)","v":0},0,0]
[null,null,null,null,null,null,null,null,null,null,null,null,null,null,null,null,null,null,null,null,null,null,null,null,null,null,null,null,null,null,null,"ADJUSTABLE.C",null,null,null,null,null,null,"CLAMN","хлорамин","тыс.руб.",0,0,0]
[null,null,null,null,null,null,null,null,null,null,null,null,null,null,null,null,null,null,null,null,null,null,null,null,null,null,null,null,null,null,null,"ADJUSTABLE.P",null,null,null,null,null,null,{"$f":"AM334 & \".P\"","v":"CLAMN.P"},"Цена за единицу","руб./ед.",{"$f":"IF(AP336=0,0,AP334*1000/AP336)","v":0},{"$f":"IF(AQ336=0,0,AQ334*1000/AQ336)","v":0},{"$f":"IF(AR336=0,0,AR334*1000/AR336)","v":0}]
[null,null,null,null,null,null,null,null,null,null,null,null,null,null,null,null,null,null,null,null,null,null,null,null,null,null,null,null,null,null,null,"ADJUSTABLE.V",null,null,null,null,null,null,{"$f":"AM334 & \".V\"","v":"CLAMN.V"},"Объём","ед.",{"$f":"SUMIF($AS$9:$AT$9,AP$9,$AS336:$AT336)","v":0},0,0]
[null,null,null,null,null,null,null,null,null,null,null,null,null,null,null,null,null,null,null,null,null,null,null,null,null,null,null,null,null,null,null,"ADJUSTABLE.C",null,null,null,null,null,null,"CLFRM","хлороформ","тыс.руб.",0,0,0]
[null,null,null,null,null,null,null,null,null,null,null,null,null,null,null,null,null,null,null,null,null,null,null,null,null,null,null,null,null,null,null,"ADJUSTABLE.P",null,null,null,null,null,null,{"$f":"AM337 & \".P\"","v":"CLFRM.P"},"Цена за единицу","руб./ед.",{"$f":"IF(AP339=0,0,AP337*1000/AP339)","v":0},{"$f":"IF(AQ339=0,0,AQ337*1000/AQ339)","v":0},{"$f":"IF(AR339=0,0,AR337*1000/AR339)","v":0}]
[null,null,null,null,null,null,null,null,null,null,null,null,null,null,null,null,null,null,null,null,null,null,null,null,null,null,null,null,null,null,null,"ADJUSTABLE.V",null,null,null,null,null,null,{"$f":"AM337 & \".V\"","v":"CLFRM.V"},"Объём","ед.",{"$f":"SUMIF($AS$9:$AT$9,AP$9,$AS339:$AT339)","v":0},0,0]
[null,null,null,null,null,null,null,null,null,null,null,null,null,null,null,null,null,null,null,null,null,null,null,null,null,null,null,null,null,null,null,"ADJUSTABLE.C",null,null,null,null,null,null,"ETHL","этиленгликоль","тыс.руб.",0,0,0]
[null,null,null,null,null,null,null,null,null,null,null,null,null,null,null,null,null,null,null,null,null,null,null,null,null,null,null,null,null,null,null,"ADJUSTABLE.P",null,null,null,null,null,null,{"$f":"AM340 & \".P\"","v":"ETHL.P"},"Цена за единицу","руб./ед.",{"$f":"IF(AP342=0,0,AP340*1000/AP342)","v":0},{"$f":"IF(AQ342=0,0,AQ340*1000/AQ342)","v":0},{"$f":"IF(AR342=0,0,AR340*1000/AR342)","v":0}]
[null,null,null,null,null,null,null,null,null,null,null,null,null,null,null,null,null,null,null,null,null,null,null,null,null,null,null,null,null,null,null,"ADJUSTABLE.V",null,null,null,null,null,null,{"$f":"AM340 & \".V\"","v":"ETHL.V"},"Объём","ед.",{"$f":"SUMIF($AS$9:$AT$9,AP$9,$AS342:$AT342)","v":0},0,0]
[null,null,null,null,null,null,null,null,null,null,null,null,null,null,null,null,null,null,null,null,null,null,null,null,null,null,null,null,null,null,null,"ADJUSTABLE.OTH",null,null,null,null,null,null,"OTH","прочие","тыс.руб.",0,0,0]
[]
[]
[null,null,null,null,null,null,null,null,null,null,null,null,null,null,null,null,null,null,null,null,null,null,null,null,null,null,null,null,null,null,null,"ADJUSTABLE.OTH",null,null,null,null,null,null,"OTH","Прочие","тыс.руб.",{"$f":"SUMIF($AS$9:$AT$9,AP$9,$AS346:$AT346)","v":0},{"$f":"SUMIF($AS$9:$AT$9,AQ$9,$AS346:$AT346)","v":0},{"$f":"SUMIF($AS$9:$AT$9,AR$9,$AS346:$AT346)","v":0}]
[]
[null,null,null,null,null,null,null,null,null,null,null,null,null,null,null,null,null,null,null,null,null,null,null,null,null,null,null,null,null,null,null,null,null,null,null,null,null,null,"21","Полезный отпуск продукции всего","тыс.куб.м"]

{"sheet":"Комментарии","index":24,"n_rows":9,"n_cols":6,"rows_kept":9,"cut":false,"hidden":false,"merged":[]}
[]
[]
[]
[]
[]
[]
[]
[]
[null,null,null,null,null,"Ниже вы можете оставить свои комментарии"]

{"sheet":"Проверка","index":25,"n_rows":11,"n_cols":8,"rows_kept":11,"cut":false,"hidden":false,"merged":[[8,4,8,7]]}
[]
[]
[]
[]
[]
[]
[]
[]
[null,null,null,null,"Результаты проверки"]
[]
[null,null,null,null,"Ссылка 1","Ссылка 2","Описание причины","Обязательность выполнения"]

{"sheet":"REESTR_MO","index":26,"n_rows":60,"n_cols":19,"rows_kept":60,"cut":false,"hidden":true,"merged":[]}
["МР","МО","ОКТМО","ТИП МО","КОЛ-ВО ЖИТЕЛЕЙ","МР","ИМЯ ДИАПАЗОНА",null,"Только МР",null,"Только ГО",null,"Только ГП",null,"Только СП",null,"Все МО",null,"Только МО"]
["Красноселькупский муниципальный район","Красноселькупский муниципальный район","71913000","муниципальный район",5752,"Красноселькупский муниципальный район","MO_LIST_2",null,"Красноселькупский муниципальный район",null,"город Губкинский",null,"город Надым",null,"Толькинское",null,"Толькинское"]
["Красноселькупский муниципальный район","Толькинское","71913412","сельское поселение",1753,"Надымский муниципальный район","MO_LIST_3",null,"Надымский муниципальный район",null,"город Лабытнанги",null,"поселок Заполярный",null,"село Красноселькуп",null,"село Красноселькуп"]
["Красноселькупский муниципальный район","село Красноселькуп","71913406","сельское поселение",3801,"Приуральский муниципальный район","MO_LIST_4",null,"Приуральский муниципальный район",null,"город Муравленко",null,"поселок Пангоды",null,"село Ратта",null,"село Ратта"]
["Красноселькупский муниципальный район","село Ратта","71913403","сельское поселение",198,"Пуровский муниципальный район","MO_LIST_5",null,"Пуровский муниципальный район",null,"город Новый Уренгой",null,"поселок Харп",null,"Кутопьюганское",null,"Кутопьюганское"]
["Надымский муниципальный район","Кутопьюганское","71916402","сельское поселение",1221,"Тазовский муниципальный район","MO_LIST_6",null,"Тазовский муниципальный район",null,"город Ноябрьск",null,"город Тарко-Сале",null,"поселок Лонгъюган",null,"Межселенная территория Надымского муниципального района, кроме городских и сельских поселений, включающая п Ямбург"]
["Надымский муниципальный район","Межселенная территория Надымского муниципального района, кроме городских и сельских поселений, включающая п Ямбург","71916701","межселенная территория",95,"Шурышкарский муниципальный район","MO_LIST_7",null,"Шурышкарский муниципальный район",null,"город Салехард",null,"поселок Уренгой",null,"поселок Правохеттинский",null,"город Надым"]
["Надымский муниципальный район","Надымский муниципальный район","71916000","муниципальный район",64572,"Ямальский муниципальный район","MO_LIST_8",null,"Ямальский муниципальный район",null,"поселок Приозерный",null,"поселок Приозерный",null,"поселок Приозерный",null,"поселок Заполярный"]
["Надымский муниципальный район","город Надым","71916151","городское поселение, в состав которого входит поселок",44830,"город Губкинский","MO_LIST_9",null,"поселок Ягельный",null,"поселок Ягельный",null,"поселок Ягельный",null,"поселок Ягельный",null,"поселок Лонгъюган"]
["Надымский муниципальный район","поселок Заполярный","71916153","городское поселение, в состав которого входит поселок",824,"город Лабытнанги","MO_LIST_10",null,"село Ныда",null,"село Ныда",null,"село Ныда",null,"село Ныда",null,"поселок Пангоды"]
["Надымский муниципальный район","поселок Лонгъюган","71916403","сельское поселение",1307,"город Муравленко","MO_LIST_11",null,"Аксарковское",null,"Аксарковское",null,"Аксарковское",null,"Аксарковское",null,"поселок Правохеттинский"]
["Надымский муниципальный район","поселок Пангоды","71916156","городское поселение, в состав которого входит поселок",11140,"город Новый Уренгой","MO_LIST_12",null,"Белоярское",null,"Белоярское",null,"Белоярское",null,"Белоярское",null,"поселок Приозерный"]
["Надымский муниципальный район","поселок Правохеттинский","71916412","сельское поселение",1197,"город Ноябрьск","MO_LIST_13",null,"село Катравож",null,"село Катравож",null,"село Катравож",null,"село Катравож",null,"поселок Ягельный"]
["Надымский муниципальный район","поселок Приозерный","71916414","сельское поселение",1215,"город Салехард","MO_LIST_14",null,"Пуровское",null,"Пуровское",null,"Пуровское",null,"Пуровское",null,"село Ныда"]
["Надымский муниципальный район","поселок Ягельный","71916423","сельское поселение",876,null,null,null,"деревня Харампур",null,"деревня Харампур",null,"деревня Харампур",null,"деревня Харампур",null,"Аксарковское"]
["Надымский муниципальный район","село Ныда","71916404","сельское поселение",1867,null,null,null,"поселок Пурпе",null,"поселок Пурпе",null,"поселок Пурпе",null,"поселок Пурпе",null,"Белоярское"]
["Приуральский муниципальный район","Аксарковское","71918403","сельское поселение",4929,null,null,null,"поселок Ханымей",null,"поселок Ханымей",null,"поселок Ханымей",null,"поселок Ханымей",null,"поселок Харп"]
["Приуральский муниципальный район","Белоярское","71918418","сельское поселение",3687,null,null,null,"село Самбург",null,"село Самбург",null,"село Самбург",null,"село Самбург",null,"село Катравож"]
["Приуральский муниципальный район","Приуральский муниципальный район","71918000","муниципальный район",15236,null,null,null,"село Халясавэй",null,"село Халясавэй",null,"село Халясавэй",null,"село Халясавэй",null,"Межселенная территория Пуровского муниципального района, кроме городских и сельских поселений, включающая с Толька"]
["Приуральский муниципальный район","поселок Харп","71918169","городское поселение, в состав которого входит поселок",5850,null,null,null,"поселок Тазовский",null,"поселок Тазовский",null,"поселок Тазовский",null,"поселок Тазовский",null,"Пуровское"]
["Приуральский муниципальный район","село Катравож","71918415","сельское поселение",770,null,null,null,"село Антипаюта",null,"село Антипаюта",null,"село Антипаюта",null,"село Антипаюта",null,"город Тарко-Сале"]
["Пуровский муниципальный район","Межселенная территория Пуровского муниципального района, кроме городских и сельских поселений, включающая с Толька","71920701","межселенная территория",52,null,null,null,"село Газ-Сале",null,"село Газ-Сале",null,"село Газ-Сале",null,"село Газ-Сале",null,"деревня Харампур"]
["Пуровский муниципальный район","Пуровский муниципальный район","71920000","муниципальный район",51686,null,null,null,"село Гыда",null,"село Гыда",null,"село Гыда",null,"село Гыда",null,"поселок Пурпе"]
["Пуровский муниципальный район","Пуровское","71920408","сельское поселение",2706,null,null,null,"село Находка",null,"село Находка",null,"село Находка",null,"село Находка",null,"поселок Уренгой"]
["Пуровский муниципальный район","город Тарко-Сале","71920105","городское поселение, в состав которого входит город",21501,null,null,null,"Азовское",null,"Азовское",null,"Азовское",null,"Азовское",null,"поселок Ханымей"]
["Пуровский муниципальный район","деревня Харампур","71920418","сельское поселение",775,null,null,null,"Горковское",null,"Горковское",null,"Горковское",null,"Горковское",null,"село Самбург"]
["Пуровский муниципальный район","поселок Пурпе","71920409","сельское поселение",9570,null,null,null,"Лопхаринское",null,"Лопхаринское",null,"Лопхаринское",null,"Лопхаринское",null,"село Халясавэй"]
["Пуровский муниципальный район","поселок Уренгой","71920159","городское поселение, в состав которого входит поселок",9997,null,null,null,"Мужевское",null,"Мужевское",null,"Мужевское",null,"Мужевское",null,"Межселенная территория Тазовского муниципального района, кроме сельских поселений, включающая д Тадебя-Яха, д Тибей-Сале, д Матюй-Сале, д Юрибей"]
["Пуровский муниципальный район","поселок Ханымей","71920417","сельское поселение",4109,null,null,null,"Овгортское",null,"Овгортское",null,"Овгортское",null,"Овгортское",null,"поселок Тазовский"]
["Пуровский муниципальный район","село Самбург","71920407","сельское поселение",2054,null,null,null,"Шурышкарское",null,"Шурышкарское",null,"Шурышкарское",null,"Шурышкарское",null,"село Антипаюта"]
["Пуровский муниципальный район","село Халясавэй","71920403","сельское поселение",922,null,null,null,"село Питляр",null,"село Питляр",null,"село Питляр",null,"село Питляр",null,"село Газ-Сале"]
["Тазовский муниципальный район","Межселенная территория Тазовского муниципального района, кроме сельских поселений, включающая д Тадебя-Яха, д Тибей-Сале, д Матюй-Сале, д Юрибей","71923701","межселенная территория",711,null,null,null,"Мыс-Каменское",null,"Мыс-Каменское",null,"Мыс-Каменское",null,"Мыс-Каменское",null,"село Гыда"]
["Тазовский муниципальный район","Тазовский муниципальный район","71923000","муниципальный район",17549,null,null,null,"Яр-Салинское",null,"Яр-Салинское",null,"Яр-Салинское",null,"Яр-Салинское",null,"село Находка"]
["Тазовский муниципальный район","поселок Тазовский","71923401","сельское поселение",7209,null,null,null,"село Новый Порт",null,"село Новый Порт",null,"село Новый Порт",null,"село Новый Порт",null,"Азовское"]
["Тазовский муниципальный район","село Антипаюта","71923403","сельское поселение",2768,null,null,null,"село Панаевск",null,"село Панаевск",null,"село Панаевск",null,"село Панаевск",null,"Горковское"]
["Тазовский муниципальный район","село Газ-Сале","71923405","сельское поселение",1734,null,null,null,"село Салемал",null,"село Салемал",null,"село Салемал",null,"село Салемал",null,"Лопхаринское"]
["Тазовский муниципальный район","село Гыда","71923406","сельское поселение",3747,null,null,null,"село Сеяха",null,"село Сеяха",null,"село Сеяха",null,"село Сеяха",null,"Мужевское"]
["Тазовский муниципальный район","село Находка","71923409","сельское поселение",1380,null,null,null,null,null,"Овгортское",null,"Овгортское",null,"Овгортское",null,"Овгортское"]
["Шурышкарский муниципальный район","Азовское","71926403","сельское поселение",329,null,null,null,null,null,"Шурышкарское",null,"Шурышкарское",null,"Шурышкарское",null,"Шурышкарское"]
["Шурышкарский муниципальный район","Горковское","71926406","сельское поселение",1713,null,null,null,null,null,"село Питляр",null,"село Питляр",null,"село Питляр",null,"село Питляр"]
["Шурышкарский муниципальный район","Лопхаринское","71926409","сельское поселение",499,null,null,null,null,null,"Межселенная территория, кроме сельских поселений, включающая д Тамбей, д Порц-Яха",null,"Межселенная территория, кроме сельских поселений, включающая д Тамбей, д Порц-Яха",null,"Межселенная территория, кроме сельских поселений, включающая д Тамбей, д Порц-Яха",null,"Межселенная территория, кроме сельских поселений, включающая д Тамбей, д Порц-Яха"]
["Шурышкарский муниципальный район","Мужевское","71926412","сельское поселение",4258,null,null,null,null,null,"Мыс-Каменское",null,"Мыс-Каменское",null,"Мыс-Каменское",null,"Мыс-Каменское"]
["Шурышкарский муниципальный район","Овгортское","71926418","сельское поселение",1343,null,null,null,null,null,"Яр-Салинское",null,"Яр-Салинское",null,"Яр-Салинское",null,"Яр-Салинское"]
["Шурышкарский муниципальный район","Шурышкарский муниципальный район","71926000","муниципальный район",9435,null,null,null,null,null,"село Новый Порт",null,"село Новый Порт",null,"село Новый Порт",null,"село Новый Порт"]
["Шурышкарский муниципальный район","Шурышкарское","71926421","сельское поселение",823,null,null,null,null,null,"село Панаевск",null,"село Панаевск",null,"село Панаевск",null,"село Панаевск"]
["Шурышкарский муниципальный район","село Питляр","71926415","сельское поселение",470,null,null,null,null,null,"село Салемал",null,"село Салемал",null,"село Салемал",null,"село Салемал"]
["Ямальский муниципальный район","Межселенная территория, кроме сельских поселений, включающая д Тамбей, д Порц-Яха","71928701","межселенная территория",38,null,null,null,null,null,"село Сеяха",null,"село Сеяха",null,"село Сеяха",null,"село Сеяха"]
["Ямальский муниципальный район","Мыс-Каменское","71928404","сельское поселение",1263]
["Ямальский муниципальный район","Ямальский муниципальный район","71928000","муниципальный район",16990]
["Ямальский муниципальный район","Яр-Салинское","71928417","сельское поселение",7636]
["Ямальский муниципальный район","село Новый Порт","71928414","сельское поселение",1820]
["Ямальский муниципальный район","село Панаевск","71928405","сельское поселение",2463]
["Ямальский муниципальный район","село Салемал","71928410","сельское поселение",930]
["Ямальский муниципальный район","село Сеяха","71928407","сельское поселение",2840]
["город Губкинский","город Губкинский","71952000","городской округ",29161]
["город Лабытнанги","город Лабытнанги","71953000","городской округ",26295]
["город Муравленко","город Муравленко","71955000","городской округ",31561]
["город Новый Уренгой","город Новый Уренгой","71956000","городской округ",118033]
["город Ноябрьск","город Ноябрьск","71958000","городской округ",106911]
["город Салехард","город Салехард","71951000","городской округ",51263]

{"sheet":"REESTR_LOCATION","index":27,"n_rows":93,"n_cols":2,"rows_kept":93,"cut":false,"hidden":true,"merged":[]}
["OKTMO_LOCATION_NAME","LOCATION_NAME"]
["71913403101","с Ратта"]
["71913406101","с Красноселькуп"]
["71913412101","с Толька"]
["71913412106","с Киккиакки"]
["71918169051","пгт Харп"]
["71918403101","с Аксарка"]
["71918403106","п Зеленый Яр"]
["71918403111","п Товопогол"]
["71918403116","п Чапаевск"]
["71918403121","п Ямбура"]
["71918403126","п Горнокнязевск"]
["71918403131","п Вылпосл"]
["71918403136","с Халасьпугор"]
["71918403141","с Харсаим"]
["71918415101","с Катравож"]
["71918418101","с Белоярск"]
["71918418106","д Лаборовая"]
["71918418111","п Щучье"]
["71926403101","с Азовы"]
["71926403106","д Ишвары"]
["71926403111","д Карвожгорт"]
["71926403116","д Ильягорт"]
["71926403121","д Пословы"]
["71926406101","с Горки"]
["71926406106","д Хашгорт"]
["71926409101","с Лопхари"]
["71926409106","д Казым-Мыс"]
["71926409111","с Сангымгорт"]
["71926412101","с Мужи"]
["71926412106","д Новый Киеват"]
["71926412111","д Ханты-Мужи"]
["71926412116","д Анжигорт"]
["71926412121","с Восяхово"]
["71926412126","д Усть-Войкары"]
["71926412131","д Вершина-Войкары"]
["71926415101","с Питляр"]
["71926418101","с Овгорт"]
["71926418106","д Евригорт"]
["71926418111","д Нымвожгорт"]
["71926418116","с Оволынгорт"]
["71926418121","д Тильтим"]
["71926418126","д Ямгорт"]
["71926421101","с Шурышкары"]
["71926421106","д Унсельгорт"]
["71926421111","д Лохпотгорт"]
["71928404101","с Мыс Каменный"]
["71928404106","п Яптик-Сале"]
["71928405101","с Панаевск"]
["71928407101","с Сеяха"]
["71928410101","с Салемал"]
["71928414101","с Новый Порт"]
["71928417101","с Яр-Сале"]
["71928417106","п Сюнай-Сале"]
["71928701902","д Тамбей"]
["71928701907","д Порц-Яха"]
["71936000001","г Надым"]
["71936000052","пгт Заполярный"]
["71936000056","пгт Пангоды"]
["71936000106","с Кутопьюган"]
["71936000111","с Нори"]
["71936000116","п Лонгъюган"]
["71936000121","с Ныда"]
["71936000126","п Правохеттинский"]
["71936000131","п Приозерный"]
["71936000136","п Ягельный"]
["71936000141","п Ямбург"]
["71940000001","г Тарко-Сале"]
["71940000052","пгт Уренгой"]
["71940000106","п Пуровск"]
["71940000111","п Пурпе"]
["71940000116","с Самбург"]
["71940000121","с Сывдарма"]
["71940000126","с Толька"]
["71940000131","с Халясавэй"]
["71940000136","п Ханымей"]
["71940000141","д Харампур"]
["71943000101","п Тазовский"]
["71943000106","с Антипаюта"]
["71943000111","с Газ-Сале"]
["71943000116","с Гыда"]
["71943000121","д Матюй-Сале"]
["71943000126","с Находка"]
["71943000131","д Тадебя-Яха"]
["71943000136","д Тибей-Сале"]
["71943000141","д Юрибей"]
["71951000001","г Салехард"]
["71951000106","п Пельвож"]
["71952000001","г Губкинский"]
["71953000001","г Лабытнанги"]
["71955000001","г Муравленко"]
["71956000001","г Новый Уренгой"]
["71958000001","г Ноябрьск"]

{"sheet":"REESTR_CNCSN_IP","index":28,"n_rows":64,"n_cols":7,"rows_kept":64,"cut":false,"hidden":true,"merged":[]}
["DIC_NAME","L_TYPE","L_NAME","L_IS_MIXED_SPHERE","L_SPHERE_LIST","L_START_DATE","L_END_DATE"]
["CNCSN_LIST","КС"]
["CNCSN_LIST","КС","Концессионное соглашение № 09/89 от 29.07.2019 в отношении системы коммунальной инфраструктуры, находящегося в собственности муниципального района Пуровский","нет","ТС","29.07.2019","29.07.2029"]
["CNCSN_LIST","КС","Концессионное соглашение № 101-19/455 от 26.10.2018 в отношении системы теплоснабжения, расположенного на территории муниципального района Ямальский","нет","ТС","26.10.2018","31.12.2029"]
["CNCSN_LIST","КС","Концессионное соглашение № 101-19/47 от 26.10.2018 в отношении системы теплоснабжения, расположенного на территории муниципального района Ямальский","нет","ТС","26.10.2018","31.12.2029"]
["CNCSN_LIST","КС","Концессионное соглашение № 101-19/59 от 24.12.2020 в отношении систем коммунальной инфраструктуры, находящихся в муниципальной собственности муниципального района Красноселькупский","нет","ТС","24.12.2020","31.12.2025"]
["CNCSN_LIST","КС","Концессионное соглашение № 101-19/60 от 24.12.2020 в отношении систем коммунальной инфраструктуры, расположенных на территории муниципального района Красноселькупский","нет","ТС","24.12.2020","31.12.2025"]
["CNCSN_LIST","КС","Концессионное соглашение № б/н от 12.12.2017 в отношении системы коммунальной инфраструктуры (объекты теплоснабжения, тепловые сети, отдельные объекты таких систем), находящихся в собственности Приуральского мунияипального района","нет","ТС","12.12.2017","31.12.2021"]
["CNCSN_LIST","КС","Концессионное соглашение № б/н от 13.04.2018 в отношении систем коммунальной инфраструктуры, расположенных на территории городского округа Ноябрьск","да","ТС+ХВС+ВО","13.04.2018","31.12.2037"]
["CNCSN_LIST","КС","Концессионное соглашение № б/н от 13.04.2018 в отношении систем коммунальной инфраструктуры, расположенных на территории городского округа Ноябрьск","нет","ТС","13.04.2018","31.12.2037"]
["CNCSN_LIST","КС","Концессионное соглашение № б/н от 19.11.2015 в отношении систем коммунальной инфраструктуры, находящихся в муниципальной собственности городского округа Муравленко","нет","ТС","19.11.2015","18.11.2020"]
["CNCSN_LIST","КС","Концессионное соглашение № б/н от 19.11.2015 в отношении систем коммунальной инфраструктуры, находящихся в муниципальной собственности муниципального округа город Муравленко","нет","ТС","19.11.2015","18.11.2020"]
["CNCSN_LIST","КС","Концессионное соглашение № б/н от 19.11.2015 в отношении системы коммунальной инфраструктуры, находящегося в муниципальной собственности городского округа Муравленко","нет","ТС","19.11.2015","18.11.2020"]
["CNCSN_LIST","КС","Концессионное соглашение № б/н от 19.11.2015 в отношении системы коммунальной инфраструктуры, находящегося в муниципальной собственности муниципального округа город Муравленко","нет","ТС","19.11.2015","18.11.2020"]
["CNCSN_LIST","КС","Концессионное соглашение № б/н от 25.12.2017 в отношении объектов централизованных систем холодного водоснабжения, горячего водоснабжения (закрытая система) и водоотведения, теплоснабжения города Ноябрьск (микрорайон Вынгапуровский)","нет","ТС","25.12.2017","31.12.2022"]
["CNCSN_LIST","КС","Концессионное соглашение № б/н от 26.10.2018 в отношении системы коммунальной инфраструктуры, находящегося в муниципальной собственности муниципального района Ямальский","нет","ТС","26.10.2018","31.12.2029"]
["CNCSN_LIST","КС","Концессионное соглашение № б/н от 26.10.2018 в отношении системы коммунальной инфраструктуры, расположенного на территории муниципального района Ямальский","нет","ТС","26.10.2018","31.12.2029"]
["CNCSN_LIST","КС","Концессионное соглашение № б/н от 28.12.2020 в отношении систем коммунальной инфраструктуры, находящихся в муниципальной собственности муниципального округа город Муравленко","нет","ТС","28.12.2020","17.11.2025"]
["CNCSN_LIST","КС","Концессионное соглашение в отношении системы коммунальной инфраструктуры объектов теплоснабжения города Муравленко","нет","ТС","19.11.2015","18.11.2020"]
["IP_LIST","ИП"]
["IP_LIST","ИП","Инвестиционная программа № 101-т от 20.11.2019 АО \"Салехардэнерго\" в сфере теплоснабжения по развитию систем теплоснабжения, на территории городского округа Салехард на 2019-2023 годы","нет","ТС","20.11.2019","31.12.2023"]
["IP_LIST","ИП","Инвестиционная программа № 108-т от 24.07.2013 АО \"Ямалкоммунэнерго\" филиал в Тазовском районе в сфере теплоснабжения по развитию систем энергоснабжения (теплоснабжения) на 2013-2023 годы","нет","ТС","24.07.2013","31.12.2023"]
["IP_LIST","ИП","Инвестиционная программа № 115-т от 11.09.2014 АО \"Энерго-Газ-Ноябрьск\" в сфере теплоснабжения в отношении систем теплоснабжения, на территории городского округа Ноябрьск на 2015-2022 годы","нет","ТС","01.01.2015","31.12.2022"]
["IP_LIST","ИП","Инвестиционная программа № 129-т от 25.09.2014 АО \"Ямалкоммунэнерго\" филиал в Приуральском районе в сфере теплоснабжения по повышению надежности и энергетической эффективности системы теплоснабжения, на территории муниципального района Приуральский на 2015-2021 годы","нет","ТС","25.09.2014","31.12.2021"]
["IP_LIST","ИП","Инвестиционная программа № 129-т от 25.09.2014 АО \"Ямалкоммунэнерго\" филиал в Приуральском районе в сфере теплоснабжения по повышению надежности и энергетической эффективности системы теплоснабжения, на территории муниципального района Приуральский на 2015-2021 годы","нет","ТС","01.01.2015","31.12.2021"]
["IP_LIST","ИП","Инвестиционная программа № 132-т от 29.10.2015 АО \"Салехардэнерго\" в сфере теплоснабжения по комплексному развитию систем коммунальной инфраструктуры, на территории городского округа Салехард на 2016-2020 годы","нет","ТС","01.01.2016","31.01.2020"]
["IP_LIST","ИП","Инвестиционная программа № 132-т от 29.10.2015 АО \"Салехардэнерго\" в сфере теплоснабжения по комплексному развитию систем коммунальной инфраструктуры, на территории городского округа Салехард на 2016-2020 годы","нет","ТС","01.01.2016","31.12.2022"]
["IP_LIST","ИП","Инвестиционная программа № 132-т от 29.10.2015 АО \"Салехардэнерго\" в сфере теплоснабжения по развитию системы теплоснабжения, на территории городского округа Салехард на 2016-2023 годы","нет","ТС","01.01.2016","31.12.2023"]
["IP_LIST","ИП","Инвестиционная программа № 35-т от 24.04.2014 АО \"Ямалкоммунэнерго\" филиал в Пуровском районе \"Тепло\" в сфере теплоснабжения по развитию систем теплоснабжения, на территории городского поселения город Тарко-Сале, Пуровский муниципальный район на 2014-2020 годы","нет","ТС","24.04.2014","31.12.2020"]
["IP_LIST","ИП","Инвестиционная программа № 35-т от 24.04.2014 АО \"Ямалкоммунэнерго\" филиал в Пуровском районе \"Тепло\" в сфере теплоснабжения по развитию систем теплоснабжения, на территории муниципального района Пуровский на 2014-2029 годы","нет","ТС","24.04.2014","31.12.2029"]
["IP_LIST","ИП","Инвестиционная программа № 76-т от 28.10.2020 АО \"Ямалкоммунэнерго\" филиал в Шурышкарском районе в сфере теплоснабжения по строительству систем инженерной инфраструктуры, на территории с Горки, Горковское, Шурышкарский муниципальный район на 2021-2022 годы","нет","ТС","01.01.2021","31.12.2022"]
["IP_LIST","ИП","Инвестиционная программа № 84-т от 05.10.2018 АО \"Вынгапуровский тепловодоканал\" в сфере теплоснабжения по развитию систем теплоснабжения, на территории городского округа Ноябрьск на 2019-2022 годы","нет","ТС","01.01.2019","31.12.2022"]
["IP_LIST","ИП","Инвестиционная программа № 84-т от 30.10.2020 АО \"Ямалкоммунэнерго\" филиал в Шурышкарском районе в сфере теплоснабжения по модернизации и строительству систем коммунальной инфраструктуры, на территории сельского поселения Мужевское, Шурышкарский муниципальный район на 2021-2022 годы","нет","ТС","01.01.2021","31.12.2022"]
["IP_LIST","ИП","Инвестиционная программа № 84-т от 30.10.2020 АО \"Ямалкоммунэнерго\" филиал в Шурышкарском районе в сфере теплоснабжения по строительству систем коммунальной инфраструктуры, на территории с Мужи, Мужевское, Шурышкарский муниципальный район на 2021 год","нет","ТС","01.01.2021","31.12.2021"]
["IP_LIST","ИП","Инвестиционная программа № 91-т от 25.10.2018 ЗАО \"Спецтеплосервис\" в сфере теплоснабжения по комплексному развитию систем коммунальной инфраструктуры, на территории сельского поселения Аксарковское, Приуральский муниципальный район на 2019-2024 годы","нет","ТС","01.01.2019","31.12.2024"]
["IP_LIST","ИП","Инвестиционная программа № 93-т от 31.10.2019 Надымский филиал ООО \"Газпром энерго\" в сфере теплоснабжения по модернизации и строительству единого комплекса объектов, на территории городского поселения поселок Пангоды, Надымский муниципальный район на 2020 год","нет","ТС","01.01.2020","31.12.2020"]
["IP_LIST","ИП","Инвестиционная программа № 94-т от 31.10.2019 Надымский филиал ООО \"Газпром энерго\" в сфере теплоснабжения по модернизации и строительству единого комплекса объектов, на территории городского поселения поселок Пангоды, Надымский муниципальный район на 2020 год","нет","ТС","01.01.2020","31.12.2020"]
["IP_LIST","ИП","Инвестиционная программа № 97-т от 20.11.2020 АО \"Ямалкоммунэнерго\" филиал в г.Губкинский в сфере теплоснабжения по модернизации систем коммунальной инфраструктуры, на территории городского округа Губкинский на 2020-2024 годы","нет","ТС","20.11.2020","31.12.2024"]
["IP_LIST","ИП","Инвестиционная программа № 99-т от 20.11.2019 АО \"Ямалкоммунэнерго\" филиал в Надымском районе в сфере теплоснабжения по модернизации систем коммунальной инфраструктуры, на территории г Надым, город Надым, Надымский муниципальный район на 2020 год","нет","ТС","01.01.2020","31.12.2020"]
["IP_LIST","ИП","Инвестиционная программа АО \"Ямалкоммунэнерго\"  по модернизации системы коммунального теплоснабжения МО Ямальский район","нет","ТС","01.01.2015","31.12.2020"]
["IP_LIST","ИП","Инвестиционная программа ОАО \"Тепло-Энергетик\" по модернизации системы теплоснабжения муниципального образования город Лабытнанги на 2014-2018 годы","нет","ТС","01.01.2014","31.12.2020"]
["IP_LIST","ИП","Инвестиционная программа ОАО \"Уренгойтеплогенерация-1\" по развитию и модернизации системы теплоснабжения города Новый Уренгой на 2012-2021гг.","нет","ТС","01.01.2012","31.12.2021"]
["IP_LIST","ИП","Инвестиционная программа общества с ограниченной ответственностью Энергетическая Компания «Тепло-Водо-Электро-Сервис» по комплексному развитию системы энергоснабжения (теплоснабжения) села Красноселькуп муниципального образования Красноселькупский район","нет","ТС","01.01.2016","31.12.2020"]
["IP_LIST","ИП","Инвестиционная программа от 01.01.2014 АО \"Ямалкоммунэнерго\" филиал в Шурышкарском районе в сфере теплоснабжения по реконструкции существующих объектов систем инженерной инфраструктуры, на территории сельского поселения Мужевское, Шурышкарский муниципальный район на 2014-2020 годы","нет","ТС","01.01.2014","31.12.2020"]
["IP_LIST","ИП","Инвестиционная программа от 03.12.2013 ОАО \"Тепло-Энергетик\" в сфере теплоснабжения по модернизации системы инженерной инфраструктуры, на территории городского округа Лабытнанги на 2014-2020 годы","нет","ТС","01.01.2014","31.12.2020"]
["IP_LIST","ИП","Инвестиционная программа от 03.12.2013 ОАО \"Тепло-Энергетик\" в сфере теплоснабжения по модернизации системы теплоснабжения на 2014-2023 годы","нет","ТС","01.01.2014","31.12.2023"]
["IP_LIST","ИП","Инвестиционная программа от 05.10.2018 АО \"Ямалкоммунэнерго\" филиал в Шурышкарском районе в сфере теплоснабжения в отношении систем инженерной инфраструктуры, на территории сельского поселения Мужевское, Шурышкарский муниципальный район на 2018-2020 годы","нет","ТС","05.10.2018","31.12.2020"]
["IP_LIST","ИП","Инвестиционная программа от 25.03.2016 АО \"Ямалкоммунэнерго\" филиал в Надымском районе в сфере теплоснабжения по модернизации и реконструкции систем коммунальной инфраструктуры, на территории муниципального района Надымский на 2016-2021 годы","нет","ТС","25.03.2016","31.12.2021"]
["IP_LIST","ИП","Инвестиционная программа от 25.03.2016 АО \"Ямалкоммунэнерго\" филиал в Надымском районе в сфере теплоснабжения по модернизации систем теплоснабжения, на территории муниципального района Муниципальный округ Надымский на 2016-2021 годы","нет","ТС","25.03.2016","31.12.2021"]
["IP_LIST","ИП","Инвестиционная программа от 25.09.2014 АО \"Ямалкоммунэнерго\" филиал в Приуральском районе в сфере теплоснабжения по повышению надежности и энергетической эффективности систем теплоснабжения, на территории муниципального района Приуральский на 2014-2021 годы","нет","ТС","01.10.2014","31.12.2021"]
["IP_LIST","ИП","Инвестиционная программа от 25.10.2018 ЗАО \"Спецтеплосервис\" в сфере теплоснабжения по комплексному развитию системы коммунальной инфраструктуры, на территории сельского поселения Аксарковское, Приуральский муниципальный район на 2019-2023 годы","нет","ТС","01.01.2019","31.12.2023"]
["IP_LIST","ИП","Инвестиционная программа от 27.03.2015 АО \"Ямалкоммунэнерго\" филиал в Ямальском районе в сфере теплоснабжения по модернизации систем коммунальной инфраструктуры, на территории муниципального района Ямальский на 2015-2022 годы","нет","ТС","27.03.2015","31.12.2022"]
["IP_LIST","ИП","Инвестиционная программа от 31.10.2014 АО \"Ямалкоммунэнерго\" филиал в г.Губкинский в сфере теплоснабжения по модернизации систем теплоснабжения на 2015-2024 годы","нет","ТС","01.01.2015","31.12.2024"]
["IP_LIST","ИП","Инвестиционная программа по развитию системы теплоснабжения города Ноябрьска на 2015 – 2020 годы","нет","ТС","01.01.2015","31.12.2020"]
["IP_LIST","ИП","Инвестиционная программа филиала акционерного общества \"Ямалкоммунэнерго в городе Муравленко \"Тепло\" по модернизации системы коммунального теплоснабжения муниципального образования город Муравленко, на 2014 - 2020 годы","нет","ТС","01.01.2014","31.12.2020"]
["IP_LIST","ИП","Инвестиционная программа филиала акционерного общества \"Ямалкоммунэнерго\" в Шурышкарском районе по повышению надежности системы теплоснабжения муниципального образования Шурышкарский район (село Горки), на 2014-2022 годы","нет","ТС","01.01.2014","31.12.2022"]
["IP_LIST","ИП","Инвестиционная программа филиала акционерного общества \"Ямалкоммунэнерго\" в городе Губкинский по модернизации системы теплоснабжения города Губкинский, на 2015-2020 годы","нет","ТС","01.01.2015","31.12.2020"]
["IP_LIST","ИП","Инвестиционная программа филиала акционерного общества \"Ямалкоммунэнерго\" в городе Губкинский по модернизации системы теплоснабжения города Губкинский, на 2015-2020 годы","нет","ТС","01.01.2015","31.12.2023"]
["IP_LIST","ИП","Инвестиционная программа филиала акционерного общества «Ямалкоммунэнерго» в городе Надыме (участок с. Нори, с. Ныда, с. Кутопьюган, 107 км) по модернизации системы теплоснабжения на 2016 – 2019 годы","нет","ТС","01.01.2016","31.12.2020"]
["IP_LIST","ИП","Модернизация системы теплоснабжения поселка городского типа Харп муниципального образования Приуральский район, на 2015-2019 годы","нет","ТС","01.01.2015","31.12.2023"]
["IP_LIST","ИП","Модернизация системы теплоснабжения поселка городского типа Харп муниципального образования Приуральский район, на 2015-2019 годы","нет","ТС","01.01.2015","31.01.2024"]
["IP_LIST","ИП","Модернизация системы теплоснабжения поселка городского типа Харп муниципального образования Приуральский район, на 2015-2019 годы","нет","ТС","01.01.2015","31.12.2024"]
["IP_LIST","ИП","По развитию системы теплоснабжения муниципального образования город Салехард на 2016-2018 годы","нет","ТС","01.01.2016","31.12.2020"]
["IP_LIST","ИП","По развитию системы теплоснабжения муниципального образования город Салехард на 2016-2018 годы","нет","ТС","01.01.2016","31.12.2022"]

{"sheet":"AUTHORISATION","index":29,"n_rows":2,"n_cols":2,"rows_kept":2,"cut":false,"hidden":true,"merged":[]}
["L1","L2"]
["ACCESS GRANTED"]

{"sheet":"DICTIONARIES","index":30,"n_rows":289,"n_cols":2,"rows_kept":289,"cut":false,"hidden":true,"merged":[]}
["DIC_NAME","DIC_VALUE"]
["FIND_OGRN_ASSIST_URL","https://egrul.nalog.ru/"]
["FIND_OKPO_ASSIST_URL","https://websbor.gks.ru/online/#!/gs/statistic-codes"]
["FIND_OPF_ASSIST_URL","http://www.consultant.ru/cons/cgi/online.cgi?req=doc&base=LAW&n=313359"]
["FULL_STATE_SHARE_OKOPF_LIST","6 51 00 | Унитарные предприятия, основанные на праве оперативного управления (казенные предприятия)"]
["FULL_STATE_SHARE_OKOPF_LIST","6 51 41 | Федеральные казенные предприятия"]
["FULL_STATE_SHARE_OKOPF_LIST","6 51 42 | Казенные предприятия субъектов Российской Федерации"]
["FULL_STATE_SHARE_OKOPF_LIST","6 51 43 | Муниципальные казенные предприятия"]
["FULL_STATE_SHARE_OKOPF_LIST","6 52 00 | Унитарные предприятия, основанные на праве хозяйственного ведения"]
["FULL_STATE_SHARE_OKOPF_LIST","6 52 41 | Федеральные государственные унитарные предприятия"]
["FULL_STATE_SHARE_OKOPF_LIST","6 52 42 | Государственные унитарные предприятия субъектов Российской Федерации"]
["FULL_STATE_SHARE_OKOPF_LIST","6 52 43 | Муниципальные унитарные предприятия"]
["FULL_STATE_SHARE_OKOPF_LIST","7 51 00 | Учреждения, созданные Российской Федерацией"]
["FULL_STATE_SHARE_OKOPF_LIST","7 51 01 | Федеральные государственные автономные учреждения"]
["FULL_STATE_SHARE_OKOPF_LIST","7 51 03 | Федеральные государственные бюджетные учреждения"]
["FULL_STATE_SHARE_OKOPF_LIST","7 51 04 | Федеральные государственные казенные учреждения"]
["FULL_STATE_SHARE_OKOPF_LIST","7 52 00 | Учреждения, созданные субъектами Российской Федерации"]
["FULL_STATE_SHARE_OKOPF_LIST","7 52 01 | Государственные автономные учреждения субъектов Российской Федерации"]
["FULL_STATE_SHARE_OKOPF_LIST","7 52 03 | Государственные бюджетные учреждения субъектов Российской Федерации"]
["FULL_STATE_SHARE_OKOPF_LIST","7 52 04 | Государственные казенные учреждения субъектов Российской Федерации"]
["FULL_STATE_SHARE_OKOPF_LIST","7 53 00 | Государственные академии наук"]
["FULL_STATE_SHARE_OKOPF_LIST","7 54 00 | Учреждения, созданные муниципальными образованиями"]
["FULL_STATE_SHARE_OKOPF_LIST","7 54 01 | Муниципальные автономные учреждения"]
["FULL_STATE_SHARE_OKOPF_LIST","7 54 03 | Муниципальные бюджетные учреждения"]
["FULL_STATE_SHARE_OKOPF_LIST","7 54 04 | Муниципальные казенные учреждения"]
["HEAT_CALC_EXTENDED_SALARY_FIELDS_CAN_BE_MISSED","ALLOWED"]
["HEAT_CALC_RESULT_BY_ORG_CAN_BE_NONZERO_LIST","FORBIDDEN"]
["HEAT_FILTER_OBJECTS_BY_INN","YES"]
["HEAT_FUEL_BY_ORG_CAN_BE_SKIPPED_LIST","FORBIDDEN"]
["HEAT_FUEL_BY_ORG_CAN_BE_SKIPPED_LIST","8622000931::890302001"]
["HEAT_FUEL_BY_ORG_CAN_BE_SKIPPED_LIST","8904034784::997250001"]
["HEAT_MAX_COST_VALUE","20000000"]
["HEAT_MAX_LEN","2000"]
["HEAT_MAX_PRICE_NO_TR_COAA","12000"]
["HEAT_MAX_PRICE_NO_TR_COAB","20000"]
["HEAT_MAX_PRICE_NO_TR_COAC","10000"]
["HEAT_MAX_PRICE_NO_TR_COAF","15000"]
["HEAT_MAX_PRICE_NO_TR_COAG","25000"]
["HEAT_MAX_PRICE_NO_TR_COALF","15000"]
["HEAT_MAX_PRICE_NO_TR_COAS","10000"]
["HEAT_MAX_PRICE_NO_TR_COASC","10000"]
["HEAT_MAX_PRICE_NO_TR_COAWC","10000"]
["HEAT_MAX_PRICE_NO_TR_CWD","6000"]
["HEAT_MAX_PRICE_NO_TR_DSG","8000"]
["HEAT_MAX_PRICE_NO_TR_DSLA","150000"]
["HEAT_MAX_PRICE_NO_TR_DSLO","150000"]
["HEAT_MAX_PRICE_NO_TR_DSLS","150000"]
["HEAT_MAX_PRICE_NO_TR_DSLW","150000"]
["HEAT_MAX_PRICE_NO_TR_ENR","50"]
["HEAT_MAX_PRICE_NO_TR_GBL","700"]
["HEAT_MAX_PRICE_NO_TR_GCK","3000"]
["HEAT_MAX_PRICE_NO_TR_GCN","50000"]
["HEAT_MAX_PRICE_NO_TR_GOA","7000"]
["HEAT_MAX_PRICE_NO_TR_LNG","65000"]
["HEAT_MAX_PRICE_NO_TR_MSTF12","50000"]
["HEAT_MAX_PRICE_NO_TR_MSTF5","50000"]
["HEAT_MAX_PRICE_NO_TR_MSTM100","50000"]
["HEAT_MAX_PRICE_NO_TR_MSTM200","50000"]
["HEAT_MAX_PRICE_NO_TR_MSTM40","50000"]
["HEAT_MAX_PRICE_NO_TR_MSTT","50000"]
["HEAT_MAX_PRICE_NO_TR_NGC","32000"]
["HEAT_MAX_PRICE_NO_TR_NGL","9000"]
["HEAT_MAX_PRICE_NO_TR_NGU","12000"]
["HEAT_MAX_PRICE_NO_TR_OIL","60000"]
["HEAT_MAX_PRICE_NO_TR_PEA","7000"]
["HEAT_MAX_PRICE_NO_TR_PLT","12500"]
["HEAT_MAX_PRICE_NO_TR_PWR","3000"]
["HEAT_MAX_PRICE_NO_TR_SAW","13000"]
["HEAT_MAX_PRICE_NO_TR_SHL","25000"]
["HEAT_MAX_PRICE_NO_TR_STF","55000"]
["HEAT_MAX_PRICE_NO_TR_WDS","5000"]
["HEAT_MAX_PRICE_TR_COAA","12000"]
["HEAT_MAX_PRICE_TR_COAB","40000"]
["HEAT_MAX_PRICE_TR_COAC","10000"]
["HEAT_MAX_PRICE_TR_COAF","25000"]
["HEAT_MAX_PRICE_TR_COAG","25000"]
["HEAT_MAX_PRICE_TR_COALF","35000"]
["HEAT_MAX_PRICE_TR_COAS","10000"]
["HEAT_MAX_PRICE_TR_COASC","10000"]
["HEAT_MAX_PRICE_TR_COAWC","20000"]
["HEAT_MAX_PRICE_TR_CWD","10000"]
["HEAT_MAX_PRICE_TR_DSG","8000"]
["HEAT_MAX_PRICE_TR_DSLA","150000"]
["HEAT_MAX_PRICE_TR_DSLO","150000"]
["HEAT_MAX_PRICE_TR_DSLS","150000"]
["HEAT_MAX_PRICE_TR_DSLW","150000"]
["HEAT_MAX_PRICE_TR_ENR","50"]
["HEAT_MAX_PRICE_TR_GBL","700"]
["HEAT_MAX_PRICE_TR_GCK","3000"]
["HEAT_MAX_PRICE_TR_GCN","70000"]
["HEAT_MAX_PRICE_TR_GOA","7000"]
["HEAT_MAX_PRICE_TR_LNG","75000"]
["HEAT_MAX_PRICE_TR_MSTF12","55000"]
["HEAT_MAX_PRICE_TR_MSTF5","55000"]
["HEAT_MAX_PRICE_TR_MSTM100","55000"]
["HEAT_MAX_PRICE_TR_MSTM200","55000"]
["HEAT_MAX_PRICE_TR_MSTM40","55000"]
["HEAT_MAX_PRICE_TR_MSTT","55000"]
["HEAT_MAX_PRICE_TR_NGC","32000"]
["HEAT_MAX_PRICE_TR_NGL","18500"]
["HEAT_MAX_PRICE_TR_NGU","15000"]
["HEAT_MAX_PRICE_TR_OIL","70000"]
["HEAT_MAX_PRICE_TR_PEA","15000"]
["HEAT_MAX_PRICE_TR_PLT","12500"]
["HEAT_MAX_PRICE_TR_PWR","3000"]
["HEAT_MAX_PRICE_TR_SAW","13000"]
["HEAT_MAX_PRICE_TR_SHL","25000"]
["HEAT_MAX_PRICE_TR_STF","65000"]
["HEAT_MAX_PRICE_TR_WDS","5000"]
["HEAT_MIN_COST_VALUE","25"]
["HEAT_MIN_LEN","0"]
["HEAT_MIN_PRICE_NO_TR_COAA","500"]
["HEAT_MIN_PRICE_NO_TR_COAB","100"]
["HEAT_MIN_PRICE_NO_TR_COAC","350"]
["HEAT_MIN_PRICE_NO_TR_COAF","400"]
["HEAT_MIN_PRICE_NO_TR_COAG","1000"]
["HEAT_MIN_PRICE_NO_TR_COALF","350"]
["HEAT_MIN_PRICE_NO_TR_COAS","1000"]
["HEAT_MIN_PRICE_NO_TR_COASC","1000"]
["HEAT_MIN_PRICE_NO_TR_COAWC","900"]
["HEAT_MIN_PRICE_NO_TR_CWD","1000"]
["HEAT_MIN_PRICE_NO_TR_DSG","1900"]
["HEAT_MIN_PRICE_NO_TR_DSLA","9000"]
["HEAT_MIN_PRICE_NO_TR_DSLO","9000"]
["HEAT_MIN_PRICE_NO_TR_DSLS","9000"]
["HEAT_MIN_PRICE_NO_TR_DSLW","2000"]
["HEAT_MIN_PRICE_NO_TR_ENR","0,5"]
["HEAT_MIN_PRICE_NO_TR_GBL","200"]
["HEAT_MIN_PRICE_NO_TR_GCK","300"]
["HEAT_MIN_PRICE_NO_TR_GCN","10000"]
["HEAT_MIN_PRICE_NO_TR_GOA","100"]
["HEAT_MIN_PRICE_NO_TR_LNG","5000"]
["HEAT_MIN_PRICE_NO_TR_MSTF12","10000"]
["HEAT_MIN_PRICE_NO_TR_MSTF5","10000"]
["HEAT_MIN_PRICE_NO_TR_MSTM100","400"]
["HEAT_MIN_PRICE_NO_TR_MSTM200","6500"]
["HEAT_MIN_PRICE_NO_TR_MSTM40","2400"]
["HEAT_MIN_PRICE_NO_TR_MSTT","2400"]
["HEAT_MIN_PRICE_NO_TR_NGC","500"]
["HEAT_MIN_PRICE_NO_TR_NGL","300"]
["HEAT_MIN_PRICE_NO_TR_NGU","400"]
["HEAT_MIN_PRICE_NO_TR_OIL","1000"]
["HEAT_MIN_PRICE_NO_TR_PEA","50"]
["HEAT_MIN_PRICE_NO_TR_PLT","100"]
["HEAT_MIN_PRICE_NO_TR_PWR","100"]
["HEAT_MIN_PRICE_NO_TR_SAW","1"]
["HEAT_MIN_PRICE_NO_TR_SHL","40"]
["HEAT_MIN_PRICE_NO_TR_STF","1900"]
["HEAT_MIN_PRICE_NO_TR_WDS","50"]
["HEAT_MIN_PRICE_TR_COAA","500"]
["HEAT_MIN_PRICE_TR_COAB","100"]
["HEAT_MIN_PRICE_TR_COAC","1000"]
["HEAT_MIN_PRICE_TR_COAF","500"]
["HEAT_MIN_PRICE_TR_COAG","1000"]
["HEAT_MIN_PRICE_TR_COALF","350"]
["HEAT_MIN_PRICE_TR_COAS","1000"]
["HEAT_MIN_PRICE_TR_COASC","1000"]
["HEAT_MIN_PRICE_TR_COAWC","900"]
["HEAT_MIN_PRICE_TR_CWD","1000"]
["HEAT_MIN_PRICE_TR_DSG","1900"]
["HEAT_MIN_PRICE_TR_DSLA","9000"]
["HEAT_MIN_PRICE_TR_DSLO","9000"]
["HEAT_MIN_PRICE_TR_DSLS","9000"]
["HEAT_MIN_PRICE_TR_DSLW","2000"]
["HEAT_MIN_PRICE_TR_ENR","0,5"]
["HEAT_MIN_PRICE_TR_GBL","200"]
["HEAT_MIN_PRICE_TR_GCK","300"]
["HEAT_MIN_PRICE_TR_GCN","10000"]
["HEAT_MIN_PRICE_TR_GOA","100"]
["HEAT_MIN_PRICE_TR_LNG","5000"]
["HEAT_MIN_PRICE_TR_MSTF12","10000"]
["HEAT_MIN_PRICE_TR_MSTF5","10000"]
["HEAT_MIN_PRICE_TR_MSTM100","400"]
["HEAT_MIN_PRICE_TR_MSTM200","6500"]
["HEAT_MIN_PRICE_TR_MSTM40","2400"]
["HEAT_MIN_PRICE_TR_MSTT","2400"]
["HEAT_MIN_PRICE_TR_NGC","500"]
["HEAT_MIN_PRICE_TR_NGL","300"]
["HEAT_MIN_PRICE_TR_NGU","400"]
["HEAT_MIN_PRICE_TR_OIL","1000"]
["HEAT_MIN_PRICE_TR_PEA","50"]
["HEAT_MIN_PRICE_TR_PLT","100"]
["HEAT_MIN_PRICE_TR_PWR","100"]
["HEAT_MIN_PRICE_TR_SAW","1"]
["HEAT_MIN_PRICE_TR_SHL","40"]
["HEAT_MIN_PRICE_TR_STF","1900"]
["HEAT_MIN_PRICE_TR_WDS","50"]
["MAX_ABONENT_VALUE","50"]
["MIN_ABONENT_VALUE","0,001"]
["OKOPF_LIST","1 10 51 | Полные товарищества"]
["OKOPF_LIST","1 10 64 | Товарищества на вере (коммандитные товарищества)"]
["OKOPF_LIST","1 22 47 | Публичные акционерные общества"]
["OKOPF_LIST","1 22 67 | Непубличные акционерные общества"]
["OKOPF_LIST","1 23 00 | Общества с ограниченной ответственностью"]
["OKOPF_LIST","1 30 00 | Хозяйственные партнерства"]
["OKOPF_LIST","1 41 53 | Сельскохозяйственные артели (колхозы)"]
["OKOPF_LIST","1 41 54 | Рыболовецкие артели (колхозы)"]
["OKOPF_LIST","1 41 55 | Кооперативные хозяйства (коопхозы)"]
["OKOPF_LIST","1 42 00 | Производственные кооперативы (кроме сельскохозяйственных производственных кооперативов)"]
["OKOPF_LIST","1 53 00 | Крестьянские (фермерские) хозяйства"]
["OKOPF_LIST","1 90 00 | Прочие юридические лица, являющиеся коммерческими организациями"]
["OKOPF_LIST","2 01 01 | Гаражные и гаражно-строительные кооперативы"]
["OKOPF_LIST","2 01 02 | Жилищные или жилищно-строительные кооперативы"]
["OKOPF_LIST","2 01 03 | Жилищные накопительные кооперативы"]
["OKOPF_LIST","2 01 04 | Кредитные потребительские кооперативы"]
["OKOPF_LIST","2 01 05 | Кредитные потребительские кооперативы граждан"]
["OKOPF_LIST","2 01 06 | Кредитные кооперативы второго уровня"]
["OKOPF_LIST","2 01 07 | Потребительские общества"]
["OKOPF_LIST","2 01 08 | Общества взаимного страхования"]
["OKOPF_LIST","2 01 09 | Сельскохозяйственные потребительские перерабатывающие кооперативы"]
["OKOPF_LIST","2 01 10 | Сельскохозяйственные потребительские сбытовые (торговые) кооперативы"]
["OKOPF_LIST","2 01 11 | Сельскохозяйственные потребительские обслуживающие кооперативы"]
["OKOPF_LIST","2 01 12 | Сельскохозяйственные потребительские снабженческие кооперативы"]
["OKOPF_LIST","2 01 13 | Сельскохозяйственные потребительские садоводческие кооперативы"]
["OKOPF_LIST","2 01 14 | Сельскохозяйственные потребительские огороднические кооперативы"]
["OKOPF_LIST","2 01 15 | Сельскохозяйственные потребительские животноводческие кооперативы"]
["OKOPF_LIST","2 01 16 | Сельскохозяйственные потребительские растениеводческие кооперативы"]
["OKOPF_LIST","2 01 20 | Садоводческие, огороднические или дачные потребительские кооперативы"]
["OKOPF_LIST","2 01 21 | Фонды проката"]
["OKOPF_LIST","2 02 01 | Политические партии"]
["OKOPF_LIST","2 02 02 | Профсоюзные организации"]
["OKOPF_LIST","2 02 10 | Общественные движения"]
["OKOPF_LIST","2 02 11 | Органы общественной самодеятельности"]
["OKOPF_LIST","2 02 17 | Территориальные общественные самоуправления"]
["OKOPF_LIST","2 06 01 | Ассоциации (союзы) экономического взаимодействия субъектов Российской Федерации"]
["OKOPF_LIST","2 06 03 | Советы муниципальных образований субъектов Российской Федерации"]
["OKOPF_LIST","2 06 04 | Союзы (ассоциации) кредитных кооперативов"]
["OKOPF_LIST","2 06 05 | Союзы (ассоциации) кооперативов"]
["OKOPF_LIST","2 06 06 | Союзы (ассоциации) общественных объединений"]
["OKOPF_LIST","2 06 07 | Союзы (ассоциации) общин малочисленных народов"]
["OKOPF_LIST","2 06 08 | Союзы потребительских обществ"]
["OKOPF_LIST","2 06 09 | Адвокатские палаты"]
["OKOPF_LIST","2 06 10 | Нотариальные палаты"]
["OKOPF_LIST","2 06 11 | Торгово-промышленные палаты"]
["OKOPF_LIST","2 06 12 | Объединения работодателей"]
["OKOPF_LIST","2 06 13 | Объединения фермерских хозяйств"]
["OKOPF_LIST","2 06 14 | Некоммерческие партнерства"]
["OKOPF_LIST","2 06 15 | Адвокатские бюро"]
["OKOPF_LIST","2 06 16 | Коллегии адвокатов"]
["OKOPF_LIST","2 06 17 | Садоводческие, огороднические или дачные некоммерческие партнерства"]
["OKOPF_LIST","2 06 18 | Ассоциации (союзы) садоводческих, огороднических и дачных некоммерческих объединений"]
["OKOPF_LIST","2 06 19 | Саморегулируемые организации"]
["OKOPF_LIST","2 06 20 | Объединения (ассоциации и союзы) благотворительных организаций"]
["OKOPF_LIST","2 07 01 | Садоводческие, огороднические или дачные некоммерческие товарищества"]
["OKOPF_LIST","2 07 02 | Садоводческие или огороднические некоммерческие товарищества"]
["OKOPF_LIST","2 07 16 | Товарищества собственников жилья"]
["OKOPF_LIST","2 11 00 | Казачьи общества, внесенные в государственный реестр казачьих обществ в Российской Федерации"]
["OKOPF_LIST","2 12 00 | Общины коренных малочисленных народов Российской Федерации"]
["OKOPF_LIST","3 00 01 | Представительства юридических лиц"]
["OKOPF_LIST","3 00 02 | Филиалы юридических лиц"]
["OKOPF_LIST","3 00 03 | Обособленные подразделения юридических лиц"]
["OKOPF_LIST","3 00 04 | Структурные подразделения обособленных подразделений юридических лиц"]
["OKOPF_LIST","3 00 05 | Паевые инвестиционные фонды"]
["OKOPF_LIST","3 00 06 | Простые товарищества"]
["OKOPF_LIST","3 00 08 | Районные суды, городские суды, межрайонные суды (районные суды)"]
["OKOPF_LIST","4 00 01 | Межправительственные международные организации"]
["OKOPF_LIST","4 00 02 | Неправительственные международные организации"]
["OKOPF_LIST","5 01 01 | Главы крестьянских (фермерских) хозяйств"]
["OKOPF_LIST","5 01 02 | Индивидуальные предприниматели"]
["OKOPF_LIST","5 02 01 | Адвокаты, учредившие адвокатский кабинет"]
["OKOPF_LIST","5 02 02 | Нотариусы, занимающиеся частной практикой"]
["OKOPF_LIST","6 51 41 | Федеральные казенные предприятия"]
["OKOPF_LIST","6 51 42 | Казенные предприятия субъектов Российской Федерации"]
["OKOPF_LIST","6 51 43 | Муниципальные казенные предприятия"]
["OKOPF_LIST","6 52 41 | Федеральные государственные унитарные предприятия"]
["OKOPF_LIST","6 52 42 | Государственные унитарные предприятия субъектов Российской Федерации"]
["OKOPF_LIST","6 52 43 | Муниципальные унитарные предприятия"]
["OKOPF_LIST","7 04 01 | Благотворительные фонды"]
["OKOPF_LIST","7 04 02 | Негосударственные пенсионные фонды"]
["OKOPF_LIST","7 04 03 | Общественные фонды"]
["OKOPF_LIST","7 04 04 | Экологические фонды"]
["OKOPF_LIST","7 14 00 | Автономные некоммерческие организации"]
["OKOPF_LIST","7 15 00 | Религиозные организации"]
["OKOPF_LIST","7 16 01 | Государственные корпорации"]
["OKOPF_LIST","7 16 02 | Государственные компании"]
["OKOPF_LIST","7 16 10 | Отделения иностранных некоммерческих неправительственных организаций"]
["OKOPF_LIST","7 51 01 | Федеральные государственные автономные учреждения"]
["OKOPF_LIST","7 51 03 | Федеральные государственные бюджетные учреждения"]
["OKOPF_LIST","7 51 04 | Федеральные государственные казенные учреждения"]
["OKOPF_LIST","7 52 01 | Государственные автономные учреждения субъектов Российской Федерации"]
["OKOPF_LIST","7 52 03 | Государственные бюджетные учреждения субъектов Российской Федерации"]
["OKOPF_LIST","7 52 04 | Государственные казенные учреждения субъектов Российской Федерации"]
["OKOPF_LIST","7 53 00 | Государственные академии наук"]
["OKOPF_LIST","7 54 01 | Муниципальные автономные учреждения"]
["OKOPF_LIST","7 54 03 | Муниципальные бюджетные учреждения"]
["OKOPF_LIST","7 54 04 | Муниципальные казенные учреждения"]
["OKOPF_LIST","7 55 00 | Частные учреждения"]
["OKOPF_LIST","7 55 02 | Благотворительные учреждения"]
["OKOPF_LIST","7 55 05 | Общественные учреждения"]

{"sheet":"FILE_STORE_DATA","index":31,"n_rows":2,"n_cols":5,"rows_kept":2,"cut":false,"hidden":true,"merged":[]}
["GUID","MIME","EXTENSION","CREATE_DATE","FORCE_ALLOWED"]
["6b68dfe3-c009-43f5-9d83-971b39fb7813","application/pdf",".pdf","24-01-2018 15:17:08","NO"]

{"sheet":"PLAN1X_LIST_ORG","index":32,"n_rows":48,"n_cols":25,"rows_kept":48,"cut":false,"hidden":true,"merged":[]}
["LGL_ID","NMBR","RST_ORG_ID","ORG","INN","KPP","FIL","VDET","INN_ID","KPP_ID","FIL_ID","VDET_ID","OKOPF","SPECIFIC_STATUS","SPECIFIC_STATUS_URL","UNREG","SCC","TAX","MILITARY","IS_PROFILE_ACTIVITY","OGRN","OKPO","STATE_SHARE_EXISTENCE","STATE_SHARE_VALUE","PREVAILING_SHARE_VALUE"]
["5720308709","1","26405782","АО \"Вынгапуровский тепловодоканал\"","8905045443","890501001",null,"Некомбинированное производство :: Передача :: Сбыт","56582204","5416296","5412526","2386758237","1 22 67 | Непубличные акционерные общества","да","https://portal.eias.ru/Portal/DownloadPage.aspx?type=12&guid=b7f879ba-53d7-438f-817d-2d69184453c1","да","да","да","нет","да","1098905000622","50524046","да","100 %","муниципальная"]
["5720308709","2","26590793","АО \"Надымское авиапредприятие\"","8903025610","890301001",null,"Некомбинированное производство :: Передача :: Сбыт","57227167","5416293","5412526","2386758237","1 22 47 | Публичные акционерные общества","нет",null,"да","да","да","нет","нет","1068903001265","04726314","нет","0 %","частная"]
["5720308709","3","26361309","АО \"Салехардэнерго\"","8901030855","890101001",null,"Комбинированное производство, более 25 МВт","2304839647","5416290","5412526","2386758239","1 22 67 | Непубличные акционерные общества","нет",null,"да","да","да","нет","да","1158901001434","47196594","да","100 %","муниципальная"]
["5720308709","4","26361309","АО \"Салехардэнерго\"","8901030855","890101001",null,"Комбинированное производство, менее 25 МВт","2304839647","5416290","5412526","2386758236","1 22 67 | Непубличные акционерные общества","нет",null,"да","да","да","нет","да","1158901001434","47196594","да","100 %","муниципальная"]
["5720308709","5","26361309","АО \"Салехардэнерго\"","8901030855","890101001",null,"Некомбинированное производство :: Передача :: Сбыт","2304839647","5416290","5412526","2386758237","1 22 67 | Непубличные акционерные общества","да","https://portal.eias.ru/Portal/DownloadPage.aspx?type=12&guid=6b68dfe3-c009-43f5-9d83-971b39fb7813","да","да","да","нет","нет","1158901001434","47196594","да","100 %","муниципальная"]
["5720308709","6","26405756","АО \"Уренгойтеплогенерация-1\"","8904057830","890401001",null,"Некомбинированное производство :: Передача :: Сбыт","56807430","5416294","5412526","2386758237","1 22 47 | Публичные акционерные общества","нет",null,"да","да","да","нет","да","1088904004716","87220210","да","50 % и более","муниципальная"]
["5720308709","7","26318629","АО \"Харп-Энерго-Газ\"","8901016850","890801001",null,"Некомбинированное производство :: Передача :: Сбыт","5182869","5416299","5412526","2386758237","1 22 47 | Публичные акционерные общества","да","https://portal.eias.ru/Portal/DownloadPage.aspx?type=12&guid=e5d67185-c572-45c7-b270-d691ffb85ccb","да","да","да","нет","да","1058900013369","78190800","нет","0 %","частная"]
["5720308709","8","26383121","АО \"Энерго-Газ-Ноябрьск\"","8905033649","890501001",null,"Некомбинированное производство :: Передача :: Сбыт","5182845","5416296","5412526","2386758237","1 22 67 | Непубличные акционерные общества","да","https://portal.eias.ru/Portal/DownloadPage.aspx?type=12&guid=d7baaab3-313d-410e-99e6-990a483f5734","да","да","да","нет","да","1048900553206","73157850","нет","0 %","частная"]
["5720308709","9","27664323","АО \"Ямалкоммунэнерго\" филиал в Надымском районе","8901025421","890343001","Надымский филиал","Некомбинированное производство :: Передача :: Сбыт","1274681886","826669490","56588506","2386758237","1 22 67 | Непубличные акционерные общества","да","https://portal.eias.ru/Portal/DownloadPage.aspx?type=12&guid=92b200bd-d933-4dbb-bfdc-e2a415079ca5","да","да","да","нет","да","1118901002153","37990316","нет","0 %","частная"]
["5720308709","10","28545795","АО \"Ямалкоммунэнерго\" филиал в Приуральском районе","8901025421","890801001",null,"Некомбинированное производство :: Передача :: Сбыт","1274681886","5416299","5412526","2386758237","1 22 47 | Публичные акционерные общества","нет",null,"да","да","да","нет","да","1118901002153","32130164","нет","0 %","частная"]
["5720308709","11","28507609","АО \"Ямалкоммунэнерго\" филиал в Пуровском районе \"Тепло\"","8901025421","891101001",null,"Некомбинированное производство :: Передача :: Сбыт","1274681886","5416302","5412526","2386758237","1 22 67 | Непубличные акционерные общества","да","https://portal.eias.ru/Portal/DownloadPage.aspx?type=12&guid=f971fdaa-008a-4f00-9174-239681f36fa6","да","да","да","нет","да","1118901002153","92217121","нет","0 %","частная"]
["5720308709","12","28153479","АО \"Ямалкоммунэнерго\" филиал в Тазовском районе","8901025421","891000354",null,"Некомбинированное производство :: Передача :: Сбыт","1274681886","1470380900","5412526","2386758237","1 22 47 | Публичные акционерные общества","нет",null,"да","да","да","нет","нет","1118901002153","30501432","нет","0 %","частная"]
["5720308709","13","28139533","АО \"Ямалкоммунэнерго\" филиал в Шурышкарском районе","8901025421","890701001",null,"Некомбинированное производство :: Передача :: Сбыт","1274681886","5416298","5412526","2386758237","1 22 67 | Непубличные акционерные общества","да","https://portal.eias.ru/Portal/DownloadPage.aspx?type=12&guid=7161b2ed-3fdb-4ec0-aa5d-c50faf2a4744","да","да","да","нет","нет","1118901002153","92217121","нет","0 %","частная"]
["5720308709","14","28951636","АО \"Ямалкоммунэнерго\" филиал в Ямальском районе","8901025421","890943001",null,"Некомбинированное производство :: Передача :: Сбыт","1274681886","2006684967","5412526","2386758237","1 22 67 | Непубличные акционерные общества","да","https://portal.eias.ru/Portal/DownloadPage.aspx?type=12&guid=69bf649a-3092-41e7-9230-1570057c21ef","да","да","да","нет","да","1118901002153","33602441","нет","0 %","частная"]
["5720308709","15","28137162","АО \"Ямалкоммунэнерго\" филиал в г.Губкинский","8901025421","891143003",null,"Некомбинированное производство :: Передача :: Сбыт","1274681886","1391379161","5412526","2386758237","1 22 47 | Публичные акционерные общества","да","https://portal.eias.ru/Portal/DownloadPage.aspx?type=12&guid=dd306072-88e0-4684-93c2-d96f775c86a5","да","да","да","нет","да","1118901002153","38015151","нет","0 %","частная"]
["5720308709","16","28149145","АО \"Ямалкоммунэнерго\" филиал в г.Муравленко \"Тепло\"","8901025421","890543001",null,"Некомбинированное производство :: Передача :: Сбыт","1274681886","57112100","5412526","2386758237","1 22 67 | Непубличные акционерные общества","да","https://portal.eias.ru/Portal/DownloadPage.aspx?type=12&guid=ac7a0293-4c5d-4e67-ac93-64e162fda032","да","да","да","нет","да","1118901002153","37990173","нет","0 %","частная"]
["5720308709","17","26405784","Вынгапуровское ЛПУ МГ ООО \"Газпром трансгаз Сургут\"","8617002073","890503001",null,"Некомбинированное производство :: Передача :: Сбыт","5164078","57287222","5412526","2386758237","1 23 00 | Общества с ограниченной ответственностью","нет",null,"да","да","да","нет","нет","1028601679314","05015124","нет","0 %","частная"]
["5720308709","18","26405813","Губкинское ЛПУ МГ ООО \"Газпром трансгаз Сургут\"","8617002073","891103002",null,"Некомбинированное производство :: Передача :: Сбыт","5164078","57287148","5412526","2386758237","1 23 00 | Общества с ограниченной ответственностью","нет",null,"да","да","да","нет","нет","1028601679314","05015124","нет","0 %","частная"]
["5720308709","19","26361337","ЗАО \"Спецтеплосервис\"","8908001677","890801001",null,"Некомбинированное производство :: Передача :: Сбыт","5182858","5416299","5412526","2386758237","1 22 67 | Непубличные акционерные общества","нет",null,"да","да","да","нет","да","1048900100446","75690855","нет","0 %","частная"]
["5720308709","20","26405791","Лонг-Юганское ЛПУ МГ ООО \"Газпром трансгаз Югорск\"","8622000931","890302002",null,"Некомбинированное производство :: Передача :: Сбыт","5162122","57095282","5412526","2386758237","1 23 00 | Общества с ограниченной ответственностью","нет",null,"нет","нет","да","нет","нет","1028601843918","67792654","нет","0 %","частная"]
["5720308709","21","30803234","МП \"Полярный круг\"  МО г. Салехард","8901009444","890101001",null,"Некомбинированное производство :: Передача :: Сбыт","2708000500","5416290","5412526","2386758237","6 52 43 | Муниципальные унитарные предприятия","нет",null,"нет","да","нет","нет","нет","1028900509417","34947573","да","100 %","муниципальная"]
["5720308709","22","26524362","МПП ЖКХ МО г. Лабытнанги \"Ямал\"","8902009197","890201001",null,"Некомбинированное производство :: Передача :: Сбыт","5228579","5416292","5412526","2386758237","6 52 43 | Муниципальные унитарные предприятия","нет",null,"да","да","да","нет","нет","1028900558070","57425423","да","100 %","муниципальная"]
["5720308709","23","26537588","Надымский филиал ООО \"Газпром энерго\"","7736186950","890302001","Надымский филиал","Некомбинированное производство :: Передача :: Сбыт","5217517","56817055","56588506","2386758237","1 23 00 | Общества с ограниченной ответственностью","да","https://portal.eias.ru/Portal/DownloadPage.aspx?type=12&guid=e38d323d-0baf-4ab2-bff2-0d0401f2afdf","нет","да","да","нет","нет","1027739841370","98770801","нет","0 %","частная"]
["5720308709","24","26539372","Ново-Уренгойское ЛПУ МГ ООО \"Газпром трансгаз Сургут\"","8617002073","890403001",null,"Некомбинированное производство :: Передача :: Сбыт","5164078","56583999","5412526","2386758237","1 23 00 | Общества с ограниченной ответственностью","нет",null,"да","да","да","нет","нет","1028601679314","05015124","нет","0 %","частная"]
["5720308709","25","26360366","Ноябрьский филиал АО \"Аэропорт Сургут\"","8602060523","890543001",null,"Некомбинированное производство :: Передача :: Сбыт","5162803","57112100","5412526","2386758237","1 22 47 | Публичные акционерные общества","нет",null,"нет","нет","да","нет","нет","1028600603998","33591424","нет","0 %","частная"]
["5720308709","26","26405797","Ныдинское ЛПУ МГ ООО \"Газпром трансгаз Югорск\"","8622000931","890302001",null,"Некомбинированное производство :: Передача","5162122","56817055","5412526","2392814112","1 23 00 | Общества с ограниченной ответственностью","нет",null,"да","да","да","нет","нет","1028601843918","00154223","нет","0 %","частная"]
["5720308709","27","26361312","ОАО \"Тепло-Энергетик\"","8902010724","890201001",null,"Некомбинированное производство :: Передача :: Сбыт","5182838","5416292","5412526","2386758237","1 22 47 | Публичные акционерные общества","да","https://portal.eias.ru/Portal/DownloadPage.aspx?type=12&guid=9a08777d-917d-44dc-857f-0720a84268f3","да","да","да","нет","да","1048900102052","73159895","нет","0 %","частная"]
["5720308709","28","31189728","ОАО \"Ямал СПГ\"","7709602713","891450001",null,"Некомбинированное производство :: Передача :: Сбыт","4002773942","56588623","5412526","2386758237","1 22 47 | Публичные акционерные общества","нет",null,"да","нет","да","нет","нет","1057746608754","76551334","нет","0 %","частная"]
["5720308709","29","26361313","ООО \"Авто-Миг плюс\"","8902012591","890201001",null,"Некомбинированное производство :: Передача :: Сбыт","5284943","5416292","5412526","2386758237","1 23 00 | Общества с ограниченной ответственностью","нет",null,"да","да","да","нет","нет","1078901002663","81325497","нет","0 %","частная"]
["5720308709","30","26405755","ООО \"Газпром добыча Уренгой\"","8904034784","997250001",null,"Некомбинированное производство :: Передача :: Сбыт","56491235","5416306","5412526","2386758237","1 23 00 | Общества с ограниченной ответственностью","нет",null,"да","да","да","нет","нет","1028900628932","71956000001","нет","0 %","частная"]
["5720308709","31","26405779","ООО \"Газпром добыча Ямбург\" Филиал \"Ямбурское районное энергетическое управление\"","8904034777","890401001",null,"Некомбинированное производство","5259134","5416294","5412526","2386758240","1 23 00 | Общества с ограниченной ответственностью","нет",null,"да","да","да","нет","нет","1028900624576","04803457710001","нет","0 %","частная"]
["5720308709","32","28046959","ООО \"ЛУКОЙЛ-ЭНЕРГОСЕТИ\"","5260230051","770901001",null,"Некомбинированное производство :: Передача :: Сбыт","23542682","5423388","5412526","2386758237","1 23 00 | Общества с ограниченной ответственностью","нет",null,"да","да","да","нет","да","1088607000217","45375000","нет","0 %","частная"]
["5720308709","33","26637523","ООО \"Ноябрьская ПГЭ\"","8905037499","890501001",null,"Комбинированное производство, более 25 МВт","56515052","5416296","5412526","2386758239","1 23 00 | Общества с ограниченной ответственностью","нет",null,"нет","да","да","нет","да","1068905007038","93906064","нет","0 %","частная"]
["5720308709","34","31422928","ООО \"Полярный круг\"","8901039142","890101001",null,"Некомбинированное производство :: Передача :: Сбыт","5184587993","5416290","5412526","2386758237","1 23 00 | Общества с ограниченной ответственностью","нет",null,"нет","да","нет","нет","нет","1208900001530","44383096","да","100 %","субъект РФ"]
["5720308709","35","26754438","ООО \"РН-Пурнефтегаз\"","8913006455","997250001",null,"Некомбинированное производство :: Передача :: Сбыт","5284946","5416306","5412526","2386758237","1 23 00 | Общества с ограниченной ответственностью","нет",null,"нет","да","да","нет","нет","1058901407707","78192756","нет","0 %","частная"]
["5720308709","36","26519891","ООО \"РемСтройСервис\"","8903028234","890301001",null,"Некомбинированное производство :: Передача :: Сбыт","57444535","5416293","5412526","2386758237","1 23 00 | Общества с ограниченной ответственностью","нет",null,"да","да","нет","нет","нет","1088903000526","86068556","нет","0 %","частная"]
["5720308709","37","30870949","ООО \"Энергосистемы\"","6659144929","665801001",null,"Некомбинированное производство :: Передача :: Сбыт","2885932603","5470698","5412526","2386758237","1 23 00 | Общества с ограниченной ответственностью","нет",null,"да","да","да","нет","нет","1069659058358","97369189","нет","0 %","частная"]
["5720308709","38","26361349","ООО \"Ямал-Энерго\"","8912002546","891201001",null,"Некомбинированное производство :: Передача :: Сбыт","56446288","5416304","5412526","2386758237","1 23 00 | Общества с ограниченной ответственностью","да","https://portal.eias.ru/Portal/DownloadPage.aspx?type=12&guid=1cd2b3ec-c39b-44a0-a3e1-0ecf9e652595","да","нет","да","нет","нет","1078911001135","84672348","нет","0 %","частная"]
["5720308709","39","26522800","ООО «Газпром энерго» в зоне деятельности Сургутского филиала Общества с ограниченной ответственностью «Газпром энерго»","7736186950","860202001","Сургутский филиал","Некомбинированное производство","5217517","5509313","57190523","2386758240","1 23 00 | Общества с ограниченной ответственностью","нет",null,"нет","да","да","нет","да","1027739841370","78193253","нет","0 %","частная"]
["5720308709","40","26405814","ООО ЭК \"Тепло-Водо-Электро-Сервис\"","8912002592","891201001",null,"Некомбинированное производство :: Передача :: Сбыт","56446289","5416304","5412526","2386758237","1 23 00 | Общества с ограниченной ответственностью","да","https://portal.eias.ru/Portal/DownloadPage.aspx?type=12&guid=6464e024-6f80-44d8-bd42-846904d034f6","да","да","да","нет","да","1088911000342","86068243","нет","0 %","частная"]
["5720308709","41","26405792","Приозерное ЛПУ МГ ООО \"Газпром трансгаз Югорск\"","8622000931","890302005",null,"Некомбинированное производство :: Передача :: Сбыт","5162122","57027052","5412526","2386758237","1 23 00 | Общества с ограниченной ответственностью","нет",null,"да","нет","да","нет","нет","1028601843918","00116912","нет","0 %","частная"]
["5720308709","42","26405812","Пурпейское ЛПУ МГ ООО \"Газпром трансгаз Сургут\"","8617002073","891103001",null,"Некомбинированное производство :: Передача :: Сбыт","5164078","57213248","5412526","2386758237","1 23 00 | Общества с ограниченной ответственностью","нет",null,"да","да","да","нет","нет","1028601679314","05015124","нет","0 %","частная"]
["5720308709","43","26360995","Свердловская дирекция по тепловодоснабжению-структурное подразделение Центральной дирекции по тепловодоснабжению ОАО \"РЖД\"","7708503727","880231001","«Дирекция по тепловодоснабжению Свердловской железной дороги» ст.Ноябрьск","Некомбинированное производство :: Передача :: Сбыт","5112046","5416289","57095347","2386758237","1 22 47 | Публичные акционерные общества","да","https://portal.eias.ru/Portal/DownloadPage.aspx?type=12&guid=bc24081d-888c-4285-a553-9929b315eeab","да","да","да","нет","нет","1037739877293","85017479","нет","0 %","частная"]
["5720308709","44","26319119","Управление \"Ямалэнергогаз\" ООО \"Газпром добыча Надым\"","8903019871","890303004",null,"Некомбинированное производство :: Передача :: Сбыт","5228587","57092969","5412526","2386758237","1 23 00 | Общества с ограниченной ответственностью","нет",null,"да","да","да","нет","да","1028900578080","00153761","нет","0 %","частная"]
["5720308709","45","26405743","Уренгойский филиал ООО \"Газпром энерго\"","7736186950","890402001",null,"Некомбинированное производство :: Передача :: Сбыт","5217517","56452832","5412526","2386758237","1 23 00 | Общества с ограниченной ответственностью","нет",null,"да","да","да","нет","нет","1027739841370","72693322","нет","0 %","частная"]
["5720308709","46","26522992","Филиал \"Уренгойская ГРЭС\" АО \"Интер РАО - Электрогенерация\"","7704784450","890443001",null,"Комбинированное производство, более 25 МВт :: Передача :: Сбыт","990307922","1304414648","5412526","3389595657","1 22 47 | Публичные акционерные общества","да","https://portal.eias.ru/Portal/DownloadPage.aspx?type=12&guid=f68b848f-b34a-48d6-8f3c-6cf140d9a0fc","да","да","да","нет","да","1117746460358","04807745","нет","0 %","частная"]
["5720308709","47","26405794","Ягельное ЛПУ МГ ООО \"Газпром трансгаз Югорск\"","8622000931","890302008",null,"Некомбинированное производство :: Передача :: Сбыт","5162122","57092963","5412526","2386758237","1 23 00 | Общества с ограниченной ответственностью","нет",null,"да","да","да","нет","нет","1028601843918","00116866","нет","0 %","частная"]

{"sheet":"PLAN1X_LIST_MO","index":33,"n_rows":2,"n_cols":9,"rows_kept":2,"cut":false,"hidden":true,"merged":[]}
["POSITION","MR","MO","OKTMO","TAX","DPR","VTOV","TR_TARIFF","LGL_ID"]
["5.1","Город Салехард","город Салехард","71951000","да",null,"Тариф: Носитель - горячая вода (Т)",null,"5720308709"]

{"sheet":"PLAN1X_LIST_SUBSIDIARY","index":34,"n_rows":8,"n_cols":2,"rows_kept":8,"cut":false,"hidden":true,"merged":[]}
["DIC_NAME","DIC_VALUE"]
["SUBSIDIARY_LIST"]
["SUBSIDIARY_LIST","«Дирекция по тепловодоснабжению Свердловской железной дороги» ст.Ноябрьск"]
["SUBSIDIARY_LIST","Губкинский"]
["SUBSIDIARY_LIST","Лонг-Юганское ЛПУ МГ"]
["SUBSIDIARY_LIST","Надымский филиал"]
["SUBSIDIARY_LIST","Сургутский филиал"]
["SUBSIDIARY_LIST","Ямбургское ЛПУ МГ"]

{"sheet":"PLAN1X_LIST_DPR","index":35,"n_rows":32,"n_cols":2,"rows_kept":32,"cut":false,"hidden":true,"merged":[]}
["DIC_NAME","DIC_VALUE"]
["DPR_LIST"]
["DPR_LIST","Оказание услуг на территории: Муниципальный округ Надымский район (ОКТМО: 71936000) - г Надым"]
["DPR_LIST","Оказание услуг на территории: Муниципальный округ Надымский район (ОКТМО: 71936000) - с Кутопьюган, с Нори"]
["DPR_LIST","Оказание услуг на территории: Муниципальный округ Надымский район (ОКТМО: 71936000) - с Кутопьюган, с Ныда"]
["DPR_LIST","Оказание услуг на территории: Муниципальный округ Пуровский район (ОКТМО: 71940000) - г Тарко-Сале, п Сывдарма"]
["DPR_LIST","Оказание услуг на территории: Муниципальный округ Пуровский район (ОКТМО: 71940000) - г Тарко-Сале, с Сывдарма"]
["DPR_LIST","Оказание услуг на территории: Муниципальный округ Пуровский район (ОКТМО: 71940000) - д Харампур"]
["DPR_LIST","Оказание услуг на территории: Муниципальный округ Пуровский район (ОКТМО: 71940000) - п Пуровск"]
["DPR_LIST","Оказание услуг на территории: Муниципальный округ Пуровский район (ОКТМО: 71940000) - п Пурпе"]
["DPR_LIST","Оказание услуг на территории: Муниципальный округ Пуровский район (ОКТМО: 71940000) - п Ханымей"]
["DPR_LIST","Оказание услуг на территории: Муниципальный округ Пуровский район (ОКТМО: 71940000) - пгт Уренгой"]
["DPR_LIST","Оказание услуг на территории: Муниципальный округ Пуровский район (ОКТМО: 71940000) - с Самбург"]
["DPR_LIST","Оказание услуг на территории: Муниципальный округ Пуровский район (ОКТМО: 71940000) - с Халясавэй"]
["DPR_LIST","Оказание услуг на территории: Муниципальный округ Тазовский район (ОКТМО: 71943000) - п Тазовский, с Газ-Сале, с Антипаюта, с Находка"]
["DPR_LIST","Оказание услуг на территории: Муниципальный округ Тазовский район (ОКТМО: 71943000) - с Гыда"]
["DPR_LIST","Оказание услуг на территории: Шурышкарский муниципальный район (ОКТМО: 71926000) - с Горки, с Лопхари, с Азовы, с Питляр"]
["DPR_LIST","Оказание услуг на территории: Шурышкарский муниципальный район (ОКТМО: 71926000) - с Горки, с Лопхари, с Азовы. с Питляр"]
["DPR_LIST","Оказание услуг на территории: Шурышкарский муниципальный район (ОКТМО: 71926000) - с Мужи, с Восяхово, с  Шурышкары"]
["DPR_LIST","Оказание услуг на территории: Шурышкарский муниципальный район (ОКТМО: 71926000) - с Мужи, с Восяхово, с Шурышкары"]
["DPR_LIST","Оказание услуг на территории: Ямальский муниципальный район (ОКТМО: 71928000) - вахтовый посёлок Бованенково"]
["DPR_LIST","Оказание услуг на территории: г Лабытнанги (ОКТМО: 71953000001)"]
["DPR_LIST","Оказание услуг на территории: г Ноябрьск (ОКТМО: 71958000001)"]
["DPR_LIST","Оказание услуг на территории: город Ноябрьск (ОКТМО: 71958000) - п Северная Нива"]
["DPR_LIST","Оказание услуг на территории: п Правохеттинский (ОКТМО: 71916412101)"]
["DPR_LIST","Оказание услуг на территории: п Правохеттинский (ОКТМО: 71916412101) - промзона"]
["DPR_LIST","Оказание услуг на территории: пгт Заполярный (ОКТМО: 71916153051)"]
["DPR_LIST","Оказание услуг на территории: пгт Пангоды (ОКТМО: 71916156051)"]
["DPR_LIST","Оказание услуг на территории: пгт Пангоды (ОКТМО: 71916156051) - промзона"]
["DPR_LIST","горячее водоснабжение"]
["DPR_LIST","котельная на электричестве"]
["DPR_LIST","отопление"]

{"sheet":"PLAN1X_LIST_SRC","index":36,"n_rows":36,"n_cols":31,"rows_kept":36,"cut":false,"hidden":true,"merged":[]}
["CONTEXT_ID","№","ПР-ВО","ТР-КА","СБЫТ","Организация","ИНН","КПП","Филиал","№","Объект","Тип","Адрес. МР","Адрес. МО","Адрес. ОКТМО","Адрес. НП","Адрес. НП ОКТМО","Адрес. Улица","Адрес. Дом","","Территория. МР","Территория. МО","Территория. ОКТМО","Территория. НП","Территория. НП ОКТМО","Производство. Установленная мощность","Производство. Подключенная нагрузка","Передача. Установленная мощность","Передача. Подключенная нагрузка","Сбыт. Установленная мощность","Сбыт. Подключенная нагрузка"]
[null,"1","да","нет","нет",null,"8901030855","890101001",null,null,"ГТЭС \"Обдорск\"","ТИ","город Салехард","город Салехард","71951000","г Салехард","71951000001","ул. Деповская","21","1","Город Салехард","город Салехард","71951000","г Салехард","71951000001","51.6","19.8"]
[null,"2","да","да","да",null,"8901030855","890101001",null,null,"Котельная № 5","ТИ с сетями","город Салехард","город Салехард","71951000","г Салехард","71951000001","ул. Комсомольская","36а","1","Город Салехард","город Салехард","71951000","г Салехард","71951000001","10.32","9.326","10.32","9.326","10.32","9.326"]
[null,"3","да","да","да",null,"8901030855","890101001",null,null,"Котельная № 6","ТИ с сетями","город Салехард","город Салехард","71951000","г Салехард","71951000001","ул. Республики","102б","1","Город Салехард","город Салехард","71951000","г Салехард","71951000001","6.88","3.546","6.88","3.611","6.88","3.611"]
[null,"4","да","да","да",null,"8901030855","890101001",null,null,"Котельная № 8","ТИ с сетями","город Салехард","город Салехард","71951000","г Салехард","71951000001","ул. Зои Космодемьянской","23а","1","Город Салехард","город Салехард","71951000","г Салехард","71951000001","18.92","11.234","18.92","10.881","18.92","10.881"]
[null,"5","да","да","да",null,"8901030855","890101001",null,null,"Котельная №10","ТИ с сетями","город Салехард","город Салехард","71951000","г Салехард","71951000001","ул. Трудовая","23а","1","Город Салехард","город Салехард","71951000","г Салехард","71951000001","6.88","3.272","6.88","3.272","6.88","3.272"]
[null,"6","да","да","да",null,"8901030855","890101001",null,null,"Котельная №11","ТИ с сетями","город Салехард","город Салехард","71951000","г Салехард","71951000001","ул. Подшибякина","57","1","Город Салехард","город Салехард","71951000","г Салехард","71951000001","3.44",".501","3.44",".501","3.44",".501"]
[null,"7","да","да","да",null,"8901030855","890101001",null,null,"Котельная №14","ТИ с сетями","город Салехард","город Салехард","71951000","г Салехард","71951000001","ул. Полярная","1б","1","Город Салехард","город Салехард","71951000","г Салехард","71951000001","6.88","3.717","6.88","3.537","6.88","3.537"]
[null,"8","да","да","да",null,"8901030855","890101001",null,null,"Котельная №22","ТИ с сетями","город Салехард","город Салехард","71951000","г Салехард","71951000001","ул. Чапаева","22а","1","Город Салехард","город Салехард","71951000","г Салехард","71951000001","12.47","5.95","12.47","5.91","12.47","5.91"]
[null,"9","да","да","да",null,"8901030855","890101001",null,null,"Котельная №28","ТИ с сетями","город Салехард","город Салехард","71951000","г Салехард","71951000001","ул. Обская","41","1","Город Салехард","город Салехард","71951000","г Салехард","71951000001","8.6","4.604","8.6","4.47","8.6","4.47"]
[null,"10","да","да","да",null,"8901030855","890101001",null,null,"Котельная №29","ТИ с сетями","город Салехард","город Салехард","71951000","г Салехард","71951000001","ул. Авиационная","23","1","Город Салехард","город Салехард","71951000","г Салехард","71951000001","16","2.866","16","2.866","16","2.866"]
[null,"11","да","да","да",null,"8901030855","890101001",null,null,"Котельная №30","ТИ с сетями","город Салехард","город Салехард","71951000","г Салехард","71951000001","ул. Ленина","2","1","Город Салехард","город Салехард","71951000","г Салехард","71951000001","40","21.308","40","20.865","40","20.865"]
[null,"12","да","да","да",null,"8901030855","890101001",null,null,"Котельная №34","ТИ с сетями","город Салехард","город Салехард","71951000","г Салехард","71951000001","ул. Республики","54а","1","Город Салехард","город Салехард","71951000","г Салехард","71951000001",".86",".722",".86",".722",".86",".722"]
[null,"13","да","да","да",null,"8901030855","890101001",null,null,"Котельная №35","ТИ с сетями","город Салехард","город Салехард","71951000","г Салехард","71951000001","ул. Маяковского","19а","1","Город Салехард","город Салехард","71951000","г Салехард","71951000001","30","11.932","30","11.914","30","11.914"]
[null,"14","да","да","да",null,"8901030855","890101001",null,null,"Котельная №36","ТИ с сетями","город Салехард","город Салехард","71951000","г Салехард","71951000001","ул. Чубынина","37б","1","Город Салехард","город Салехард","71951000","г Салехард","71951000001","33","22.185","33","22.186","33","22.186"]
[null,"15","да","да","да",null,"8901030855","890101001",null,null,"Котельная Администрации","ТИ с сетями","город Салехард","город Салехард","71951000","г Салехард","71951000001","пр-кт. Молодежи","территория администрации ЯНАО","1","Город Салехард","город Салехард","71951000","г Салехард","71951000001","8.42","2.93","8.42","2.93","8.42","2.93"]
[null,"16","да","да","да",null,"8901030855","890101001",null,null,"Котельная МБК","ТИ с сетями","город Салехард","город Салехард","71951000","г Салехард","71951000001","г. Салехард","больничный комплекс","1","Город Салехард","город Салехард","71951000","г Салехард","71951000001","5.16","3.229","5.16","3.229","5.16","3.229"]
[null,"17","да","нет","нет",null,"8901030855","890101001",null,null,"Пиковая котельная","ТИ с сетями","город Салехард","город Салехард","71951000","г Салехард","71951000001","ул. Щорса","19а","1","Город Салехард","город Салехард","71951000","г Салехард","71951000001","5.16","2.281","5.16","2.281","5.16","2.281"]
[null,"18","да","нет","нет",null,"8901030855","890101001",null,null,"ТЭС \"Салехард\"","ТИ","город Салехард","город Салехард","71951000","г Салехард","71951000001","ул. Щорса","-","1","Город Салехард","город Салехард","71951000","г Салехард","71951000001","12","5.08"]
[null,"19","да","да","да",null,"8901030855","890101001",null,null,"котельная №13","ТИ с сетями","город Салехард","город Салехард","71951000","г Салехард","71951000001","ул. Патрикеева","15а","1","Город Салехард","город Салехард","71951000","г Салехард","71951000001","8.6","2.761","8.6","2.761","8.6","2.761"]
[null,"20","да","да","да",null,"8901030855","890101001",null,null,"котельная №16","ТИ с сетями","город Салехард","город Салехард","71951000","г Салехард","71951000001","ул. Игарская","27а","1","Город Салехард","город Салехард","71951000","г Салехард","71951000001","8.6","4.166","8.6","4.166","8.6","4.166"]
[null,"21","да","да","да",null,"8901030855","890101001",null,null,"котельная №21","ТИ с сетями","город Салехард","город Салехард","71951000","г Салехард","71951000001","ул. Броднева","40б","1","Город Салехард","город Салехард","71951000","г Салехард","71951000001","47.68","8.519","47.68","8.4837","47.68","8.4837"]
[null,"22","да","нет","нет",null,"8901030855","890101001",null,null,"котельная Ямальский 2","ТИ","город Салехард","город Салехард","71951000","г Салехард","71951000001","ул. Зои Космодемьянской","63","1","Город Салехард","город Салехард","71951000","г Салехард","71951000001","1.96","1.2"]
[null,"23","да","нет","нет",null,"8901030855","890101001",null,null,"крышная котельная 3-9В","ТИ","город Салехард","город Салехард","71951000","г Салехард","71951000001","ул. Зои Космодемьянской","69","1","Город Салехард","город Салехард","71951000","г Салехард","71951000001","2.26","1.2"]
[null,"24","да","нет","нет",null,"8901030855","890101001",null,null,"крышная котельная 4-1","ТИ","город Салехард","город Салехард","71951000","г Салехард","71951000001","ул. Броднева","28а","1","Город Салехард","город Салехард","71951000","г Салехард","71951000001","2.58",".65"]
[null,"25","да","нет","нет",null,"8901030855","890101001",null,null,"крышная котельная 4-2","ТИ","город Салехард","город Салехард","71951000","г Салехард","71951000001","ул. Броднева","28","1","Город Салехард","город Салехард","71951000","г Салехард","71951000001","2.15",".68"]
[null,"26","да","нет","нет",null,"8901030855","890101001",null,null,"крышная котельная 4-3","ТИ","город Салехард","город Салехард","71951000","г Салехард","71951000001","ул. Подшибякина","46","1","Город Салехард","город Салехард","71951000","г Салехард","71951000001","1.38",".47"]
[null,"27","да","нет","нет",null,"8901030855","890101001",null,null,"крышная котельная 4-4","ТИ","город Салехард","город Салехард","71951000","г Салехард","71951000001","ул. Подшибякина","46 а","1","Город Салехард","город Салехард","71951000","г Салехард","71951000001","1.72",".43"]
[null,"28","да","нет","нет",null,"8901030855","890101001",null,null,"крышная котельная 5-10С","ТИ","город Салехард","город Салехард","71951000","г Салехард","71951000001","ул. Зои Космодемьянской","69","1","Город Салехард","город Салехард","71951000","г Салехард","71951000001","1.67","1"]
[null,"29","да","нет","нет",null,"8901030855","890101001",null,null,"крышная котельная 5-1а","ТИ","город Салехард","город Салехард","71951000","г Салехард","71951000001","ул. Свердлова","41","1","Город Салехард","город Салехард","71951000","г Салехард","71951000001","1.72",".43"]
[null,"30","да","нет","нет",null,"8901030855","890101001",null,null,"крышная котельная 5-1б","ТИ","город Салехард","город Салехард","71951000","г Салехард","71951000001","ул. Свердлова","43","1","Город Салехард","город Салехард","71951000","г Салехард","71951000001","1.03",".24"]
[null,"31","да","нет","нет",null,"8901030855","890101001",null,null,"крышная котельная 5-3.2","ТИ","город Салехард","город Салехард","71951000","г Салехард","71951000001","ул. Свердлова","42","1","Город Салехард","город Салехард","71951000","г Салехард","71951000001","1.38",".45"]
[null,"32","да","нет","нет",null,"8901030855","890101001",null,null,"крышная котельная 7-1","ТИ","город Салехард","город Салехард","71951000","г Салехард","71951000001","ул. Губкина","1","1","Город Салехард","город Салехард","71951000","г Салехард","71951000001","2.58",".09"]
[null,"33","да","нет","нет",null,"8901030855","890101001",null,null,"крышная котельная 7-2","ТИ","город Салехард","город Салехард","71951000","г Салехард","71951000001","ул. Губкина","3","1","Город Салехард","город Салехард","71951000","г Салехард","71951000001","2.16",".44"]
[null,"34","да","нет","нет",null,"8901030855","890101001",null,null,"крышная котельная 7-3","ТИ","город Салехард","город Салехард","71951000","г Салехард","71951000001","ул. Губкина","1а","1","Город Салехард","город Салехард","71951000","г Салехард","71951000001","1.38",".4"]
[null,"35","да","нет","нет",null,"8901030855","890101001",null,null,"крышная котельная 7-4","ТИ","город Салехард","город Салехард","71951000","г Салехард","71951000001","ул. Губкина","3а","1","Город Салехард","город Салехард","71951000","г Салехард","71951000001","1.38",".47"]

{"sheet":"PLAN1X_LIST_TMX","index":37,"n_rows":10,"n_cols":19,"rows_kept":10,"cut":false,"hidden":true,"merged":[]}
["NOMER","ORG","INN","KPP","FIL","VDET","DPR","MR","MO","OKTMO","DET","TF_I_RSL","TF_II_RSL","TF_I_BDG","TF_II_BDG","TF_I_PPL","TF_II_PPL","TF_I_OTH","TF_II_OTH"]
["4.1","АО \"Салехардэнерго\"","8901030855","890101001",null,"Комбинированное производство, более 25 МВт","отопление","Город Салехард","город Салехард","71951000","Общий показатель","987.12","987.12"]
["4.1","АО \"Салехардэнерго\"","8901030855","890101001",null,"Комбинированное производство, более 25 МВт","отопление","Город Салехард","город Салехард","71951000","Горячая вода. отпуск с коллекторов","987.12","987.12"]
["6.1","АО \"Салехардэнерго\"","8901030855","890101001",null,"Комбинированное производство, менее 25 МВт",null,"Город Салехард","город Салехард","71951000","Общий показатель","1867.96","1867.96"]
["6.1","АО \"Салехардэнерго\"","8901030855","890101001",null,"Комбинированное производство, менее 25 МВт",null,"Город Салехард","город Салехард","71951000","Горячая вода. отпуск с коллекторов","1867.96","1867.96"]
["5.1","АО \"Салехардэнерго\"","8901030855","890101001",null,"Некомбинированное производство :: Передача :: Сбыт",null,"Город Салехард","город Салехард","71951000","Горячая вода. через тепловую сеть",null,null,null,null,"1215.84","1264.48"]
["5.1","АО \"Салехардэнерго\"","8901030855","890101001",null,"Некомбинированное производство :: Передача :: Сбыт",null,"Город Салехард","город Салехард","71951000","льготный",null,null,null,null,"1215.84","1264.48"]
["5.1","АО \"Салехардэнерго\"","8901030855","890101001",null,"Некомбинированное производство :: Передача :: Сбыт",null,"Город Салехард","город Салехард","71951000","Общий показатель",null,null,null,null,"1215.84","1264.48"]
["5.1","АО \"Салехардэнерго\"","8901030855","890101001",null,"Некомбинированное производство :: Передача :: Сбыт",null,"Город Салехард","город Салехард","71951000","Общий показатель",null,null,"3557","3700","3557","3700","3557","3700"]
["5.1","АО \"Салехардэнерго\"","8901030855","890101001",null,"Некомбинированное производство :: Передача :: Сбыт",null,"Город Салехард","город Салехард","71951000","Горячая вода. через тепловую сеть",null,null,"3557","3700","3557","3700","3557","3700"]

{"sheet":"PLAN1X_LIST_CNCSN","index":38,"n_rows":1,"n_cols":96,"rows_kept":1,"cut":false,"hidden":true,"merged":[]}
["CONTEXT_ID","№","Организация","ИНН","КПП","Филиал","Вид деятельности","Наличие статуса","MR","МО","ОКТМО","TAX","DPR","VTOV","L_TYPE","Наименование","Смешанная концессия","Сферы смешанной концессии","Дата начала","Дата окончания","L_DECISION_NAME","L_DECISION_TYPE","L_DECISION_NMBR","L_DECISION_DATE","L_DECISION_URL","L_URL","Запланировано на весь период","L_PLN_IP_PRV_TO_BE_DONE","L_PLN_IP_BDG_TO_BE_DONE","L_PLN_IP_TF_TO_BE_DONE","L_PLN_IP_TTL_PREVIOUS","L_PLN_IP_PRV_PREVIOUS","L_PLN_IP_BDG_PREVIOUS","L_PLN_IP_TF_PREVIOUS","L_FCT_IP_TTL_FACT","L_FCT_IP_PRV_FACT","L_FCT_IP_BDG_FACT","L_FCT_IP_TF_FACT","Запланировано на отчётный период","L_PLN_IP_OWN_TTL_CURRENT","L_PLN_IP_OWN_BNFT_CURRENT","L_PLN_IP_OWN_AMR_CURRENT","L_PLN_IP_OWN_PDKL_CURRENT","L_PLN_IP_OWN_OTH_CURRENT","L_PLN_IP_EXT_TTL_CURRENT","L_PLN_IP_EXT_CRDT_CURRENT","L_PLN_IP_EXT_LOAN_CURRENT","L_PLN_IP_EXT_OTH_CURRENT","L_PLN_IP_BDG_TTL_CURRENT","L_PLN_IP_BDG_FED_CURRENT","L_PLN_IP_BDG_REG_CURRENT","L_PLN_IP_BDG_MO_CURRENT","L_PLN_IP_OTH_TTL_CURRENT","L_PLN_IP_OTH_LSNG_CURRENT","L_PLN_IP_OTH_OTH_CURRENT","L_PLN_IP_NADB_CURRENT","L_CNCSN_IP_1_NMBR","L_CNCSN_IP_1_NAME","L_CNCSN_IP_1_SUM","L_CNCSN_IP_1_URL","L_CNCSN_IP_2_NMBR","L_CNCSN_IP_2_NAME","L_CNCSN_IP_2_SUM","L_CNCSN_IP_2_URL","L_CNCSN_IP_3_NMBR","L_CNCSN_IP_3_NAME","L_CNCSN_IP_3_SUM","L_CNCSN_IP_3_URL","L_CNCSN_IP_4_NMBR","L_CNCSN_IP_4_NAME","L_CNCSN_IP_4_SUM","L_CNCSN_IP_4_URL","L_CNCSN_IP_5_NMBR","L_CNCSN_IP_5_NAME","L_CNCSN_IP_5_SUM","L_CNCSN_IP_5_URL","L_CNCSN_IP_6_NMBR","L_CNCSN_IP_6_NAME","L_CNCSN_IP_6_SUM","L_CNCSN_IP_6_URL","L_CNCSN_IP_7_NMBR","L_CNCSN_IP_7_NAME","L_CNCSN_IP_7_SUM","L_CNCSN_IP_7_URL","L_CNCSN_IP_8_NMBR","L_CNCSN_IP_8_NAME","L_CNCSN_IP_8_SUM","L_CNCSN_IP_8_URL","L_CNCSN_IP_9_NMBR","L_CNCSN_IP_9_NAME","L_CNCSN_IP_9_SUM","L_CNCSN_IP_9_URL","L_CNCSN_IP_10_NMBR","L_CNCSN_IP_10_NAME","L_CNCSN_IP_10_SUM","L_CNCSN_IP_10_URL"]

{"sheet":"modGetGeoBase","index":39,"n_rows":0,"n_cols":0,"rows_kept":0,"cut":false,"hidden":true,"merged":[]}

{"sheet":"modInfo","index":40,"n_rows":3,"n_cols":2,"rows_kept":3,"cut":false,"hidden":true,"merged":[]}
[]
[]
[null,"Нет доступных обновлений, версия отчёта актуальна"]

{"sheet":"modUIButtons","index":41,"n_rows":0,"n_cols":0,"rows_kept":0,"cut":false,"hidden":true,"merged":[]}

{"sheet":"modVLDCommon","index":42,"n_rows":0,"n_cols":0,"rows_kept":0,"cut":false,"hidden":true,"merged":[]}

{"sheet":"modVLDIntegrity","index":43,"n_rows":0,"n_cols":0,"rows_kept":0,"cut":false,"hidden":true,"merged":[]}

{"sheet":"modVLDData","index":44,"n_rows":0,"n_cols":0,"rows_kept":0,"cut":false,"hidden":true,"merged":[]}

{"sheet":"modGeneralAPI","index":45,"n_rows":0,"n_cols":0,"rows_kept":0,"cut":false,"hidden":true,"merged":[]}

{"sheet":"modBalPr","index":46,"n_rows":0,"n_cols":0,"rows_kept":0,"cut":false,"hidden":true,"merged":[]}

{"sheet":"modBalTr","index":47,"n_rows":0,"n_cols":0,"rows_kept":0,"cut":false,"hidden":true,"merged":[]}

{"sheet":"modCalc","index":48,"n_rows":0,"n_cols":0,"rows_kept":0,"cut":false,"hidden":true,"merged":[]}

{"sheet":"modFuel","index":49,"n_rows":0,"n_cols":0,"rows_kept":0,"cut":false,"hidden":true,"merged":[]}

{"sheet":"modReagent","index":50,"n_rows":0,"n_cols":0,"rows_kept":0,"cut":false,"hidden":true,"merged":[]}

{"sheet":"modListMO","index":51,"n_rows":0,"n_cols":0,"rows_kept":0,"cut":false,"hidden":true,"merged":[]}

{"sheet":"modListObjects","index":52,"n_rows":0,"n_cols":0,"rows_kept":0,"cut":false,"hidden":true,"merged":[]}

{"sheet":"modListCncsn","index":53,"n_rows":0,"n_cols":0,"rows_kept":0,"cut":false,"hidden":true,"merged":[]}

{"sheet":"modRequestSpecificData","index":54,"n_rows":0,"n_cols":0,"rows_kept":0,"cut":false,"hidden":true,"merged":[]}

{"sheet":"modRequestGenericData","index":55,"n_rows":0,"n_cols":0,"rows_kept":0,"cut":false,"hidden":true,"merged":[]}

{"sheet":"modfrmRegion","index":56,"n_rows":0,"n_cols":0,"rows_kept":0,"cut":false,"hidden":true,"merged":[]}

{"sheet":"modServiceAPI","index":57,"n_rows":0,"n_cols":0,"rows_kept":0,"cut":false,"hidden":true,"merged":[]}

{"sheet":"modVLDGeneral","index":58,"n_rows":0,"n_cols":0,"rows_kept":0,"cut":false,"hidden":true,"merged":[]}

{"sheet":"modPLAN1XUpdate","index":59,"n_rows":0,"n_cols":0,"rows_kept":0,"cut":false,"hidden":true,"merged":[]}

{"sheet":"modVLDUniqueness","index":60,"n_rows":0,"n_cols":0,"rows_kept":0,"cut":false,"hidden":true,"merged":[]}

{"sheet":"modfrmReestr","index":61,"n_rows":0,"n_cols":0,"rows_kept":0,"cut":false,"hidden":true,"merged":[]}

{"sheet":"modfrmOrg","index":62,"n_rows":0,"n_cols":0,"rows_kept":0,"cut":false,"hidden":true,"merged":[]}

{"sheet":"modUpdTemplMain","index":63,"n_rows":0,"n_cols":0,"rows_kept":0,"cut":false,"hidden":true,"merged":[]}

{"sheet":"modfrmCheckUpdates","index":64,"n_rows":0,"n_cols":0,"rows_kept":0,"cut":false,"hidden":true,"merged":[]}

{"sheet":"modfrmDateChoose","index":65,"n_rows":0,"n_cols":0,"rows_kept":0,"cut":false,"hidden":true,"merged":[]}

{"sheet":"modIHLCommandBar","index":66,"n_rows":0,"n_cols":0,"rows_kept":0,"cut":false,"hidden":true,"merged":[]}

{"sheet":"modfrmHEATAdditionalOrgData","index":67,"n_rows":0,"n_cols":0,"rows_kept":0,"cut":false,"hidden":true,"merged":[]}

{"sheet":"modfrmHEATFUELSelector","index":68,"n_rows":0,"n_cols":0,"rows_kept":0,"cut":false,"hidden":true,"merged":[]}

{"sheet":"modfrmPLAN1XCheckIn","index":69,"n_rows":0,"n_cols":0,"rows_kept":0,"cut":false,"hidden":true,"merged":[]}

{"sheet":"modfrmPLAN1XUpdate","index":70,"n_rows":0,"n_cols":0,"rows_kept":0,"cut":false,"hidden":true,"merged":[]}

{"sheet":"modfrmReportMode","index":71,"n_rows":0,"n_cols":0,"rows_kept":0,"cut":false,"hidden":true,"merged":[]}

{"sheet":"modPOSTData","index":72,"n_rows":0,"n_cols":0,"rows_kept":0,"cut":false,"hidden":true,"merged":[]}

{"sheet":"modfrmDPRConstructor","index":73,"n_rows":0,"n_cols":0,"rows_kept":0,"cut":false,"hidden":true,"merged":[]}